{"text_format":"1","workbook":"xlsx","n_sheets":35,"sheets":["Age Standards","Ability Times","Age std Points Table","Handicap Points Table","TTL_01","TTL_02","TTL_03","TTL_04","TTL_05","TTL_06","TTL_07","TTL_08","TTL_09","TTL_10","TTL_Opt","Sat TT_01","Sat TT_02","Sat TT_03","Sat TT_04","Sat TT_05","Sat TT_06","Sat TT_07","Sat TT_08","Master Times","FAR_BAR","IVCA Age Records Road & Track .","SatTTL Age Std","SatTTL Handicap","BAR & FAR Results 2015","Sanyo Cup","2015 Prizes","Hill Climb","Sheet 1","Sheet2","Sheet3"],"not_rendered":{"charts":0,"images":0,"macros":1,"external_links":1,"defined_names":19,"comments":0,"pivot_tables":0},"unopened":[],"bounds":{"document_bytes":16777216,"sheet_cells":100000,"rows_first":2000,"rows_last":500,"rows_between":2000,"halvings":0,"cell_chars":16384,"cell_head_chars":4096},"cells_cut":0,"cells_raw":0,"read":"whole","date_system":"1904"}

{"sheet":"Age Standards","index":0,"n_rows":102,"n_cols":12,"rows_kept":102,"cut":false,"hidden":false,"merged":[]}
["IVCA Age Standards Ver.2.2015",null,null,null,"Men",null,null,null,null,null,"20.5km","2.86km"]
["Year of Birth","Age","10 Mls","25 Miles","50 Miles",null,"Bar","Rev. 10.","Rev. 25.","Rev. 50.","Mullagh cct TT","Hill Climb"]
[1975,40,"00:25:13","01:04:59","02:15:14",null,"03:45:26",null,null,null,{"$f":"+C3*1.275","v":"00:32:09.075"},"00:10:33.054"]
[1974,41,"00:25:17.483","01:05:12","02:15:42.473",null,"03:46:11.955","00:00:04.483","00:00:13","00:00:28.473",{"$f":"+C4*1.275","v":"00:32:14.790"},"00:10:34.930"]
[1973,42,"00:25:21.979","01:05:25","02:16:11.045",null,"03:46:58.024","00:00:04.496","00:00:13","00:00:28.572",{"$f":"+C5*1.275","v":"00:32:20.523"},"00:10:36.811"]
[1972,43,"00:25:26.490","01:05:38","02:16:39.717",null,"03:47:44.206","00:00:04.510","00:00:13","00:00:28.672","00:32:26.274","00:10:38.699"]
[1971,44,"00:25:31.014","01:05:50","02:17:08.489",null,"03:48:29.503","00:00:04.524","00:00:12","00:00:28.773","00:32:32.043","00:10:40.592"]
[1970,45,"00:25:35.552","01:06:02","02:17:37.363",null,"03:49:14.915","00:00:04.538","00:00:12","00:00:28.873","00:32:37.829","00:10:42.491"]
[1969,46,"00:25:40.105","01:06:14","02:18:06.337",null,"03:50:00.442","00:00:04.553","00:00:12","00:00:28.974","00:32:43.634","00:10:44.395"]
[1968,47,"00:25:44.672","01:06:25","02:18:35.412",null,"03:50:45.084","00:00:04.567","00:00:11","00:00:29.076","00:32:49.456","00:10:46.306"]
[1967,48,"00:25:49.252","01:06:37","02:19:04.590",null,"03:51:30.842","00:00:04.581","00:00:12","00:00:29.177","00:32:55.297","00:10:48.223"]
[1966,49,"00:25:53.847","01:06:49","02:19:33.869",null,"03:52:16.717","00:00:04.595","00:00:12","00:00:29.280","00:33:01.155","00:10:50.145"]
[1965,50,"00:25:58.457","01:07:01","02:20:03.252",null,"03:53:02.708","00:00:04.609","00:00:12","00:00:29.382","00:33:07.032","00:10:52.074"]
[1964,51,"00:26:03.080","01:07:13","02:20:32.736",null,"03:53:48.816","00:00:04.624","00:00:12","00:00:29.485","00:33:12.927","00:10:54.008"]
[1963,52,"00:26:07.718","01:07:25","02:21:02.324",null,"03:54:35.042","00:00:04.638","00:00:12","00:00:29.588","00:33:18.840","00:10:55.949"]
[1962,53,"00:26:12.370","01:07:38","02:21:32.016",null,"03:55:22.386","00:00:04.652","00:00:13","00:00:29.692","00:33:24.772","00:10:57.895"]
[1961,54,"00:26:17.037","01:07:51","02:22:01.812",null,"03:56:09.848","00:00:04.667","00:00:13","00:00:29.796","00:33:30.722","00:10:59.848"]
[1960,55,"00:26:21.718","01:08:04","02:22:32.566",null,"03:56:58.284","00:00:04.681","00:00:13","00:00:30.754","00:33:36.690","00:11:01.807"]
[1959,56,"00:26:26.413","01:08:18","02:23:04.288",null,"03:57:48.701","00:00:04.696","00:00:14","00:00:31.722","00:33:42.677","00:11:03.771"]
[1958,57,"00:26:31.124","01:08:33","02:23:36.988",null,"03:58:41.112","00:00:04.710","00:00:15","00:00:32.700","00:33:48.683","00:11:05.742"]
[1957,58,"00:26:35.848","01:08:48","02:24:10.676",null,"03:59:34.525","00:00:04.725","00:00:15","00:00:33.688","00:33:54.707","00:11:07.719"]
[1956,59,"00:26:40.588","01:09:03","02:24:45.363",null,"04:00:28.951","00:00:04.739","00:00:15","00:00:34.687","00:34:00.750","00:11:09.702"]
[1955,60,"00:26:45.495","01:09:20","02:25:21.930",null,"04:01:27.425","00:00:04.907","00:00:17","00:00:36.567","00:34:07.007","00:11:11.755"]
[1954,61,"00:26:50.572","01:09:37","02:26:00.399",null,"04:02:27.971","00:00:05.077","00:00:17","00:00:38.469","00:34:13.480","00:11:13.880"]
[1953,62,"00:26:56.129","01:09:56","02:26:40.793",null,"04:03:32.922","00:00:05.557","00:00:19","00:00:40.394","00:34:20.565","00:11:16.205"]
[1952,63,"00:27:02.171","01:10:15","02:27:23.138",null,"04:04:40.308","00:00:06.042","00:00:19","00:00:42.345","00:34:28.268","00:11:18.733"]
[1951,64,"00:27:08.703","01:10:35","02:28:07.458",null,"04:05:51.161","00:00:06.532","00:00:20","00:00:44.321","00:34:36.596","00:11:21.466"]
[1950,65,"00:27:15.730","01:10:57","02:28:54.673",null,"04:07:07.403","00:00:07.028","00:00:22","00:00:47.215","00:34:45.556","00:11:24.406"]
[1949,66,"00:27:23.260","01:11:19","02:29:44.825",null,"04:08:27.085","00:00:07.530","00:00:22","00:00:50.152","00:34:55.157","00:11:27.557"]
[1948,67,"00:27:31.299","01:11:43","02:30:37.959",null,"04:09:52.258","00:00:08.039","00:00:24","00:00:53.134","00:35:05.406","00:11:30.920"]
[1947,68,"00:27:39.854","01:12:09","02:31:34.125",null,"04:11:22.979","00:00:08.555","00:00:26","00:00:56.166","00:35:16.314","00:11:34.500"]
[1946,69,"00:27:48.934","01:12:36","02:32:34.285",null,"04:12:59.218","00:00:09.079","00:00:27","00:01:00.160","00:35:27.890","00:11:38.299"]
[1945,70,"00:27:58.705","01:13:05","02:33:38.512",null,"04:14:42.217","00:00:09.772","00:00:29","00:01:04.227","00:35:40.349","00:11:42.387"]
[1944,71,"00:28:09.181","01:13:35","02:34:46.884",null,"04:16:31.065","00:00:10.476","00:00:30","00:01:08.372","00:35:53.706","00:11:46.770"]
[1943,72,"00:28:20.374","01:14:08","02:35:59.486",null,"04:18:27.860","00:00:11.193","00:00:33","00:01:12.601","00:36:07.977","00:11:51.454"]
[1942,73,"00:28:32.298","01:14:42","02:37:16.405",null,"04:20:30.704","00:00:11.924","00:00:34","00:01:16.920","00:36:23.180","00:11:56.443"]
[1941,74,"00:28:44.967","01:15:19","02:38:38.685",null,"04:22:42.652","00:00:12.669","00:00:37","00:01:22.279","00:36:39.333","00:12:01.743"]
[1940,75,"00:28:58.396","01:15:58","02:40:07.404",null,"04:25:03.800","00:00:13.430","00:00:39","00:01:28.719","00:36:56.455","00:12:07.363"]
[1939,76,"00:29:12.603","01:16:40","02:41:42.725",null,"04:27:35.329","00:00:14.207","00:00:42","00:01:35.321","00:37:14.569","00:12:13.307"]
[1938,77,"00:29:27.605","01:17:25","02:43:24.824",null,"04:30:17.429","00:00:15.002","00:00:45","00:01:42.099","00:37:33.697","00:12:19.584"]
[1937,78,"00:29:43.591","01:18:13","02:45:13.891",null,"04:33:10.482","00:00:15.986","00:00:48","00:01:49.067","00:37:54.078","00:12:26.272"]
[1936,79,"00:30:00.757","01:19:05","02:47:11.123",null,"04:36:16.879","00:00:17.166","00:00:52","00:01:57.232","00:38:15.965","00:12:33.455"]
[1935,80,"00:30:19.135","01:20:01","02:49:17.779",null,"04:39:37.914","00:00:18.378","00:00:56","00:02:06.657","00:38:39.397","00:12:41.144"]
[1934,81,"00:30:38.759","01:21:01","02:51:35.193",null,"04:43:14.951","00:00:19.624","00:01:00","00:02:17.414","00:39:04.417","00:12:49.355"]
[1933,82,"00:30:59.665","01:22:05","02:54:04.778",null,"04:47:09.443","00:00:20.907","00:01:04","00:02:29.585","00:39:31.073","00:12:58.103"]
[1932,83,"00:31:22.611","01:23:15","02:56:48.044",null,"04:51:25.655","00:00:22.946","00:01:10","00:02:43.266","00:40:00.330","00:13:07.704"]
[1931,84,"00:31:47.667","01:24:31","02:59:45.549",null,"04:56:04.216","00:00:25.055","00:01:16","00:02:57.505","00:40:32.275","00:13:18.187"]
[1930,85,"00:32:14.909","01:25:54","03:03:00.067",null,"05:01:08.975","00:00:27.242","00:01:23","00:03:14.518","00:41:07.009","00:13:29.585"]
[]
["IVCA Age Standards Ver.2.2015",null,null,null,"Women",null,null,null,null,null,"20.5km","2.86km"]
["Year of Birth","Age","10 Mls","25 Miles","50 Miles",null,"Bar","Rev. 10.","Rev. 25.","Rev. 50.","Mullagh cct TT","Hill Climb"]
[1970,35,"00:26:49","01:09:01","02:23:28",null,"03:59:18","00:00:05","00:00:14","00:00:31",{"$f":"+C52*1.275","v":"00:34:11.475"}]
[1971,36,"00:26:54","01:09:15","02:23:59",null,"04:00:08","00:00:05","00:00:14","00:00:31","00:34:17.850"]
[1972,37,"00:26:59","01:09:29","02:24:30",null,"04:00:58","00:00:05","00:00:14","00:00:31","00:34:24.225"]
[1973,38,"00:27:04","01:09:43","02:25:01",null,"04:01:48","00:00:05","00:00:14","00:00:31","00:34:30.600"]
[1974,39,"00:27:09","01:09:57","02:25:32",null,"04:02:38","00:00:05","00:00:14","00:00:31","00:34:36.975"]
[1975,40,"00:27:14.040","01:10:10.920","02:26:03.120",null,"04:03:28.080","00:00:05","00:00:14","00:00:31","00:34:43.401","00:11:23.699"]
[1974,41,"00:27:18.881","01:10:24.960","02:26:33.870",null,"04:04:17.712","00:00:04.841","00:00:14.040","00:00:30.750","00:34:49.574","00:11:25.724"]
[1973,42,"00:27:23.737","01:10:39","02:27:04.728",null,"04:05:07.466","00:00:04.856","00:00:14.040","00:00:30.858","00:34:55.765","00:11:27.756"]
[1972,43,"00:27:28.609","01:10:53.040","02:27:35.694",null,"04:05:57.343","00:00:04.871","00:00:14.040","00:00:30.966","00:35:01.976","00:11:29.794"]
[1971,44,"00:27:33.495","01:11:06","02:28:06.768",null,"04:06:46.264","00:00:04.886","00:00:12.960","00:00:31.074","00:35:08.206","00:11:31.839"]
[1970,45,"00:27:38.397","01:11:18.960","02:28:37.952",null,"04:07:35.308","00:00:04.902","00:00:12.960","00:00:31.183","00:35:14.456","00:11:33.890"]
[1969,46,"00:27:43.313","01:11:31.920","02:29:09.244",null,"04:08:24.477","00:00:04.917","00:00:12.960","00:00:31.292","00:35:20.724","00:11:35.947"]
[1968,47,"00:27:48.245","01:11:43.800","02:29:40.645",null,"04:09:12.691","00:00:04.932","00:00:11.880","00:00:31.402","00:35:27.013","00:11:38.011"]
[1967,48,"00:27:53.192","01:11:56.760","02:30:12.157",null,"04:10:02.110","00:00:04.947","00:00:12.960","00:00:31.512","00:35:33.320","00:11:40.081"]
[1966,49,"00:27:58.155","01:12:09.720","02:30:43.779",null,"04:10:51.654","00:00:04.963","00:00:12.960","00:00:31.622","00:35:39.648","00:11:42.157"]
[1965,50,"00:28:03.133","01:12:22.680","02:31:15.512",null,"04:11:41.325","00:00:04.978","00:00:12.960","00:00:31.733","00:35:45.995","00:11:44.240"]
[1964,51,"00:28:08.126","01:12:35.640","02:31:47.355",null,"04:12:31.122","00:00:04.993","00:00:12.960","00:00:31.844","00:35:52.361","00:11:46.329"]
[1963,52,"00:28:13.135","01:12:48.600","02:32:19.310",null,"04:13:21.046","00:00:05.009","00:00:12.960","00:00:31.955","00:35:58.748","00:11:48.425"]
[1962,53,"00:28:18.160","01:13:02.640","02:32:51.377",null,"04:14:12.177","00:00:05.024","00:00:14.040","00:00:32.067","00:36:05.154","00:11:50.527"]
[1961,54,"00:28:23.200","01:13:16.680","02:33:23.557",null,"04:15:03.436","00:00:05.040","00:00:14.040","00:00:32.179","00:36:11.580","00:11:52.636"]
[1960,55,"00:28:28.255","01:13:30.720","02:33:56.771",null,"04:15:55.746","00:00:05.056","00:00:14.040","00:00:33.214","00:36:18.026","00:11:54.751"]
[1959,56,"00:28:33.327","01:13:45.840","02:34:31.031",null,"04:16:50.198","00:00:05.071","00:00:15.120","00:00:34.260","00:36:24.491","00:11:56.873"]
[1958,57,"00:28:38.414","01:14:02.040","02:35:06.347",null,"04:17:46.801","00:00:05.087","00:00:16.200","00:00:35.316","00:36:30.977","00:11:59.001"]
[1957,58,"00:28:43.516","01:14:18.240","02:35:42.730",null,"04:18:44.487","00:00:05.103","00:00:16.200","00:00:36.383","00:36:37.483","00:12:01.137"]
[1956,59,"00:28:48.635","01:14:34.440","02:36:20.192",null,"04:19:43.267","00:00:05.119","00:00:16.200","00:00:37.462","00:36:44.010","00:12:03.278"]
[1955,60,"00:28:53.935","01:14:52.800","02:36:59.684",null,"04:20:46.419","00:00:05.300","00:00:18.360","00:00:39.492","00:36:50.767","00:12:05.496"]
[1954,61,"00:28:59.418","01:15:11.160","02:37:41.230",null,"04:21:51.809","00:00:05.483","00:00:18.360","00:00:41.546","00:36:57.758","00:12:07.790"]
[1953,62,"00:29:05.420","01:15:31.680","02:38:24.856",null,"04:23:01.956","00:00:06.001","00:00:20.520","00:00:43.626","00:37:05.410","00:12:10.301"]
[1952,63,"00:29:11.945","01:15:52.200","02:39:10.589",null,"04:24:14.733","00:00:06.525","00:00:20.520","00:00:45.732","00:37:13.729","00:12:13.031"]
[1951,64,"00:29:18.999","01:16:13.800","02:39:58.455",null,"04:25:31.254","00:00:07.054","00:00:21.600","00:00:47.866","00:37:22.723","00:12:15.983"]
[1950,65,"00:29:26.589","01:16:37.560","02:40:49.447",null,"04:26:53.596","00:00:07.590","00:00:23.760","00:00:50.992","00:37:32.401","00:12:19.158"]
[1949,66,"00:29:34.721","01:17:01.320","02:41:43.611",null,"04:28:19.652","00:00:08.132","00:00:23.760","00:00:54.164","00:37:42.769","00:12:22.561"]
[1948,67,"00:29:43.403","01:17:27.240","02:42:40.996",null,"04:29:51.639","00:00:08.682","00:00:25.920","00:00:57.385","00:37:53.839","00:12:26.194"]
[1947,68,"00:29:52.643","01:17:55.320","02:43:41.655",null,"04:31:29.617","00:00:09.240","00:00:28.080","00:01:00.659","00:38:05.619","00:12:30.060"]
[1946,69,"00:30:02.448","01:18:24.480","02:44:46.627",null,"04:33:13.556","00:00:09.806","00:00:29.160","00:01:04.973","00:38:18.122","00:12:34.162"]
[1945,70,"00:30:13.002","01:18:55.800","02:45:55.993",null,"04:35:04.794","00:00:10.554","00:00:31.320","00:01:09.365","00:38:31.577","00:12:38.578"]
[1944,71,"00:30:24.316","01:19:28.200","02:47:09.835",null,"04:37:02.351","00:00:11.314","00:00:32.400","00:01:13.842","00:38:46.003","00:12:43.312"]
[1943,72,"00:30:36.404","01:20:03.840","02:48:28.244",null,"04:39:08.489","00:00:12.088","00:00:35.640","00:01:18.410","00:39:01.416","00:12:48.370"]
[1942,73,"00:30:49.282","01:20:40.560","02:49:51.318",null,"04:41:21.160","00:00:12.878","00:00:36.720","00:01:23.074","00:39:17.835","00:12:53.758"]
[1941,74,"00:31:02.964","01:21:20.520","02:51:20.180",null,"04:43:43.664","00:00:13.682","00:00:39.960","00:01:28.862","00:39:35.279","00:12:59.483"]
[1940,75,"00:31:17.468","01:22:02.640","02:52:55.996",null,"04:46:16.104","00:00:14.504","00:00:42.120","00:01:35.817","00:39:53.772","00:13:05.552"]
[1939,76,"00:31:32.812","01:22:48","02:54:38.943",null,"04:48:59.755","00:00:15.343","00:00:45.360","00:01:42.947","00:40:13.335","00:13:11.971"]
[1938,77,"00:31:49.014","01:23:36.600","02:56:29.210",null,"04:51:54.824","00:00:16.202","00:00:48.600","00:01:50.267","00:40:33.992","00:13:18.750"]
[1937,78,"00:32:06.278","01:24:28.440","02:58:27.002",null,"04:55:01.720","00:00:17.265","00:00:51.840","00:01:57.792","00:40:56.005","00:13:25.974"]
[1936,79,"00:32:24.817","01:25:24.600","03:00:33.612",null,"04:58:23.030","00:00:18.539","00:00:56.160","00:02:06.610","00:41:19.642","00:13:33.731"]
[1935,80,"00:32:44.665","01:26:25.080","03:02:50.402",null,"05:02:00.147","00:00:19.848","00:01:00.480","00:02:16.789","00:41:44.948","00:13:42.036"]
[1934,81,"00:33:05.859","01:27:29.880","03:05:18.808",null,"05:05:54.548","00:00:21.194","00:01:04.800","00:02:28.407","00:42:11.970","00:13:50.903"]
[1933,82,"00:33:28.439","01:28:39","03:08:00.360",null,"05:10:07.798","00:00:22.579","00:01:09.120","00:02:41.552","00:42:40.759","00:14:00.351"]
[1932,83,"00:33:53.220","01:29:54.600","03:10:56.687",null,"05:14:44.508","00:00:24.782","00:01:15.600","00:02:56.327","00:43:12.356","00:14:10.720"]
[1931,84,"00:34:20.280","01:31:16.680","03:14:08.393",null,"05:19:45.353","00:00:27.060","00:01:22.080","00:03:11.705","00:43:46.857","00:14:22.042"]
[1930,85,"00:34:49.701","01:32:46.320","03:17:38.472",null,"05:25:14.494","00:00:29.421","00:01:29.640","00:03:30.079","00:44:24.369","00:14:34.352"]

{"sheet":"Ability Times","index":1,"n_rows":199,"n_cols":25,"rows_kept":199,"cut":false,"hidden":false,"merged":[[0,2,0,3]]}
["Ability Handicaps                      ",null,"17/2/2016",null,null,null,null,null,null,null,"Bold Times = 2013 PB's",null,"Non bold ridden 2012 but not improved. "]
[null,null,null,null,null,null,null,null,null,null,"Bold Times = 2014 PB's",null,"Non bold ridden 2014 but not improved. "]
[null,null,null,null,null,null,null,null,null,null,"Bold Times = 2015 PB's",null,"Non bold ridden 2015 but not improved. "]
[null,null,null,null,null,null,null,null,null,null,"Bold Times = 2016 PB's",null,"Non bold ridden 2016 but not improved. "]
[]
[null,"Licence Name","Age","Gender",null,"Handicap Times",null,null,null,null,"Scr 0:20:0","Scr 0:50:0","Scr 1:40:0"]
[null,null,null,null,null,"2014 Ability Handicaps",null,null,"Handicap age increments",null,"       Ability Handicaps                      ",null,{"$f":"+C1","v":"17/2/2016"},null,null,"Improved By"]
[null,null,null,null,"10 mile TT","25 mile TT","50 mile TT",null,null,null,"10 mile TT","25 mile TT","50 mile TT","2.86km","20.5km"]
["Column1","Column3","Column4","Column5","Column6","Column7","Column8","Column9","Column10","Column11","Column12","Column13","Column14","Column15","Column16","Column17","Column18","Column19","Column20","Column21","Column22","Column23","Column24","Column25","Column26"]
[1002,{"$f":"VLOOKUP($A10,'[1]Racing numbers file'!$A$4:$G$400,2,FALSE)","v":"Kevin Simms"},{"$f":"VLOOKUP($A10,'[1]Racing numbers file'!$A$4:$G$400,5,FALSE)","v":84},{"$f":"VLOOKUP($A10,'[1]Racing numbers file'!$A$4:$H$400,8,FALSE)","v":"M"},"00:30:58","01:20:46","03:04:41",{"$f":"VLOOKUP($C10,'Age Standards'!$B$3:$J$48,7,FALSE)","v":"00:00:25.055"},{"$f":"VLOOKUP($C10,'Age Standards'!$B$3:$J$48,8,FALSE)","v":"00:01:16"},{"$f":"VLOOKUP($C10,'Age Standards'!$B$3:$J$48,9,FALSE)","v":"00:02:57.505"},{"$f":"+Table6[[#This Row],[Column6]]+Table6[[#This Row],[Column9]]","v":"00:31:23.055"},{"$f":"+Table6[[#This Row],[Column7]]+Table6[[#This Row],[Column10]]","v":"01:22:02"},{"$f":"+Table6[[#This Row],[Column8]]+Table6[[#This Row],[Column11]]","v":"03:07:38.505"},"00:11:34","00:49:06"]
[1004,{"$f":"VLOOKUP($A11,'[1]Racing numbers file'!$A$4:$G$400,2,FALSE)","v":"Patsy FitzSimons"},{"$f":"VLOOKUP($A11,'[1]Racing numbers file'!$A$4:$G$400,5,FALSE)","v":82},{"$f":"VLOOKUP($A11,'[1]Racing numbers file'!$A$4:$H$400,8,FALSE)","v":"M"},"00:29:23","01:13:46","02:33:50",{"$f":"VLOOKUP($C11,'Age Standards'!$B$3:$J$48,7,FALSE)","v":"00:00:20.907"},{"$f":"VLOOKUP($C11,'Age Standards'!$B$3:$J$48,8,FALSE)","v":"00:01:04"},{"$f":"VLOOKUP($C11,'Age Standards'!$B$3:$J$48,9,FALSE)","v":"00:02:29.585"},{"$f":"+Table6[[#This Row],[Column6]]+Table6[[#This Row],[Column9]]","v":"00:29:43.907"},{"$f":"+Table6[[#This Row],[Column7]]+Table6[[#This Row],[Column10]]","v":"01:14:50"},{"$f":"+Table6[[#This Row],[Column8]]+Table6[[#This Row],[Column11]]","v":"02:36:19.585"},"00:12:04","00:41:49"]
[1014,{"$f":"VLOOKUP($A12,'[1]Racing numbers file'!$A$4:$G$400,2,FALSE)","v":"Peter Schweppe"},{"$f":"VLOOKUP($A12,'[1]Racing numbers file'!$A$4:$G$400,5,FALSE)","v":78},{"$f":"VLOOKUP($A12,'[1]Racing numbers file'!$A$4:$H$400,8,FALSE)","v":"M"},"00:26:27","01:06:32","02:25:58.099",{"$f":"VLOOKUP($C12,'Age Standards'!$B$3:$J$48,7,FALSE)","v":"00:00:15.986"},{"$f":"VLOOKUP($C12,'Age Standards'!$B$3:$J$48,8,FALSE)","v":"00:00:48"},{"$f":"VLOOKUP($C12,'Age Standards'!$B$3:$J$48,9,FALSE)","v":"00:01:49.067"},{"$f":"+Table6[[#This Row],[Column6]]+Table6[[#This Row],[Column9]]","v":"00:26:42.986"},{"$f":"+Table6[[#This Row],[Column7]]+Table6[[#This Row],[Column10]]","v":"01:07:20"},{"$f":"+Table6[[#This Row],[Column8]]+Table6[[#This Row],[Column11]]","v":"02:27:47.166"},"00:00:00","00:35:35"]
[1015,{"$f":"VLOOKUP($A13,'[1]Racing numbers file'!$A$4:$G$400,2,FALSE)","v":"Paddy Byrne"},{"$f":"VLOOKUP($A13,'[1]Racing numbers file'!$A$4:$G$400,5,FALSE)","v":78},{"$f":"VLOOKUP($A13,'[1]Racing numbers file'!$A$4:$H$400,8,FALSE)","v":"M"},"00:20:00","00:50:00","01:40:00",{"$f":"VLOOKUP($C13,'Age Standards'!$B$3:$J$48,7,FALSE)","v":"00:00:15.986"},{"$f":"VLOOKUP($C13,'Age Standards'!$B$3:$J$48,8,FALSE)","v":"00:00:48"},{"$f":"VLOOKUP($C13,'Age Standards'!$B$3:$J$48,9,FALSE)","v":"00:01:49.067"},"00:20:00","00:50:00","01:40:00","00:00:00","00:40:35"]
[1023,{"$f":"VLOOKUP($A14,'[1]Racing numbers file'!$A$4:$G$400,2,FALSE)","v":"Robert Norgrove"},{"$f":"VLOOKUP($A14,'[1]Racing numbers file'!$A$4:$G$400,5,FALSE)","v":76},{"$f":"VLOOKUP($A14,'[1]Racing numbers file'!$A$4:$H$400,8,FALSE)","v":"M"},"00:29:26.430","01:17:26","01:40:00",{"$f":"VLOOKUP($C14,'Age Standards'!$B$3:$J$48,7,FALSE)","v":"00:00:14.207"},{"$f":"VLOOKUP($C14,'Age Standards'!$B$3:$J$48,8,FALSE)","v":"00:00:42"},{"$f":"VLOOKUP($C14,'Age Standards'!$B$3:$J$48,9,FALSE)","v":"00:01:35.321"},{"$f":"+Table6[[#This Row],[Column6]]+Table6[[#This Row],[Column9]]","v":"00:29:40.636"},{"$f":"+Table6[[#This Row],[Column7]]+Table6[[#This Row],[Column10]]","v":"01:18:08"},"01:40:00","00:00:00","00:25:42"]
[1024,{"$f":"VLOOKUP($A15,'[1]Racing numbers file'!$A$4:$G$400,2,FALSE)","v":"Eddie Scully"},{"$f":"VLOOKUP($A15,'[1]Racing numbers file'!$A$4:$G$400,5,FALSE)","v":75},{"$f":"VLOOKUP($A15,'[1]Racing numbers file'!$A$4:$H$400,8,FALSE)","v":"M"},"00:28:28","01:13:39","01:40:00",{"$f":"VLOOKUP($C15,'Age Standards'!$B$3:$J$48,7,FALSE)","v":"00:00:13.430"},{"$f":"VLOOKUP($C15,'Age Standards'!$B$3:$J$48,8,FALSE)","v":"00:00:39"},{"$f":"VLOOKUP($C15,'Age Standards'!$B$3:$J$48,9,FALSE)","v":"00:01:28.719"},{"$f":"+Table6[[#This Row],[Column6]]+Table6[[#This Row],[Column9]]","v":"00:28:41.430"},{"$f":"+Table6[[#This Row],[Column7]]+Table6[[#This Row],[Column10]]","v":"01:14:18"},{"$f":"+Table6[[#This Row],[Column8]]+Table6[[#This Row],[Column11]]","v":"01:41:28.719"},"00:14:02","00:25:42"]
[1026,{"$f":"VLOOKUP($A16,'[1]Racing numbers file'!$A$4:$G$400,2,FALSE)","v":"Seán Lally"},{"$f":"VLOOKUP($A16,'[1]Racing numbers file'!$A$4:$G$400,5,FALSE)","v":75},{"$f":"VLOOKUP($A16,'[1]Racing numbers file'!$A$4:$H$400,8,FALSE)","v":"M"},"00:25:18","01:03:47","01:11:09",{"$f":"VLOOKUP($C16,'Age Standards'!$B$3:$J$48,7,FALSE)","v":"00:00:13.430"},{"$f":"VLOOKUP($C16,'Age Standards'!$B$3:$J$48,8,FALSE)","v":"00:00:39"},{"$f":"VLOOKUP($C16,'Age Standards'!$B$3:$J$48,9,FALSE)","v":"00:01:28.719"},{"$f":"+Table6[[#This Row],[Column6]]+Table6[[#This Row],[Column9]]","v":"00:25:31.430"},{"$f":"+Table6[[#This Row],[Column7]]+Table6[[#This Row],[Column10]]","v":"01:04:26"},{"$f":"+Table6[[#This Row],[Column8]]+Table6[[#This Row],[Column11]]","v":"01:12:37.719"},"00:07:00","00:25:42"]
[1034,{"$f":"VLOOKUP($A17,'[1]Racing numbers file'!$A$4:$G$400,2,FALSE)","v":"Paddy Davis"},{"$f":"VLOOKUP($A17,'[1]Racing numbers file'!$A$4:$G$400,5,FALSE)","v":73},{"$f":"VLOOKUP($A17,'[1]Racing numbers file'!$A$4:$H$400,8,FALSE)","v":"M"},"00:25:19.193","01:05:49","02:12:15",{"$f":"VLOOKUP($C17,'Age Standards'!$B$3:$J$48,7,FALSE)","v":"00:00:11.924"},{"$f":"VLOOKUP($C17,'Age Standards'!$B$3:$J$48,8,FALSE)","v":"00:00:34"},{"$f":"VLOOKUP($C17,'Age Standards'!$B$3:$J$48,9,FALSE)","v":"00:01:16.920"},{"$f":"+Table6[[#This Row],[Column6]]+Table6[[#This Row],[Column9]]","v":"00:25:31.117"},{"$f":"+Table6[[#This Row],[Column7]]+Table6[[#This Row],[Column10]]","v":"01:06:23"},{"$f":"+Table6[[#This Row],[Column8]]+Table6[[#This Row],[Column11]]","v":"02:13:31.920"},"00:10:47","00:33:39"]
[1040,{"$f":"VLOOKUP($A18,'[1]Racing numbers file'!$A$4:$G$400,2,FALSE)","v":"Phil Ormrod"},{"$f":"VLOOKUP($A18,'[1]Racing numbers file'!$A$4:$G$400,5,FALSE)","v":72},{"$f":"VLOOKUP($A18,'[1]Racing numbers file'!$A$4:$H$400,8,FALSE)","v":"M"},"00:24:13.476","01:03:47","02:12:17",{"$f":"VLOOKUP($C18,'Age Standards'!$B$3:$J$48,7,FALSE)","v":"00:00:11.193"},{"$f":"VLOOKUP($C18,'Age Standards'!$B$3:$J$48,8,FALSE)","v":"00:00:33"},{"$f":"VLOOKUP($C18,'Age Standards'!$B$3:$J$48,9,FALSE)","v":"00:01:12.601"},{"$f":"+Table6[[#This Row],[Column6]]+Table6[[#This Row],[Column9]]","v":"00:24:24.669"},{"$f":"+Table6[[#This Row],[Column7]]+Table6[[#This Row],[Column10]]","v":"01:04:20"},{"$f":"+Table6[[#This Row],[Column8]]+Table6[[#This Row],[Column11]]","v":"02:13:29.601"},"00:12:06","00:33:14"]
[1044,{"$f":"VLOOKUP($A19,'[1]Racing numbers file'!$A$4:$G$400,2,FALSE)","v":"Eddie Dunne"},{"$f":"VLOOKUP($A19,'[1]Racing numbers file'!$A$4:$G$400,5,FALSE)","v":72},{"$f":"VLOOKUP($A19,'[1]Racing numbers file'!$A$4:$H$400,8,FALSE)","v":"M"},"00:26:44","01:10:55","01:40:00",{"$f":"VLOOKUP($C19,'Age Standards'!$B$3:$J$48,7,FALSE)","v":"00:00:11.193"},{"$f":"VLOOKUP($C19,'Age Standards'!$B$3:$J$48,8,FALSE)","v":"00:00:33"},{"$f":"VLOOKUP($C19,'Age Standards'!$B$3:$J$48,9,FALSE)","v":"00:01:12.601"},{"$f":"+Table6[[#This Row],[Column6]]+Table6[[#This Row],[Column9]]","v":"00:26:55.193"},{"$f":"+Table6[[#This Row],[Column7]]+Table6[[#This Row],[Column10]]","v":"01:11:28"},"01:40:00","00:11:15","00:37:48"]
[1045,{"$f":"VLOOKUP($A20,'[1]Racing numbers file'!$A$4:$G$400,2,FALSE)","v":"Oliver Bright"},{"$f":"VLOOKUP($A20,'[1]Racing numbers file'!$A$4:$G$400,5,FALSE)","v":72},{"$f":"VLOOKUP($A20,'[1]Racing numbers file'!$A$4:$H$400,8,FALSE)","v":"M"},"00:30:26","01:22:29","02:52:28.372",{"$f":"VLOOKUP($C20,'Age Standards'!$B$3:$J$48,7,FALSE)","v":"00:00:11.193"},{"$f":"VLOOKUP($C20,'Age Standards'!$B$3:$J$48,8,FALSE)","v":"00:00:33"},{"$f":"VLOOKUP($C20,'Age Standards'!$B$3:$J$48,9,FALSE)","v":"00:01:12.601"},{"$f":"+Table6[[#This Row],[Column6]]+Table6[[#This Row],[Column9]]","v":"00:30:37.193"},{"$f":"+Table6[[#This Row],[Column7]]+Table6[[#This Row],[Column10]]","v":"01:23:02"},{"$f":"+Table6[[#This Row],[Column8]]+Table6[[#This Row],[Column11]]","v":"02:53:40.974"},"00:16:57","00:42:52"]
[1050,{"$f":"VLOOKUP($A21,'[1]Racing numbers file'!$A$4:$G$400,2,FALSE)","v":"Mick Davis"},{"$f":"VLOOKUP($A21,'[1]Racing numbers file'!$A$4:$G$400,5,FALSE)","v":71},{"$f":"VLOOKUP($A21,'[1]Racing numbers file'!$A$4:$H$400,8,FALSE)","v":"M"},"00:26:52.772","01:10:48","02:26:42.227",{"$f":"VLOOKUP($C21,'Age Standards'!$B$3:$J$48,7,FALSE)","v":"00:00:10.476"},{"$f":"VLOOKUP($C21,'Age Standards'!$B$3:$J$48,8,FALSE)","v":"00:00:30"},{"$f":"VLOOKUP($C21,'Age Standards'!$B$3:$J$48,9,FALSE)","v":"00:01:08.372"},{"$f":"+Table6[[#This Row],[Column6]]+Table6[[#This Row],[Column9]]","v":"00:27:03.248"},{"$f":"+Table6[[#This Row],[Column7]]+Table6[[#This Row],[Column10]]","v":"01:11:18"},{"$f":"+Table6[[#This Row],[Column8]]+Table6[[#This Row],[Column11]]","v":"02:27:50.599"},"00:11:47","00:25:42"]
[1054,{"$f":"VLOOKUP($A22,'[1]Racing numbers file'!$A$4:$G$400,2,FALSE)","v":"Peter Rice"},{"$f":"VLOOKUP($A22,'[1]Racing numbers file'!$A$4:$G$400,5,FALSE)","v":70},{"$f":"VLOOKUP($A22,'[1]Racing numbers file'!$A$4:$H$400,8,FALSE)","v":"M"},"00:28:30.079","01:16:08","02:45:24",{"$f":"VLOOKUP($C22,'Age Standards'!$B$3:$J$48,7,FALSE)","v":"00:00:09.772"},{"$f":"VLOOKUP($C22,'Age Standards'!$B$3:$J$48,8,FALSE)","v":"00:00:29"},{"$f":"VLOOKUP($C22,'Age Standards'!$B$3:$J$48,9,FALSE)","v":"00:01:04.227"},{"$f":"+Table6[[#This Row],[Column6]]+Table6[[#This Row],[Column9]]","v":"00:28:39.851"},{"$f":"+Table6[[#This Row],[Column7]]+Table6[[#This Row],[Column10]]","v":"01:16:37"},{"$f":"+Table6[[#This Row],[Column8]]+Table6[[#This Row],[Column11]]","v":"02:46:28.227"},"00:00:00","00:38:47"]
[1060,{"$f":"VLOOKUP($A23,'[1]Racing numbers file'!$A$4:$G$400,2,FALSE)","v":"Hugh Davis"},{"$f":"VLOOKUP($A23,'[1]Racing numbers file'!$A$4:$G$400,5,FALSE)","v":69},{"$f":"VLOOKUP($A23,'[1]Racing numbers file'!$A$4:$H$400,8,FALSE)","v":"M"},"00:23:43.555","00:59:24","02:01:04",{"$f":"VLOOKUP($C23,'Age Standards'!$B$3:$J$48,7,FALSE)","v":"00:00:09.079"},{"$f":"VLOOKUP($C23,'Age Standards'!$B$3:$J$48,8,FALSE)","v":"00:00:27"},{"$f":"VLOOKUP($C23,'Age Standards'!$B$3:$J$48,9,FALSE)","v":"00:01:00.160"},{"$f":"+Table6[[#This Row],[Column6]]+Table6[[#This Row],[Column9]]","v":"00:23:52.634"},{"$f":"+Table6[[#This Row],[Column7]]+Table6[[#This Row],[Column10]]","v":"00:59:51"},{"$f":"+Table6[[#This Row],[Column8]]+Table6[[#This Row],[Column11]]","v":"02:02:04.160"},"00:10:05","00:25:42"]
[1062,{"$f":"VLOOKUP($A24,'[1]Racing numbers file'!$A$4:$G$400,2,FALSE)","v":"Mick Mullen"},{"$f":"VLOOKUP($A24,'[1]Racing numbers file'!$A$4:$G$400,5,FALSE)","v":68},{"$f":"VLOOKUP($A24,'[1]Racing numbers file'!$A$4:$H$400,8,FALSE)","v":"M"},"00:27:06.039","01:09:19","01:40:00",{"$f":"VLOOKUP($C24,'Age Standards'!$B$3:$J$48,7,FALSE)","v":"00:00:08.555"},{"$f":"VLOOKUP($C24,'Age Standards'!$B$3:$J$48,8,FALSE)","v":"00:00:26"},{"$f":"VLOOKUP($C24,'Age Standards'!$B$3:$J$48,9,FALSE)","v":"00:00:56.166"},{"$f":"+Table6[[#This Row],[Column6]]+Table6[[#This Row],[Column9]]","v":"00:27:14.594"},{"$f":"+Table6[[#This Row],[Column7]]+Table6[[#This Row],[Column10]]","v":"01:09:45"},"01:40:00","00:00:00","00:35:18"]
[1077,{"$f":"VLOOKUP($A25,'[1]Racing numbers file'!$A$4:$G$400,2,FALSE)","v":"Brendan Byrne"},{"$f":"VLOOKUP($A25,'[1]Racing numbers file'!$A$4:$G$400,5,FALSE)","v":66},{"$f":"VLOOKUP($A25,'[1]Racing numbers file'!$A$4:$H$400,8,FALSE)","v":"M"},"00:26:45.028","01:07:14","02:19:53",{"$f":"VLOOKUP($C25,'Age Standards'!$B$3:$J$48,7,FALSE)","v":"00:00:07.530"},{"$f":"VLOOKUP($C25,'Age Standards'!$B$3:$J$48,8,FALSE)","v":"00:00:22"},{"$f":"VLOOKUP($C25,'Age Standards'!$B$3:$J$48,9,FALSE)","v":"00:00:50.152"},"00:26:52",{"$f":"+Table6[[#This Row],[Column7]]+Table6[[#This Row],[Column10]]","v":"01:07:36"},{"$f":"+Table6[[#This Row],[Column8]]+Table6[[#This Row],[Column11]]","v":"02:20:43.152"},"00:12:01","00:36:39"]
[1083,{"$f":"VLOOKUP($A26,'[1]Racing numbers file'!$A$4:$G$400,2,FALSE)","v":"Seán Darragh"},{"$f":"VLOOKUP($A26,'[1]Racing numbers file'!$A$4:$G$400,5,FALSE)","v":65},{"$f":"VLOOKUP($A26,'[1]Racing numbers file'!$A$4:$H$400,8,FALSE)","v":"M"},"00:27:31","01:09:56","01:40:00",{"$f":"VLOOKUP($C26,'Age Standards'!$B$3:$J$48,7,FALSE)","v":"00:00:07.028"},{"$f":"VLOOKUP($C26,'Age Standards'!$B$3:$J$48,8,FALSE)","v":"00:00:22"},{"$f":"VLOOKUP($C26,'Age Standards'!$B$3:$J$48,9,FALSE)","v":"00:00:47.215"},{"$f":"+Table6[[#This Row],[Column6]]+Table6[[#This Row],[Column9]]","v":"00:27:38.028"},{"$f":"+Table6[[#This Row],[Column7]]+Table6[[#This Row],[Column10]]","v":"01:10:18"},"01:40:00","00:09:45","00:36:15"]
[1090,{"$f":"VLOOKUP($A27,'[1]Racing numbers file'!$A$4:$G$400,2,FALSE)","v":"Colm Conway"},{"$f":"VLOOKUP($A27,'[1]Racing numbers file'!$A$4:$G$400,5,FALSE)","v":64},{"$f":"VLOOKUP($A27,'[1]Racing numbers file'!$A$4:$H$400,8,FALSE)","v":"M"},"00:29:51","01:11:53","01:40:00",{"$f":"VLOOKUP($C27,'Age Standards'!$B$3:$J$48,7,FALSE)","v":"00:00:06.532"},{"$f":"VLOOKUP($C27,'Age Standards'!$B$3:$J$48,8,FALSE)","v":"00:00:20"},{"$f":"VLOOKUP($C27,'Age Standards'!$B$3:$J$48,9,FALSE)","v":"00:00:44.321"},"00:29:51",{"$f":"+Table6[[#This Row],[Column7]]+Table6[[#This Row],[Column10]]","v":"01:12:13"},"01:40:00","00:12:02","00:35:14"]
[1095,{"$f":"VLOOKUP($A28,'[1]Racing numbers file'!$A$4:$G$400,2,FALSE)","v":"Adrian Byrne"},{"$f":"VLOOKUP($A28,'[1]Racing numbers file'!$A$4:$G$400,5,FALSE)","v":63},{"$f":"VLOOKUP($A28,'[1]Racing numbers file'!$A$4:$H$400,8,FALSE)","v":"M"},"00:20:00","01:04:00","01:40:00",{"$f":"VLOOKUP($C28,'Age Standards'!$B$3:$J$48,7,FALSE)","v":"00:00:06.042"},{"$f":"VLOOKUP($C28,'Age Standards'!$B$3:$J$48,8,FALSE)","v":"00:00:19"},{"$f":"VLOOKUP($C28,'Age Standards'!$B$3:$J$48,9,FALSE)","v":"00:00:42.345"},"00:20:00","00:50:00","01:40:00","00:07:00","00:25:42"]
[1095,{"$f":"VLOOKUP($A29,'[1]Racing numbers file'!$A$4:$G$400,2,FALSE)","v":"Adrian Byrne"},{"$f":"VLOOKUP($A29,'[1]Racing numbers file'!$A$4:$G$400,5,FALSE)","v":63},{"$f":"VLOOKUP($A29,'[1]Racing numbers file'!$A$4:$H$400,8,FALSE)","v":"M"},"00:20:00","00:40:00","01:40:00",{"$f":"VLOOKUP($C29,'Age Standards'!$B$3:$J$48,7,FALSE)","v":"00:00:06.042"},{"$f":"VLOOKUP($C29,'Age Standards'!$B$3:$J$48,8,FALSE)","v":"00:00:19"},{"$f":"VLOOKUP($C29,'Age Standards'!$B$3:$J$48,9,FALSE)","v":"00:00:42.345"},"00:20:00","00:50:00","01:40:00","00:00:00","00:25:42"]
[1096,{"$f":"VLOOKUP($A30,'[1]Racing numbers file'!$A$4:$G$400,2,FALSE)","v":"Peter Raftery"},{"$f":"VLOOKUP($A30,'[1]Racing numbers file'!$A$4:$G$400,5,FALSE)","v":63},{"$f":"VLOOKUP($A30,'[1]Racing numbers file'!$A$4:$H$400,8,FALSE)","v":"M"},"00:24:33.557","01:03:44","02:16:25.394",{"$f":"VLOOKUP($C30,'Age Standards'!$B$3:$J$48,7,FALSE)","v":"00:00:06.042"},{"$f":"VLOOKUP($C30,'Age Standards'!$B$3:$J$48,8,FALSE)","v":"00:00:19"},{"$f":"VLOOKUP($C30,'Age Standards'!$B$3:$J$48,9,FALSE)","v":"00:00:42.345"},{"$f":"+Table6[[#This Row],[Column6]]+Table6[[#This Row],[Column9]]","v":"00:24:39.598"},{"$f":"+Table6[[#This Row],[Column7]]+Table6[[#This Row],[Column10]]","v":"01:04:03"},{"$f":"+Table6[[#This Row],[Column8]]+Table6[[#This Row],[Column11]]","v":"02:17:07.739"},"00:00:00","00:25:42"]
[1101,{"$f":"VLOOKUP($A31,'[1]Racing numbers file'!$A$4:$G$400,2,FALSE)","v":"Mick Usher"},{"$f":"VLOOKUP($A31,'[1]Racing numbers file'!$A$4:$G$400,5,FALSE)","v":62},{"$f":"VLOOKUP($A31,'[1]Racing numbers file'!$A$4:$H$400,8,FALSE)","v":"M"},"00:24:50","00:50:00","01:40:00",{"$f":"VLOOKUP($C31,'Age Standards'!$B$3:$J$48,7,FALSE)","v":"00:00:05.557"},{"$f":"VLOOKUP($C31,'Age Standards'!$B$3:$J$48,8,FALSE)","v":"00:00:19"},{"$f":"VLOOKUP($C31,'Age Standards'!$B$3:$J$48,9,FALSE)","v":"00:00:40.394"},"00:24:50",{"$f":"+Table6[[#This Row],[Column7]]+Table6[[#This Row],[Column10]]","v":"00:50:19"},{"$f":"+Table6[[#This Row],[Column8]]+Table6[[#This Row],[Column11]]","v":"01:40:40.394"},"00:00:00","00:33:47"]
[1103,{"$f":"VLOOKUP($A32,'[1]Racing numbers file'!$A$4:$G$400,2,FALSE)","v":"Gerry Gaston"},{"$f":"VLOOKUP($A32,'[1]Racing numbers file'!$A$4:$G$400,5,FALSE)","v":62},{"$f":"VLOOKUP($A32,'[1]Racing numbers file'!$A$4:$H$400,8,FALSE)","v":"M"},"00:25:58","01:05:12","02:15:20",{"$f":"VLOOKUP($C32,'Age Standards'!$B$3:$J$48,7,FALSE)","v":"00:00:05.557"},{"$f":"VLOOKUP($C32,'Age Standards'!$B$3:$J$48,8,FALSE)","v":"00:00:19"},{"$f":"VLOOKUP($C32,'Age Standards'!$B$3:$J$48,9,FALSE)","v":"00:00:40.394"},{"$f":"+Table6[[#This Row],[Column6]]+Table6[[#This Row],[Column9]]","v":"00:26:03.557"},{"$f":"+Table6[[#This Row],[Column7]]+Table6[[#This Row],[Column10]]","v":"01:05:31"},{"$f":"+Table6[[#This Row],[Column8]]+Table6[[#This Row],[Column11]]","v":"02:16:00.394"},"00:09:50","00:34:43"]
[1114,{"$f":"VLOOKUP($A33,'[1]Racing numbers file'!$A$4:$G$400,2,FALSE)","v":"Jimmy Murphy"},{"$f":"VLOOKUP($A33,'[1]Racing numbers file'!$A$4:$G$400,5,FALSE)","v":60},{"$f":"VLOOKUP($A33,'[1]Racing numbers file'!$A$4:$H$400,8,FALSE)","v":"M"},"00:27:03","00:50:00","01:40:31",{"$f":"VLOOKUP($C33,'Age Standards'!$B$3:$J$48,7,FALSE)","v":"00:00:04.907"},{"$f":"VLOOKUP($C33,'Age Standards'!$B$3:$J$48,8,FALSE)","v":"00:00:17"},{"$f":"VLOOKUP($C33,'Age Standards'!$B$3:$J$48,9,FALSE)","v":"00:00:36.567"},"00:27:03",{"$f":"+Table6[[#This Row],[Column7]]+Table6[[#This Row],[Column10]]","v":"00:50:17"},"01:40:00","00:11:45","00:36:51"]
[1115,{"$f":"VLOOKUP($A34,'[1]Racing numbers file'!$A$4:$G$400,2,FALSE)","v":"Jimmy Flynn"},{"$f":"VLOOKUP($A34,'[1]Racing numbers file'!$A$4:$G$400,5,FALSE)","v":60},{"$f":"VLOOKUP($A34,'[1]Racing numbers file'!$A$4:$H$400,8,FALSE)","v":"M"},"00:20:00","00:50:00","01:40:00",{"$f":"VLOOKUP($C34,'Age Standards'!$B$3:$J$48,7,FALSE)","v":"00:00:04.907"},{"$f":"VLOOKUP($C34,'Age Standards'!$B$3:$J$48,8,FALSE)","v":"00:00:17"},{"$f":"VLOOKUP($C34,'Age Standards'!$B$3:$J$48,9,FALSE)","v":"00:00:36.567"},"00:20:00","00:50:00","01:40:00","00:08:56","00:25:42"]
[1120,{"$f":"VLOOKUP($A35,'[1]Racing numbers file'!$A$4:$G$400,2,FALSE)","v":"Dermot O'Gorman"},{"$f":"VLOOKUP($A35,'[1]Racing numbers file'!$A$4:$G$400,5,FALSE)","v":60},{"$f":"VLOOKUP($A35,'[1]Racing numbers file'!$A$4:$H$400,8,FALSE)","v":"M"},"00:20:00","00:50:00","01:40:00",{"$f":"VLOOKUP($C35,'Age Standards'!$B$3:$J$48,7,FALSE)","v":"00:00:04.907"},{"$f":"VLOOKUP($C35,'Age Standards'!$B$3:$J$48,8,FALSE)","v":"00:00:17"},{"$f":"VLOOKUP($C35,'Age Standards'!$B$3:$J$48,9,FALSE)","v":"00:00:36.567"},"00:20:00","00:50:00","01:40:00","00:00:00","00:25:42"]
[1123,{"$f":"VLOOKUP($A36,'[1]Racing numbers file'!$A$4:$G$400,2,FALSE)","v":"Colm Cassidy"},{"$f":"VLOOKUP($A36,'[1]Racing numbers file'!$A$4:$G$400,5,FALSE)","v":59},{"$f":"VLOOKUP($A36,'[1]Racing numbers file'!$A$4:$H$400,8,FALSE)","v":"M"},"00:25:00.725","01:05:53","02:18:33.688",{"$f":"VLOOKUP($C36,'Age Standards'!$B$3:$J$48,7,FALSE)","v":"00:00:04.739"},{"$f":"VLOOKUP($C36,'Age Standards'!$B$3:$J$48,8,FALSE)","v":"00:00:15"},{"$f":"VLOOKUP($C36,'Age Standards'!$B$3:$J$48,9,FALSE)","v":"00:00:34.687"},{"$f":"+Table6[[#This Row],[Column6]]+Table6[[#This Row],[Column9]]","v":"00:25:05.464"},{"$f":"+Table6[[#This Row],[Column7]]+Table6[[#This Row],[Column10]]","v":"01:06:08"},{"$f":"+Table6[[#This Row],[Column8]]+Table6[[#This Row],[Column11]]","v":"02:19:08.375"},"00:09:50","00:25:42"]
[1131,{"$f":"VLOOKUP($A37,'[1]Racing numbers file'!$A$4:$G$400,2,FALSE)","v":"Ed Hogan"},{"$f":"VLOOKUP($A37,'[1]Racing numbers file'!$A$4:$G$400,5,FALSE)","v":58},{"$f":"VLOOKUP($A37,'[1]Racing numbers file'!$A$4:$H$400,8,FALSE)","v":"M"},"00:20:00","01:13:08","01:40:00",{"$f":"VLOOKUP($C37,'Age Standards'!$B$3:$J$48,7,FALSE)","v":"00:00:04.725"},{"$f":"VLOOKUP($C37,'Age Standards'!$B$3:$J$48,8,FALSE)","v":"00:00:15"},{"$f":"VLOOKUP($C37,'Age Standards'!$B$3:$J$48,9,FALSE)","v":"00:00:33.688"},{"$f":"+Table6[[#This Row],[Column6]]+Table6[[#This Row],[Column9]]","v":"00:20:04.725"},{"$f":"+Table6[[#This Row],[Column7]]+Table6[[#This Row],[Column10]]","v":"01:13:23"},"01:40:00","00:00:00","00:25:42"]
[1137,{"$f":"VLOOKUP($A38,'[1]Racing numbers file'!$A$4:$G$400,2,FALSE)","v":"Karl Gallagher"},{"$f":"VLOOKUP($A38,'[1]Racing numbers file'!$A$4:$G$400,5,FALSE)","v":58},{"$f":"VLOOKUP($A38,'[1]Racing numbers file'!$A$4:$H$400,8,FALSE)","v":"M"},"00:22:26.710","01:03:22","01:40:00",{"$f":"VLOOKUP($C38,'Age Standards'!$B$3:$J$48,7,FALSE)","v":"00:00:04.725"},{"$f":"VLOOKUP($C38,'Age Standards'!$B$3:$J$48,8,FALSE)","v":"00:00:15"},{"$f":"VLOOKUP($C38,'Age Standards'!$B$3:$J$48,9,FALSE)","v":"00:00:33.688"},{"$f":"+Table6[[#This Row],[Column6]]+Table6[[#This Row],[Column9]]","v":"00:22:31.435"},{"$f":"+Table6[[#This Row],[Column7]]+Table6[[#This Row],[Column10]]","v":"01:03:37"},"01:40:00","00:00:00","00:32:01"]
[1141,{"$f":"VLOOKUP($A39,'[1]Racing numbers file'!$A$4:$G$400,2,FALSE)","v":"Tom Malone"},{"$f":"VLOOKUP($A39,'[1]Racing numbers file'!$A$4:$G$400,5,FALSE)","v":58},{"$f":"VLOOKUP($A39,'[1]Racing numbers file'!$A$4:$H$400,8,FALSE)","v":"M"},"00:23:17.710","01:01:34","02:09:00.700",{"$f":"VLOOKUP($C39,'Age Standards'!$B$3:$J$48,7,FALSE)","v":"00:00:04.725"},{"$f":"VLOOKUP($C39,'Age Standards'!$B$3:$J$48,8,FALSE)","v":"00:00:15"},{"$f":"VLOOKUP($C39,'Age Standards'!$B$3:$J$48,9,FALSE)","v":"00:00:33.688"},{"$f":"+Table6[[#This Row],[Column6]]+Table6[[#This Row],[Column9]]","v":"00:23:22.435"},{"$f":"+Table6[[#This Row],[Column7]]+Table6[[#This Row],[Column10]]","v":"01:01:49"},{"$f":"+Table6[[#This Row],[Column8]]+Table6[[#This Row],[Column11]]","v":"02:09:34.388"},"00:00:00","00:30:55"]
[1162,{"$f":"VLOOKUP($A40,'[1]Racing numbers file'!$A$4:$G$400,2,FALSE)","v":"William Parnell"},{"$f":"VLOOKUP($A40,'[1]Racing numbers file'!$A$4:$G$400,5,FALSE)","v":56},{"$f":"VLOOKUP($A40,'[1]Racing numbers file'!$A$4:$H$400,8,FALSE)","v":"M"},"00:20:00","00:50:00","01:40:00",{"$f":"VLOOKUP($C40,'Age Standards'!$B$3:$J$48,7,FALSE)","v":"00:00:04.696"},{"$f":"VLOOKUP($C40,'Age Standards'!$B$3:$J$48,8,FALSE)","v":"00:00:14"},{"$f":"VLOOKUP($C40,'Age Standards'!$B$3:$J$48,9,FALSE)","v":"00:00:31.722"},"00:20:00","00:50:00","01:40:00","00:09:08","00:25:42"]
[1163,{"$f":"VLOOKUP($A41,'[1]Racing numbers file'!$A$4:$G$400,2,FALSE)","v":"Eddie Lynch"},{"$f":"VLOOKUP($A41,'[1]Racing numbers file'!$A$4:$G$400,5,FALSE)","v":56},{"$f":"VLOOKUP($A41,'[1]Racing numbers file'!$A$4:$H$400,8,FALSE)","v":"M"},"00:24:22","00:50:00","01:40:00",{"$f":"VLOOKUP($C41,'Age Standards'!$B$3:$J$48,7,FALSE)","v":"00:00:04.696"},{"$f":"VLOOKUP($C41,'Age Standards'!$B$3:$J$48,8,FALSE)","v":"00:00:14"},{"$f":"VLOOKUP($C41,'Age Standards'!$B$3:$J$48,9,FALSE)","v":"00:00:31.722"},{"$f":"+Table6[[#This Row],[Column6]]+Table6[[#This Row],[Column9]]","v":"00:24:26.696"},{"$f":"+Table6[[#This Row],[Column7]]+Table6[[#This Row],[Column10]]","v":"00:50:14"},"01:40:00","00:11:35","00:25:42"]
[1164,{"$f":"VLOOKUP($A42,'[1]Racing numbers file'!$A$4:$G$400,2,FALSE)","v":"Eunan Malone"},{"$f":"VLOOKUP($A42,'[1]Racing numbers file'!$A$4:$G$400,5,FALSE)","v":56},{"$f":"VLOOKUP($A42,'[1]Racing numbers file'!$A$4:$H$400,8,FALSE)","v":"M"},"00:23:07","00:58:53","02:03:46",{"$f":"VLOOKUP($C42,'Age Standards'!$B$3:$J$48,7,FALSE)","v":"00:00:04.696"},{"$f":"VLOOKUP($C42,'Age Standards'!$B$3:$J$48,8,FALSE)","v":"00:00:14"},{"$f":"VLOOKUP($C42,'Age Standards'!$B$3:$J$48,9,FALSE)","v":"00:00:31.722"},{"$f":"+Table6[[#This Row],[Column6]]+Table6[[#This Row],[Column9]]","v":"00:23:11.696"},{"$f":"+Table6[[#This Row],[Column7]]+Table6[[#This Row],[Column10]]","v":"00:59:07"},{"$f":"+Table6[[#This Row],[Column8]]+Table6[[#This Row],[Column11]]","v":"02:04:17.722"},"00:09:51","00:29:42"]
[1169,{"$f":"VLOOKUP($A43,'[1]Racing numbers file'!$A$4:$G$400,2,FALSE)","v":"Paul Atkinson"},{"$f":"VLOOKUP($A43,'[1]Racing numbers file'!$A$4:$G$400,5,FALSE)","v":56},{"$f":"VLOOKUP($A43,'[1]Racing numbers file'!$A$4:$H$400,8,FALSE)","v":"M"},"00:24:08.681","01:03:45","02:15:12.754",{"$f":"VLOOKUP($C43,'Age Standards'!$B$3:$J$48,7,FALSE)","v":"00:00:04.696"},{"$f":"VLOOKUP($C43,'Age Standards'!$B$3:$J$48,8,FALSE)","v":"00:00:14"},{"$f":"VLOOKUP($C43,'Age Standards'!$B$3:$J$48,9,FALSE)","v":"00:00:31.722"},{"$f":"+Table6[[#This Row],[Column6]]+Table6[[#This Row],[Column9]]","v":"00:24:13.377"},{"$f":"+Table6[[#This Row],[Column7]]+Table6[[#This Row],[Column10]]","v":"01:03:59"},{"$f":"+Table6[[#This Row],[Column8]]+Table6[[#This Row],[Column11]]","v":"02:15:44.476"},"00:10:41","00:32:39"]
[1185,{"$f":"VLOOKUP($A44,'[1]Racing numbers file'!$A$4:$G$400,2,FALSE)","v":"Noel Thompson"},{"$f":"VLOOKUP($A44,'[1]Racing numbers file'!$A$4:$G$400,5,FALSE)","v":55},{"$f":"VLOOKUP($A44,'[1]Racing numbers file'!$A$4:$H$400,8,FALSE)","v":"M"},"00:23:26","01:01:16","01:40:00",{"$f":"VLOOKUP($C44,'Age Standards'!$B$3:$J$48,7,FALSE)","v":"00:00:04.681"},{"$f":"VLOOKUP($C44,'Age Standards'!$B$3:$J$48,8,FALSE)","v":"00:00:13"},{"$f":"VLOOKUP($C44,'Age Standards'!$B$3:$J$48,9,FALSE)","v":"00:00:30.754"},"00:23:26",{"$f":"+Table6[[#This Row],[Column7]]+Table6[[#This Row],[Column10]]","v":"01:01:29"},{"$f":"+Table6[[#This Row],[Column8]]+Table6[[#This Row],[Column11]]","v":"01:40:30.754"},"00:00:00","00:25:42"]
[1190,{"$f":"VLOOKUP($A45,'[1]Racing numbers file'!$A$4:$G$400,2,FALSE)","v":"Lloyd Scott"},{"$f":"VLOOKUP($A45,'[1]Racing numbers file'!$A$4:$G$400,5,FALSE)","v":954},{"$f":"VLOOKUP($A45,'[1]Racing numbers file'!$A$4:$H$400,8,FALSE)","v":"M"},"00:25:01","01:02:13","01:40:00",{"$f":"VLOOKUP($C45,'Age Standards'!$B$3:$J$48,7,FALSE)","v":{"$error":"#N/A"}},{"$f":"VLOOKUP($C45,'Age Standards'!$B$3:$J$48,8,FALSE)","v":{"$error":"#N/A"}},{"$f":"VLOOKUP($C45,'Age Standards'!$B$3:$J$48,9,FALSE)","v":{"$error":"#N/A"}},{"$f":"+Table6[[#This Row],[Column6]]+Table6[[#This Row],[Column9]]","v":{"$error":"#N/A"}},{"$f":"+Table6[[#This Row],[Column7]]+Table6[[#This Row],[Column10]]","v":{"$error":"#N/A"}},{"$f":"+Table6[[#This Row],[Column8]]+Table6[[#This Row],[Column11]]","v":{"$error":"#N/A"}},"00:00:00","00:25:42"]
[1195,{"$f":"VLOOKUP($A46,'[1]Racing numbers file'!$A$4:$G$400,2,FALSE)","v":"Willie McDonald"},{"$f":"VLOOKUP($A46,'[1]Racing numbers file'!$A$4:$G$400,5,FALSE)","v":54},{"$f":"VLOOKUP($A46,'[1]Racing numbers file'!$A$4:$H$400,8,FALSE)","v":"M"},"00:20:00","00:40:00","01:40:00",{"$f":"VLOOKUP($C46,'Age Standards'!$B$3:$J$48,7,FALSE)","v":"00:00:04.667"},{"$f":"VLOOKUP($C46,'Age Standards'!$B$3:$J$48,8,FALSE)","v":"00:00:13"},{"$f":"VLOOKUP($C46,'Age Standards'!$B$3:$J$48,9,FALSE)","v":"00:00:29.796"},"00:20:00","00:50:00","01:40:00","00:00:00","00:25:42"]
[1196,{"$f":"VLOOKUP($A47,'[1]Racing numbers file'!$A$4:$G$400,2,FALSE)","v":"Tom Barber"},{"$f":"VLOOKUP($A47,'[1]Racing numbers file'!$A$4:$G$400,5,FALSE)","v":54},{"$f":"VLOOKUP($A47,'[1]Racing numbers file'!$A$4:$H$400,8,FALSE)","v":"M"},"00:25:12","01:07:47","02:19:17.692",{"$f":"VLOOKUP($C47,'Age Standards'!$B$3:$J$48,7,FALSE)","v":"00:00:04.667"},{"$f":"VLOOKUP($C47,'Age Standards'!$B$3:$J$48,8,FALSE)","v":"00:00:13"},{"$f":"VLOOKUP($C47,'Age Standards'!$B$3:$J$48,9,FALSE)","v":"00:00:29.796"},"00:25:12",{"$f":"+Table6[[#This Row],[Column7]]+Table6[[#This Row],[Column10]]","v":"01:08:00"},{"$f":"+Table6[[#This Row],[Column8]]+Table6[[#This Row],[Column11]]","v":"02:19:47.487"},"00:00:00","00:25:42"]
[1197,{"$f":"VLOOKUP($A48,'[1]Racing numbers file'!$A$4:$G$400,2,FALSE)","v":"Dermot Moyne"},{"$f":"VLOOKUP($A48,'[1]Racing numbers file'!$A$4:$G$400,5,FALSE)","v":54},{"$f":"VLOOKUP($A48,'[1]Racing numbers file'!$A$4:$H$400,8,FALSE)","v":"M"},"00:23:33","01:00:21","02:19:17.692",{"$f":"VLOOKUP($C48,'Age Standards'!$B$3:$J$48,7,FALSE)","v":"00:00:04.667"},{"$f":"VLOOKUP($C48,'Age Standards'!$B$3:$J$48,8,FALSE)","v":"00:00:13"},{"$f":"VLOOKUP($C48,'Age Standards'!$B$3:$J$48,9,FALSE)","v":"00:00:29.796"},{"$f":"+Table6[[#This Row],[Column6]]+Table6[[#This Row],[Column9]]","v":"00:23:37.667"},{"$f":"+Table6[[#This Row],[Column7]]+Table6[[#This Row],[Column10]]","v":"01:00:34"},{"$f":"+Table6[[#This Row],[Column8]]+Table6[[#This Row],[Column11]]","v":"02:19:47.487"},"00:00:00","00:31:28"]
[1213,{"$f":"VLOOKUP($A49,'[1]Racing numbers file'!$A$4:$G$400,2,FALSE)","v":"Lloyd Berry"},{"$f":"VLOOKUP($A49,'[1]Racing numbers file'!$A$4:$G$400,5,FALSE)","v":52},{"$f":"VLOOKUP($A49,'[1]Racing numbers file'!$A$4:$H$400,8,FALSE)","v":"M"},"00:22:47.623","00:59:03","02:01:05.485",{"$f":"VLOOKUP($C49,'Age Standards'!$B$3:$J$48,7,FALSE)","v":"00:00:04.638"},{"$f":"VLOOKUP($C49,'Age Standards'!$B$3:$J$48,8,FALSE)","v":"00:00:12"},{"$f":"VLOOKUP($C49,'Age Standards'!$B$3:$J$48,9,FALSE)","v":"00:00:29.588"},{"$f":"+Table6[[#This Row],[Column6]]+Table6[[#This Row],[Column9]]","v":"00:22:52.261"},{"$f":"+Table6[[#This Row],[Column7]]+Table6[[#This Row],[Column10]]","v":"00:59:15"},{"$f":"+Table6[[#This Row],[Column8]]+Table6[[#This Row],[Column11]]","v":"02:01:35.073"},"00:09:12","00:25:42"]
[1214,{"$f":"VLOOKUP($A50,'[1]Racing numbers file'!$A$4:$G$400,2,FALSE)","v":"Robert Kehoe"},{"$f":"VLOOKUP($A50,'[1]Racing numbers file'!$A$4:$G$400,5,FALSE)","v":52},{"$f":"VLOOKUP($A50,'[1]Racing numbers file'!$A$4:$H$400,8,FALSE)","v":"M"},"00:25:14.624","01:04:36","01:40:00",{"$f":"VLOOKUP($C50,'Age Standards'!$B$3:$J$48,7,FALSE)","v":"00:00:04.638"},{"$f":"VLOOKUP($C50,'Age Standards'!$B$3:$J$48,8,FALSE)","v":"00:00:12"},{"$f":"VLOOKUP($C50,'Age Standards'!$B$3:$J$48,9,FALSE)","v":"00:00:29.588"},{"$f":"+Table6[[#This Row],[Column6]]+Table6[[#This Row],[Column9]]","v":"00:25:19.261"},{"$f":"+Table6[[#This Row],[Column7]]+Table6[[#This Row],[Column10]]","v":"01:04:48"},"01:40:00","00:08:38","00:25:42"]
[1224,{"$f":"VLOOKUP($A51,'[1]Racing numbers file'!$A$4:$G$400,2,FALSE)","v":"Pat Byrne"},{"$f":"VLOOKUP($A51,'[1]Racing numbers file'!$A$4:$G$400,5,FALSE)","v":52},{"$f":"VLOOKUP($A51,'[1]Racing numbers file'!$A$4:$H$400,8,FALSE)","v":"M"},"00:23:20","00:57:36","01:58:34",{"$f":"VLOOKUP($C51,'Age Standards'!$B$3:$J$48,7,FALSE)","v":"00:00:04.638"},{"$f":"VLOOKUP($C51,'Age Standards'!$B$3:$J$48,8,FALSE)","v":"00:00:12"},{"$f":"VLOOKUP($C51,'Age Standards'!$B$3:$J$48,9,FALSE)","v":"00:00:29.588"},"00:23:20",{"$f":"+Table6[[#This Row],[Column7]]+Table6[[#This Row],[Column10]]","v":"00:57:48"},{"$f":"+Table6[[#This Row],[Column8]]+Table6[[#This Row],[Column11]]","v":"01:59:03.588"},"00:09:05","00:29:57"]
[1227,{"$f":"VLOOKUP($A52,'[1]Racing numbers file'!$A$4:$G$400,2,FALSE)","v":"Linus Devlin"},{"$f":"VLOOKUP($A52,'[1]Racing numbers file'!$A$4:$G$400,5,FALSE)","v":52},{"$f":"VLOOKUP($A52,'[1]Racing numbers file'!$A$4:$H$400,8,FALSE)","v":"M"},"00:23:12","00:59:12","02:07:08",{"$f":"VLOOKUP($C52,'Age Standards'!$B$3:$J$48,7,FALSE)","v":"00:00:04.638"},{"$f":"VLOOKUP($C52,'Age Standards'!$B$3:$J$48,8,FALSE)","v":"00:00:12"},{"$f":"VLOOKUP($C52,'Age Standards'!$B$3:$J$48,9,FALSE)","v":"00:00:29.588"},{"$f":"+Table6[[#This Row],[Column6]]+Table6[[#This Row],[Column9]]","v":"00:23:16.638"},{"$f":"+Table6[[#This Row],[Column7]]+Table6[[#This Row],[Column10]]","v":"00:59:24"},{"$f":"+Table6[[#This Row],[Column8]]+Table6[[#This Row],[Column11]]","v":"02:07:37.588"},"00:00:00","00:25:42"]
[1228,{"$f":"VLOOKUP($A53,'[1]Racing numbers file'!$A$4:$G$400,2,FALSE)","v":"William McGonagle"},{"$f":"VLOOKUP($A53,'[1]Racing numbers file'!$A$4:$G$400,5,FALSE)","v":52},{"$f":"VLOOKUP($A53,'[1]Racing numbers file'!$A$4:$H$400,8,FALSE)","v":"M"},"00:25:39","00:50:00","01:40:00",{"$f":"VLOOKUP($C53,'Age Standards'!$B$3:$J$48,7,FALSE)","v":"00:00:04.638"},{"$f":"VLOOKUP($C53,'Age Standards'!$B$3:$J$48,8,FALSE)","v":"00:00:12"},{"$f":"VLOOKUP($C53,'Age Standards'!$B$3:$J$48,9,FALSE)","v":"00:00:29.588"},{"$f":"+Table6[[#This Row],[Column6]]+Table6[[#This Row],[Column9]]","v":"00:25:43.638"},{"$f":"+Table6[[#This Row],[Column7]]+Table6[[#This Row],[Column10]]","v":"00:50:12"},"01:40:00","01:00:00","00:25:42"]
[1230,{"$f":"VLOOKUP($A54,'[1]Racing numbers file'!$A$4:$G$400,2,FALSE)","v":"Paul Cullinan"},{"$f":"VLOOKUP($A54,'[1]Racing numbers file'!$A$4:$G$400,5,FALSE)","v":51},{"$f":"VLOOKUP($A54,'[1]Racing numbers file'!$A$4:$H$400,8,FALSE)","v":"M"},"00:22:33.609","00:59:26","01:40:00",{"$f":"VLOOKUP($C54,'Age Standards'!$B$3:$J$48,7,FALSE)","v":"00:00:04.624"},{"$f":"VLOOKUP($C54,'Age Standards'!$B$3:$J$48,8,FALSE)","v":"00:00:12"},{"$f":"VLOOKUP($C54,'Age Standards'!$B$3:$J$48,9,FALSE)","v":"00:00:29.485"},{"$f":"+Table6[[#This Row],[Column6]]+Table6[[#This Row],[Column9]]","v":"00:22:38.233"},{"$f":"+Table6[[#This Row],[Column7]]+Table6[[#This Row],[Column10]]","v":"00:59:38"},"01:40:00","00:00:00","11:25:00.999"]
[1231,{"$f":"VLOOKUP($A55,'[1]Racing numbers file'!$A$4:$G$400,2,FALSE)","v":"Billy Bourke"},{"$f":"VLOOKUP($A55,'[1]Racing numbers file'!$A$4:$G$400,5,FALSE)","v":51},{"$f":"VLOOKUP($A55,'[1]Racing numbers file'!$A$4:$H$400,8,FALSE)","v":"M"},"00:23:10.609","01:01:05","00:00:29.382",{"$f":"VLOOKUP($C55,'Age Standards'!$B$3:$J$48,7,FALSE)","v":"00:00:04.624"},{"$f":"VLOOKUP($C55,'Age Standards'!$B$3:$J$48,8,FALSE)","v":"00:00:12"},{"$f":"VLOOKUP($C55,'Age Standards'!$B$3:$J$48,9,FALSE)","v":"00:00:29.485"},"00:23:11","01:01:13","01:40:00","00:08:28","00:25:42"]
[1235,{"$f":"VLOOKUP($A56,'[1]Racing numbers file'!$A$4:$G$400,2,FALSE)","v":{"$error":"#N/A"}},{"$f":"VLOOKUP($A56,'[1]Racing numbers file'!$A$4:$G$400,5,FALSE)","v":{"$error":"#N/A"}},{"$f":"VLOOKUP($A56,'[1]Racing numbers file'!$A$4:$H$400,8,FALSE)","v":{"$error":"#N/A"}},"00:23:51","00:50:00","01:40:00",{"$f":"VLOOKUP($C56,'Age Standards'!$B$3:$J$48,7,FALSE)","v":{"$error":"#N/A"}},{"$f":"VLOOKUP($C56,'Age Standards'!$B$3:$J$48,8,FALSE)","v":{"$error":"#N/A"}},{"$f":"VLOOKUP($C56,'Age Standards'!$B$3:$J$48,9,FALSE)","v":{"$error":"#N/A"}},{"$f":"+Table6[[#This Row],[Column6]]+Table6[[#This Row],[Column9]]","v":{"$error":"#N/A"}},{"$f":"+Table6[[#This Row],[Column7]]+Table6[[#This Row],[Column10]]","v":{"$error":"#N/A"}},"01:40:00","00:00:00","00:25:42"]
[1236,{"$f":"VLOOKUP($A57,'[1]Racing numbers file'!$A$4:$G$400,2,FALSE)","v":"John Dillon"},{"$f":"VLOOKUP($A57,'[1]Racing numbers file'!$A$4:$G$400,5,FALSE)","v":51},{"$f":"VLOOKUP($A57,'[1]Racing numbers file'!$A$4:$H$400,8,FALSE)","v":"M"},"00:22:26.609","00:57:43","01:57:17.382",{"$f":"VLOOKUP($C57,'Age Standards'!$B$3:$J$48,7,FALSE)","v":"00:00:04.624"},{"$f":"VLOOKUP($C57,'Age Standards'!$B$3:$J$48,8,FALSE)","v":"00:00:12"},{"$f":"VLOOKUP($C57,'Age Standards'!$B$3:$J$48,9,FALSE)","v":"00:00:29.485"},{"$f":"+Table6[[#This Row],[Column6]]+Table6[[#This Row],[Column9]]","v":"00:22:31.233"},{"$f":"+Table6[[#This Row],[Column7]]+Table6[[#This Row],[Column10]]","v":"00:57:55"},{"$f":"+Table6[[#This Row],[Column8]]+Table6[[#This Row],[Column11]]","v":"01:57:46.867"},"00:08:19","00:30:31"]
[1252,{"$f":"VLOOKUP($A58,'[1]Racing numbers file'!$A$4:$G$400,2,FALSE)","v":"Barry Swan"},{"$f":"VLOOKUP($A58,'[1]Racing numbers file'!$A$4:$G$400,5,FALSE)","v":49},{"$f":"VLOOKUP($A58,'[1]Racing numbers file'!$A$4:$H$400,8,FALSE)","v":"M"},"00:23:42.581","01:01:37","01:40:00",{"$f":"VLOOKUP($C58,'Age Standards'!$B$3:$J$48,7,FALSE)","v":"00:00:04.595"},{"$f":"VLOOKUP($C58,'Age Standards'!$B$3:$J$48,8,FALSE)","v":"00:00:12"},{"$f":"VLOOKUP($C58,'Age Standards'!$B$3:$J$48,9,FALSE)","v":"00:00:29.280"},{"$f":"+Table6[[#This Row],[Column6]]+Table6[[#This Row],[Column9]]","v":"00:23:47.176"},{"$f":"+Table6[[#This Row],[Column7]]+Table6[[#This Row],[Column10]]","v":"01:01:49"},{"$f":"+Table6[[#This Row],[Column8]]+Table6[[#This Row],[Column11]]","v":"01:40:29.280"},"00:07:54","00:31:13"]
[1255,{"$f":"VLOOKUP($A59,'[1]Racing numbers file'!$A$4:$G$400,2,FALSE)","v":"Paul Dolan"},{"$f":"VLOOKUP($A59,'[1]Racing numbers file'!$A$4:$G$400,5,FALSE)","v":49},{"$f":"VLOOKUP($A59,'[1]Racing numbers file'!$A$4:$H$400,8,FALSE)","v":"M"},"00:22:34","00:50:00","01:40:00",{"$f":"VLOOKUP($C59,'Age Standards'!$B$3:$J$48,7,FALSE)","v":"00:00:04.595"},{"$f":"VLOOKUP($C59,'Age Standards'!$B$3:$J$48,8,FALSE)","v":"00:00:12"},{"$f":"VLOOKUP($C59,'Age Standards'!$B$3:$J$48,9,FALSE)","v":"00:00:29.280"},"00:22:34",{"$f":"+Table6[[#This Row],[Column7]]+Table6[[#This Row],[Column10]]","v":"00:50:12"},"01:40:00","00:07:56","00:25:42"]
[1258,{"$f":"VLOOKUP($A60,'[1]Racing numbers file'!$A$4:$G$400,2,FALSE)","v":"Rodney Joyce"},{"$f":"VLOOKUP($A60,'[1]Racing numbers file'!$A$4:$G$400,5,FALSE)","v":49},{"$f":"VLOOKUP($A60,'[1]Racing numbers file'!$A$4:$H$400,8,FALSE)","v":"M"},"00:24:29","01:03:34","02:22:04",{"$f":"VLOOKUP($C60,'Age Standards'!$B$3:$J$48,7,FALSE)","v":"00:00:04.595"},{"$f":"VLOOKUP($C60,'Age Standards'!$B$3:$J$48,8,FALSE)","v":"00:00:12"},{"$f":"VLOOKUP($C60,'Age Standards'!$B$3:$J$48,9,FALSE)","v":"00:00:29.280"},"00:24:29","01:03:34",{"$f":"+Table6[[#This Row],[Column8]]+Table6[[#This Row],[Column11]]","v":"02:22:33.280"},"00:10:32","00:32:42"]
[1259,{"$f":"VLOOKUP($A61,'[1]Racing numbers file'!$A$4:$G$400,2,FALSE)","v":"Mark Prendergast"},{"$f":"VLOOKUP($A61,'[1]Racing numbers file'!$A$4:$G$400,5,FALSE)","v":49},{"$f":"VLOOKUP($A61,'[1]Racing numbers file'!$A$4:$H$400,8,FALSE)","v":"M"},"00:22:29","00:57:20","01:59:12",{"$f":"VLOOKUP($C61,'Age Standards'!$B$3:$J$48,7,FALSE)","v":"00:00:04.595"},{"$f":"VLOOKUP($C61,'Age Standards'!$B$3:$J$48,8,FALSE)","v":"00:00:12"},{"$f":"VLOOKUP($C61,'Age Standards'!$B$3:$J$48,9,FALSE)","v":"00:00:29.280"},"00:22:29",{"$f":"+Table6[[#This Row],[Column7]]+Table6[[#This Row],[Column10]]","v":"00:57:32"},{"$f":"+Table6[[#This Row],[Column8]]+Table6[[#This Row],[Column11]]","v":"01:59:41.280"},"00:00:00","00:29:27"]
[1261,{"$f":"VLOOKUP($A62,'[1]Racing numbers file'!$A$4:$G$400,2,FALSE)","v":"Leonard Carrigan"},{"$f":"VLOOKUP($A62,'[1]Racing numbers file'!$A$4:$G$400,5,FALSE)","v":49},{"$f":"VLOOKUP($A62,'[1]Racing numbers file'!$A$4:$H$400,8,FALSE)","v":"M"},"00:24:57","00:50:00","01:40:00",{"$f":"VLOOKUP($C62,'Age Standards'!$B$3:$J$48,7,FALSE)","v":"00:00:04.595"},{"$f":"VLOOKUP($C62,'Age Standards'!$B$3:$J$48,8,FALSE)","v":"00:00:12"},{"$f":"VLOOKUP($C62,'Age Standards'!$B$3:$J$48,9,FALSE)","v":"00:00:29.280"},"00:24:57","00:50:00","01:40:00","00:00:00","00:25:42"]
[1263,{"$f":"VLOOKUP($A63,'[1]Racing numbers file'!$A$4:$G$400,2,FALSE)","v":"Shay Dalton"},{"$f":"VLOOKUP($A63,'[1]Racing numbers file'!$A$4:$G$400,5,FALSE)","v":49},{"$f":"VLOOKUP($A63,'[1]Racing numbers file'!$A$4:$H$400,8,FALSE)","v":"M"},"00:20:00","00:50:00","01:40:00",{"$f":"VLOOKUP($C63,'Age Standards'!$B$3:$J$48,7,FALSE)","v":"00:00:04.595"},{"$f":"VLOOKUP($C63,'Age Standards'!$B$3:$J$48,8,FALSE)","v":"00:00:12"},{"$f":"VLOOKUP($C63,'Age Standards'!$B$3:$J$48,9,FALSE)","v":"00:00:29.280"},"00:20:00","00:50:00","01:40:00","00:00:00","00:25:42"]
[1266,{"$f":"VLOOKUP($A64,'[1]Racing numbers file'!$A$4:$G$400,2,FALSE)","v":"Mick Hennessy"},{"$f":"VLOOKUP($A64,'[1]Racing numbers file'!$A$4:$G$400,5,FALSE)","v":48},{"$f":"VLOOKUP($A64,'[1]Racing numbers file'!$A$4:$H$400,8,FALSE)","v":"M"},"00:22:18","00:58:29","02:04:22.076",{"$f":"VLOOKUP($C64,'Age Standards'!$B$3:$J$48,7,FALSE)","v":"00:00:04.581"},{"$f":"VLOOKUP($C64,'Age Standards'!$B$3:$J$48,8,FALSE)","v":"00:00:12"},{"$f":"VLOOKUP($C64,'Age Standards'!$B$3:$J$48,9,FALSE)","v":"00:00:29.177"},{"$f":"+Table6[[#This Row],[Column6]]+Table6[[#This Row],[Column9]]","v":"00:22:22.581"},{"$f":"+Table6[[#This Row],[Column7]]+Table6[[#This Row],[Column10]]","v":"00:58:41"},{"$f":"+Table6[[#This Row],[Column8]]+Table6[[#This Row],[Column11]]","v":"02:04:51.253"},"00:09:09","00:32:15"]
[1281,{"$f":"VLOOKUP($A65,'[1]Racing numbers file'!$A$4:$G$400,2,FALSE)","v":"Cathal Miller"},{"$f":"VLOOKUP($A65,'[1]Racing numbers file'!$A$4:$G$400,5,FALSE)","v":48},{"$f":"VLOOKUP($A65,'[1]Racing numbers file'!$A$4:$H$400,8,FALSE)","v":"M"},"00:20:00","00:50:00","01:40:00",{"$f":"VLOOKUP($C65,'Age Standards'!$B$3:$J$48,7,FALSE)","v":"00:00:04.581"},{"$f":"VLOOKUP($C65,'Age Standards'!$B$3:$J$48,8,FALSE)","v":"00:00:12"},{"$f":"VLOOKUP($C65,'Age Standards'!$B$3:$J$48,9,FALSE)","v":"00:00:29.177"},"00:20:00","00:50:00","01:40:00","00:00:00","00:29:28"]
[1284,{"$f":"VLOOKUP($A66,'[1]Racing numbers file'!$A$4:$G$400,2,FALSE)","v":"Enda Smyth"},{"$f":"VLOOKUP($A66,'[1]Racing numbers file'!$A$4:$G$400,5,FALSE)","v":47},{"$f":"VLOOKUP($A66,'[1]Racing numbers file'!$A$4:$H$400,8,FALSE)","v":"M"},"00:24:33","00:50:00","01:40:00",{"$f":"VLOOKUP($C66,'Age Standards'!$B$3:$J$48,7,FALSE)","v":"00:00:04.567"},{"$f":"VLOOKUP($C66,'Age Standards'!$B$3:$J$48,8,FALSE)","v":"00:00:11"},{"$f":"VLOOKUP($C66,'Age Standards'!$B$3:$J$48,9,FALSE)","v":"00:00:29.076"},{"$f":"+Table6[[#This Row],[Column6]]+Table6[[#This Row],[Column9]]","v":"00:24:37.567"},{"$f":"+Table6[[#This Row],[Column7]]+Table6[[#This Row],[Column10]]","v":"00:50:11"},{"$f":"+Table6[[#This Row],[Column8]]+Table6[[#This Row],[Column11]]","v":"01:40:29.076"},"00:07:00","00:36:15"]
[1294,{"$f":"VLOOKUP($A67,'[1]Racing numbers file'!$A$4:$G$400,2,FALSE)","v":"Mark Kidd"},{"$f":"VLOOKUP($A67,'[1]Racing numbers file'!$A$4:$G$400,5,FALSE)","v":47},{"$f":"VLOOKUP($A67,'[1]Racing numbers file'!$A$4:$H$400,8,FALSE)","v":"M"},"00:22:43","00:50:00","01:40:00",{"$f":"VLOOKUP($C67,'Age Standards'!$B$3:$J$48,7,FALSE)","v":"00:00:04.567"},{"$f":"VLOOKUP($C67,'Age Standards'!$B$3:$J$48,8,FALSE)","v":"00:00:11"},{"$f":"VLOOKUP($C67,'Age Standards'!$B$3:$J$48,9,FALSE)","v":"00:00:29.076"},"00:22:43",{"$f":"+Table6[[#This Row],[Column7]]+Table6[[#This Row],[Column10]]","v":"00:50:11"},"01:40:00","00:08:42","00:25:42"]
[1303,{"$f":"VLOOKUP($A68,'[1]Racing numbers file'!$A$4:$G$400,2,FALSE)","v":"Richard Dufficy"},{"$f":"VLOOKUP($A68,'[1]Racing numbers file'!$A$4:$G$400,5,FALSE)","v":46},{"$f":"VLOOKUP($A68,'[1]Racing numbers file'!$A$4:$H$400,8,FALSE)","v":"M"},"00:23:28.538","00:50:00","01:40:00",{"$f":"VLOOKUP($C68,'Age Standards'!$B$3:$J$48,7,FALSE)","v":"00:00:04.553"},{"$f":"VLOOKUP($C68,'Age Standards'!$B$3:$J$48,8,FALSE)","v":"00:00:12"},{"$f":"VLOOKUP($C68,'Age Standards'!$B$3:$J$48,9,FALSE)","v":"00:00:28.974"},{"$f":"+Table6[[#This Row],[Column6]]+Table6[[#This Row],[Column9]]","v":"00:23:33.091"},{"$f":"+Table6[[#This Row],[Column7]]+Table6[[#This Row],[Column10]]","v":"00:50:12"},"01:40:00","00:00:00","00:32:04"]
[1311,{"$f":"VLOOKUP($A69,'[1]Racing numbers file'!$A$4:$G$400,2,FALSE)","v":"Deanne Sanders"},{"$f":"VLOOKUP($A69,'[1]Racing numbers file'!$A$4:$G$400,5,FALSE)","v":45},{"$f":"VLOOKUP($A69,'[1]Racing numbers file'!$A$4:$H$400,8,FALSE)","v":"F"},"00:25:01","01:07:19","02:16:34.321",{"$f":"VLOOKUP($C69,'Age Standards'!$B$3:$J$48,7,FALSE)","v":"00:00:04.538"},{"$f":"VLOOKUP($C69,'Age Standards'!$B$3:$J$48,8,FALSE)","v":"00:00:12"},{"$f":"VLOOKUP($C69,'Age Standards'!$B$3:$J$48,9,FALSE)","v":"00:00:28.873"},{"$f":"+Table6[[#This Row],[Column6]]+Table6[[#This Row],[Column9]]","v":"00:25:05.538"},{"$f":"+Table6[[#This Row],[Column7]]+Table6[[#This Row],[Column10]]","v":"01:07:31"},{"$f":"+Table6[[#This Row],[Column8]]+Table6[[#This Row],[Column11]]","v":"02:17:03.194"},"00:10:43","00:25:42"]
[1311,{"$f":"VLOOKUP($A70,'[1]Racing numbers file'!$A$4:$G$400,2,FALSE)","v":"Deanne Sanders"},{"$f":"VLOOKUP($A70,'[1]Racing numbers file'!$A$4:$G$400,5,FALSE)","v":45},{"$f":"VLOOKUP($A70,'[1]Racing numbers file'!$A$4:$H$400,8,FALSE)","v":"F"},"00:27:04","01:14:29","01:40:00",{"$f":"VLOOKUP(C70,'Age Standards'!B$52:J$102,7,FALSE)","v":"00:00:04.902"},{"$f":"VLOOKUP(C70,'Age Standards'!B$52:J$102,8,FALSE)","v":"00:00:12.960"},{"$f":"VLOOKUP(C70,'Age Standards'!B$52:J$102,9,FALSE)","v":"00:00:31.183"},"00:27:04",{"$f":"+Table6[[#This Row],[Column7]]+Table6[[#This Row],[Column10]]","v":"01:14:41.960"},"01:40:00","00:00:00","00:25:42"]
[1326,{"$f":"VLOOKUP($A71,'[1]Racing numbers file'!$A$4:$G$400,2,FALSE)","v":"Andrew Kavanagh"},{"$f":"VLOOKUP($A71,'[1]Racing numbers file'!$A$4:$G$400,5,FALSE)","v":45},{"$f":"VLOOKUP($A71,'[1]Racing numbers file'!$A$4:$H$400,8,FALSE)","v":"M"},"00:23:12.609","01:01:26","01:40:00",{"$f":"VLOOKUP($C71,'Age Standards'!$B$3:$J$48,7,FALSE)","v":"00:00:04.538"},{"$f":"VLOOKUP($C71,'Age Standards'!$B$3:$J$48,8,FALSE)","v":"00:00:12"},{"$f":"VLOOKUP($C71,'Age Standards'!$B$3:$J$48,9,FALSE)","v":"00:00:28.873"},{"$f":"+Table6[[#This Row],[Column6]]+Table6[[#This Row],[Column9]]","v":"00:23:17.148"},{"$f":"+Table6[[#This Row],[Column7]]+Table6[[#This Row],[Column10]]","v":"01:01:38"},"01:40:00","00:00:00","00:25:42"]
[1328,{"$f":"VLOOKUP($A72,'[1]Racing numbers file'!$A$4:$G$400,2,FALSE)","v":"Mark McCabe"},{"$f":"VLOOKUP($A72,'[1]Racing numbers file'!$A$4:$G$400,5,FALSE)","v":45},{"$f":"VLOOKUP($A72,'[1]Racing numbers file'!$A$4:$H$400,8,FALSE)","v":"M"},"00:20:00","00:40:00","01:40:00",{"$f":"VLOOKUP($C72,'Age Standards'!$B$3:$J$48,7,FALSE)","v":"00:00:04.538"},{"$f":"VLOOKUP($C72,'Age Standards'!$B$3:$J$48,8,FALSE)","v":"00:00:12"},{"$f":"VLOOKUP($C72,'Age Standards'!$B$3:$J$48,9,FALSE)","v":"00:00:28.873"},"00:20:00","00:50:00","01:40:00","00:00:00","00:25:42"]
[1339,{"$f":"VLOOKUP($A73,'[1]Racing numbers file'!$A$4:$G$400,2,FALSE)","v":"Noel Conway"},{"$f":"VLOOKUP($A73,'[1]Racing numbers file'!$A$4:$G$400,5,FALSE)","v":44},{"$f":"VLOOKUP($A73,'[1]Racing numbers file'!$A$4:$H$400,8,FALSE)","v":"M"},"00:22:36","00:58:36","02:02:22",{"$f":"VLOOKUP($C73,'Age Standards'!$B$3:$J$48,7,FALSE)","v":"00:00:04.524"},{"$f":"VLOOKUP($C73,'Age Standards'!$B$3:$J$48,8,FALSE)","v":"00:00:12"},{"$f":"VLOOKUP($C73,'Age Standards'!$B$3:$J$48,9,FALSE)","v":"00:00:28.773"},"00:22:36","00:58:36",{"$f":"+Table6[[#This Row],[Column8]]+Table6[[#This Row],[Column11]]","v":"02:02:50.773"},"00:08:02","00:25:42"]
[1348,{"$f":"VLOOKUP($A74,'[1]Racing numbers file'!$A$4:$G$400,2,FALSE)","v":"Ciara Kinch"},{"$f":"VLOOKUP($A74,'[1]Racing numbers file'!$A$4:$G$400,5,FALSE)","v":43},{"$f":"VLOOKUP($A74,'[1]Racing numbers file'!$A$4:$H$400,8,FALSE)","v":"F"},"00:24:35","01:05:16","01:40:00",{"$f":"VLOOKUP(C74,'Age Standards'!B$52:J$102,7,FALSE)","v":"00:00:04.871"},{"$f":"VLOOKUP(C74,'Age Standards'!B$52:J$102,8,FALSE)","v":"00:00:14.040"},{"$f":"VLOOKUP(C74,'Age Standards'!B$52:J$102,9,FALSE)","v":"00:00:30.966"},"00:24:35",{"$f":"+Table6[[#This Row],[Column7]]+Table6[[#This Row],[Column10]]","v":"01:05:30.040"},"01:40:00","00:00:00","00:25:42"]
[1351,{"$f":"VLOOKUP($A75,'[1]Racing numbers file'!$A$4:$G$400,2,FALSE)","v":{"$error":"#N/A"}},{"$f":"VLOOKUP($A75,'[1]Racing numbers file'!$A$4:$G$400,5,FALSE)","v":{"$error":"#N/A"}},{"$f":"VLOOKUP($A75,'[1]Racing numbers file'!$A$4:$H$400,8,FALSE)","v":{"$error":"#N/A"}},"00:22:34","01:00:06","01:40:00",{"$f":"VLOOKUP($C75,'Age Standards'!$B$3:$J$48,7,FALSE)","v":{"$error":"#N/A"}},{"$f":"VLOOKUP($C75,'Age Standards'!$B$3:$J$48,8,FALSE)","v":{"$error":"#N/A"}},{"$f":"VLOOKUP($C75,'Age Standards'!$B$3:$J$48,9,FALSE)","v":{"$error":"#N/A"}},"00:22:34",{"$f":"+Table6[[#This Row],[Column7]]+Table6[[#This Row],[Column10]]","v":{"$error":"#N/A"}},{"$f":"+Table6[[#This Row],[Column8]]+Table6[[#This Row],[Column11]]","v":{"$error":"#N/A"}},"00:00:00","00:25:42"]
[1360,{"$f":"VLOOKUP($A76,'[1]Racing numbers file'!$A$4:$G$400,2,FALSE)","v":"David Kelly"},{"$f":"VLOOKUP($A76,'[1]Racing numbers file'!$A$4:$G$400,5,FALSE)","v":61},{"$f":"VLOOKUP($A76,'[1]Racing numbers file'!$A$4:$H$400,8,FALSE)","v":"M"},"00:20:00","00:50:00","01:40:00",{"$f":"VLOOKUP($C76,'Age Standards'!$B$3:$J$48,7,FALSE)","v":"00:00:05.077"},{"$f":"VLOOKUP($C76,'Age Standards'!$B$3:$J$48,8,FALSE)","v":"00:00:17"},{"$f":"VLOOKUP($C76,'Age Standards'!$B$3:$J$48,9,FALSE)","v":"00:00:38.469"},"00:20:00","00:50:00","01:40:00","00:10:47","00:36:50"]
[1363,{"$f":"VLOOKUP($A77,'[1]Racing numbers file'!$A$4:$G$400,2,FALSE)","v":"Paul Faherty"},{"$f":"VLOOKUP($A77,'[1]Racing numbers file'!$A$4:$G$400,5,FALSE)","v":42},{"$f":"VLOOKUP($A77,'[1]Racing numbers file'!$A$4:$H$400,8,FALSE)","v":"M"},"00:20:00","00:50:00","01:40:00",{"$f":"VLOOKUP($C77,'Age Standards'!$B$3:$J$48,7,FALSE)","v":"00:00:04.496"},{"$f":"VLOOKUP($C77,'Age Standards'!$B$3:$J$48,8,FALSE)","v":"00:00:13"},{"$f":"VLOOKUP($C77,'Age Standards'!$B$3:$J$48,9,FALSE)","v":"00:00:28.572"},"00:20:00","00:50:00","01:40:00","00:00:00","00:25:42"]
[1374,{"$f":"VLOOKUP($A78,'[1]Racing numbers file'!$A$4:$G$400,2,FALSE)","v":"Martin McCaffrey"},{"$f":"VLOOKUP($A78,'[1]Racing numbers file'!$A$4:$G$400,5,FALSE)","v":52},{"$f":"VLOOKUP($A78,'[1]Racing numbers file'!$A$4:$H$400,8,FALSE)","v":"M"},"00:20:00","01:04:19","01:40:00",{"$f":"VLOOKUP($C78,'Age Standards'!$B$3:$J$48,7,FALSE)","v":"00:00:04.638"},{"$f":"VLOOKUP($C78,'Age Standards'!$B$3:$J$48,8,FALSE)","v":"00:00:12"},{"$f":"VLOOKUP($C78,'Age Standards'!$B$3:$J$48,9,FALSE)","v":"00:00:29.588"},{"$f":"+Table6[[#This Row],[Column6]]+Table6[[#This Row],[Column9]]","v":"00:20:04.638"},"01:04:19","01:40:00","00:00:00","00:25:42"]
[1375,{"$f":"VLOOKUP($A79,'[1]Racing numbers file'!$A$4:$G$400,2,FALSE)","v":"Paul Fahy"},{"$f":"VLOOKUP($A79,'[1]Racing numbers file'!$A$4:$G$400,5,FALSE)","v":51},{"$f":"VLOOKUP($A79,'[1]Racing numbers file'!$A$4:$H$400,8,FALSE)","v":"M"},"00:20:00","00:50:00","01:40:00",{"$f":"VLOOKUP($C79,'Age Standards'!$B$3:$J$48,7,FALSE)","v":"00:00:04.624"},{"$f":"VLOOKUP($C79,'Age Standards'!$B$3:$J$48,8,FALSE)","v":"00:00:12"},{"$f":"VLOOKUP($C79,'Age Standards'!$B$3:$J$48,9,FALSE)","v":"00:00:29.485"},"00:20:00","00:50:00","01:40:00","00:00:00","00:25:42"]
[1381,{"$f":"VLOOKUP($A80,'[1]Racing numbers file'!$A$4:$G$400,2,FALSE)","v":"Aidan Hammond"},{"$f":"VLOOKUP($A80,'[1]Racing numbers file'!$A$4:$G$400,5,FALSE)","v":47},{"$f":"VLOOKUP($A80,'[1]Racing numbers file'!$A$4:$H$400,8,FALSE)","v":"M"},"00:20:00","01:00:30","01:40:28.974",{"$f":"VLOOKUP($C80,'Age Standards'!$B$3:$J$48,7,FALSE)","v":"00:00:04.567"},{"$f":"VLOOKUP($C80,'Age Standards'!$B$3:$J$48,8,FALSE)","v":"00:00:11"},{"$f":"VLOOKUP($C80,'Age Standards'!$B$3:$J$48,9,FALSE)","v":"00:00:29.076"},"00:20:00","01:00:30","01:40:00","00:00:00","00:25:42"]
[1387,{"$f":"VLOOKUP($A81,'[1]Racing numbers file'!$A$4:$G$400,2,FALSE)","v":"Tony O'Malley"},{"$f":"VLOOKUP($A81,'[1]Racing numbers file'!$A$4:$G$400,5,FALSE)","v":44},{"$f":"VLOOKUP($A81,'[1]Racing numbers file'!$A$4:$H$400,8,FALSE)","v":"M"},"00:20:00","00:58:39","01:40:00",{"$f":"VLOOKUP($C81,'Age Standards'!$B$3:$J$48,7,FALSE)","v":"00:00:04.524"},{"$f":"VLOOKUP($C81,'Age Standards'!$B$3:$J$48,8,FALSE)","v":"00:00:12"},{"$f":"VLOOKUP($C81,'Age Standards'!$B$3:$J$48,9,FALSE)","v":"00:00:28.773"},"00:20:00","00:58:39","01:40:00","00:08:18","00:25:42"]
[1390,{"$f":"VLOOKUP($A82,'[1]Racing numbers file'!$A$4:$G$400,2,FALSE)","v":"Donagh McArdle"},{"$f":"VLOOKUP($A82,'[1]Racing numbers file'!$A$4:$G$400,5,FALSE)","v":48},{"$f":"VLOOKUP($A82,'[1]Racing numbers file'!$A$4:$H$400,8,FALSE)","v":"M"},"00:24:38","01:03:50","02:13:08",{"$f":"VLOOKUP($C82,'Age Standards'!$B$3:$J$48,7,FALSE)","v":"00:00:04.581"},{"$f":"VLOOKUP($C82,'Age Standards'!$B$3:$J$48,8,FALSE)","v":"00:00:12"},{"$f":"VLOOKUP($C82,'Age Standards'!$B$3:$J$48,9,FALSE)","v":"00:00:29.177"},{"$f":"+Table6[[#This Row],[Column6]]+Table6[[#This Row],[Column9]]","v":"00:24:42.581"},{"$f":"+Table6[[#This Row],[Column7]]+Table6[[#This Row],[Column10]]","v":"01:04:02"},{"$f":"+Table6[[#This Row],[Column8]]+Table6[[#This Row],[Column11]]","v":"02:13:37.177"},"00:00:00","00:25:42"]
[1396,{"$f":"VLOOKUP($A83,'[1]Racing numbers file'!$A$4:$G$400,2,FALSE)","v":"Cathal Murray"},{"$f":"VLOOKUP($A83,'[1]Racing numbers file'!$A$4:$G$400,5,FALSE)","v":44},{"$f":"VLOOKUP($A83,'[1]Racing numbers file'!$A$4:$H$400,8,FALSE)","v":"M"},"00:20:00","00:59:21","02:07:01",{"$f":"VLOOKUP($C83,'Age Standards'!$B$3:$J$48,7,FALSE)","v":"00:00:04.524"},{"$f":"VLOOKUP($C83,'Age Standards'!$B$3:$J$48,8,FALSE)","v":"00:00:12"},{"$f":"VLOOKUP($C83,'Age Standards'!$B$3:$J$48,9,FALSE)","v":"00:00:28.773"},{"$f":"+Table6[[#This Row],[Column6]]+Table6[[#This Row],[Column9]]","v":"00:20:04.524"},"00:59:21",{"$f":"+Table6[[#This Row],[Column8]]+Table6[[#This Row],[Column11]]","v":"02:07:29.773"},"01:00:00","00:25:42"]
[1398,{"$f":"VLOOKUP($A84,'[1]Racing numbers file'!$A$4:$G$400,2,FALSE)","v":"Aidan Yates"},{"$f":"VLOOKUP($A84,'[1]Racing numbers file'!$A$4:$G$400,5,FALSE)","v":42},{"$f":"VLOOKUP($A84,'[1]Racing numbers file'!$A$4:$H$400,8,FALSE)","v":"M"},"00:23:16","00:58:21","01:40:00",{"$f":"VLOOKUP($C84,'Age Standards'!$B$3:$J$48,7,FALSE)","v":"00:00:04.496"},{"$f":"VLOOKUP($C84,'Age Standards'!$B$3:$J$48,8,FALSE)","v":"00:00:13"},{"$f":"VLOOKUP($C84,'Age Standards'!$B$3:$J$48,9,FALSE)","v":"00:00:28.572"},"00:23:16","00:58:21",{"$f":"+Table6[[#This Row],[Column8]]+Table6[[#This Row],[Column11]]","v":"01:40:28.572"},"01:00:00","00:25:42"]
[1402,{"$f":"VLOOKUP($A85,'[1]Racing numbers file'!$A$4:$G$400,2,FALSE)","v":"Stephen Walsh"},{"$f":"VLOOKUP($A85,'[1]Racing numbers file'!$A$4:$G$400,5,FALSE)","v":47},{"$f":"VLOOKUP($A85,'[1]Racing numbers file'!$A$4:$H$400,8,FALSE)","v":"M"},"00:24:11","00:50:00","01:40:00",{"$f":"VLOOKUP($C85,'Age Standards'!$B$3:$J$48,7,FALSE)","v":"00:00:04.567"},{"$f":"VLOOKUP($C85,'Age Standards'!$B$3:$J$48,8,FALSE)","v":"00:00:11"},{"$f":"VLOOKUP($C85,'Age Standards'!$B$3:$J$48,9,FALSE)","v":"00:00:29.076"},{"$f":"+Table6[[#This Row],[Column6]]+Table6[[#This Row],[Column9]]","v":"00:24:15.567"},{"$f":"+Table6[[#This Row],[Column7]]+Table6[[#This Row],[Column10]]","v":"00:50:11"},{"$f":"+Table6[[#This Row],[Column8]]+Table6[[#This Row],[Column11]]","v":"01:40:29.076"},"01:00:00","00:25:42"]
[1405,{"$f":"VLOOKUP($A86,'[1]Racing numbers file'!$A$4:$G$400,2,FALSE)","v":"Anthony O'Malley"},{"$f":"VLOOKUP($A86,'[1]Racing numbers file'!$A$4:$G$400,5,FALSE)","v":48},{"$f":"VLOOKUP($A86,'[1]Racing numbers file'!$A$4:$H$400,8,FALSE)","v":"M"},"00:20:00","00:50:00","01:40:00",{"$f":"VLOOKUP($C86,'Age Standards'!$B$3:$J$48,7,FALSE)","v":"00:00:04.581"},{"$f":"VLOOKUP($C86,'Age Standards'!$B$3:$J$48,8,FALSE)","v":"00:00:12"},{"$f":"VLOOKUP($C86,'Age Standards'!$B$3:$J$48,9,FALSE)","v":"00:00:29.177"},"00:20:00","00:50:00","01:40:00","00:00:00","00:25:42"]
[1416,{"$f":"VLOOKUP($A87,'[1]Racing numbers file'!$A$4:$G$400,2,FALSE)","v":"Barry Dace"},{"$f":"VLOOKUP($A87,'[1]Racing numbers file'!$A$4:$G$400,5,FALSE)","v":42},{"$f":"VLOOKUP($A87,'[1]Racing numbers file'!$A$4:$H$400,8,FALSE)","v":"M"},"00:23:06","00:58:56","02:02:47",{"$f":"VLOOKUP($C87,'Age Standards'!$B$3:$J$48,7,FALSE)","v":"00:00:04.496"},{"$f":"VLOOKUP($C87,'Age Standards'!$B$3:$J$48,8,FALSE)","v":"00:00:13"},{"$f":"VLOOKUP($C87,'Age Standards'!$B$3:$J$48,9,FALSE)","v":"00:00:28.572"},"00:23:06","00:58:56","02:02:47","00:00:00","00:25:42"]
[null,{"$f":"VLOOKUP($A88,'[1]Racing numbers file'!$A$4:$G$400,2,FALSE)","v":{"$error":"#N/A"}},{"$f":"VLOOKUP($A88,'[1]Racing numbers file'!$A$4:$G$400,5,FALSE)","v":{"$error":"#N/A"}},{"$f":"VLOOKUP($A88,'[1]Racing numbers file'!$A$4:$H$400,8,FALSE)","v":{"$error":"#N/A"}},"02:20:00",{"$error":"#N/A"},{"$error":"#N/A"},{"$f":"VLOOKUP($C88,'Age Standards'!$B$3:$J$48,7,FALSE)","v":{"$error":"#N/A"}},{"$f":"VLOOKUP($C88,'Age Standards'!$B$3:$J$48,8,FALSE)","v":{"$error":"#N/A"}},{"$f":"VLOOKUP($C88,'Age Standards'!$B$3:$J$48,9,FALSE)","v":{"$error":"#N/A"}},"00:20:00","00:50:00","01:40:00","00:00:00","00:00:00"]
[1420,{"$f":"VLOOKUP($A89,'[1]Racing numbers file'!$A$4:$G$400,2,FALSE)","v":"Ian O'Hara"},{"$f":"VLOOKUP($A89,'[1]Racing numbers file'!$A$4:$G$400,5,FALSE)","v":44},{"$f":"VLOOKUP($A89,'[1]Racing numbers file'!$A$4:$H$400,8,FALSE)","v":"M"},"00:20:00","00:50:00","01:40:00",{"$f":"VLOOKUP($C89,'Age Standards'!$B$3:$J$48,7,FALSE)","v":"00:00:04.524"},{"$f":"VLOOKUP($C89,'Age Standards'!$B$3:$J$48,8,FALSE)","v":"00:00:12"},{"$f":"VLOOKUP($C89,'Age Standards'!$B$3:$J$48,9,FALSE)","v":"00:00:28.773"},"00:20:00","00:50:00","01:40:00","00:00:00","00:25:42"]
[1426,{"$f":"VLOOKUP($A90,'[1]Racing numbers file'!$A$4:$G$400,2,FALSE)","v":"Seán Bracken"},{"$f":"VLOOKUP($A90,'[1]Racing numbers file'!$A$4:$G$400,5,FALSE)","v":56},{"$f":"VLOOKUP($A90,'[1]Racing numbers file'!$A$4:$H$400,8,FALSE)","v":"M"},"00:22:58","00:50:00","01:40:00",{"$f":"VLOOKUP($C90,'Age Standards'!$B$3:$J$48,7,FALSE)","v":"00:00:04.696"},{"$f":"VLOOKUP($C90,'Age Standards'!$B$3:$J$48,8,FALSE)","v":"00:00:14"},{"$f":"VLOOKUP($C90,'Age Standards'!$B$3:$J$48,9,FALSE)","v":"00:00:31.722"},"00:22:58","00:50:00","01:40:00","00:00:00","00:25:42"]
[1427,{"$f":"VLOOKUP($A91,'[1]Racing numbers file'!$A$4:$G$400,2,FALSE)","v":"David Carroll"},{"$f":"VLOOKUP($A91,'[1]Racing numbers file'!$A$4:$G$400,5,FALSE)","v":45},{"$f":"VLOOKUP($A91,'[1]Racing numbers file'!$A$4:$H$400,8,FALSE)","v":"M"},"00:22:01","00:54:56","01:40:00",{"$f":"VLOOKUP($C91,'Age Standards'!$B$3:$J$48,7,FALSE)","v":"00:00:04.538"},{"$f":"VLOOKUP($C91,'Age Standards'!$B$3:$J$48,8,FALSE)","v":"00:00:12"},{"$f":"VLOOKUP($C91,'Age Standards'!$B$3:$J$48,9,FALSE)","v":"00:00:28.873"},"00:22:01","00:54:56","01:40:00","00:00:00","00:29:01"]
[1438,{"$f":"VLOOKUP($A92,'[1]Racing numbers file'!$A$4:$G$400,2,FALSE)","v":"Neil Delahaye"},{"$f":"VLOOKUP($A92,'[1]Racing numbers file'!$A$4:$G$400,5,FALSE)","v":41},{"$f":"VLOOKUP($A92,'[1]Racing numbers file'!$A$4:$H$400,8,FALSE)","v":"M"},"00:21:10","00:54:20","01:40:00",{"$f":"VLOOKUP($C92,'Age Standards'!$B$3:$J$48,7,FALSE)","v":"00:00:04.483"},{"$f":"VLOOKUP($C92,'Age Standards'!$B$3:$J$48,8,FALSE)","v":"00:00:13"},{"$f":"VLOOKUP($C92,'Age Standards'!$B$3:$J$48,9,FALSE)","v":"00:00:28.473"},"00:21:10",{"$f":"+Table6[[#This Row],[Column7]]+Table6[[#This Row],[Column10]]","v":"00:54:33"},"01:40:00","00:07:37","00:25:42"]
[1439,{"$f":"VLOOKUP($A93,'[1]Racing numbers file'!$A$4:$G$400,2,FALSE)","v":{"$error":"#N/A"}},{"$f":"VLOOKUP($A93,'[1]Racing numbers file'!$A$4:$G$400,5,FALSE)","v":{"$error":"#N/A"}},{"$f":"VLOOKUP($A93,'[1]Racing numbers file'!$A$4:$H$400,8,FALSE)","v":{"$error":"#N/A"}},"00:20:00","00:50:00","01:40:00",{"$f":"VLOOKUP($C93,'Age Standards'!$B$3:$J$48,7,FALSE)","v":{"$error":"#N/A"}},{"$f":"VLOOKUP($C93,'Age Standards'!$B$3:$J$48,8,FALSE)","v":{"$error":"#N/A"}},{"$f":"VLOOKUP($C93,'Age Standards'!$B$3:$J$48,9,FALSE)","v":{"$error":"#N/A"}},"00:20:00","00:50:00","01:40:00","00:00:00","00:25:42"]
[1441,{"$f":"VLOOKUP($A94,'[1]Racing numbers file'!$A$4:$G$400,2,FALSE)","v":"David Bradley"},{"$f":"VLOOKUP($A94,'[1]Racing numbers file'!$A$4:$G$400,5,FALSE)","v":44},{"$f":"VLOOKUP($A94,'[1]Racing numbers file'!$A$4:$H$400,8,FALSE)","v":"M"},"00:20:00","00:50:00","01:40:00",{"$f":"VLOOKUP($C94,'Age Standards'!$B$3:$J$48,7,FALSE)","v":"00:00:04.524"},{"$f":"VLOOKUP($C94,'Age Standards'!$B$3:$J$48,8,FALSE)","v":"00:00:12"},{"$f":"VLOOKUP($C94,'Age Standards'!$B$3:$J$48,9,FALSE)","v":"00:00:28.773"},"00:20:00","00:50:00","01:40:00","00:08:52","00:25:42"]
[1446,{"$f":"VLOOKUP($A95,'[1]Racing numbers file'!$A$4:$G$400,2,FALSE)","v":"David McDonald"},{"$f":"VLOOKUP($A95,'[1]Racing numbers file'!$A$4:$G$400,5,FALSE)","v":44},{"$f":"VLOOKUP($A95,'[1]Racing numbers file'!$A$4:$H$400,8,FALSE)","v":"M"},"00:20:00","00:50:00","01:40:00",{"$f":"VLOOKUP($C95,'Age Standards'!$B$3:$J$48,7,FALSE)","v":"00:00:04.524"},{"$f":"VLOOKUP($C95,'Age Standards'!$B$3:$J$48,8,FALSE)","v":"00:00:12"},{"$f":"VLOOKUP($C95,'Age Standards'!$B$3:$J$48,9,FALSE)","v":"00:00:28.773"},"00:20:00","00:50:00","01:40:00","00:00:00","00:25:42"]
[1451,{"$f":"VLOOKUP($A96,'[1]Racing numbers file'!$A$4:$G$400,2,FALSE)","v":"Andreas Voigt"},{"$f":"VLOOKUP($A96,'[1]Racing numbers file'!$A$4:$G$400,5,FALSE)","v":44},{"$f":"VLOOKUP($A96,'[1]Racing numbers file'!$A$4:$H$400,8,FALSE)","v":"M"},"00:20:00","00:50:00","01:40:00",{"$f":"VLOOKUP($C96,'Age Standards'!$B$3:$J$48,7,FALSE)","v":"00:00:04.524"},{"$f":"VLOOKUP($C96,'Age Standards'!$B$3:$J$48,8,FALSE)","v":"00:00:12"},{"$f":"VLOOKUP($C96,'Age Standards'!$B$3:$J$48,9,FALSE)","v":"00:00:28.773"},"00:20:00","00:50:00","01:40:00","00:00:00","00:25:42"]
[1462,{"$f":"VLOOKUP($A97,'[1]Racing numbers file'!$A$4:$G$400,2,FALSE)","v":{"$error":"#N/A"}},{"$f":"VLOOKUP($A97,'[1]Racing numbers file'!$A$4:$G$400,5,FALSE)","v":{"$error":"#N/A"}},{"$f":"VLOOKUP($A97,'[1]Racing numbers file'!$A$4:$H$400,8,FALSE)","v":{"$error":"#N/A"}},"00:20:00","00:50:00","01:40:00",{"$f":"VLOOKUP($C97,'Age Standards'!$B$3:$J$48,7,FALSE)","v":{"$error":"#N/A"}},{"$f":"VLOOKUP($C97,'Age Standards'!$B$3:$J$48,8,FALSE)","v":{"$error":"#N/A"}},{"$f":"VLOOKUP($C97,'Age Standards'!$B$3:$J$48,9,FALSE)","v":{"$error":"#N/A"}},"00:20:00","00:50:00","01:40:00","01:00:00","00:25:42"]
[1466,{"$f":"VLOOKUP($A98,'[1]Racing numbers file'!$A$4:$G$400,2,FALSE)","v":"Andrew Bartley"},{"$f":"VLOOKUP($A98,'[1]Racing numbers file'!$A$4:$G$400,5,FALSE)","v":51},{"$f":"VLOOKUP($A98,'[1]Racing numbers file'!$A$4:$H$400,8,FALSE)","v":"M"},"00:20:00","00:50:00","01:40:00",{"$f":"VLOOKUP($C98,'Age Standards'!$B$3:$J$48,7,FALSE)","v":"00:00:04.624"},{"$f":"VLOOKUP($C98,'Age Standards'!$B$3:$J$48,8,FALSE)","v":"00:00:12"},{"$f":"VLOOKUP($C98,'Age Standards'!$B$3:$J$48,9,FALSE)","v":"00:00:29.485"},"00:20:00","00:50:00","01:40:00","00:00:00","00:25:42"]
[1471,{"$f":"VLOOKUP($A99,'[1]Racing numbers file'!$A$4:$G$400,2,FALSE)","v":"Ed O'Brien"},{"$f":"VLOOKUP($A99,'[1]Racing numbers file'!$A$4:$G$400,5,FALSE)","v":41},{"$f":"VLOOKUP($A99,'[1]Racing numbers file'!$A$4:$H$400,8,FALSE)","v":"M"},"00:22:17","00:57:15","01:40:00",{"$f":"VLOOKUP($C99,'Age Standards'!$B$3:$J$48,7,FALSE)","v":"00:00:04.483"},{"$f":"VLOOKUP($C99,'Age Standards'!$B$3:$J$48,8,FALSE)","v":"00:00:13"},{"$f":"VLOOKUP($C99,'Age Standards'!$B$3:$J$48,9,FALSE)","v":"00:00:28.473"},"00:22:17","00:57:15","01:40:00","00:09:48","00:30:28"]
[1472,{"$f":"VLOOKUP($A100,'[1]Racing numbers file'!$A$4:$G$400,2,FALSE)","v":"Caroline Martinez"},{"$f":"VLOOKUP($A100,'[1]Racing numbers file'!$A$4:$G$400,5,FALSE)","v":37},{"$f":"VLOOKUP($A100,'[1]Racing numbers file'!$A$4:$H$400,8,FALSE)","v":"F"},"00:20:00","00:50:00","01:40:00",{"$f":"VLOOKUP(C100,'Age Standards'!B$52:J$102,7,FALSE)","v":"00:00:05"},{"$f":"VLOOKUP(C100,'Age Standards'!B$52:J$102,8,FALSE)","v":"00:00:14"},{"$f":"VLOOKUP(C100,'Age Standards'!B$52:J$102,9,FALSE)","v":"00:00:31"},"00:20:00","00:50:00","01:40:00","00:00:00","00:25:42"]
[1473,{"$f":"VLOOKUP($A101,'[1]Racing numbers file'!$A$4:$G$400,2,FALSE)","v":{"$error":"#N/A"}},{"$f":"VLOOKUP($A101,'[1]Racing numbers file'!$A$4:$G$400,5,FALSE)","v":{"$error":"#N/A"}},{"$f":"VLOOKUP($A101,'[1]Racing numbers file'!$A$4:$H$400,8,FALSE)","v":{"$error":"#N/A"}},"00:20:00","00:50:00","01:40:00",{"$f":"VLOOKUP($C101,'Age Standards'!$B$3:$J$48,7,FALSE)","v":{"$error":"#N/A"}},{"$f":"VLOOKUP($C101,'Age Standards'!$B$3:$J$48,8,FALSE)","v":{"$error":"#N/A"}},{"$f":"VLOOKUP($C101,'Age Standards'!$B$3:$J$48,9,FALSE)","v":{"$error":"#N/A"}},"00:20:00","00:50:00","01:40:00","00:00:00","00:25:42"]
[1488,{"$f":"VLOOKUP($A102,'[1]Racing numbers file'!$A$4:$G$400,2,FALSE)","v":"Conor Barry"},{"$f":"VLOOKUP($A102,'[1]Racing numbers file'!$A$4:$G$400,5,FALSE)","v":43},{"$f":"VLOOKUP($A102,'[1]Racing numbers file'!$A$4:$H$400,8,FALSE)","v":"M"},"00:20:00","00:40:00","01:40:00",{"$f":"VLOOKUP($C102,'Age Standards'!$B$3:$J$48,7,FALSE)","v":"00:00:04.510"},{"$f":"VLOOKUP($C102,'Age Standards'!$B$3:$J$48,8,FALSE)","v":"00:00:13"},{"$f":"VLOOKUP($C102,'Age Standards'!$B$3:$J$48,9,FALSE)","v":"00:00:28.672"},"00:20:00","00:50:00","01:40:00","00:00:00","00:25:42"]
[1519,{"$f":"VLOOKUP($A103,'[1]Racing numbers file'!$A$4:$G$400,2,FALSE)","v":"John Kehoe"},{"$f":"VLOOKUP($A103,'[1]Racing numbers file'!$A$4:$G$400,5,FALSE)","v":47},{"$f":"VLOOKUP($A103,'[1]Racing numbers file'!$A$4:$H$400,8,FALSE)","v":"M"},"00:20:00","00:40:00","01:40:00",{"$f":"VLOOKUP($C103,'Age Standards'!$B$3:$J$48,7,FALSE)","v":"00:00:04.567"},{"$f":"VLOOKUP($C103,'Age Standards'!$B$3:$J$48,8,FALSE)","v":"00:00:11"},{"$f":"VLOOKUP($C103,'Age Standards'!$B$3:$J$48,9,FALSE)","v":"00:00:29.076"},"00:20:00","00:50:00","01:40:00","00:00:00","00:25:42"]
[1530,{"$f":"VLOOKUP($A104,'[1]Racing numbers file'!$A$4:$G$400,2,FALSE)","v":"Brian Kane"},{"$f":"VLOOKUP($A104,'[1]Racing numbers file'!$A$4:$G$400,5,FALSE)","v":41},{"$f":"VLOOKUP($A104,'[1]Racing numbers file'!$A$4:$H$400,8,FALSE)","v":"M"},{"$f":"VLOOKUP($A104,'[1]Racing numbers file'!$A$4:$H$400,8,FALSE)","v":"M"},{"$f":"VLOOKUP($A104,'[1]Racing numbers file'!$A$4:$H$400,8,FALSE)","v":"M"},{"$f":"VLOOKUP($A104,'[1]Racing numbers file'!$A$4:$H$400,8,FALSE)","v":"M"},{"$f":"VLOOKUP($A104,'[1]Racing numbers file'!$A$4:$H$400,8,FALSE)","v":"M"},{"$f":"VLOOKUP($A104,'[1]Racing numbers file'!$A$4:$H$400,8,FALSE)","v":"M"},{"$f":"VLOOKUP($A104,'[1]Racing numbers file'!$A$4:$H$400,8,FALSE)","v":"M"},"00:20:00","00:50:00","01:40:00","00:00:00","00:25:42"]
[1539,{"$f":"VLOOKUP($A105,'[1]Racing numbers file'!$A$4:$G$400,2,FALSE)","v":"Joe Sheehy"},{"$f":"VLOOKUP($A105,'[1]Racing numbers file'!$A$4:$G$400,5,FALSE)","v":49},{"$f":"VLOOKUP($A105,'[1]Racing numbers file'!$A$4:$H$400,8,FALSE)","v":"M"},"00:20:00","00:40:00","01:40:00",{"$f":"VLOOKUP($C105,'Age Standards'!$B$3:$J$48,7,FALSE)","v":"00:00:04.595"},{"$f":"VLOOKUP($C105,'Age Standards'!$B$3:$J$48,8,FALSE)","v":"00:00:12"},{"$f":"VLOOKUP($C105,'Age Standards'!$B$3:$J$48,9,FALSE)","v":"00:00:29.280"},"00:20:00","00:50:00","01:40:00","00:00:00","00:25:42"]
[1540,{"$f":"VLOOKUP($A106,'[1]Racing numbers file'!$A$4:$G$400,2,FALSE)","v":"Aogan Lynch"},{"$f":"VLOOKUP($A106,'[1]Racing numbers file'!$A$4:$G$400,5,FALSE)","v":41},{"$f":"VLOOKUP($A106,'[1]Racing numbers file'!$A$4:$H$400,8,FALSE)","v":"M"},"00:20:00","00:50:00","01:40:00",{"$f":"VLOOKUP($C106,'Age Standards'!$B$3:$J$48,7,FALSE)","v":"00:00:04.483"},{"$f":"VLOOKUP($C106,'Age Standards'!$B$3:$J$48,8,FALSE)","v":"00:00:13"},{"$f":"VLOOKUP($C106,'Age Standards'!$B$3:$J$48,9,FALSE)","v":"00:00:28.473"},"00:20:00","00:50:00","01:40:00","00:00:00","00:25:42"]
[null,{"$f":"VLOOKUP($A107,'[1]Racing numbers file'!$A$4:$G$400,2,FALSE)","v":{"$error":"#N/A"}},{"$f":"VLOOKUP($A107,'[1]Racing numbers file'!$A$4:$G$400,5,FALSE)","v":{"$error":"#N/A"}},{"$f":"VLOOKUP($A107,'[1]Racing numbers file'!$A$4:$H$400,8,FALSE)","v":{"$error":"#N/A"}},"00:20:00","00:50:00","01:40:00",{"$f":"VLOOKUP($C107,'Age Standards'!$B$3:$J$48,7,FALSE)","v":{"$error":"#N/A"}},{"$f":"VLOOKUP($C107,'Age Standards'!$B$3:$J$48,8,FALSE)","v":{"$error":"#N/A"}},{"$f":"VLOOKUP($C107,'Age Standards'!$B$3:$J$48,9,FALSE)","v":{"$error":"#N/A"}},"00:20:00","00:50:00","01:40:00","00:00:00","00:25:42"]
[null,{"$f":"VLOOKUP($A108,'[1]Racing numbers file'!$A$4:$G$400,2,FALSE)","v":{"$error":"#N/A"}},{"$f":"VLOOKUP($A108,'[1]Racing numbers file'!$A$4:$G$400,5,FALSE)","v":{"$error":"#N/A"}},{"$f":"VLOOKUP($A108,'[1]Racing numbers file'!$A$4:$H$400,8,FALSE)","v":{"$error":"#N/A"}},"00:20:00","00:50:00","01:40:00",{"$f":"VLOOKUP($C108,'Age Standards'!$B$3:$J$48,7,FALSE)","v":{"$error":"#N/A"}},{"$f":"VLOOKUP($C108,'Age Standards'!$B$3:$J$48,8,FALSE)","v":{"$error":"#N/A"}},{"$f":"VLOOKUP($C108,'Age Standards'!$B$3:$J$48,9,FALSE)","v":{"$error":"#N/A"}},"00:20:00","00:50:00","01:40:00","00:00:00","00:25:42"]
[null,{"$f":"VLOOKUP($A109,'[1]Racing numbers file'!$A$4:$G$400,2,FALSE)","v":{"$error":"#N/A"}},{"$f":"VLOOKUP($A109,'[1]Racing numbers file'!$A$4:$G$400,5,FALSE)","v":{"$error":"#N/A"}},{"$f":"VLOOKUP($A109,'[1]Racing numbers file'!$A$4:$H$400,8,FALSE)","v":{"$error":"#N/A"}},"00:20:00","00:50:00","01:40:00",{"$f":"VLOOKUP($C109,'Age Standards'!$B$3:$J$48,7,FALSE)","v":{"$error":"#N/A"}},{"$f":"VLOOKUP($C109,'Age Standards'!$B$3:$J$48,8,FALSE)","v":{"$error":"#N/A"}},{"$f":"VLOOKUP($C109,'Age Standards'!$B$3:$J$48,9,FALSE)","v":{"$error":"#N/A"}},"00:20:00","00:50:00","01:40:00","00:00:00","00:25:42"]
[null,{"$f":"VLOOKUP($A110,'[1]Racing numbers file'!$A$4:$G$400,2,FALSE)","v":{"$error":"#N/A"}},{"$f":"VLOOKUP($A110,'[1]Racing numbers file'!$A$4:$G$400,5,FALSE)","v":{"$error":"#N/A"}},{"$f":"VLOOKUP($A110,'[1]Racing numbers file'!$A$4:$H$400,8,FALSE)","v":{"$error":"#N/A"}},"00:20:00","00:50:00","01:40:00",{"$f":"VLOOKUP($C110,'Age Standards'!$B$3:$J$48,7,FALSE)","v":{"$error":"#N/A"}},{"$f":"VLOOKUP($C110,'Age Standards'!$B$3:$J$48,8,FALSE)","v":{"$error":"#N/A"}},{"$f":"VLOOKUP($C110,'Age Standards'!$B$3:$J$48,9,FALSE)","v":{"$error":"#N/A"}},"00:20:00","00:50:00","01:40:00","00:00:00","00:25:42"]
[null,{"$f":"VLOOKUP($A111,'[1]Racing numbers file'!$A$4:$G$400,2,FALSE)","v":{"$error":"#N/A"}},{"$f":"VLOOKUP($A111,'[1]Racing numbers file'!$A$4:$G$400,5,FALSE)","v":{"$error":"#N/A"}},{"$f":"VLOOKUP($A111,'[1]Racing numbers file'!$A$4:$H$400,8,FALSE)","v":{"$error":"#N/A"}},"00:20:00","00:50:00","01:40:00",{"$f":"VLOOKUP($C111,'Age Standards'!$B$3:$J$48,7,FALSE)","v":{"$error":"#N/A"}},{"$f":"VLOOKUP($C111,'Age Standards'!$B$3:$J$48,8,FALSE)","v":{"$error":"#N/A"}},{"$f":"VLOOKUP($C111,'Age Standards'!$B$3:$J$48,9,FALSE)","v":{"$error":"#N/A"}},"00:20:00","00:50:00","01:40:00","00:00:00","00:25:42"]
[null,{"$f":"VLOOKUP($A112,'[1]Racing numbers file'!$A$4:$G$400,2,FALSE)","v":{"$error":"#N/A"}},{"$f":"VLOOKUP($A112,'[1]Racing numbers file'!$A$4:$G$400,5,FALSE)","v":{"$error":"#N/A"}},{"$f":"VLOOKUP($A112,'[1]Racing numbers file'!$A$4:$H$400,8,FALSE)","v":{"$error":"#N/A"}},"00:20:00","00:50:00","01:40:00",{"$f":"VLOOKUP($C112,'Age Standards'!$B$3:$J$48,7,FALSE)","v":{"$error":"#N/A"}},{"$f":"VLOOKUP($C112,'Age Standards'!$B$3:$J$48,8,FALSE)","v":{"$error":"#N/A"}},{"$f":"VLOOKUP($C112,'Age Standards'!$B$3:$J$48,9,FALSE)","v":{"$error":"#N/A"}},"00:20:00","00:50:00","01:40:00","00:00:00","00:25:42"]
[null,{"$f":"VLOOKUP($A113,'[1]Racing numbers file'!$A$4:$G$400,2,FALSE)","v":{"$error":"#N/A"}},{"$f":"VLOOKUP($A113,'[1]Racing numbers file'!$A$4:$G$400,5,FALSE)","v":{"$error":"#N/A"}},{"$f":"VLOOKUP($A113,'[1]Racing numbers file'!$A$4:$H$400,8,FALSE)","v":{"$error":"#N/A"}},"00:20:00","00:50:00","01:40:00",{"$f":"VLOOKUP($C113,'Age Standards'!$B$3:$J$48,7,FALSE)","v":{"$error":"#N/A"}},{"$f":"VLOOKUP($C113,'Age Standards'!$B$3:$J$48,8,FALSE)","v":{"$error":"#N/A"}},{"$f":"VLOOKUP($C113,'Age Standards'!$B$3:$J$48,9,FALSE)","v":{"$error":"#N/A"}},"00:20:00","00:50:00","01:40:00","00:00:00","00:25:42"]
[null,{"$f":"VLOOKUP($A114,'[1]Racing numbers file'!$A$4:$G$400,2,FALSE)","v":{"$error":"#N/A"}},{"$f":"VLOOKUP($A114,'[1]Racing numbers file'!$A$4:$G$400,5,FALSE)","v":{"$error":"#N/A"}},{"$f":"VLOOKUP($A114,'[1]Racing numbers file'!$A$4:$H$400,8,FALSE)","v":{"$error":"#N/A"}},"00:20:00","00:50:00","01:40:00",{"$f":"VLOOKUP($C114,'Age Standards'!$B$3:$J$48,7,FALSE)","v":{"$error":"#N/A"}},{"$f":"VLOOKUP($C114,'Age Standards'!$B$3:$J$48,8,FALSE)","v":{"$error":"#N/A"}},{"$f":"VLOOKUP($C114,'Age Standards'!$B$3:$J$48,9,FALSE)","v":{"$error":"#N/A"}},"00:20:00","00:50:00","01:40:00","00:00:00","00:25:42"]
[null,{"$f":"VLOOKUP($A115,'[1]Racing numbers file'!$A$4:$G$400,2,FALSE)","v":{"$error":"#N/A"}},{"$f":"VLOOKUP($A115,'[1]Racing numbers file'!$A$4:$G$400,5,FALSE)","v":{"$error":"#N/A"}},{"$f":"VLOOKUP($A115,'[1]Racing numbers file'!$A$4:$H$400,8,FALSE)","v":{"$error":"#N/A"}},"00:20:00","00:50:00","01:40:00",{"$f":"VLOOKUP($C115,'Age Standards'!$B$3:$J$48,7,FALSE)","v":{"$error":"#N/A"}},{"$f":"VLOOKUP($C115,'Age Standards'!$B$3:$J$48,8,FALSE)","v":{"$error":"#N/A"}},{"$f":"VLOOKUP($C115,'Age Standards'!$B$3:$J$48,9,FALSE)","v":{"$error":"#N/A"}},"00:20:00","00:50:00","01:40:00","00:00:00","00:25:42"]
[null,{"$f":"VLOOKUP($A116,'[1]Racing numbers file'!$A$4:$G$400,2,FALSE)","v":{"$error":"#N/A"}},{"$f":"VLOOKUP($A116,'[1]Racing numbers file'!$A$4:$G$400,5,FALSE)","v":{"$error":"#N/A"}},{"$f":"VLOOKUP($A116,'[1]Racing numbers file'!$A$4:$H$400,8,FALSE)","v":{"$error":"#N/A"}},"00:20:00","00:50:00","01:40:00",{"$f":"VLOOKUP($C116,'Age Standards'!$B$3:$J$48,7,FALSE)","v":{"$error":"#N/A"}},{"$f":"VLOOKUP($C116,'Age Standards'!$B$3:$J$48,8,FALSE)","v":{"$error":"#N/A"}},{"$f":"VLOOKUP($C116,'Age Standards'!$B$3:$J$48,9,FALSE)","v":{"$error":"#N/A"}},"00:20:00","00:50:00","01:40:00","00:00:00","00:25:42"]
[null,{"$f":"VLOOKUP($A117,'[1]Racing numbers file'!$A$4:$G$400,2,FALSE)","v":{"$error":"#N/A"}},{"$f":"VLOOKUP($A117,'[1]Racing numbers file'!$A$4:$G$400,5,FALSE)","v":{"$error":"#N/A"}},{"$f":"VLOOKUP($A117,'[1]Racing numbers file'!$A$4:$H$400,8,FALSE)","v":{"$error":"#N/A"}},"00:20:00","00:50:00","01:40:00",{"$f":"VLOOKUP($C117,'Age Standards'!$B$3:$J$48,7,FALSE)","v":{"$error":"#N/A"}},{"$f":"VLOOKUP($C117,'Age Standards'!$B$3:$J$48,8,FALSE)","v":{"$error":"#N/A"}},{"$f":"VLOOKUP($C117,'Age Standards'!$B$3:$J$48,9,FALSE)","v":{"$error":"#N/A"}},"00:20:00","00:50:00","01:40:00","00:00:00","00:25:42"]
[null,{"$f":"VLOOKUP($A118,'[1]Racing numbers file'!$A$4:$G$400,2,FALSE)","v":{"$error":"#N/A"}},{"$f":"VLOOKUP($A118,'[1]Racing numbers file'!$A$4:$G$400,5,FALSE)","v":{"$error":"#N/A"}},{"$f":"VLOOKUP($A118,'[1]Racing numbers file'!$A$4:$H$400,8,FALSE)","v":{"$error":"#N/A"}},"00:20:00","00:50:00","01:40:00",{"$f":"VLOOKUP($C118,'Age Standards'!$B$3:$J$48,7,FALSE)","v":{"$error":"#N/A"}},{"$f":"VLOOKUP($C118,'Age Standards'!$B$3:$J$48,8,FALSE)","v":{"$error":"#N/A"}},{"$f":"VLOOKUP($C118,'Age Standards'!$B$3:$J$48,9,FALSE)","v":{"$error":"#N/A"}},"00:20:00","00:50:00","01:40:00","00:00:00","00:25:42"]
[null,{"$f":"VLOOKUP($A119,'[1]Racing numbers file'!$A$4:$G$400,2,FALSE)","v":{"$error":"#N/A"}},{"$f":"VLOOKUP($A119,'[1]Racing numbers file'!$A$4:$G$400,5,FALSE)","v":{"$error":"#N/A"}},{"$f":"VLOOKUP($A119,'[1]Racing numbers file'!$A$4:$H$400,8,FALSE)","v":{"$error":"#N/A"}},"00:20:00","00:50:00","01:40:00",{"$f":"VLOOKUP($C119,'Age Standards'!$B$3:$J$48,7,FALSE)","v":{"$error":"#N/A"}},{"$f":"VLOOKUP($C119,'Age Standards'!$B$3:$J$48,8,FALSE)","v":{"$error":"#N/A"}},{"$f":"VLOOKUP($C119,'Age Standards'!$B$3:$J$48,9,FALSE)","v":{"$error":"#N/A"}},"00:20:00","00:50:00","01:40:00","00:00:00","00:25:42"]
[null,{"$f":"VLOOKUP($A120,'[1]Racing numbers file'!$A$4:$G$400,2,FALSE)","v":{"$error":"#N/A"}},{"$f":"VLOOKUP($A120,'[1]Racing numbers file'!$A$4:$G$400,5,FALSE)","v":{"$error":"#N/A"}},{"$f":"VLOOKUP($A120,'[1]Racing numbers file'!$A$4:$H$400,8,FALSE)","v":{"$error":"#N/A"}},"00:20:00","00:50:00","01:40:00",{"$f":"VLOOKUP($C120,'Age Standards'!$B$3:$J$48,7,FALSE)","v":{"$error":"#N/A"}},{"$f":"VLOOKUP($C120,'Age Standards'!$B$3:$J$48,8,FALSE)","v":{"$error":"#N/A"}},{"$f":"VLOOKUP($C120,'Age Standards'!$B$3:$J$48,9,FALSE)","v":{"$error":"#N/A"}},"00:20:00","00:50:00","01:40:00","00:00:00","00:25:42"]
[null,{"$f":"VLOOKUP($A121,'[1]Racing numbers file'!$A$4:$G$400,2,FALSE)","v":{"$error":"#N/A"}},{"$f":"VLOOKUP($A121,'[1]Racing numbers file'!$A$4:$G$400,5,FALSE)","v":{"$error":"#N/A"}},{"$f":"VLOOKUP($A121,'[1]Racing numbers file'!$A$4:$H$400,8,FALSE)","v":{"$error":"#N/A"}},"00:20:00","00:50:00","01:40:00",{"$f":"VLOOKUP($C121,'Age Standards'!$B$3:$J$48,7,FALSE)","v":{"$error":"#N/A"}},{"$f":"VLOOKUP($C121,'Age Standards'!$B$3:$J$48,8,FALSE)","v":{"$error":"#N/A"}},{"$f":"VLOOKUP($C121,'Age Standards'!$B$3:$J$48,9,FALSE)","v":{"$error":"#N/A"}},"00:20:00","00:50:00","01:40:00","00:00:00","00:25:42"]
[null,{"$f":"VLOOKUP($A122,'[1]Racing numbers file'!$A$4:$G$400,2,FALSE)","v":{"$error":"#N/A"}},{"$f":"VLOOKUP($A122,'[1]Racing numbers file'!$A$4:$G$400,5,FALSE)","v":{"$error":"#N/A"}},{"$f":"VLOOKUP($A122,'[1]Racing numbers file'!$A$4:$H$400,8,FALSE)","v":{"$error":"#N/A"}},"00:20:00","00:50:00","01:40:00",{"$f":"VLOOKUP($C122,'Age Standards'!$B$3:$J$48,7,FALSE)","v":{"$error":"#N/A"}},{"$f":"VLOOKUP($C122,'Age Standards'!$B$3:$J$48,8,FALSE)","v":{"$error":"#N/A"}},{"$f":"VLOOKUP($C122,'Age Standards'!$B$3:$J$48,9,FALSE)","v":{"$error":"#N/A"}},"00:20:00","00:50:00","01:40:00","00:00:00","00:25:42"]
[null,{"$f":"VLOOKUP($A123,'[1]Racing numbers file'!$A$4:$G$400,2,FALSE)","v":{"$error":"#N/A"}},{"$f":"VLOOKUP($A123,'[1]Racing numbers file'!$A$4:$G$400,5,FALSE)","v":{"$error":"#N/A"}},{"$f":"VLOOKUP($A123,'[1]Racing numbers file'!$A$4:$H$400,8,FALSE)","v":{"$error":"#N/A"}},"00:20:00","00:50:00","01:40:00",{"$f":"VLOOKUP($C123,'Age Standards'!$B$3:$J$48,7,FALSE)","v":{"$error":"#N/A"}},{"$f":"VLOOKUP($C123,'Age Standards'!$B$3:$J$48,8,FALSE)","v":{"$error":"#N/A"}},{"$f":"VLOOKUP($C123,'Age Standards'!$B$3:$J$48,9,FALSE)","v":{"$error":"#N/A"}},"00:20:00","00:50:00","01:40:00","00:00:00","00:25:42"]
[null,{"$f":"VLOOKUP($A124,'[1]Racing numbers file'!$A$4:$G$400,2,FALSE)","v":{"$error":"#N/A"}},{"$f":"VLOOKUP($A124,'[1]Racing numbers file'!$A$4:$G$400,5,FALSE)","v":{"$error":"#N/A"}},{"$f":"VLOOKUP($A124,'[1]Racing numbers file'!$A$4:$H$400,8,FALSE)","v":{"$error":"#N/A"}},"00:20:00","00:50:00","01:40:00",{"$f":"VLOOKUP($C124,'Age Standards'!$B$3:$J$48,7,FALSE)","v":{"$error":"#N/A"}},{"$f":"VLOOKUP($C124,'Age Standards'!$B$3:$J$48,8,FALSE)","v":{"$error":"#N/A"}},{"$f":"VLOOKUP($C124,'Age Standards'!$B$3:$J$48,9,FALSE)","v":{"$error":"#N/A"}},"00:20:00","00:50:00","01:40:00","00:00:00","00:25:42"]
[null,{"$f":"VLOOKUP($A125,'[1]Racing numbers file'!$A$4:$G$400,2,FALSE)","v":{"$error":"#N/A"}},{"$f":"VLOOKUP($A125,'[1]Racing numbers file'!$A$4:$G$400,5,FALSE)","v":{"$error":"#N/A"}},{"$f":"VLOOKUP($A125,'[1]Racing numbers file'!$A$4:$H$400,8,FALSE)","v":{"$error":"#N/A"}},"00:20:00","00:50:00","01:40:00",{"$f":"VLOOKUP($C125,'Age Standards'!$B$3:$J$48,7,FALSE)","v":{"$error":"#N/A"}},{"$f":"VLOOKUP($C125,'Age Standards'!$B$3:$J$48,8,FALSE)","v":{"$error":"#N/A"}},{"$f":"VLOOKUP($C125,'Age Standards'!$B$3:$J$48,9,FALSE)","v":{"$error":"#N/A"}},"00:20:00","00:50:00","01:40:00","00:00:00","00:25:42"]
[null,{"$f":"VLOOKUP($A126,'[1]Racing numbers file'!$A$4:$G$400,2,FALSE)","v":{"$error":"#N/A"}},{"$f":"VLOOKUP($A126,'[1]Racing numbers file'!$A$4:$G$400,5,FALSE)","v":{"$error":"#N/A"}},{"$f":"VLOOKUP($A126,'[1]Racing numbers file'!$A$4:$H$400,8,FALSE)","v":{"$error":"#N/A"}},"00:20:00","00:50:00","01:40:00",{"$f":"VLOOKUP($C126,'Age Standards'!$B$3:$J$48,7,FALSE)","v":{"$error":"#N/A"}},{"$f":"VLOOKUP($C126,'Age Standards'!$B$3:$J$48,8,FALSE)","v":{"$error":"#N/A"}},{"$f":"VLOOKUP($C126,'Age Standards'!$B$3:$J$48,9,FALSE)","v":{"$error":"#N/A"}},"00:20:00","00:50:00","01:40:00","00:00:00","00:25:42"]
[null,{"$f":"VLOOKUP($A127,'[1]Racing numbers file'!$A$4:$G$400,2,FALSE)","v":{"$error":"#N/A"}},{"$f":"VLOOKUP($A127,'[1]Racing numbers file'!$A$4:$G$400,5,FALSE)","v":{"$error":"#N/A"}},{"$f":"VLOOKUP($A127,'[1]Racing numbers file'!$A$4:$H$400,8,FALSE)","v":{"$error":"#N/A"}},"00:20:00","00:50:00","01:40:00",{"$f":"VLOOKUP($C127,'Age Standards'!$B$3:$J$48,7,FALSE)","v":{"$error":"#N/A"}},{"$f":"VLOOKUP($C127,'Age Standards'!$B$3:$J$48,8,FALSE)","v":{"$error":"#N/A"}},{"$f":"VLOOKUP($C127,'Age Standards'!$B$3:$J$48,9,FALSE)","v":{"$error":"#N/A"}},"00:20:00","00:50:00","01:40:00","00:00:00","00:25:42"]
[null,{"$f":"VLOOKUP($A128,'[1]Racing numbers file'!$A$4:$G$400,2,FALSE)","v":{"$error":"#N/A"}},{"$f":"VLOOKUP($A128,'[1]Racing numbers file'!$A$4:$G$400,5,FALSE)","v":{"$error":"#N/A"}},{"$f":"VLOOKUP($A128,'[1]Racing numbers file'!$A$4:$H$400,8,FALSE)","v":{"$error":"#N/A"}},"00:20:00","00:50:00","01:40:00",{"$f":"VLOOKUP($C128,'Age Standards'!$B$3:$J$48,7,FALSE)","v":{"$error":"#N/A"}},{"$f":"VLOOKUP($C128,'Age Standards'!$B$3:$J$48,8,FALSE)","v":{"$error":"#N/A"}},{"$f":"VLOOKUP($C128,'Age Standards'!$B$3:$J$48,9,FALSE)","v":{"$error":"#N/A"}},"00:20:00","00:50:00","01:40:00","00:00:00","00:25:42"]
[null,{"$f":"VLOOKUP($A129,'[1]Racing numbers file'!$A$4:$G$400,2,FALSE)","v":{"$error":"#N/A"}},{"$f":"VLOOKUP($A129,'[1]Racing numbers file'!$A$4:$G$400,5,FALSE)","v":{"$error":"#N/A"}},{"$f":"VLOOKUP($A129,'[1]Racing numbers file'!$A$4:$H$400,8,FALSE)","v":{"$error":"#N/A"}},"00:20:00","00:50:00","01:40:00",{"$f":"VLOOKUP($C129,'Age Standards'!$B$3:$J$48,7,FALSE)","v":{"$error":"#N/A"}},{"$f":"VLOOKUP($C129,'Age Standards'!$B$3:$J$48,8,FALSE)","v":{"$error":"#N/A"}},{"$f":"VLOOKUP($C129,'Age Standards'!$B$3:$J$48,9,FALSE)","v":{"$error":"#N/A"}},"00:20:00","00:50:00","01:40:00","00:00:00","00:25:42"]
[null,{"$f":"VLOOKUP($A130,'[1]Racing numbers file'!$A$4:$G$400,2,FALSE)","v":{"$error":"#N/A"}},{"$f":"VLOOKUP($A130,'[1]Racing numbers file'!$A$4:$G$400,5,FALSE)","v":{"$error":"#N/A"}},{"$f":"VLOOKUP($A130,'[1]Racing numbers file'!$A$4:$H$400,8,FALSE)","v":{"$error":"#N/A"}},"00:20:00","00:50:00","01:40:00",{"$f":"VLOOKUP($C130,'Age Standards'!$B$3:$J$48,7,FALSE)","v":{"$error":"#N/A"}},{"$f":"VLOOKUP($C130,'Age Standards'!$B$3:$J$48,8,FALSE)","v":{"$error":"#N/A"}},{"$f":"VLOOKUP($C130,'Age Standards'!$B$3:$J$48,9,FALSE)","v":{"$error":"#N/A"}},"00:20:00","00:50:00","01:40:00","00:00:00","00:25:42"]
[null,{"$f":"VLOOKUP($A131,'[1]Racing numbers file'!$A$4:$G$400,2,FALSE)","v":{"$error":"#N/A"}},{"$f":"VLOOKUP($A131,'[1]Racing numbers file'!$A$4:$G$400,5,FALSE)","v":{"$error":"#N/A"}},{"$f":"VLOOKUP($A131,'[1]Racing numbers file'!$A$4:$H$400,8,FALSE)","v":{"$error":"#N/A"}},"00:20:00","00:50:00","01:40:00",{"$f":"VLOOKUP($C131,'Age Standards'!$B$3:$J$48,7,FALSE)","v":{"$error":"#N/A"}},{"$f":"VLOOKUP($C131,'Age Standards'!$B$3:$J$48,8,FALSE)","v":{"$error":"#N/A"}},{"$f":"VLOOKUP($C131,'Age Standards'!$B$3:$J$48,9,FALSE)","v":{"$error":"#N/A"}},"00:20:00","00:50:00","01:40:00","00:00:00","00:25:42"]
[null,{"$f":"VLOOKUP($A132,'[1]Racing numbers file'!$A$4:$G$400,2,FALSE)","v":{"$error":"#N/A"}},{"$f":"VLOOKUP($A132,'[1]Racing numbers file'!$A$4:$G$400,5,FALSE)","v":{"$error":"#N/A"}},{"$f":"VLOOKUP($A132,'[1]Racing numbers file'!$A$4:$H$400,8,FALSE)","v":{"$error":"#N/A"}},"00:20:00","00:50:00","01:40:00",{"$f":"VLOOKUP($C132,'Age Standards'!$B$3:$J$48,7,FALSE)","v":{"$error":"#N/A"}},{"$f":"VLOOKUP($C132,'Age Standards'!$B$3:$J$48,8,FALSE)","v":{"$error":"#N/A"}},{"$f":"VLOOKUP($C132,'Age Standards'!$B$3:$J$48,9,FALSE)","v":{"$error":"#N/A"}},"00:20:00","00:50:00","01:40:00","00:00:00","00:25:42"]
[null,{"$f":"VLOOKUP($A133,'[1]Racing numbers file'!$A$4:$G$400,2,FALSE)","v":{"$error":"#N/A"}},{"$f":"VLOOKUP($A133,'[1]Racing numbers file'!$A$4:$G$400,5,FALSE)","v":{"$error":"#N/A"}},{"$f":"VLOOKUP($A133,'[1]Racing numbers file'!$A$4:$H$400,8,FALSE)","v":{"$error":"#N/A"}},"00:20:00","00:50:00","01:40:00",{"$f":"VLOOKUP($C133,'Age Standards'!$B$3:$J$48,7,FALSE)","v":{"$error":"#N/A"}},{"$f":"VLOOKUP($C133,'Age Standards'!$B$3:$J$48,8,FALSE)","v":{"$error":"#N/A"}},{"$f":"VLOOKUP($C133,'Age Standards'!$B$3:$J$48,9,FALSE)","v":{"$error":"#N/A"}},"00:20:00","00:50:00","01:40:00","00:00:00","00:25:42"]
[null,{"$f":"VLOOKUP($A134,'[1]Racing numbers file'!$A$4:$G$400,2,FALSE)","v":{"$error":"#N/A"}},{"$f":"VLOOKUP($A134,'[1]Racing numbers file'!$A$4:$G$400,5,FALSE)","v":{"$error":"#N/A"}},{"$f":"VLOOKUP($A134,'[1]Racing numbers file'!$A$4:$H$400,8,FALSE)","v":{"$error":"#N/A"}},"00:20:00","00:50:00","01:40:00",{"$f":"VLOOKUP($C134,'Age Standards'!$B$3:$J$48,7,FALSE)","v":{"$error":"#N/A"}},{"$f":"VLOOKUP($C134,'Age Standards'!$B$3:$J$48,8,FALSE)","v":{"$error":"#N/A"}},{"$f":"VLOOKUP($C134,'Age Standards'!$B$3:$J$48,9,FALSE)","v":{"$error":"#N/A"}},"00:20:00","00:50:00","01:40:00","00:00:00","00:25:42"]
[null,{"$f":"VLOOKUP($A135,'[1]Racing numbers file'!$A$4:$G$400,2,FALSE)","v":{"$error":"#N/A"}},{"$f":"VLOOKUP($A135,'[1]Racing numbers file'!$A$4:$G$400,5,FALSE)","v":{"$error":"#N/A"}},{"$f":"VLOOKUP($A135,'[1]Racing numbers file'!$A$4:$H$400,8,FALSE)","v":{"$error":"#N/A"}},"00:20:00","00:50:00","01:40:00",{"$f":"VLOOKUP($C135,'Age Standards'!$B$3:$J$48,7,FALSE)","v":{"$error":"#N/A"}},{"$f":"VLOOKUP($C135,'Age Standards'!$B$3:$J$48,8,FALSE)","v":{"$error":"#N/A"}},{"$f":"VLOOKUP($C135,'Age Standards'!$B$3:$J$48,9,FALSE)","v":{"$error":"#N/A"}},"00:20:00","00:50:00","01:40:00","00:00:00","00:25:42"]
[null,{"$f":"VLOOKUP($A136,'[1]Racing numbers file'!$A$4:$G$400,2,FALSE)","v":{"$error":"#N/A"}},{"$f":"VLOOKUP($A136,'[1]Racing numbers file'!$A$4:$G$400,5,FALSE)","v":{"$error":"#N/A"}},{"$f":"VLOOKUP($A136,'[1]Racing numbers file'!$A$4:$H$400,8,FALSE)","v":{"$error":"#N/A"}},"00:20:00","00:50:00","01:40:00",{"$f":"VLOOKUP($C136,'Age Standards'!$B$3:$J$48,7,FALSE)","v":{"$error":"#N/A"}},{"$f":"VLOOKUP($C136,'Age Standards'!$B$3:$J$48,8,FALSE)","v":{"$error":"#N/A"}},{"$f":"VLOOKUP($C136,'Age Standards'!$B$3:$J$48,9,FALSE)","v":{"$error":"#N/A"}},"00:20:00","00:50:00","01:40:00","00:00:00","00:25:42"]
[null,{"$f":"VLOOKUP($A137,'[1]Racing numbers file'!$A$4:$G$400,2,FALSE)","v":{"$error":"#N/A"}},{"$f":"VLOOKUP($A137,'[1]Racing numbers file'!$A$4:$G$400,5,FALSE)","v":{"$error":"#N/A"}},{"$f":"VLOOKUP($A137,'[1]Racing numbers file'!$A$4:$H$400,8,FALSE)","v":{"$error":"#N/A"}},"00:20:00","00:50:00","01:40:00",{"$f":"VLOOKUP($C137,'Age Standards'!$B$3:$J$48,7,FALSE)","v":{"$error":"#N/A"}},{"$f":"VLOOKUP($C137,'Age Standards'!$B$3:$J$48,8,FALSE)","v":{"$error":"#N/A"}},{"$f":"VLOOKUP($C137,'Age Standards'!$B$3:$J$48,9,FALSE)","v":{"$error":"#N/A"}},"00:20:00","00:50:00","01:40:00","00:00:00","00:25:42"]
[null,{"$f":"VLOOKUP($A138,'[1]Racing numbers file'!$A$4:$G$400,2,FALSE)","v":{"$error":"#N/A"}},{"$f":"VLOOKUP($A138,'[1]Racing numbers file'!$A$4:$G$400,5,FALSE)","v":{"$error":"#N/A"}},{"$f":"VLOOKUP($A138,'[1]Racing numbers file'!$A$4:$H$400,8,FALSE)","v":{"$error":"#N/A"}},"00:20:00","00:50:00","01:40:00",{"$f":"VLOOKUP($C138,'Age Standards'!$B$3:$J$48,7,FALSE)","v":{"$error":"#N/A"}},{"$f":"VLOOKUP($C138,'Age Standards'!$B$3:$J$48,8,FALSE)","v":{"$error":"#N/A"}},{"$f":"VLOOKUP($C138,'Age Standards'!$B$3:$J$48,9,FALSE)","v":{"$error":"#N/A"}},"00:20:00","00:50:00","01:40:00","00:00:00","00:25:42"]
[null,{"$f":"VLOOKUP($A139,'[1]Racing numbers file'!$A$4:$G$400,2,FALSE)","v":{"$error":"#N/A"}},{"$f":"VLOOKUP($A139,'[1]Racing numbers file'!$A$4:$G$400,5,FALSE)","v":{"$error":"#N/A"}},{"$f":"VLOOKUP($A139,'[1]Racing numbers file'!$A$4:$H$400,8,FALSE)","v":{"$error":"#N/A"}},"00:20:00","00:50:00","01:40:00",{"$f":"VLOOKUP($C139,'Age Standards'!$B$3:$J$48,7,FALSE)","v":{"$error":"#N/A"}},{"$f":"VLOOKUP($C139,'Age Standards'!$B$3:$J$48,8,FALSE)","v":{"$error":"#N/A"}},{"$f":"VLOOKUP($C139,'Age Standards'!$B$3:$J$48,9,FALSE)","v":{"$error":"#N/A"}},"00:20:00","00:50:00","01:40:00","00:00:00","00:25:42"]
[null,{"$f":"VLOOKUP($A140,'[1]Racing numbers file'!$A$4:$G$400,2,FALSE)","v":{"$error":"#N/A"}},{"$f":"VLOOKUP($A140,'[1]Racing numbers file'!$A$4:$G$400,5,FALSE)","v":{"$error":"#N/A"}},{"$f":"VLOOKUP($A140,'[1]Racing numbers file'!$A$4:$H$400,8,FALSE)","v":{"$error":"#N/A"}},"00:20:00","00:50:00","01:40:00",{"$f":"VLOOKUP($C140,'Age Standards'!$B$3:$J$48,7,FALSE)","v":{"$error":"#N/A"}},{"$f":"VLOOKUP($C140,'Age Standards'!$B$3:$J$48,8,FALSE)","v":{"$error":"#N/A"}},{"$f":"VLOOKUP($C140,'Age Standards'!$B$3:$J$48,9,FALSE)","v":{"$error":"#N/A"}},"00:20:00","00:50:00","01:40:00","00:00:00","00:25:42"]
[null,{"$f":"VLOOKUP($A141,'[1]Racing numbers file'!$A$4:$G$400,2,FALSE)","v":{"$error":"#N/A"}},{"$f":"VLOOKUP($A141,'[1]Racing numbers file'!$A$4:$G$400,5,FALSE)","v":{"$error":"#N/A"}},{"$f":"VLOOKUP($A141,'[1]Racing numbers file'!$A$4:$H$400,8,FALSE)","v":{"$error":"#N/A"}},"00:20:00","00:50:00","01:40:00",{"$f":"VLOOKUP($C141,'Age Standards'!$B$3:$J$48,7,FALSE)","v":{"$error":"#N/A"}},{"$f":"VLOOKUP($C141,'Age Standards'!$B$3:$J$48,8,FALSE)","v":{"$error":"#N/A"}},{"$f":"VLOOKUP($C141,'Age Standards'!$B$3:$J$48,9,FALSE)","v":{"$error":"#N/A"}},"00:20:00","00:50:00","01:40:00","00:00:00","00:25:42"]
[null,{"$f":"VLOOKUP($A142,'[1]Racing numbers file'!$A$4:$G$400,2,FALSE)","v":{"$error":"#N/A"}},{"$f":"VLOOKUP($A142,'[1]Racing numbers file'!$A$4:$G$400,5,FALSE)","v":{"$error":"#N/A"}},{"$f":"VLOOKUP($A142,'[1]Racing numbers file'!$A$4:$H$400,8,FALSE)","v":{"$error":"#N/A"}},"00:20:00","00:50:00","01:40:00",{"$f":"VLOOKUP($C142,'Age Standards'!$B$3:$J$48,7,FALSE)","v":{"$error":"#N/A"}},{"$f":"VLOOKUP($C142,'Age Standards'!$B$3:$J$48,8,FALSE)","v":{"$error":"#N/A"}},{"$f":"VLOOKUP($C142,'Age Standards'!$B$3:$J$48,9,FALSE)","v":{"$error":"#N/A"}},"00:20:00","00:50:00","01:40:00","00:00:00","00:25:42"]
[null,{"$f":"VLOOKUP($A143,'[1]Racing numbers file'!$A$4:$G$400,2,FALSE)","v":{"$error":"#N/A"}},{"$f":"VLOOKUP($A143,'[1]Racing numbers file'!$A$4:$G$400,5,FALSE)","v":{"$error":"#N/A"}},{"$f":"VLOOKUP($A143,'[1]Racing numbers file'!$A$4:$H$400,8,FALSE)","v":{"$error":"#N/A"}},"00:20:00","00:50:00","01:40:00",{"$f":"VLOOKUP($C143,'Age Standards'!$B$3:$J$48,7,FALSE)","v":{"$error":"#N/A"}},{"$f":"VLOOKUP($C143,'Age Standards'!$B$3:$J$48,8,FALSE)","v":{"$error":"#N/A"}},{"$f":"VLOOKUP($C143,'Age Standards'!$B$3:$J$48,9,FALSE)","v":{"$error":"#N/A"}},"00:20:00","00:50:00","01:40:00","00:00:00","00:25:42"]
[null,{"$f":"VLOOKUP($A144,'[1]Racing numbers file'!$A$4:$G$400,2,FALSE)","v":{"$error":"#N/A"}},{"$f":"VLOOKUP($A144,'[1]Racing numbers file'!$A$4:$G$400,5,FALSE)","v":{"$error":"#N/A"}},{"$f":"VLOOKUP($A144,'[1]Racing numbers file'!$A$4:$H$400,8,FALSE)","v":{"$error":"#N/A"}},"00:20:00","00:50:00","01:40:00",{"$f":"VLOOKUP($C144,'Age Standards'!$B$3:$J$48,7,FALSE)","v":{"$error":"#N/A"}},{"$f":"VLOOKUP($C144,'Age Standards'!$B$3:$J$48,8,FALSE)","v":{"$error":"#N/A"}},{"$f":"VLOOKUP($C144,'Age Standards'!$B$3:$J$48,9,FALSE)","v":{"$error":"#N/A"}},"00:20:00","00:50:00","01:40:00","00:00:00","00:25:42"]
[null,{"$f":"VLOOKUP($A145,'[1]Racing numbers file'!$A$4:$G$400,2,FALSE)","v":{"$error":"#N/A"}},{"$f":"VLOOKUP($A145,'[1]Racing numbers file'!$A$4:$G$400,5,FALSE)","v":{"$error":"#N/A"}},{"$f":"VLOOKUP($A145,'[1]Racing numbers file'!$A$4:$H$400,8,FALSE)","v":{"$error":"#N/A"}},"00:20:00","00:50:00","01:40:00",{"$f":"VLOOKUP($C145,'Age Standards'!$B$3:$J$48,7,FALSE)","v":{"$error":"#N/A"}},{"$f":"VLOOKUP($C145,'Age Standards'!$B$3:$J$48,8,FALSE)","v":{"$error":"#N/A"}},{"$f":"VLOOKUP($C145,'Age Standards'!$B$3:$J$48,9,FALSE)","v":{"$error":"#N/A"}},"00:20:00","00:50:00","01:40:00","00:00:00","00:25:42"]
[null,{"$f":"VLOOKUP($A146,'[1]Racing numbers file'!$A$4:$G$400,2,FALSE)","v":{"$error":"#N/A"}},{"$f":"VLOOKUP($A146,'[1]Racing numbers file'!$A$4:$G$400,5,FALSE)","v":{"$error":"#N/A"}},{"$f":"VLOOKUP($A146,'[1]Racing numbers file'!$A$4:$H$400,8,FALSE)","v":{"$error":"#N/A"}},"00:20:00","00:50:00","01:40:00",{"$f":"VLOOKUP($C146,'Age Standards'!$B$3:$J$48,7,FALSE)","v":{"$error":"#N/A"}},{"$f":"VLOOKUP($C146,'Age Standards'!$B$3:$J$48,8,FALSE)","v":{"$error":"#N/A"}},{"$f":"VLOOKUP($C146,'Age Standards'!$B$3:$J$48,9,FALSE)","v":{"$error":"#N/A"}},"00:20:00","00:50:00","01:40:00","00:00:00","00:25:42"]
[null,{"$f":"VLOOKUP($A147,'[1]Racing numbers file'!$A$4:$G$400,2,FALSE)","v":{"$error":"#N/A"}},{"$f":"VLOOKUP($A147,'[1]Racing numbers file'!$A$4:$G$400,5,FALSE)","v":{"$error":"#N/A"}},{"$f":"VLOOKUP($A147,'[1]Racing numbers file'!$A$4:$H$400,8,FALSE)","v":{"$error":"#N/A"}},"00:20:00","00:50:00","01:40:00",{"$f":"VLOOKUP($C147,'Age Standards'!$B$3:$J$48,7,FALSE)","v":{"$error":"#N/A"}},{"$f":"VLOOKUP($C147,'Age Standards'!$B$3:$J$48,8,FALSE)","v":{"$error":"#N/A"}},{"$f":"VLOOKUP($C147,'Age Standards'!$B$3:$J$48,9,FALSE)","v":{"$error":"#N/A"}},"00:20:00","00:50:00","01:40:00","00:00:00","00:25:42"]
[null,{"$f":"VLOOKUP($A148,'[1]Racing numbers file'!$A$4:$G$400,2,FALSE)","v":{"$error":"#N/A"}},{"$f":"VLOOKUP($A148,'[1]Racing numbers file'!$A$4:$G$400,5,FALSE)","v":{"$error":"#N/A"}},{"$f":"VLOOKUP($A148,'[1]Racing numbers file'!$A$4:$H$400,8,FALSE)","v":{"$error":"#N/A"}},"00:20:00","00:50:00","01:40:00",{"$f":"VLOOKUP($C148,'Age Standards'!$B$3:$J$48,7,FALSE)","v":{"$error":"#N/A"}},{"$f":"VLOOKUP($C148,'Age Standards'!$B$3:$J$48,8,FALSE)","v":{"$error":"#N/A"}},{"$f":"VLOOKUP($C148,'Age Standards'!$B$3:$J$48,9,FALSE)","v":{"$error":"#N/A"}},"00:20:00","00:50:00","01:40:00","00:00:00","00:25:42"]
[null,{"$f":"VLOOKUP($A149,'[1]Racing numbers file'!$A$4:$G$400,2,FALSE)","v":{"$error":"#N/A"}},{"$f":"VLOOKUP($A149,'[1]Racing numbers file'!$A$4:$G$400,5,FALSE)","v":{"$error":"#N/A"}},{"$f":"VLOOKUP($A149,'[1]Racing numbers file'!$A$4:$H$400,8,FALSE)","v":{"$error":"#N/A"}},"00:20:00","00:50:00","01:40:00",{"$f":"VLOOKUP($C149,'Age Standards'!$B$3:$J$48,7,FALSE)","v":{"$error":"#N/A"}},{"$f":"VLOOKUP($C149,'Age Standards'!$B$3:$J$48,8,FALSE)","v":{"$error":"#N/A"}},{"$f":"VLOOKUP($C149,'Age Standards'!$B$3:$J$48,9,FALSE)","v":{"$error":"#N/A"}},"00:20:00","00:50:00","01:40:00","00:00:00","00:25:42"]
[null,{"$f":"VLOOKUP($A150,'[1]Racing numbers file'!$A$4:$G$400,2,FALSE)","v":{"$error":"#N/A"}},{"$f":"VLOOKUP($A150,'[1]Racing numbers file'!$A$4:$G$400,5,FALSE)","v":{"$error":"#N/A"}},{"$f":"VLOOKUP($A150,'[1]Racing numbers file'!$A$4:$H$400,8,FALSE)","v":{"$error":"#N/A"}},"00:20:00","00:50:00","01:40:00",{"$f":"VLOOKUP($C150,'Age Standards'!$B$3:$J$48,7,FALSE)","v":{"$error":"#N/A"}},{"$f":"VLOOKUP($C150,'Age Standards'!$B$3:$J$48,8,FALSE)","v":{"$error":"#N/A"}},{"$f":"VLOOKUP($C150,'Age Standards'!$B$3:$J$48,9,FALSE)","v":{"$error":"#N/A"}},"00:20:00","00:50:00","01:40:00","00:00:00","00:25:42"]
[null,{"$f":"VLOOKUP($A151,'[1]Racing numbers file'!$A$4:$G$400,2,FALSE)","v":{"$error":"#N/A"}},{"$f":"VLOOKUP($A151,'[1]Racing numbers file'!$A$4:$G$400,5,FALSE)","v":{"$error":"#N/A"}},{"$f":"VLOOKUP($A151,'[1]Racing numbers file'!$A$4:$H$400,8,FALSE)","v":{"$error":"#N/A"}},"00:20:00","00:50:00","01:40:00",{"$f":"VLOOKUP($C151,'Age Standards'!$B$3:$J$48,7,FALSE)","v":{"$error":"#N/A"}},{"$f":"VLOOKUP($C151,'Age Standards'!$B$3:$J$48,8,FALSE)","v":{"$error":"#N/A"}},{"$f":"VLOOKUP($C151,'Age Standards'!$B$3:$J$48,9,FALSE)","v":{"$error":"#N/A"}},"00:20:00","00:50:00","01:40:00","00:00:00","00:25:42"]
[null,{"$f":"VLOOKUP($A152,'[1]Racing numbers file'!$A$4:$G$400,2,FALSE)","v":{"$error":"#N/A"}},{"$f":"VLOOKUP($A152,'[1]Racing numbers file'!$A$4:$G$400,5,FALSE)","v":{"$error":"#N/A"}},{"$f":"VLOOKUP($A152,'[1]Racing numbers file'!$A$4:$H$400,8,FALSE)","v":{"$error":"#N/A"}},"00:20:00","00:50:00","01:40:00",{"$f":"VLOOKUP($C152,'Age Standards'!$B$3:$J$48,7,FALSE)","v":{"$error":"#N/A"}},{"$f":"VLOOKUP($C152,'Age Standards'!$B$3:$J$48,8,FALSE)","v":{"$error":"#N/A"}},{"$f":"VLOOKUP($C152,'Age Standards'!$B$3:$J$48,9,FALSE)","v":{"$error":"#N/A"}},"00:20:00","00:50:00","01:40:00","00:00:00","00:25:42"]
[null,{"$f":"VLOOKUP($A153,'[1]Racing numbers file'!$A$4:$G$400,2,FALSE)","v":{"$error":"#N/A"}},{"$f":"VLOOKUP($A153,'[1]Racing numbers file'!$A$4:$G$400,5,FALSE)","v":{"$error":"#N/A"}},{"$f":"VLOOKUP($A153,'[1]Racing numbers file'!$A$4:$H$400,8,FALSE)","v":{"$error":"#N/A"}},"00:20:00","00:50:00","01:40:00",{"$f":"VLOOKUP($C153,'Age Standards'!$B$3:$J$48,7,FALSE)","v":{"$error":"#N/A"}},{"$f":"VLOOKUP($C153,'Age Standards'!$B$3:$J$48,8,FALSE)","v":{"$error":"#N/A"}},{"$f":"VLOOKUP($C153,'Age Standards'!$B$3:$J$48,9,FALSE)","v":{"$error":"#N/A"}},"00:20:00","00:50:00","01:40:00","00:00:00","00:25:42"]
[null,{"$f":"VLOOKUP($A154,'[1]Racing numbers file'!$A$4:$G$400,2,FALSE)","v":{"$error":"#N/A"}},{"$f":"VLOOKUP($A154,'[1]Racing numbers file'!$A$4:$G$400,5,FALSE)","v":{"$error":"#N/A"}},{"$f":"VLOOKUP($A154,'[1]Racing numbers file'!$A$4:$H$400,8,FALSE)","v":{"$error":"#N/A"}},"00:20:00","00:50:00","01:40:00",{"$f":"VLOOKUP($C154,'Age Standards'!$B$3:$J$48,7,FALSE)","v":{"$error":"#N/A"}},{"$f":"VLOOKUP($C154,'Age Standards'!$B$3:$J$48,8,FALSE)","v":{"$error":"#N/A"}},{"$f":"VLOOKUP($C154,'Age Standards'!$B$3:$J$48,9,FALSE)","v":{"$error":"#N/A"}},"00:20:00","00:50:00","01:40:00","00:00:00","00:25:42"]
[null,{"$f":"VLOOKUP($A155,'[1]Racing numbers file'!$A$4:$G$400,2,FALSE)","v":{"$error":"#N/A"}},{"$f":"VLOOKUP($A155,'[1]Racing numbers file'!$A$4:$G$400,5,FALSE)","v":{"$error":"#N/A"}},{"$f":"VLOOKUP($A155,'[1]Racing numbers file'!$A$4:$H$400,8,FALSE)","v":{"$error":"#N/A"}},"00:20:00","00:50:00","01:40:00",{"$f":"VLOOKUP($C155,'Age Standards'!$B$3:$J$48,7,FALSE)","v":{"$error":"#N/A"}},{"$f":"VLOOKUP($C155,'Age Standards'!$B$3:$J$48,8,FALSE)","v":{"$error":"#N/A"}},{"$f":"VLOOKUP($C155,'Age Standards'!$B$3:$J$48,9,FALSE)","v":{"$error":"#N/A"}},"00:20:00","00:50:00","01:40:00","00:00:00","00:25:42"]
[null,{"$f":"VLOOKUP($A156,'[1]Racing numbers file'!$A$4:$G$400,2,FALSE)","v":{"$error":"#N/A"}},{"$f":"VLOOKUP($A156,'[1]Racing numbers file'!$A$4:$G$400,5,FALSE)","v":{"$error":"#N/A"}},{"$f":"VLOOKUP($A156,'[1]Racing numbers file'!$A$4:$H$400,8,FALSE)","v":{"$error":"#N/A"}},"00:20:00","00:50:00","01:40:00",{"$f":"VLOOKUP($C156,'Age Standards'!$B$3:$J$48,7,FALSE)","v":{"$error":"#N/A"}},{"$f":"VLOOKUP($C156,'Age Standards'!$B$3:$J$48,8,FALSE)","v":{"$error":"#N/A"}},{"$f":"VLOOKUP($C156,'Age Standards'!$B$3:$J$48,9,FALSE)","v":{"$error":"#N/A"}},"00:20:00","00:50:00","01:40:00","00:00:00","00:25:42"]
[null,{"$f":"VLOOKUP($A157,'[1]Racing numbers file'!$A$4:$G$400,2,FALSE)","v":{"$error":"#N/A"}},{"$f":"VLOOKUP($A157,'[1]Racing numbers file'!$A$4:$G$400,5,FALSE)","v":{"$error":"#N/A"}},{"$f":"VLOOKUP($A157,'[1]Racing numbers file'!$A$4:$H$400,8,FALSE)","v":{"$error":"#N/A"}},"00:20:00","00:50:00","01:40:00",{"$f":"VLOOKUP($C157,'Age Standards'!$B$3:$J$48,7,FALSE)","v":{"$error":"#N/A"}},{"$f":"VLOOKUP($C157,'Age Standards'!$B$3:$J$48,8,FALSE)","v":{"$error":"#N/A"}},{"$f":"VLOOKUP($C157,'Age Standards'!$B$3:$J$48,9,FALSE)","v":{"$error":"#N/A"}},"00:20:00","00:50:00","01:40:00","00:00:00","00:25:42"]
[null,{"$f":"VLOOKUP($A158,'[1]Racing numbers file'!$A$4:$G$400,2,FALSE)","v":{"$error":"#N/A"}},{"$f":"VLOOKUP($A158,'[1]Racing numbers file'!$A$4:$G$400,5,FALSE)","v":{"$error":"#N/A"}},{"$f":"VLOOKUP($A158,'[1]Racing numbers file'!$A$4:$H$400,8,FALSE)","v":{"$error":"#N/A"}},"00:20:00","00:50:00","01:40:00",{"$f":"VLOOKUP($C158,'Age Standards'!$B$3:$J$48,7,FALSE)","v":{"$error":"#N/A"}},{"$f":"VLOOKUP($C158,'Age Standards'!$B$3:$J$48,8,FALSE)","v":{"$error":"#N/A"}},{"$f":"VLOOKUP($C158,'Age Standards'!$B$3:$J$48,9,FALSE)","v":{"$error":"#N/A"}},"00:20:00","00:50:00","01:40:00","00:00:00","00:25:42"]
[null,{"$f":"VLOOKUP($A159,'[1]Racing numbers file'!$A$4:$G$400,2,FALSE)","v":{"$error":"#N/A"}},{"$f":"VLOOKUP($A159,'[1]Racing numbers file'!$A$4:$G$400,5,FALSE)","v":{"$error":"#N/A"}},{"$f":"VLOOKUP($A159,'[1]Racing numbers file'!$A$4:$H$400,8,FALSE)","v":{"$error":"#N/A"}},"00:20:00","00:50:00","01:40:00",{"$f":"VLOOKUP($C159,'Age Standards'!$B$3:$J$48,7,FALSE)","v":{"$error":"#N/A"}},{"$f":"VLOOKUP($C159,'Age Standards'!$B$3:$J$48,8,FALSE)","v":{"$error":"#N/A"}},{"$f":"VLOOKUP($C159,'Age Standards'!$B$3:$J$48,9,FALSE)","v":{"$error":"#N/A"}},"00:20:00","00:50:00","01:40:00","00:00:00","00:25:42"]
[null,{"$f":"VLOOKUP($A160,'[1]Racing numbers file'!$A$4:$G$400,2,FALSE)","v":{"$error":"#N/A"}},{"$f":"VLOOKUP($A160,'[1]Racing numbers file'!$A$4:$G$400,5,FALSE)","v":{"$error":"#N/A"}},{"$f":"VLOOKUP($A160,'[1]Racing numbers file'!$A$4:$H$400,8,FALSE)","v":{"$error":"#N/A"}},"00:20:00","00:50:00","01:40:00",{"$f":"VLOOKUP($C160,'Age Standards'!$B$3:$J$48,7,FALSE)","v":{"$error":"#N/A"}},{"$f":"VLOOKUP($C160,'Age Standards'!$B$3:$J$48,8,FALSE)","v":{"$error":"#N/A"}},{"$f":"VLOOKUP($C160,'Age Standards'!$B$3:$J$48,9,FALSE)","v":{"$error":"#N/A"}},"00:20:00","00:50:00","01:40:00","00:00:00","00:25:42"]
[null,{"$f":"VLOOKUP($A161,'[1]Racing numbers file'!$A$4:$G$400,2,FALSE)","v":{"$error":"#N/A"}},{"$f":"VLOOKUP($A161,'[1]Racing numbers file'!$A$4:$G$400,5,FALSE)","v":{"$error":"#N/A"}},{"$f":"VLOOKUP($A161,'[1]Racing numbers file'!$A$4:$H$400,8,FALSE)","v":{"$error":"#N/A"}},"00:20:00","00:50:00","01:40:00",{"$f":"VLOOKUP($C161,'Age Standards'!$B$3:$J$48,7,FALSE)","v":{"$error":"#N/A"}},{"$f":"VLOOKUP($C161,'Age Standards'!$B$3:$J$48,8,FALSE)","v":{"$error":"#N/A"}},{"$f":"VLOOKUP($C161,'Age Standards'!$B$3:$J$48,9,FALSE)","v":{"$error":"#N/A"}},"00:20:00","00:50:00","01:40:00","00:00:00","00:25:42"]
[null,{"$f":"VLOOKUP($A162,'[1]Racing numbers file'!$A$4:$G$400,2,FALSE)","v":{"$error":"#N/A"}},{"$f":"VLOOKUP($A162,'[1]Racing numbers file'!$A$4:$G$400,5,FALSE)","v":{"$error":"#N/A"}},{"$f":"VLOOKUP($A162,'[1]Racing numbers file'!$A$4:$H$400,8,FALSE)","v":{"$error":"#N/A"}},"00:20:00","00:50:00","01:40:00",{"$f":"VLOOKUP($C162,'Age Standards'!$B$3:$J$48,7,FALSE)","v":{"$error":"#N/A"}},{"$f":"VLOOKUP($C162,'Age Standards'!$B$3:$J$48,8,FALSE)","v":{"$error":"#N/A"}},{"$f":"VLOOKUP($C162,'Age Standards'!$B$3:$J$48,9,FALSE)","v":{"$error":"#N/A"}},"00:20:00","00:50:00","01:40:00","00:00:00","00:25:42"]
[null,{"$f":"VLOOKUP($A163,'[1]Racing numbers file'!$A$4:$G$400,2,FALSE)","v":{"$error":"#N/A"}},{"$f":"VLOOKUP($A163,'[1]Racing numbers file'!$A$4:$G$400,5,FALSE)","v":{"$error":"#N/A"}},{"$f":"VLOOKUP($A163,'[1]Racing numbers file'!$A$4:$H$400,8,FALSE)","v":{"$error":"#N/A"}},"00:20:00","00:50:00","01:40:00",{"$f":"VLOOKUP($C163,'Age Standards'!$B$3:$J$48,7,FALSE)","v":{"$error":"#N/A"}},{"$f":"VLOOKUP($C163,'Age Standards'!$B$3:$J$48,8,FALSE)","v":{"$error":"#N/A"}},{"$f":"VLOOKUP($C163,'Age Standards'!$B$3:$J$48,9,FALSE)","v":{"$error":"#N/A"}},"00:20:00","00:50:00","01:40:00","00:00:00","00:25:42"]
[null,{"$f":"VLOOKUP($A164,'[1]Racing numbers file'!$A$4:$G$400,2,FALSE)","v":{"$error":"#N/A"}},{"$f":"VLOOKUP($A164,'[1]Racing numbers file'!$A$4:$G$400,5,FALSE)","v":{"$error":"#N/A"}},{"$f":"VLOOKUP($A164,'[1]Racing numbers file'!$A$4:$H$400,8,FALSE)","v":{"$error":"#N/A"}},"00:20:00","00:50:00","01:40:00",{"$f":"VLOOKUP($C164,'Age Standards'!$B$3:$J$48,7,FALSE)","v":{"$error":"#N/A"}},{"$f":"VLOOKUP($C164,'Age Standards'!$B$3:$J$48,8,FALSE)","v":{"$error":"#N/A"}},{"$f":"VLOOKUP($C164,'Age Standards'!$B$3:$J$48,9,FALSE)","v":{"$error":"#N/A"}},"00:20:00","00:50:00","01:40:00","00:00:00","00:25:42"]
[null,{"$f":"VLOOKUP($A165,'[1]Racing numbers file'!$A$4:$G$400,2,FALSE)","v":{"$error":"#N/A"}},{"$f":"VLOOKUP($A165,'[1]Racing numbers file'!$A$4:$G$400,5,FALSE)","v":{"$error":"#N/A"}},{"$f":"VLOOKUP($A165,'[1]Racing numbers file'!$A$4:$H$400,8,FALSE)","v":{"$error":"#N/A"}},"00:20:00","00:50:00","01:40:00",{"$f":"VLOOKUP($C165,'Age Standards'!$B$3:$J$48,7,FALSE)","v":{"$error":"#N/A"}},{"$f":"VLOOKUP($C165,'Age Standards'!$B$3:$J$48,8,FALSE)","v":{"$error":"#N/A"}},{"$f":"VLOOKUP($C165,'Age Standards'!$B$3:$J$48,9,FALSE)","v":{"$error":"#N/A"}},"00:20:00","00:50:00","01:40:00","00:00:00","00:25:42"]
[null,{"$f":"VLOOKUP($A166,'[1]Racing numbers file'!$A$4:$G$400,2,FALSE)","v":{"$error":"#N/A"}},{"$f":"VLOOKUP($A166,'[1]Racing numbers file'!$A$4:$G$400,5,FALSE)","v":{"$error":"#N/A"}},{"$f":"VLOOKUP($A166,'[1]Racing numbers file'!$A$4:$H$400,8,FALSE)","v":{"$error":"#N/A"}},"00:20:00","00:50:00","01:40:00",{"$f":"VLOOKUP($C166,'Age Standards'!$B$3:$J$48,7,FALSE)","v":{"$error":"#N/A"}},{"$f":"VLOOKUP($C166,'Age Standards'!$B$3:$J$48,8,FALSE)","v":{"$error":"#N/A"}},{"$f":"VLOOKUP($C166,'Age Standards'!$B$3:$J$48,9,FALSE)","v":{"$error":"#N/A"}},"00:20:00","00:50:00","01:40:00","00:00:00","00:25:42"]
[null,{"$f":"VLOOKUP($A167,'[1]Racing numbers file'!$A$4:$G$400,2,FALSE)","v":{"$error":"#N/A"}},{"$f":"VLOOKUP($A167,'[1]Racing numbers file'!$A$4:$G$400,5,FALSE)","v":{"$error":"#N/A"}},{"$f":"VLOOKUP($A167,'[1]Racing numbers file'!$A$4:$H$400,8,FALSE)","v":{"$error":"#N/A"}},"00:20:00","00:50:00","01:40:00",{"$f":"VLOOKUP($C167,'Age Standards'!$B$3:$J$48,7,FALSE)","v":{"$error":"#N/A"}},{"$f":"VLOOKUP($C167,'Age Standards'!$B$3:$J$48,8,FALSE)","v":{"$error":"#N/A"}},{"$f":"VLOOKUP($C167,'Age Standards'!$B$3:$J$48,9,FALSE)","v":{"$error":"#N/A"}},"00:20:00","00:50:00","01:40:00","00:00:00","00:25:42"]
[null,{"$f":"VLOOKUP($A168,'[1]Racing numbers file'!$A$4:$G$400,2,FALSE)","v":{"$error":"#N/A"}},{"$f":"VLOOKUP($A168,'[1]Racing numbers file'!$A$4:$G$400,5,FALSE)","v":{"$error":"#N/A"}},{"$f":"VLOOKUP($A168,'[1]Racing numbers file'!$A$4:$H$400,8,FALSE)","v":{"$error":"#N/A"}},"00:20:00","00:50:00","01:40:00",{"$f":"VLOOKUP($C168,'Age Standards'!$B$3:$J$48,7,FALSE)","v":{"$error":"#N/A"}},{"$f":"VLOOKUP($C168,'Age Standards'!$B$3:$J$48,8,FALSE)","v":{"$error":"#N/A"}},{"$f":"VLOOKUP($C168,'Age Standards'!$B$3:$J$48,9,FALSE)","v":{"$error":"#N/A"}},"00:20:00","00:50:00","01:40:00","00:00:00","00:25:42"]
[null,{"$f":"VLOOKUP($A169,'[1]Racing numbers file'!$A$4:$G$400,2,FALSE)","v":{"$error":"#N/A"}},{"$f":"VLOOKUP($A169,'[1]Racing numbers file'!$A$4:$G$400,5,FALSE)","v":{"$error":"#N/A"}},{"$f":"VLOOKUP($A169,'[1]Racing numbers file'!$A$4:$H$400,8,FALSE)","v":{"$error":"#N/A"}},"00:20:00","00:50:00","01:40:00",{"$f":"VLOOKUP($C169,'Age Standards'!$B$3:$J$48,7,FALSE)","v":{"$error":"#N/A"}},{"$f":"VLOOKUP($C169,'Age Standards'!$B$3:$J$48,8,FALSE)","v":{"$error":"#N/A"}},{"$f":"VLOOKUP($C169,'Age Standards'!$B$3:$J$48,9,FALSE)","v":{"$error":"#N/A"}},"00:20:00","00:50:00","01:40:00","00:00:00","00:25:42"]
[null,{"$f":"VLOOKUP($A170,'[1]Racing numbers file'!$A$4:$G$400,2,FALSE)","v":{"$error":"#N/A"}},{"$f":"VLOOKUP($A170,'[1]Racing numbers file'!$A$4:$G$400,5,FALSE)","v":{"$error":"#N/A"}},{"$f":"VLOOKUP($A170,'[1]Racing numbers file'!$A$4:$H$400,8,FALSE)","v":{"$error":"#N/A"}},"00:20:00","00:50:00","01:40:00",{"$f":"VLOOKUP($C170,'Age Standards'!$B$3:$J$48,7,FALSE)","v":{"$error":"#N/A"}},{"$f":"VLOOKUP($C170,'Age Standards'!$B$3:$J$48,8,FALSE)","v":{"$error":"#N/A"}},{"$f":"VLOOKUP($C170,'Age Standards'!$B$3:$J$48,9,FALSE)","v":{"$error":"#N/A"}},"00:20:00","00:50:00","01:40:00","00:00:00","00:25:42"]
[null,{"$f":"VLOOKUP($A171,'[1]Racing numbers file'!$A$4:$G$400,2,FALSE)","v":{"$error":"#N/A"}},{"$f":"VLOOKUP($A171,'[1]Racing numbers file'!$A$4:$G$400,5,FALSE)","v":{"$error":"#N/A"}},{"$f":"VLOOKUP($A171,'[1]Racing numbers file'!$A$4:$H$400,8,FALSE)","v":{"$error":"#N/A"}},"00:20:00","00:50:00","01:40:00",{"$f":"VLOOKUP($C171,'Age Standards'!$B$3:$J$48,7,FALSE)","v":{"$error":"#N/A"}},{"$f":"VLOOKUP($C171,'Age Standards'!$B$3:$J$48,8,FALSE)","v":{"$error":"#N/A"}},{"$f":"VLOOKUP($C171,'Age Standards'!$B$3:$J$48,9,FALSE)","v":{"$error":"#N/A"}},"00:20:00","00:50:00","01:40:00","00:00:00","00:25:42"]
[null,{"$f":"VLOOKUP($A172,'[1]Racing numbers file'!$A$4:$G$400,2,FALSE)","v":{"$error":"#N/A"}},{"$f":"VLOOKUP($A172,'[1]Racing numbers file'!$A$4:$G$400,5,FALSE)","v":{"$error":"#N/A"}},{"$f":"VLOOKUP($A172,'[1]Racing numbers file'!$A$4:$H$400,8,FALSE)","v":{"$error":"#N/A"}},"00:20:00","00:50:00","01:40:00",{"$f":"VLOOKUP($C172,'Age Standards'!$B$3:$J$48,7,FALSE)","v":{"$error":"#N/A"}},{"$f":"VLOOKUP($C172,'Age Standards'!$B$3:$J$48,8,FALSE)","v":{"$error":"#N/A"}},{"$f":"VLOOKUP($C172,'Age Standards'!$B$3:$J$48,9,FALSE)","v":{"$error":"#N/A"}},"00:20:00","00:50:00","01:40:00","00:00:00","00:25:42"]
[null,{"$f":"VLOOKUP($A173,'[1]Racing numbers file'!$A$4:$G$400,2,FALSE)","v":{"$error":"#N/A"}},{"$f":"VLOOKUP($A173,'[1]Racing numbers file'!$A$4:$G$400,5,FALSE)","v":{"$error":"#N/A"}},{"$f":"VLOOKUP($A173,'[1]Racing numbers file'!$A$4:$H$400,8,FALSE)","v":{"$error":"#N/A"}},"00:20:00","00:50:00","01:40:00",{"$f":"VLOOKUP($C173,'Age Standards'!$B$3:$J$48,7,FALSE)","v":{"$error":"#N/A"}},{"$f":"VLOOKUP($C173,'Age Standards'!$B$3:$J$48,8,FALSE)","v":{"$error":"#N/A"}},{"$f":"VLOOKUP($C173,'Age Standards'!$B$3:$J$48,9,FALSE)","v":{"$error":"#N/A"}},"00:20:00","00:50:00","01:40:00","00:00:00","00:25:42"]
[null,{"$f":"VLOOKUP($A174,'[1]Racing numbers file'!$A$4:$G$400,2,FALSE)","v":{"$error":"#N/A"}},{"$f":"VLOOKUP($A174,'[1]Racing numbers file'!$A$4:$G$400,5,FALSE)","v":{"$error":"#N/A"}},{"$f":"VLOOKUP($A174,'[1]Racing numbers file'!$A$4:$H$400,8,FALSE)","v":{"$error":"#N/A"}},"00:20:00","00:50:00","01:40:00",{"$f":"VLOOKUP($C174,'Age Standards'!$B$3:$J$48,7,FALSE)","v":{"$error":"#N/A"}},{"$f":"VLOOKUP($C174,'Age Standards'!$B$3:$J$48,8,FALSE)","v":{"$error":"#N/A"}},{"$f":"VLOOKUP($C174,'Age Standards'!$B$3:$J$48,9,FALSE)","v":{"$error":"#N/A"}},"00:20:00","00:50:00","01:40:00","00:00:00","00:25:42"]
[null,{"$f":"VLOOKUP($A175,'[1]Racing numbers file'!$A$4:$G$400,2,FALSE)","v":{"$error":"#N/A"}},{"$f":"VLOOKUP($A175,'[1]Racing numbers file'!$A$4:$G$400,5,FALSE)","v":{"$error":"#N/A"}},{"$f":"VLOOKUP($A175,'[1]Racing numbers file'!$A$4:$H$400,8,FALSE)","v":{"$error":"#N/A"}},"00:20:00","00:50:00","01:40:00",{"$f":"VLOOKUP($C175,'Age Standards'!$B$3:$J$48,7,FALSE)","v":{"$error":"#N/A"}},{"$f":"VLOOKUP($C175,'Age Standards'!$B$3:$J$48,8,FALSE)","v":{"$error":"#N/A"}},{"$f":"VLOOKUP($C175,'Age Standards'!$B$3:$J$48,9,FALSE)","v":{"$error":"#N/A"}},"00:20:00","00:50:00","01:40:00","00:00:00","00:25:42"]
[null,{"$f":"VLOOKUP($A176,'[1]Racing numbers file'!$A$4:$G$400,2,FALSE)","v":{"$error":"#N/A"}},{"$f":"VLOOKUP($A176,'[1]Racing numbers file'!$A$4:$G$400,5,FALSE)","v":{"$error":"#N/A"}},{"$f":"VLOOKUP($A176,'[1]Racing numbers file'!$A$4:$H$400,8,FALSE)","v":{"$error":"#N/A"}},"00:20:00","00:50:00","01:40:00",{"$f":"VLOOKUP($C176,'Age Standards'!$B$3:$J$48,7,FALSE)","v":{"$error":"#N/A"}},{"$f":"VLOOKUP($C176,'Age Standards'!$B$3:$J$48,8,FALSE)","v":{"$error":"#N/A"}},{"$f":"VLOOKUP($C176,'Age Standards'!$B$3:$J$48,9,FALSE)","v":{"$error":"#N/A"}},"00:20:00","00:50:00","01:40:00","00:00:00","00:25:42"]
[null,{"$f":"VLOOKUP($A177,'[1]Racing numbers file'!$A$4:$G$400,2,FALSE)","v":{"$error":"#N/A"}},{"$f":"VLOOKUP($A177,'[1]Racing numbers file'!$A$4:$G$400,5,FALSE)","v":{"$error":"#N/A"}},{"$f":"VLOOKUP($A177,'[1]Racing numbers file'!$A$4:$H$400,8,FALSE)","v":{"$error":"#N/A"}},"00:20:00","00:50:00","01:40:00",{"$f":"VLOOKUP($C177,'Age Standards'!$B$3:$J$48,7,FALSE)","v":{"$error":"#N/A"}},{"$f":"VLOOKUP($C177,'Age Standards'!$B$3:$J$48,8,FALSE)","v":{"$error":"#N/A"}},{"$f":"VLOOKUP($C177,'Age Standards'!$B$3:$J$48,9,FALSE)","v":{"$error":"#N/A"}},"00:20:00","00:50:00","01:40:00","00:00:00","00:25:42"]
[null,{"$f":"VLOOKUP($A178,'[1]Racing numbers file'!$A$4:$G$400,2,FALSE)","v":{"$error":"#N/A"}},{"$f":"VLOOKUP($A178,'[1]Racing numbers file'!$A$4:$G$400,5,FALSE)","v":{"$error":"#N/A"}},{"$f":"VLOOKUP($A178,'[1]Racing numbers file'!$A$4:$H$400,8,FALSE)","v":{"$error":"#N/A"}},"00:20:00","00:50:00","01:40:00",{"$f":"VLOOKUP($C178,'Age Standards'!$B$3:$J$48,7,FALSE)","v":{"$error":"#N/A"}},{"$f":"VLOOKUP($C178,'Age Standards'!$B$3:$J$48,8,FALSE)","v":{"$error":"#N/A"}},{"$f":"VLOOKUP($C178,'Age Standards'!$B$3:$J$48,9,FALSE)","v":{"$error":"#N/A"}},"00:20:00","00:50:00","01:40:00","00:00:00","00:25:42"]
[null,{"$f":"VLOOKUP($A179,'[1]Racing numbers file'!$A$4:$G$400,2,FALSE)","v":{"$error":"#N/A"}},{"$f":"VLOOKUP($A179,'[1]Racing numbers file'!$A$4:$G$400,5,FALSE)","v":{"$error":"#N/A"}},{"$f":"VLOOKUP($A179,'[1]Racing numbers file'!$A$4:$H$400,8,FALSE)","v":{"$error":"#N/A"}},"00:20:00","00:50:00","01:40:00",{"$f":"VLOOKUP($C179,'Age Standards'!$B$3:$J$48,7,FALSE)","v":{"$error":"#N/A"}},{"$f":"VLOOKUP($C179,'Age Standards'!$B$3:$J$48,8,FALSE)","v":{"$error":"#N/A"}},{"$f":"VLOOKUP($C179,'Age Standards'!$B$3:$J$48,9,FALSE)","v":{"$error":"#N/A"}},"00:20:00","00:50:00","01:40:00","00:00:00","00:25:42"]
[null,{"$f":"VLOOKUP($A180,'[1]Racing numbers file'!$A$4:$G$400,2,FALSE)","v":{"$error":"#N/A"}},{"$f":"VLOOKUP($A180,'[1]Racing numbers file'!$A$4:$G$400,5,FALSE)","v":{"$error":"#N/A"}},{"$f":"VLOOKUP($A180,'[1]Racing numbers file'!$A$4:$H$400,8,FALSE)","v":{"$error":"#N/A"}},"00:20:00","00:50:00","01:40:00",{"$f":"VLOOKUP($C180,'Age Standards'!$B$3:$J$48,7,FALSE)","v":{"$error":"#N/A"}},{"$f":"VLOOKUP($C180,'Age Standards'!$B$3:$J$48,8,FALSE)","v":{"$error":"#N/A"}},{"$f":"VLOOKUP($C180,'Age Standards'!$B$3:$J$48,9,FALSE)","v":{"$error":"#N/A"}},"00:20:00","00:50:00","01:40:00","00:00:00","00:25:42"]
[null,{"$f":"VLOOKUP($A181,'[1]Racing numbers file'!$A$4:$G$400,2,FALSE)","v":{"$error":"#N/A"}},{"$f":"VLOOKUP($A181,'[1]Racing numbers file'!$A$4:$G$400,5,FALSE)","v":{"$error":"#N/A"}},{"$f":"VLOOKUP($A181,'[1]Racing numbers file'!$A$4:$H$400,8,FALSE)","v":{"$error":"#N/A"}},"00:20:00","00:50:00","01:40:00",{"$f":"VLOOKUP($C181,'Age Standards'!$B$3:$J$48,7,FALSE)","v":{"$error":"#N/A"}},{"$f":"VLOOKUP($C181,'Age Standards'!$B$3:$J$48,8,FALSE)","v":{"$error":"#N/A"}},{"$f":"VLOOKUP($C181,'Age Standards'!$B$3:$J$48,9,FALSE)","v":{"$error":"#N/A"}},"00:20:00","00:50:00","01:40:00","00:00:00","00:25:42"]
[null,{"$f":"VLOOKUP($A182,'[1]Racing numbers file'!$A$4:$G$400,2,FALSE)","v":{"$error":"#N/A"}},{"$f":"VLOOKUP($A182,'[1]Racing numbers file'!$A$4:$G$400,5,FALSE)","v":{"$error":"#N/A"}},{"$f":"VLOOKUP($A182,'[1]Racing numbers file'!$A$4:$H$400,8,FALSE)","v":{"$error":"#N/A"}},"00:20:00","00:50:00","01:40:00",{"$f":"VLOOKUP($C182,'Age Standards'!$B$3:$J$48,7,FALSE)","v":{"$error":"#N/A"}},{"$f":"VLOOKUP($C182,'Age Standards'!$B$3:$J$48,8,FALSE)","v":{"$error":"#N/A"}},{"$f":"VLOOKUP($C182,'Age Standards'!$B$3:$J$48,9,FALSE)","v":{"$error":"#N/A"}},"00:20:00","00:50:00","01:40:00","00:00:00","00:25:42"]
[null,{"$f":"VLOOKUP($A183,'[1]Racing numbers file'!$A$4:$G$400,2,FALSE)","v":{"$error":"#N/A"}},{"$f":"VLOOKUP($A183,'[1]Racing numbers file'!$A$4:$G$400,5,FALSE)","v":{"$error":"#N/A"}},{"$f":"VLOOKUP($A183,'[1]Racing numbers file'!$A$4:$H$400,8,FALSE)","v":{"$error":"#N/A"}},"00:20:00","00:50:00","01:40:00",{"$f":"VLOOKUP($C183,'Age Standards'!$B$3:$J$48,7,FALSE)","v":{"$error":"#N/A"}},{"$f":"VLOOKUP($C183,'Age Standards'!$B$3:$J$48,8,FALSE)","v":{"$error":"#N/A"}},{"$f":"VLOOKUP($C183,'Age Standards'!$B$3:$J$48,9,FALSE)","v":{"$error":"#N/A"}},"00:20:00","00:50:00","01:40:00","00:00:00","00:25:42"]
[null,{"$f":"VLOOKUP($A184,'[1]Racing numbers file'!$A$4:$G$400,2,FALSE)","v":{"$error":"#N/A"}},{"$f":"VLOOKUP($A184,'[1]Racing numbers file'!$A$4:$G$400,5,FALSE)","v":{"$error":"#N/A"}},{"$f":"VLOOKUP($A184,'[1]Racing numbers file'!$A$4:$H$400,8,FALSE)","v":{"$error":"#N/A"}},"00:20:00","00:50:00","01:40:00",{"$f":"VLOOKUP($C184,'Age Standards'!$B$3:$J$48,7,FALSE)","v":{"$error":"#N/A"}},{"$f":"VLOOKUP($C184,'Age Standards'!$B$3:$J$48,8,FALSE)","v":{"$error":"#N/A"}},{"$f":"VLOOKUP($C184,'Age Standards'!$B$3:$J$48,9,FALSE)","v":{"$error":"#N/A"}},"00:20:00","00:50:00","01:40:00","00:00:00","00:25:42"]
[null,{"$f":"VLOOKUP($A185,'[1]Racing numbers file'!$A$4:$G$400,2,FALSE)","v":{"$error":"#N/A"}},{"$f":"VLOOKUP($A185,'[1]Racing numbers file'!$A$4:$G$400,5,FALSE)","v":{"$error":"#N/A"}},{"$f":"VLOOKUP($A185,'[1]Racing numbers file'!$A$4:$H$400,8,FALSE)","v":{"$error":"#N/A"}},"00:20:00","00:50:00","01:40:00",{"$f":"VLOOKUP($C185,'Age Standards'!$B$3:$J$48,7,FALSE)","v":{"$error":"#N/A"}},{"$f":"VLOOKUP($C185,'Age Standards'!$B$3:$J$48,8,FALSE)","v":{"$error":"#N/A"}},{"$f":"VLOOKUP($C185,'Age Standards'!$B$3:$J$48,9,FALSE)","v":{"$error":"#N/A"}},"00:20:00","00:50:00","01:40:00","00:00:00","00:25:42"]
[null,{"$f":"VLOOKUP($A186,'[1]Racing numbers file'!$A$4:$G$400,2,FALSE)","v":{"$error":"#N/A"}},{"$f":"VLOOKUP($A186,'[1]Racing numbers file'!$A$4:$G$400,5,FALSE)","v":{"$error":"#N/A"}},{"$f":"VLOOKUP($A186,'[1]Racing numbers file'!$A$4:$H$400,8,FALSE)","v":{"$error":"#N/A"}},"00:20:00","00:50:00","01:40:00",{"$f":"VLOOKUP($C186,'Age Standards'!$B$3:$J$48,7,FALSE)","v":{"$error":"#N/A"}},{"$f":"VLOOKUP($C186,'Age Standards'!$B$3:$J$48,8,FALSE)","v":{"$error":"#N/A"}},{"$f":"VLOOKUP($C186,'Age Standards'!$B$3:$J$48,9,FALSE)","v":{"$error":"#N/A"}},"00:20:00","00:50:00","01:40:00","00:00:00","00:25:42"]
[null,{"$f":"VLOOKUP($A187,'[1]Racing numbers file'!$A$4:$G$400,2,FALSE)","v":{"$error":"#N/A"}},{"$f":"VLOOKUP($A187,'[1]Racing numbers file'!$A$4:$G$400,5,FALSE)","v":{"$error":"#N/A"}},{"$f":"VLOOKUP($A187,'[1]Racing numbers file'!$A$4:$H$400,8,FALSE)","v":{"$error":"#N/A"}},"00:20:00","00:50:00","01:40:00",{"$f":"VLOOKUP($C187,'Age Standards'!$B$3:$J$48,7,FALSE)","v":{"$error":"#N/A"}},{"$f":"VLOOKUP($C187,'Age Standards'!$B$3:$J$48,8,FALSE)","v":{"$error":"#N/A"}},{"$f":"VLOOKUP($C187,'Age Standards'!$B$3:$J$48,9,FALSE)","v":{"$error":"#N/A"}},"00:20:00","00:50:00","01:40:00","00:00:00","00:25:42"]
[null,{"$f":"VLOOKUP($A188,'[1]Racing numbers file'!$A$4:$G$400,2,FALSE)","v":{"$error":"#N/A"}},{"$f":"VLOOKUP($A188,'[1]Racing numbers file'!$A$4:$G$400,5,FALSE)","v":{"$error":"#N/A"}},{"$f":"VLOOKUP($A188,'[1]Racing numbers file'!$A$4:$H$400,8,FALSE)","v":{"$error":"#N/A"}},"00:20:00","00:50:00","01:40:00",{"$f":"VLOOKUP($C188,'Age Standards'!$B$3:$J$48,7,FALSE)","v":{"$error":"#N/A"}},{"$f":"VLOOKUP($C188,'Age Standards'!$B$3:$J$48,8,FALSE)","v":{"$error":"#N/A"}},{"$f":"VLOOKUP($C188,'Age Standards'!$B$3:$J$48,9,FALSE)","v":{"$error":"#N/A"}},"00:20:00","00:50:00","01:40:00","00:00:00","00:25:42"]
[null,{"$f":"VLOOKUP($A189,'[1]Racing numbers file'!$A$4:$G$400,2,FALSE)","v":{"$error":"#N/A"}},{"$f":"VLOOKUP($A189,'[1]Racing numbers file'!$A$4:$G$400,5,FALSE)","v":{"$error":"#N/A"}},{"$f":"VLOOKUP($A189,'[1]Racing numbers file'!$A$4:$H$400,8,FALSE)","v":{"$error":"#N/A"}},"00:20:00","00:50:00","01:40:00",{"$f":"VLOOKUP($C189,'Age Standards'!$B$3:$J$48,7,FALSE)","v":{"$error":"#N/A"}},{"$f":"VLOOKUP($C189,'Age Standards'!$B$3:$J$48,8,FALSE)","v":{"$error":"#N/A"}},{"$f":"VLOOKUP($C189,'Age Standards'!$B$3:$J$48,9,FALSE)","v":{"$error":"#N/A"}},"00:20:00","00:50:00","01:40:00","00:00:00","00:25:42"]
[null,{"$f":"VLOOKUP($A190,'[1]Racing numbers file'!$A$4:$G$400,2,FALSE)","v":{"$error":"#N/A"}},{"$f":"VLOOKUP($A190,'[1]Racing numbers file'!$A$4:$G$400,5,FALSE)","v":{"$error":"#N/A"}},{"$f":"VLOOKUP($A190,'[1]Racing numbers file'!$A$4:$H$400,8,FALSE)","v":{"$error":"#N/A"}},"00:20:00","00:50:00","01:40:00",{"$f":"VLOOKUP($C190,'Age Standards'!$B$3:$J$48,7,FALSE)","v":{"$error":"#N/A"}},{"$f":"VLOOKUP($C190,'Age Standards'!$B$3:$J$48,8,FALSE)","v":{"$error":"#N/A"}},{"$f":"VLOOKUP($C190,'Age Standards'!$B$3:$J$48,9,FALSE)","v":{"$error":"#N/A"}},"00:20:00","00:50:00","01:40:00","00:00:00","00:25:42"]
[null,{"$f":"VLOOKUP($A191,'[1]Racing numbers file'!$A$4:$G$400,2,FALSE)","v":{"$error":"#N/A"}},{"$f":"VLOOKUP($A191,'[1]Racing numbers file'!$A$4:$G$400,5,FALSE)","v":{"$error":"#N/A"}},{"$f":"VLOOKUP($A191,'[1]Racing numbers file'!$A$4:$H$400,8,FALSE)","v":{"$error":"#N/A"}},"00:20:00","00:50:00","01:40:00",{"$f":"VLOOKUP($C191,'Age Standards'!$B$3:$J$48,7,FALSE)","v":{"$error":"#N/A"}},{"$f":"VLOOKUP($C191,'Age Standards'!$B$3:$J$48,8,FALSE)","v":{"$error":"#N/A"}},{"$f":"VLOOKUP($C191,'Age Standards'!$B$3:$J$48,9,FALSE)","v":{"$error":"#N/A"}},"00:20:00","00:50:00","01:40:00","00:00:00","00:25:42"]
[null,{"$f":"VLOOKUP($A192,'[1]Racing numbers file'!$A$4:$G$400,2,FALSE)","v":{"$error":"#N/A"}},{"$f":"VLOOKUP($A192,'[1]Racing numbers file'!$A$4:$G$400,5,FALSE)","v":{"$error":"#N/A"}},{"$f":"VLOOKUP($A192,'[1]Racing numbers file'!$A$4:$H$400,8,FALSE)","v":{"$error":"#N/A"}},"00:20:00","00:50:00","01:40:00",{"$f":"VLOOKUP($C192,'Age Standards'!$B$3:$J$48,7,FALSE)","v":{"$error":"#N/A"}},{"$f":"VLOOKUP($C192,'Age Standards'!$B$3:$J$48,8,FALSE)","v":{"$error":"#N/A"}},{"$f":"VLOOKUP($C192,'Age Standards'!$B$3:$J$48,9,FALSE)","v":{"$error":"#N/A"}},"00:20:00","00:50:00","01:40:00","00:00:00","00:25:42"]
[null,{"$f":"VLOOKUP($A193,'[1]Racing numbers file'!$A$4:$G$400,2,FALSE)","v":{"$error":"#N/A"}},{"$f":"VLOOKUP($A193,'[1]Racing numbers file'!$A$4:$G$400,5,FALSE)","v":{"$error":"#N/A"}},{"$f":"VLOOKUP($A193,'[1]Racing numbers file'!$A$4:$H$400,8,FALSE)","v":{"$error":"#N/A"}},"00:20:00","00:50:00","01:40:00",{"$f":"VLOOKUP($C193,'Age Standards'!$B$3:$J$48,7,FALSE)","v":{"$error":"#N/A"}},{"$f":"VLOOKUP($C193,'Age Standards'!$B$3:$J$48,8,FALSE)","v":{"$error":"#N/A"}},{"$f":"VLOOKUP($C193,'Age Standards'!$B$3:$J$48,9,FALSE)","v":{"$error":"#N/A"}},"00:20:00","00:50:00","01:40:00","00:00:00","00:25:42"]
[null,{"$f":"VLOOKUP($A194,'[1]Racing numbers file'!$A$4:$G$400,2,FALSE)","v":{"$error":"#N/A"}},{"$f":"VLOOKUP($A194,'[1]Racing numbers file'!$A$4:$G$400,5,FALSE)","v":{"$error":"#N/A"}},{"$f":"VLOOKUP($A194,'[1]Racing numbers file'!$A$4:$H$400,8,FALSE)","v":{"$error":"#N/A"}},"00:20:00","00:50:00","01:40:00",{"$f":"VLOOKUP($C194,'Age Standards'!$B$3:$J$48,7,FALSE)","v":{"$error":"#N/A"}},{"$f":"VLOOKUP($C194,'Age Standards'!$B$3:$J$48,8,FALSE)","v":{"$error":"#N/A"}},{"$f":"VLOOKUP($C194,'Age Standards'!$B$3:$J$48,9,FALSE)","v":{"$error":"#N/A"}},"00:20:00","00:50:00","01:40:00","00:00:00","00:25:42"]
[null,{"$f":"VLOOKUP($A195,'[1]Racing numbers file'!$A$4:$G$400,2,FALSE)","v":{"$error":"#N/A"}},{"$f":"VLOOKUP($A195,'[1]Racing numbers file'!$A$4:$G$400,5,FALSE)","v":{"$error":"#N/A"}},{"$f":"VLOOKUP($A195,'[1]Racing numbers file'!$A$4:$H$400,8,FALSE)","v":{"$error":"#N/A"}},"00:20:00","00:50:00","01:40:00",{"$f":"VLOOKUP($C195,'Age Standards'!$B$3:$J$48,7,FALSE)","v":{"$error":"#N/A"}},{"$f":"VLOOKUP($C195,'Age Standards'!$B$3:$J$48,8,FALSE)","v":{"$error":"#N/A"}},{"$f":"VLOOKUP($C195,'Age Standards'!$B$3:$J$48,9,FALSE)","v":{"$error":"#N/A"}},"00:20:00","00:50:00","01:40:00","00:00:00","00:25:42"]
[null,{"$f":"VLOOKUP($A196,'[1]Racing numbers file'!$A$4:$G$400,2,FALSE)","v":{"$error":"#N/A"}},{"$f":"VLOOKUP($A196,'[1]Racing numbers file'!$A$4:$G$400,5,FALSE)","v":{"$error":"#N/A"}},{"$f":"VLOOKUP($A196,'[1]Racing numbers file'!$A$4:$H$400,8,FALSE)","v":{"$error":"#N/A"}},"00:20:00","00:50:00","01:40:00",{"$f":"VLOOKUP($C196,'Age Standards'!$B$3:$J$48,7,FALSE)","v":{"$error":"#N/A"}},{"$f":"VLOOKUP($C196,'Age Standards'!$B$3:$J$48,8,FALSE)","v":{"$error":"#N/A"}},{"$f":"VLOOKUP($C196,'Age Standards'!$B$3:$J$48,9,FALSE)","v":{"$error":"#N/A"}},"00:20:00","00:50:00","01:40:00","00:00:00","00:25:42"]
[null,{"$f":"VLOOKUP($A197,'[1]Racing numbers file'!$A$4:$G$400,2,FALSE)","v":{"$error":"#N/A"}},{"$f":"VLOOKUP($A197,'[1]Racing numbers file'!$A$4:$G$400,5,FALSE)","v":{"$error":"#N/A"}},{"$f":"VLOOKUP($A197,'[1]Racing numbers file'!$A$4:$H$400,8,FALSE)","v":{"$error":"#N/A"}},"00:20:00","00:50:00","01:40:00",{"$f":"VLOOKUP($C197,'Age Standards'!$B$3:$J$48,7,FALSE)","v":{"$error":"#N/A"}},{"$f":"VLOOKUP($C197,'Age Standards'!$B$3:$J$48,8,FALSE)","v":{"$error":"#N/A"}},{"$f":"VLOOKUP($C197,'Age Standards'!$B$3:$J$48,9,FALSE)","v":{"$error":"#N/A"}},"00:20:00","00:50:00","01:40:00","00:00:00","00:25:42"]
[null,{"$f":"VLOOKUP($A198,'[1]Racing numbers file'!$A$4:$G$400,2,FALSE)","v":{"$error":"#N/A"}},{"$f":"VLOOKUP($A198,'[1]Racing numbers file'!$A$4:$G$400,5,FALSE)","v":{"$error":"#N/A"}},{"$f":"VLOOKUP($A198,'[1]Racing numbers file'!$A$4:$H$400,8,FALSE)","v":{"$error":"#N/A"}},"00:20:00","00:50:00","01:40:00",{"$f":"VLOOKUP($C198,'Age Standards'!$B$3:$J$48,7,FALSE)","v":{"$error":"#N/A"}},{"$f":"VLOOKUP($C198,'Age Standards'!$B$3:$J$48,8,FALSE)","v":{"$error":"#N/A"}},{"$f":"VLOOKUP($C198,'Age Standards'!$B$3:$J$48,9,FALSE)","v":{"$error":"#N/A"}},"00:20:00","00:50:00","01:40:00","00:00:00","00:25:42"]
[null,{"$f":"VLOOKUP($A199,'[1]Racing numbers file'!$A$4:$G$400,2,FALSE)","v":{"$error":"#N/A"}},{"$f":"VLOOKUP($A199,'[1]Racing numbers file'!$A$4:$G$400,5,FALSE)","v":{"$error":"#N/A"}},{"$f":"VLOOKUP($A199,'[1]Racing numbers file'!$A$4:$H$400,8,FALSE)","v":{"$error":"#N/A"}},"00:20:00","00:50:00","01:40:00",{"$f":"VLOOKUP($C199,'Age Standards'!$B$3:$J$48,7,FALSE)","v":{"$error":"#N/A"}},{"$f":"VLOOKUP($C199,'Age Standards'!$B$3:$J$48,8,FALSE)","v":{"$error":"#N/A"}},{"$f":"VLOOKUP($C199,'Age Standards'!$B$3:$J$48,9,FALSE)","v":{"$error":"#N/A"}},"00:20:00","00:50:00","01:40:00","00:00:00","00:25:42"]

{"sheet":"Age std Points Table","index":2,"n_rows":410,"n_cols":27,"rows_kept":410,"cut":false,"hidden":false,"merged":[[0,0,0,4],[1,0,1,4],[2,0,2,4],[3,0,3,4]]}
["IVCA Time Trial League "]
[2015,null,null,null,null,"TTL_01","TTL_02","TTL_03","TTL_04","TTL_05","TTL_06","TTL_07","TTL_08","TTL_09","TTL_10",null,null,null,null,null,"Sat TT_01","Sat TT_02","Sat TT_03","Sat TT_04","Sat TT_05","SatTT_ 06"]
["Age Standard Points Table ",null,null,null,null,"Tuesday","Tuesday","Tuesday","Sunday","Tuesday","Tuesday","Sunday","Sunday","Tuesday","Sunday",null,null,null,null,null,"Sunday","Tuesday","Saturday","Tuesday","Tuesday","Sunday"]
[null,null,null,null,null,41031,41038,41052,41057,41066,41073,41085,41076,41122,41127,null,null,null,null,null,41043,41059,41107,41094,41115,41103]
[null,null,null,null,null,"Tom Dempsey 10 TT","IVCA","Fred Smith 25 TT","IVCA","Championship  10 TT","IVCA","Championship 25 TT","40/50/60/70 Championships","IVCA","100 in 8",null,null,null,null,null,"Mind the Gaps","IVCA","Saturday 10 TT Series","IVCA","IVCA","Age Champs"]
[null,null,null,null,null,"TT","DMS","TT","DMS","TT","DMS","TT","Age DMS","DMS","Tour",null,null,null,null,null,"Tour","DMS","TT","DMS","DMS","Age CP"]
[null,null,null,null,null,"Kilcock","Kilcullen","Black Bull","The Curragh","Kilcock","Kilcullen","Moy Valley","Kentstown","Summerhill","Papal Cross",null,null,null,null,null,41043,"Summerhill","T.B.A.","Kilcullen","Kilcullen","Summerhill"]
[null,"Surname+id","First Name","Age","Points","19:15:00","19:15:00","19:15:00","09:00:00","19:15:00","19:15:00","09:00:00","09:00:00","19:15:00","09:00:00",null,null,"Total ",null,"09:00:00","19:15:00","09:30:00","19:15:00","19:15:00","09:00:00",0,"Total "]
["Column1","Column2","Column3","Column4","Column5","Column6","Column7","Column8","Column9","Column10","Column11","Column12","Column13","Column14","Column15","Column16","Column17","Column18","Column19","Column20","Column21","Column22","Column23","Column24","Column25","Column26","Column27"]
[null,"Paul Dolan",1967,49,10,10,0,0,0,0,0,0,0,0,0,0,0,null,null,10,0,0,0,0,0,0]
[null,"Adrian Byrne",1953,63,9,9,0,0,0,0,0,0,0,0,0,0,0,null,null,9,0,0,0,0,0,0]
[null,"Joe Sheehy",1967,49,8,8,null,null,null,null,null,null,null,null,null,null,null,null,null,8]
[null,"Brian Kane",1975,41,9,9,null,null,null,null,null,null,null,null,null,null,null,null,null,9,0,0,0,0,0,0]
[null,"Mark McCabe",1971,45,7,7,0,0,0,0,0,0,0,0,0,0,0,null,null,7,0,0,0,0,0,0]
[null,"Ciara Kinch",1973,43,6,6,0,0,0,0,0,0,0,0,0,0,0,null,null,6,0,0,0,0,0,0]
[null,"Mick Usher",1954,62,5,5,0,0,0,0,0,0,0,0,0,0,0,null,null,5,0,0,0,0,0,0]
[null,"Tom Malone",1958,58,4,4,0,0,0,0,0,0,0,0,0,0,0,null,null,4,0,0,0,0,0,0]
[null,"Stephen Walsh",1969,47,3,3,0,0,0,0,0,0,0,0,0,0,0,null,null,3,0,0,0,0,0,0]
[null,"Rodney Joyce",1967,49,2,2,0,0,0,0,0,0,0,0,0,0,0,null,null,2,0,0,0,0,0,0]
[null,"Kevin Simms",1932,84,2,2,0,0,0,0,0,0,0,0,0,0,0,null,null,2,0,0,0,0,0,0]
[null,"Phil Ormrod",1944,72,2,2,0,0,0,0,0,0,0,0,0,0,0,null,null,2,0,0,0,0,0,0]
[null,"Willie McDonald",1962,54,2,2,0,0,0,0,0,0,0,0,0,0,0,null,null,2,0,0,0,0,0,0]
[null,"Deanne Sanders",1971,45,2,2,0,0,0,0,0,0,0,0,0,0,0,null,null,2,0,0,0,0,0,0]
[null,"Leonard Carrigan",1967,49,2,2,0,0,0,0,0,0,0,0,0,0,0,null,null,2,0,0,0,0,0,0]
[null,"Enda Smyth",1969,47,2,2,0,0,0,0,0,0,0,0,0,0,0,null,null,2,0,0,0,0,0,0]
[null,"Brendan Byrne",1950,66,2,2,0,0,0,0,0,0,0,0,0,0,0,null,null,2,0,0,0,0,0,0]
[null,"Billy Bourke",1965,51,2,2,0,0,0,0,0,0,0,0,0,0,0,null,null,2,0,0,0,0,0,0]
[null,"Mark Prendergast",1967,49,2,2,0,0,0,0,0,0,0,0,0,0,0,null,null,2,0,0,0,0,0,0]
[null,"David McDonald",1972,44,2,2,0,0,0,0,0,0,0,0,0,0,0,null,null,2,0,0,0,0,0,0]
[null,"Jimmy Murphy",1956,60,2,2,0,0,0,0,0,0,0,0,0,0,0,null,null,2,0,0,0,0,0,0]
[null,"Donagh McArdle",1968,48,2,2,0,0,0,0,0,0,0,0,0,0,0,null,null,2,0,0,0,0,0,0]
[null,"Peter Raftery",1953,63,2,2,0,0,0,0,0,0,0,0,0,0,0,null,null,2,0,0,0,0,0,0]
[null,"Conor Barry",1973,43,2,2,0,0,0,0,0,0,0,0,0,null,null,null,null,2,0,0,0,0,0,0]
[null,"Colm Conway",1952,64,2,2,0,0,0,0,0,0,0,0,0,0,0,null,null,2,0,0,0,0,0,0]
[null,"Colm Cassidy",1957,59,2,2,0,0,0,0,0,0,0,0,0,0,0,null,null,2,0,0,0,0,0,0]
[null,"John Kehoe",1969,47,2,2,0,0,0,0,0,0,0,0,0,null,null,null,null,2,0,0,0,0,0,0]
[null,"Peter Hurley",1963,53,2,2,null,null,null,null,null,null,null,null,null,null,null,null,null,2,0,0,0,0,0,0]
[null,"Michael Hayden",1960,56,2,2,null,null,null,null,null,null,null,null,null,null,null,null,null,2,0,0,0,0,0,0]
[null,"JJ Boylan",1944,72,2,2,0,0,0,0,0,0,0,0,0,0,0,null,null,2,0,0,0,0,0,0]
[null,"Romano Morelli",1952,64,2,2,0,0,0,0,0,0,0,0,0,0,0,null,null,2,0,0,0,0,0,0]
[null,"Ger Madden",1964,52,2,2,0,0,0,0,0,0,0,0,0,0,0,null,null,2,0,0,0,0,0,0]
[null,"Mark Mearns",1976,40,2,2,0,0,0,0,0,0,0,0,0,0,0,null,null,2,0,0,0,0,0,0]
[null,"Malcolm Garland",1965,51,2,2,0,0,0,0,0,0,0,0,0,0,0,null,null,2,0,0,0,0,0,0]
[null,"Jimmy Stagg",1959,57,2,2,0,0,0,0,0,0,0,0,0,0,0,null,null,2,0,0,0,0,0,0]
[null,"Gerry Jameson",1960,56,2,2,0,0,0,0,0,0,0,0,0,null,null,null,null,2,0,0,0,0,0,0]
[null,"Brian Kane",1975,41,2,2,null,null,null,null,null,null,null,null,null,null,null,null,null,2,0,0,0,0,0,0]
[null,"Daniel Roberts",1975,41,2,2,null,null,null,null,null,null,null,null,null,null,null,null,null,2,0,0,0,0,0,0]
[null,{"$error":"#N/A"},{"$error":"#N/A"},{"$error":"#N/A"},2,2,null,null,null,null,null,null,null,null,null,null,null,null,null,2,0,0,0,0,0,0]
[null,"Andrew Bartley",1965,51,0,0,0,0,0,0,0,0,0,0,0,0,0,null,null,0,0,0,0,0,0,0]
[null,"Bill Andrews",1966,50,0,0,0,0,0,0,0,0,0,0,0,0,0,null,null,0,0,0,0,0,0,0]
[null,"Hugh Davis",1947,69,0,0,0,0,0,0,0,0,0,0,0,0,0,null,null,0,0,0,0,0,0,0]
[null,"Paul Hunter",1976,40,0,0,0,0,0,0,0,0,0,0,0,null,null,null,null,0,0,0,0,0,0,0]
[null,"Billy Riggs",1972,44,0,0,0,0,0,0,0,0,0,0,0,0,0,null,null,0,0,0,0,0,0,0]
[null,"Desmond King",1962,54,0,0,0,0,0,0,0,0,0,0,0,0,0,null,null,0,0,0,0,0,0,0]
[null,"Martin McCaffrey",1964,52,0,0,0,0,0,0,0,0,0,0,0,0,0,null,null,0,0,0,0,0,0,0]
[null,"Alan Carroll",1975,41,0,0,0,0,0,0,0,0,0,0,0,0,0,null,null,0,0,0,0,0,0,0]
[null,"Paul Cullinan",1965,51,0,0,0,0,0,0,0,0,0,0,0,0,0,null,null,0,0,0,0,0,0,0]
[null,"Simon Wallace",1972,44,0,0,0,0,0,0,0,0,0,0,0,0,0,null,null,0,0,0,0,0,0,0]
[null,"Sam McArdle",1964,52,0,0,0,0,0,0,0,0,0,0,0,0,0,null,null,0,0,0,0,0,0,0]
[null,"Patsy FitzSimons",1934,82,0,0,0,0,0,0,0,0,0,0,0,0,0,null,null,0,0,0,0,0,0,0]
[null,"Joe Christian",1975,41,0,0,0,0,0,0,0,0,0,0,0,0,0,null,null,0,0,0,0,0,0,0]
[null,"Brian McNamara",1968,48,0,0,0,0,0,0,0,0,0,0,0,0,0,null,null,0,0,0,0,0,0,0]
[null,"David Carroll",1971,45,0,0,0,0,0,0,0,0,0,0,0,0,0,null,null,0,0,0,0,0,0,0]
[null,"Eddie Dunne",1944,72,0,0,0,0,0,0,0,0,0,0,0,0,0,null,null,0,0,0,0,0,0,0]
[null,"Tony Brady",1962,54,0,0,0,0,0,0,0,0,0,0,0,0,0,null,null,0,0,0,0,0,0,0]
[null,"Harry Sherratt",1948,68,0,0,0,0,0,0,0,0,0,0,0,0,0,null,null,0,0,0,0,0,0,0]
[null,"Peter Rice",1946,70,0,0,0,0,0,0,0,0,0,0,0,0,0,null,null,0,0,0,0,0,0,0]
[null,"Karl Monaghan",1970,46,0,0,0,0,0,0,0,0,0,0,0,0,0,null,null,0,0,0,0,0,0,0]
[null,"Mick Payne",1942,74,0,0,0,0,0,0,0,0,0,0,0,0,0,null,null,0,0,0,0,0,0,0]
[null,"Liam Cullen",1974,42,0,0,0,0,0,0,0,0,0,0,0,null,null,null,null,0,0,0,0,0,0,0]
[null,"Lochlann Walsh",1968,48,0,0,0,0,0,0,0,0,0,0,0,0,0,null,null,0,0,0,0,0,0,0]
[null,"Shay Dalton",1967,49,0,0,0,0,0,0,0,0,0,0,0,0,0,null,null,0,0,0,0,0,0,0]
[null,"Alan Quinn",1976,40,0,0,0,0,0,0,0,0,0,0,0,null,null,null,null,0,0,0,0,0,0,0]
[null,"Valerie Considine",1969,47,0,0,0,0,0,0,0,0,0,0,0,0,0,null,null,0,0,0,0,0,0,0]
[null,"Dermot Anglin",1958,58,0,0,0,0,0,0,0,0,0,0,0,0,0,null,null,0,0,0,0,0,0,0]
[null,"Tony Keating",1969,47,0,0,0,0,0,0,0,0,0,0,0,0,0,null,null,0,0,0,0,0,0,0]
[null,"David Holland",1974,42,0,0,0,0,0,0,0,0,0,0,0,0,0,null,null,0,0,0,0,0,0,0]
[null,"John Piggott",1955,61,0,0,0,0,0,0,0,0,0,0,0,0,0,null,null,0,0,0,0,0,0,0]
[null,"Ollie Daly",1971,45,0,0,0,0,0,0,0,0,0,0,0,0,0,null,null,0,0,0,0,0,0,0]
[null,"Dave Woods",1953,63,0,0,0,0,0,0,0,0,0,0,0,0,0,null,null,0,0,0,0,0,0,0]
[null,"Eunan Malone",1960,56,0,0,0,0,0,0,0,0,0,0,0,0,0,null,null,0,0,0,0,0,0,0]
[null,"Norman Eyre",1969,47,0,0,0,0,0,0,0,0,0,0,0,0,0,null,null,0,0,0,0,0,0,0]
[null,"Eddie Scully",1941,75,0,0,0,0,0,0,0,0,0,0,0,0,0,null,null,0,0,0,0,0,0,0]
[null,"Barry Timmins",1965,51,0,0,0,0,0,0,0,0,0,0,0,0,0,null,null,0,0,0,0,0,0,0]
[null,"Pat Halpin",1957,59,0,0,0,0,0,0,0,0,0,0,0,0,0,null,null,0,0,0,0,0,0,0]
[null,"Barry Dace",1974,42,0,0,0,0,0,0,0,0,0,0,0,0,0,null,null,0,0,0,0,0,0,0]
[null,"Jack Lynch",1970,46,0,0,0,0,0,0,0,0,0,0,0,null,null,null,null,0,0,0,0,0,0,0]
[null,"Kiaran Sweeney",1967,49,0,0,0,0,0,0,0,0,0,0,0,null,null,null,null,0,0,0,0,0,0,0]
[null,"Emmet Reilly",1968,48,0,0,0,0,0,0,0,0,0,0,0,0,0,null,null,0,0,0,0,0,0,0]
[null,"Anthony O'Malley",1968,48,0,0,0,0,0,0,0,0,0,0,0,0,0,null,null,0,0,0,0,0,0,0]
[null,"Mick Hennessy",1968,48,0,0,0,0,0,0,0,0,0,0,0,0,0,null,null,0,0,0,0,0,0,0]
[null,"Seamus Brennan",1947,69,0,0,0,0,0,0,0,0,0,0,0,0,0,null,null,0,0,0,0,0,0,0]
[null,"Brian Moran",1976,40,0,0,0,0,0,0,0,0,0,0,0,0,0,null,null,0,0,0,0,0,0,0]
[null,"Martin Gray",1951,65,0,0,0,0,0,0,0,0,0,0,0,0,0,null,null,0,0,0,0,0,0,0]
[null,"Michael Kinsella",1965,51,0,0,0,0,0,0,0,0,0,0,0,0,0,null,null,0,0,0,0,0,0,0]
[null,"Don Samway",1965,51,0,0,0,0,0,0,0,0,0,0,0,0,0,null,null,0,0,0,0,0,0,0]
[null,"Seán Lally",1941,75,0,0,0,0,0,0,0,0,0,0,0,0,0,null,null,0,0,0,0,0,0,0]
[null,"Tosh Lavery",1953,63,0,0,0,0,0,0,0,0,0,0,0,0,0,null,null,0,0,0,0,0,0,0]
[null,"Robert Norgrove",1940,76,0,0,0,0,0,0,0,0,0,0,0,0,0,null,null,0,0,0,0,0,0,0]
[null,"Damian Doyle",1967,49,0,0,0,0,0,0,0,0,0,0,0,0,0,null,null,0,0,0,0,0,0,0]
[null,"Will Byrne",1973,43,0,0,0,0,0,0,0,0,0,0,0,0,0,null,null,0,0,0,0,0,0,0]
[null,"Stephen McGovern",1976,40,0,0,0,0,0,0,0,0,0,0,0,null,null,null,null,0,0,0,0,0,0,0]
[null,"Paul Reid",1970,46,0,0,0,0,0,0,0,0,0,0,0,0,0,null,null,0,0,0,0,0,0,0]
[null,"Anthony Crean",1972,44,0,0,0,0,0,0,0,0,0,0,0,0,0,null,null,0,0,0,0,0,0,0]
[null,"Dermot Hickey",1971,45,0,0,0,0,0,0,0,0,0,0,0,0,0,null,null,0,0,0,0,0,0,0]
[null,"Dale Copas",1968,48,0,0,0,0,0,0,0,0,0,0,0,0,0,null,null,0,0,0,0,0,0,0]
[null,"Ed Hogan",1958,58,0,0,0,0,0,0,0,0,0,0,0,0,0,null,null,0,0,0,0,0,0,0]
[null,"Paul Faherty",1974,42,0,0,0,0,0,0,0,0,0,0,0,0,0,null,null,0,0,0,0,0,0,0]
[null,"Seán Gaine",1964,52,0,0,0,0,0,0,0,0,0,0,0,0,0,null,null,0,0,0,0,0,0,0]
[null,"Jim Sweeney",1936,80,0,0,0,0,0,0,0,0,0,0,0,0,0,null,null,0,0,0,0,0,0,0]
[null,"Gerard Murphy",1970,46,0,0,0,0,0,0,0,0,0,0,0,null,null,null,null,0,0,0,0,0,0,0]
[null,"Robert Kehoe",1964,52,0,0,0,0,0,0,0,0,0,0,0,0,0,null,null,0,0,0,0,0,0,0]
[null,"Cathal Murray",1972,44,0,0,0,0,0,0,0,0,0,0,0,0,0,null,null,0,0,0,0,0,0,0]
[null,"Mark Pagell",1966,50,0,0,0,0,0,0,0,0,0,0,0,0,0,null,null,0,0,0,0,0,0,0]
[null,"Kevin Byrne",1975,41,0,0,0,0,0,0,0,0,0,0,0,0,0,null,null,0,0,0,0,0,0,0]
[null,"Stephen McNally",1966,50,0,0,0,0,0,0,0,0,0,0,0,0,0,null,null,0,0,0,0,0,0,0]
[null,"David Bradley",1972,44,0,0,0,0,0,0,0,0,0,0,0,0,0,null,null,0,0,0,0,0,0,0]
[null,"Mark Mahon",1973,43,0,0,0,0,0,0,0,0,0,0,0,null,null,null,null,0,0,0,0,0,0,0]
[null,"Jimmy Lally",1943,73,0,0,0,0,0,0,0,0,0,0,0,0,0,null,null,0,0,0,0,0,0,0]
[null,"Derek McCullagh",1946,70,0,0,0,0,0,0,0,0,0,0,0,0,0,null,null,0,0,0,0,0,0,0]
[null,"Richard Cattle",1967,49,0,0,0,0,0,0,0,0,0,0,0,null,null,null,null,0,0,0,0,0,0,0]
[null,"Mark Cooney",1972,44,0,0,0,0,0,0,0,0,0,0,0,0,0,null,null,0,0,0,0,0,0,0]
[null,"Paul Kelly",1974,42,0,0,0,0,0,0,0,0,0,0,0,0,0,null,null,0,0,0,0,0,0,0]
[null,"Elaine Clarke",1979,37,0,0,0,0,0,0,0,0,0,0,0,0,0,null,null,0,0,0,0,0,0,0]
[null,"William McGonagle",1964,52,0,0,0,0,0,0,0,0,0,0,0,0,0,null,null,0,0,0,0,0,0,0]
[null,"Jason O'Toole",1971,45,0,0,0,0,0,0,0,0,0,0,0,0,0,null,null,0,0,0,0,0,0,0]
[null,"Ken O'Neill",1971,45,0,0,0,0,0,0,0,0,0,0,0,0,0,null,null,0,0,0,0,0,0,0]
[null,"Seán Bracken",1960,56,0,0,0,0,0,0,0,0,0,0,0,0,0,null,null,0,0,0,0,0,0,0]
[null,"Noel Thompson",1961,55,0,0,0,0,0,0,0,0,0,0,0,0,0,null,null,0,0,0,0,0,0,0]
[null,"Erik Robson",1970,46,0,0,0,0,0,0,0,0,0,0,0,0,0,null,null,0,0,0,0,0,0,0]
[null,"Paddy FitzSimons",1946,70,0,0,0,0,0,0,0,0,0,0,0,0,0,null,null,0,0,0,0,0,0,0]
[null,"Des Howe",1948,68,0,0,0,0,0,0,0,0,0,0,0,0,0,null,null,0,0,0,0,0,0,0]
[null,"Ian Cassidy",1974,42,0,0,0,0,0,0,0,0,0,0,0,null,null,null,null,0,0,0,0,0,0,0]
[null,"Andy Brady",1968,48,0,0,0,0,0,0,0,0,0,0,0,0,0,null,null,0,0,0,0,0,0,0]
[null,"Ken Tobin",1975,41,0,0,0,0,0,0,0,0,0,0,0,null,null,null,null,0,0,0,0,0,0,0]
[null,"Karl Gallagher",1958,58,0,0,0,0,0,0,0,0,0,0,0,0,0,null,null,0,0,0,0,0,0,0]
[null,"Pat Beere",1969,47,0,0,0,0,0,0,0,0,0,0,0,0,0,null,null,0,0,0,0,0,0,0]
[null,"Column2","Column3","Column5",0,0,0,0,0,0,0,0,0,0,0,0,0,null,null,0,0,0,0,0,0,0]
[null,"Malachy McKenna",1967,49,0,0,0,0,0,0,0,0,0,0,0,0,0,null,null,0,0,0,0,0,0,0]
[null,"Cian Lynch",1971,45,0,0,0,0,0,0,0,0,0,0,0,0,0,null,null,0,0,0,0,0,0,0]
[null,"Stephen Murphy",1966,50,0,0,0,0,0,0,0,0,0,0,0,0,0,null,null,0,0,0,0,0,0,0]
[null,"Francis Coates",1954,62,0,0,0,0,0,0,0,0,0,0,0,0,0,null,null,0,0,0,0,0,0,0]
[null,"Eddie Lynch",1960,56,0,0,0,0,0,0,0,0,0,0,0,0,0,null,null,0,0,0,0,0,0,0]
[null,"Damien Lyle-Stirling",1952,64,0,0,0,0,0,0,0,0,0,0,0,0,0,null,null,0,0,0,0,0,0,0]
[null,"John Shortt",1957,59,0,0,0,0,0,0,0,0,0,0,0,0,0,null,null,0,0,0,0,0,0,0]
[null,"John Brady",1964,52,0,0,0,0,0,0,0,0,0,0,0,0,0,null,null,0,0,0,0,0,0,0]
[null,"Enda McKeown",1972,44,0,0,0,0,0,0,0,0,0,0,0,0,0,null,null,0,0,0,0,0,0,0]
[null,"Tony Dunne",1962,54,0,0,0,0,0,0,0,0,0,0,0,0,0,null,null,0,0,0,0,0,0,0]
[null,"Seán Darragh",1951,65,0,0,0,0,0,0,0,0,0,0,0,0,0,null,null,0,0,0,0,0,0,0]
[null,"Sean Dunne",1966,50,0,0,0,0,0,0,0,0,0,0,0,null,null,null,null,0,0,0,0,0,0,0]
[null,"Declan Weldon",1968,48,0,0,0,0,0,0,0,0,0,0,0,0,0,null,null,0,0,0,0,0,0,0]
[null,"Darragh Murphy",1968,48,0,0,0,0,0,0,0,0,0,0,0,0,0,null,null,0,0,0,0,0,0,0]
[null,"Lloyd Berry",1964,52,0,0,0,0,0,0,0,0,0,0,0,0,0,null,null,0,0,0,0,0,0,0]
[null,"Seán G Lally",1963,53,0,0,0,0,0,0,0,0,0,0,0,0,0,null,null,0,0,0,0,0,0,0]
[null,"Ken Nelson",1972,44,0,0,0,0,0,0,0,0,0,0,0,null,null,null,null,0,0,0,0,0,0,0]
[null,"Paul Tansey",1957,59,0,0,0,0,0,0,0,0,0,0,0,0,0,null,null,0,0,0,0,0,0,0]
[null,"Gavin Kelly",1973,43,0,0,0,0,0,0,0,0,0,0,0,0,0,null,null,0,0,0,0,0,0,0]
[null,"Roy Bowden",1971,45,0,0,0,0,0,0,0,0,0,0,0,0,0,null,null,0,0,0,0,0,0,0]
[null,"David Kelly",1955,61,0,0,0,0,0,0,0,0,0,0,0,0,0,null,null,0,0,0,0,0,0,0]
[null,"Gerard Kane",1969,47,0,0,0,0,0,0,0,0,0,0,0,null,null,null,null,0,0,0,0,0,0,0]
[null,"Albert Murtagh",1936,80,0,0,0,0,0,0,0,0,0,0,0,0,0,null,null,0,0,0,0,0,0,0]
[null,"Noel Conway",1972,44,0,0,0,0,0,0,0,0,0,0,0,0,0,null,null,0,0,0,0,0,0,0]
[null,"Jason Ludgate",1972,44,0,0,0,0,0,0,0,0,0,0,0,0,0,null,null,0,0,0,0,0,0,0]
[null,"Daniel Conroy",1967,49,0,0,0,0,0,0,0,0,0,0,0,0,0,null,null,0,0,0,0,0,0,0]
[null,"Neil Delahaye",1975,41,0,0,0,0,0,0,0,0,0,0,0,0,0,null,null,0,0,0,0,0,0,0]
[null,"Paddy Byrne",1938,78,0,0,0,0,0,0,0,0,0,0,0,0,0,null,null,0,0,0,0,0,0,0]
[null,"John Lanigan",1967,49,0,0,0,0,0,0,0,0,0,0,0,0,0,null,null,0,0,0,0,0,0,0]
[null,"Orla Tansey",1963,53,0,0,0,0,0,0,0,0,0,0,0,0,0,null,null,0,0,0,0,0,0,0]
[null,"Ronnie Howe",1953,63,0,0,0,0,0,0,0,0,0,0,0,0,0,null,null,0,0,0,0,0,0,0]
[null,"Mark Kidd",1969,47,0,0,0,0,0,0,0,0,0,0,0,0,0,null,null,0,0,0,0,0,0,0]
[null,"Gavin Dodd",1974,42,0,0,0,0,0,0,0,0,0,0,0,null,null,null,null,0,0,0,0,0,0,0]
[null,"Malcolm Kell",1971,45,0,0,0,0,0,0,0,0,0,0,0,0,0,null,null,0,0,0,0,0,0,0]
[null,"Paddy Davis",1943,73,0,0,0,0,0,0,0,0,0,0,0,0,0,null,null,0,0,0,0,0,0,0]
[null,"Conor Feeney",1972,44,0,0,0,0,0,0,0,0,0,0,0,0,0,null,null,0,0,0,0,0,0,0]
[null,"Mark Kiernan",1969,47,0,0,0,0,0,0,0,0,0,0,0,0,0,null,null,0,0,0,0,0,0,0]
[null,"David Tansey",1966,50,0,0,0,0,0,0,0,0,0,0,0,0,0,null,null,0,0,0,0,0,0,0]
[null,"Eamonn Walsh",1962,54,0,0,0,0,0,0,0,0,0,0,0,0,0,null,null,0,0,0,0,0,0,0]
[null,"Hugh Byrne",1959,57,0,0,0,0,0,0,0,0,0,0,0,0,0,null,null,0,0,0,0,0,0,0]
[null,"Aidan Yates",1974,42,0,0,0,0,0,0,0,0,0,0,0,0,0,null,null,0,0,0,0,0,0,0]
[null,"Conor McGrane",1970,46,0,0,0,0,0,0,0,0,0,0,0,0,0,null,null,0,0,0,0,0,0,0]
[null,"Brian Kilbride",1968,48,0,0,0,0,0,0,0,0,0,0,0,0,0,null,null,0,0,0,0,0,0,0]
[null,"Michael Moore",1968,48,0,0,0,0,0,0,0,0,0,0,0,0,0,null,null,0,0,0,0,0,0,0]
[null,"Ciaran Ruane",1971,45,0,0,0,0,0,0,0,0,0,0,0,null,null,null,null,0,0,0,0,0,0,0]
[null,"Andreas Voigt",1972,44,0,0,0,0,0,0,0,0,0,0,0,0,0,null,null,0,0,0,0,0,0,0]
[null,"Patrick Troy",1954,62,0,0,0,0,0,0,0,0,0,0,0,0,0,null,null,0,0,0,0,0,0,0]
[null,"Declan Quigley",1966,50,0,0,0,0,0,0,0,0,0,0,0,null,null,null,null,0,0,0,0,0,0,0]
[null,"Paul Atkinson",1960,56,0,0,0,0,0,0,0,0,0,0,0,0,0,null,null,0,0,0,0,0,0,0]
[null,"Thomas Coleman",1964,52,0,0,0,0,0,0,0,0,0,0,0,0,0,null,null,0,0,0,0,0,0,0]
[null,"Charlie Sheridan",1971,45,0,0,0,0,0,0,0,0,0,0,0,0,0,null,null,0,0,0,0,0,0,0]
[null,"Keith O'Rourke",1969,47,0,0,0,0,0,0,0,0,0,0,0,0,0,null,null,0,0,0,0,0,0,0]
[null,"Aidan Hammond",1969,47,0,0,0,0,0,0,0,0,0,0,0,0,0,null,null,0,0,0,0,0,0,0]
[null,"Patrick Deegan",1970,46,0,0,0,0,0,0,0,0,0,0,0,0,0,null,null,0,0,0,0,0,0,0]
[null,"Dave Cormack",1961,55,0,0,0,0,0,0,0,0,0,0,0,0,0,null,null,0,0,0,0,0,0,0]
[null,"Jim Morahan",1943,73,0,0,0,0,0,0,0,0,0,0,0,0,0,null,null,0,0,0,0,0,0,0]
[null,"Fearghal Regan",1970,46,0,0,0,0,0,0,0,0,0,0,0,null,null,null,null,0,0,0,0,0,0,0]
[null,"Eamon Finn",1965,51,0,0,0,0,0,0,0,0,0,0,0,null,null,null,null,0,0,0,0,0,0,0]
[null,"Oliver Bright",1944,72,0,0,0,0,0,0,0,0,0,0,0,0,0,null,null,0,0,0,0,0,0,0]
[null,"Jimmy Flynn",1956,60,0,0,0,0,0,0,0,0,0,0,0,0,0,null,null,0,0,0,0,0,0,0]
[null,"Aidan Somerville",1973,43,0,0,0,0,0,0,0,0,0,0,0,0,0,null,null,0,0,0,0,0,0,0]
[null,"Albert Morrow",1962,54,0,0,0,0,0,0,0,0,0,0,0,0,0,null,null,0,0,0,0,0,0,0]
[null,"Aidan Richardson",1954,62,0,0,0,0,0,0,0,0,0,0,0,0,0,null,null,0,0,0,0,0,0,0]
[null,"Arthur Ebbs",1959,57,0,0,0,0,0,0,0,0,0,0,0,0,0,null,null,0,0,0,0,0,0,0]
[null,"Norman Shine",1975,41,0,0,0,0,0,0,0,0,0,0,0,0,0,null,null,0,0,0,0,0,0,0]
[null,"Declan Looby",1966,50,0,0,0,0,0,0,0,0,0,0,0,0,0,null,null,0,0,0,0,0,0,0]
[null,"Paul O'Connell",1945,71,0,0,0,0,0,0,0,0,0,0,0,0,0,null,null,0,0,0,0,0,0,0]
[null,"Alan Cody",1976,40,0,0,0,0,0,0,0,0,0,0,0,null,null,null,null,0,0,0,0,0,0,0]
[null,"Stephen Fennell",1961,55,0,0,0,0,0,0,0,0,0,0,0,0,0,null,null,0,0,0,0,0,0,0]
[null,"Noel Murphy",1972,44,0,0,0,0,0,0,0,0,0,0,0,0,0,null,null,0,0,0,0,0,0,0]
[null,"Mick Davis",1945,71,0,0,0,0,0,0,0,0,0,0,0,0,0,null,null,0,0,0,0,0,0,0]
[null,"Fergus Craddock",1975,41,0,0,0,0,0,0,0,0,0,0,0,null,null,null,null,0,0,0,0,0,0,0]
[null,"Dermot O'Gorman",1956,60,0,0,0,0,0,0,0,0,0,0,0,0,0,null,null,0,0,0,0,0,0,0]
[null,"Diarmuid Collins",1975,41,0,0,0,0,0,0,0,0,0,0,0,null,null,null,null,0,0,0,0,0,0,0]
[null,"Padraic Hamrock",1964,52,0,0,0,0,0,0,0,0,0,0,0,0,0,null,null,0,0,0,0,0,0,0]
[null,"Tom Barber",1962,54,0,0,0,0,0,0,0,0,0,0,0,0,0,null,null,0,0,0,0,0,0,0]
[null,"Nathan Hannigan",1964,52,0,0,0,0,0,0,0,0,0,0,0,0,0,null,null,0,0,0,0,0,0,0]
[null,"Alan Sheppard",1966,50,0,0,0,0,0,0,0,0,0,0,0,0,0,null,null,0,0,0,0,0,0,0]
[null,"Caroline Martinez",1979,37,0,0,0,0,0,0,0,0,0,0,0,0,0,null,null,0,0,0,0,0,0,0]
[null,"John Hogan",1960,56,0,0,0,0,0,0,0,0,0,0,0,0,0,null,null,0,0,0,0,0,0,0]
[null,"Peter McDunphy",1959,57,0,0,0,0,0,0,0,0,0,0,0,0,0,null,null,0,0,0,0,0,0,0]
[null,"Mick Mullen",1948,68,0,0,0,0,0,0,0,0,0,0,0,0,0,null,null,0,0,0,0,0,0,0]
[null,"Joseph Coleman",1960,56,0,0,0,0,0,0,0,0,0,0,0,0,0,null,null,0,0,0,0,0,0,0]
[null,"Paul Durnin",1972,44,0,0,0,0,0,0,0,0,0,0,0,0,0,null,null,0,0,0,0,0,0,0]
[null,"Sean Hynes",1964,52,0,0,0,0,0,0,0,0,0,0,0,null,null,null,null,0,0,0,0,0,0,0]
[null,"Brian Lenehan",1969,47,0,0,0,0,0,0,0,0,0,0,0,0,0,null,null,0,0,0,0,0,0,0]
[null,"Ray Fedigan",1972,44,0,0,0,0,0,0,0,0,0,0,0,0,0,null,null,0,0,0,0,0,0,0]
[null,"Denis Gleeson",1953,63,0,0,0,0,0,0,0,0,0,0,0,0,0,null,null,0,0,0,0,0,0,0]
[null,"Dylan Rafter",1974,42,0,0,0,0,0,0,0,0,0,0,0,0,0,null,null,0,0,0,0,0,0,0]
[null,"Richard Dufficy",1970,46,0,0,0,0,0,0,0,0,0,0,0,0,0,null,null,0,0,0,0,0,0,0]
[null,"Noel Kelly",1959,57,0,0,0,0,0,0,0,0,0,0,0,0,0,null,null,0,0,0,0,0,0,0]
[null,"Tony O'Malley",1972,44,0,0,0,0,0,0,0,0,0,0,0,0,0,null,null,0,0,0,0,0,0,0]
[null,"Martin Kennedy",1960,56,0,0,0,0,0,0,0,0,0,0,0,0,0,null,null,0,0,0,0,0,0,0]
[null,"Tom O'Connell",1969,47,0,0,0,0,0,0,0,0,0,0,0,0,0,null,null,0,0,0,0,0,0,0]
[null,"Jonathan Grimes",1971,45,0,0,0,0,0,0,0,0,0,0,0,0,0,null,null,0,0,0,0,0,0,0]
[null,"Keith Lambourne",1961,55,0,0,0,0,0,0,0,0,0,0,0,0,0,null,null,0,0,0,0,0,0,0]
[null,"John Lawless",1961,55,0,0,0,0,0,0,0,0,0,0,0,0,0,null,null,0,0,0,0,0,0,0]
[null,"Michael Lee",1964,52,0,0,0,0,0,0,0,0,0,0,0,0,0,null,null,0,0,0,0,0,0,0]
[null,"Jason Kelly",1970,46,0,0,0,0,0,0,0,0,0,0,0,0,0,null,null,0,0,0,0,0,0,0]
[null,"Barry Swan",1967,49,0,0,0,0,0,0,0,0,0,0,0,0,0,null,null,0,0,0,0,0,0,0]
[null,"Tom Lucas",1958,58,0,0,0,0,0,0,0,0,0,0,0,0,0,null,null,0,0,0,0,0,0,0]
[null,"Barry Roden",1970,46,0,0,0,0,0,0,0,0,0,0,0,0,0,null,null,0,0,0,0,0,0,0]
[null,"Derek Gormley",1973,43,0,0,0,0,0,0,0,0,0,0,0,0,0,null,null,0,0,0,0,0,0,0]
[null,"Linus Devlin",1964,52,0,0,0,0,0,0,0,0,0,0,0,0,0,null,null,0,0,0,0,0,0,0]
[null,"Mark Shields",1976,40,0,0,0,0,0,0,0,0,0,0,0,null,null,null,null,0,0,0,0,0,0,0]
[null,"Gerry Martin",1959,57,0,0,0,0,0,0,0,0,0,0,0,0,0,null,null,0,0,0,0,0,0,0]
[null,"Gerry Gaston",1954,62,0,0,0,0,0,0,0,0,0,0,0,0,0,null,null,0,0,0,0,0,0,0]
[null,{"$error":"#N/A"},{"$error":"#N/A"},{"$error":"#N/A"},0,0,0,0,0,0,0,0,0,0,0,0,0,null,null,0,0,0,0,0,0,0]
[null,"Conleth McKernan",1967,49,0,0,0,0,0,0,0,0,0,0,0,0,0,null,null,0,0,0,0,0,0,0]
[null,"Quentin Jansen",1971,45,0,0,0,0,0,0,0,0,0,0,0,0,0,null,null,0,0,0,0,0,0,0]
[null,"Colin Bell",1971,45,0,0,0,0,0,0,0,0,0,0,0,0,0,null,null,0,0,0,0,0,0,0]
[null,"Mark Burns",1962,54,0,0,0,0,0,0,0,0,0,0,0,0,0,null,null,0,0,0,0,0,0,0]
[null,"Andrew Kavanagh",1971,45,0,0,0,0,0,0,0,0,0,0,0,0,0,null,null,0,0,0,0,0,0,0]
[null,"Cathal Miller",1968,48,0,0,0,0,0,0,0,0,0,0,0,0,0,null,null,0,0,0,0,0,0,0]
[null,"Ian O'Hara",1972,44,0,0,0,0,0,0,0,0,0,0,0,0,0,null,null,0,0,0,0,0,0,0]
[null,"Murray ch",{"$error":"#N/A"},{"$error":"#N/A"},0,0,0,0,0,0,0,0,0,0,0,0,0,null,null,0,0,0,0,0,0,0]
[null,"Dermot Naughton",1958,58,0,0,0,0,0,0,0,0,0,0,0,0,0,null,null,0,0,0,0,0,0,0]
[null,"Karl Naylor",1959,57,0,0,0,0,0,0,0,0,0,0,0,0,0,null,null,0,0,0,0,0,0,0]
[null,"Eamonn Newton",1963,53,0,0,0,0,0,0,0,0,0,0,0,0,0,null,null,0,0,0,0,0,0,0]
[null,"Peter Schweppe",1938,78,0,0,0,0,0,0,0,0,0,0,0,0,0,null,null,0,0,0,0,0,0,0]
[null,"Pat Byrne",1964,52,0,0,0,0,0,0,0,0,0,0,0,0,0,null,null,0,0,0,0,0,0,0]
[null,"Damien Nelson",1972,44,0,0,0,0,0,0,0,0,0,0,0,null,null,null,null,0,0,0,0,0,0,0]
[null,"Aidan Delaney",1973,43,0,0,0,0,0,0,0,0,0,0,0,0,0,null,null,0,0,0,0,0,0,0]
[null,"Paul Deans",1956,60,0,0,0,0,0,0,0,0,0,0,0,0,0,null,null,0,0,0,0,0,0,0]
[null,"Gavin Keating",1975,41,0,0,0,0,0,0,0,0,0,0,0,0,0,null,null,0,0,0,0,0,0,0]
[null,"Jim O'Shea",1959,57,0,0,0,0,0,0,0,0,0,0,0,0,0,null,null,0,0,0,0,0,0,0]
[null,"Declan Crean",1976,40,0,0,0,0,0,0,0,0,0,0,0,null,null,null,null,0,0,0,0,0,0,0]
[null,"William Parnell",1960,56,0,0,0,0,0,0,0,0,0,0,0,0,0,null,null,0,0,0,0,0,0,0]
[null,"Michael McEntee",1954,62,0,0,0,0,0,0,0,0,0,0,0,0,0,null,null,0,0,0,0,0,0,0]
[null,"John Tracey",1957,59,0,0,0,0,0,0,0,0,0,0,0,0,0,null,null,0,0,0,0,0,0,0]
[null,"Mike Claffey",1968,48,0,0,0,0,0,0,0,0,0,0,0,0,0,null,null,0,0,0,0,0,0,0]
[null,"Paul Fahy",1965,51,0,0,0,0,0,0,0,0,0,0,0,0,0,null,null,0,0,0,0,0,0,0]
[null,"Brian Kinsella",1970,46,0,0,0,0,0,0,0,0,0,0,0,0,0,null,null,0,0,0,0,0,0,0]
[null,"Ed O'Brien",1975,41,0,0,0,0,0,0,0,0,0,0,0,0,0,null,null,0,0,0,0,0,0,0]
[null,"Terry Ferris",1956,60,0,0,0,0,0,0,0,0,0,0,0,0,0,null,null,0,0,0,0,0,0,0]
[null,"Susie Mitchell",1975,41,0,0,0,0,0,0,0,0,0,0,0,0,0,null,null,0,0,0,0,0,0,0]
[null,"Jim Ludden",1935,81,0,0,0,0,0,0,0,0,0,0,0,0,0,null,null,0,0,0,0,0,0,0]
[null,"Lloyd Scott",1062,954,0,0,0,0,0,0,0,0,0,0,0,0,0,null,null,0,0,0,0,0,0,0]
[null,"Mick Scully",1963,53,0,0,0,0,0,0,0,0,0,0,0,0,0,null,null,0,0,0,0,0,0,0]
[null,"Mark McGarry",1967,49,0,0,0,0,0,0,0,0,0,0,0,0,0,null,null,0,0,0,0,0,0,0]
[null,"George O'Rorke",1948,68,0,0,0,0,0,0,0,0,0,0,0,0,0,null,null,0,0,0,0,0,0,0]
[null,"Terry Ryan",1956,60,0,0,0,0,0,0,0,0,0,0,0,0,0,null,null,0,0,0,0,0,0,0]
[null,"Liam Hogan",1959,57,0,0,0,0,0,0,0,0,0,0,0,0,0,null,null,0,0,0,0,0,0,0]
[null,"Mark Colbert",1971,45,0,0,0,0,0,0,0,0,0,0,0,0,0,null,null,0,0,0,0,0,0,0]
[null,"Seán Connolly",1970,46,0,0,0,0,0,0,0,0,0,0,0,0,0,null,null,0,0,0,0,0,0,0]
[null,"Giovanni Furlan",1969,47,0,0,0,0,0,0,0,0,0,0,0,0,0,null,null,0,0,0,0,0,0,0]
[null,"Leslie Walpole",1961,55,0,0,0,0,0,0,0,0,0,0,0,0,0,null,null,0,0,0,0,0,0,0]
[null,"Dermot Moyne",1962,54,0,0,0,0,0,0,0,0,0,0,0,0,0,null,null,0,0,0,0,0,0,0]
[null,"John Walsh",1963,53,0,0,0,0,0,0,0,0,0,0,0,0,0,null,null,0,0,0,0,0,0,0]
[null,"Matthew Chell",1968,48,0,0,0,0,0,0,0,0,0,0,0,0,0,null,null,0,0,0,0,0,0,0]
[null,"Ned Costello",1961,55,0,0,0,0,0,0,0,0,0,0,0,0,0,null,null,0,0,0,0,0,0,0]
[null,"John Kinehan",1969,47,0,0,0,0,0,0,0,0,0,0,0,0,0,null,null,0,0,0,0,0,0,0]
[null,"Greg Burke",1966,50,0,0,0,0,0,0,0,0,0,0,0,0,0,null,null,0,0,0,0,0,0,0]
[null,"Mick Rock",1960,56,0,0,0,0,0,0,0,0,0,0,0,0,0,null,null,0,0,0,0,0,0,0]
[null,"David Ryan",1960,56,0,0,0,0,0,0,0,0,0,0,0,null,null,null,null,0,0,0,0,0,0,0]
[null,"Eamon Peregrine",1971,45,0,0,0,0,0,0,0,0,0,0,0,null,null,null,null,0,0,0,0,0,0,0]
[null,"David MacNeaney",1969,47,0,0,0,0,0,0,0,0,0,0,0,null,null,null,null,0,0,0,0,0,0,0]
[null,"Paul McKenna",1976,40,0,0,0,0,0,0,0,0,0,0,0,null,null,null,null,0,0,0,0,0,0,0]
[null,"Daragh O'Toole",1970,46,0,0,0,0,0,0,0,0,0,0,0,null,null,null,null,0,0,0,0,0,0,0]
[null,"Tom Cummins",1974,42,0,0,0,0,0,0,0,0,0,0,0,null,null,null,null,0,0,0,0,0,0,0]
[null,"Aidan McKenna",1972,44,0,0,0,0,0,0,0,0,0,0,0,null,null,null,null,0,0,0,0,0,0,0]
[null,"Paul McDonnell",1969,47,0,0,0,0,0,0,0,0,0,0,0,null,null,null,null,0,0,0,0,0,0,0]
[null,"Brian Byrne",1971,45,0,0,0,0,0,0,0,0,0,0,0,null,null,null,null,0,0,0,0,0,0,0]
[null,"Tony Kavanagh",1950,66,0,0,0,0,0,0,0,0,0,0,0,null,null,null,null,0,0,0,0,0,0,0]
[null,"Phillip Morrissey",1974,42,0,0,0,0,0,0,0,0,0,0,0,null,null,null,null,0,0,0,0,0,0,0]
[null,"Graham Synnott",1975,41,0,0,0,0,0,0,0,0,0,0,0,null,null,null,null,0,0,0,0,0,0,0]
[null,"Brian Morrissey",1969,47,0,0,0,0,0,0,0,0,0,0,0,null,null,null,null,0,0,0,0,0,0,0]
[null,"Donal Gleeson",1971,45,0,0,0,0,0,0,0,0,0,0,0,null,null,null,null,0,0,0,0,0,0,0]
[null,"Stephen O'Brien",1976,40,0,0,null,null,null,null,null,null,null,null,null,null,null,null,null,0,0,0,0,0,0,0]
[null,{"$error":"#N/A"},{"$error":"#N/A"},{"$error":"#N/A"},0,0,null,null,null,null,null,null,null,null,null,null,null,null,null,0,0,0,0,0,0,0]
[null,"Bernadette O'Brien",1966,50,0,0,null,null,null,null,null,null,null,null,null,null,null,null,null,0,0,0,0,0,0,0]
[null,"Peter McLoughlin",1969,47,0,0,null,null,null,null,null,null,null,null,null,null,null,null,null,0,0,0,0,0,0,0]
[null,"Joe Sheehy",1967,49,0,0,null,null,null,null,null,null,null,null,null,null,null,null,null,0,0,0,0,0,0,0]
[null,"Aogan Lynch",1975,41,0,0,null,null,null,null,null,null,null,null,null,null,null,null,null,0,0,0,0,0,0,0]
[null,{"$error":"#N/A"},{"$error":"#N/A"},{"$error":"#N/A"},8,8,null,null,null,null,null,null,null,null,null,null,null,null,null,8,0,0,0,0,0,0]
[null,{"$error":"#N/A"},{"$error":"#N/A"},{"$error":"#N/A"},0,0,null,null,null,null,null,null,null,null,null,null,null,null,null,0,0,0,0,0,0,0]
[null,{"$error":"#N/A"},{"$error":"#N/A"},{"$error":"#N/A"},0,0,null,null,null,null,null,null,null,null,null,null,null,null,null,0,0,0,0,0,0,0]
[null,{"$error":"#N/A"},{"$error":"#N/A"},{"$error":"#N/A"},0,0,null,null,null,null,null,null,null,null,null,null,null,null,null,0,0,0,0,0,0,0]
[null,{"$error":"#N/A"},{"$error":"#N/A"},{"$error":"#N/A"},0,0,null,null,null,null,null,null,null,null,null,null,null,null,null,0,0,0,0,0,0,0]
[null,{"$error":"#N/A"},{"$error":"#N/A"},{"$error":"#N/A"},0,0,null,null,null,null,null,null,null,null,null,null,null,null,null,0,0,0,0,0,0,0]
[null,{"$error":"#N/A"},{"$error":"#N/A"},{"$error":"#N/A"},0,0,null,null,null,null,null,null,null,null,null,null,null,null,null,0,0,0,0,0,0,0]
[null,{"$error":"#N/A"},{"$error":"#N/A"},{"$error":"#N/A"},0,0,null,null,null,null,null,null,null,null,null,null,null,null,null,0,0,0,0,0,0,0]
[null,{"$error":"#N/A"},{"$error":"#N/A"},{"$error":"#N/A"},0,0,null,null,null,null,null,null,null,null,null,null,null,null,null,0,0,0,0,0,0,0]
[null,{"$error":"#N/A"},{"$error":"#N/A"},{"$error":"#N/A"},0,0,null,null,null,null,null,null,null,null,null,null,null,null,null,0,0,0,0,0,0,0]
[null,{"$error":"#N/A"},{"$error":"#N/A"},{"$error":"#N/A"},0,0,null,null,null,null,null,null,null,null,null,null,null,null,null,0,0,0,0,0,0,0]
[null,{"$error":"#N/A"},{"$error":"#N/A"},{"$error":"#N/A"},0,0,null,null,null,null,null,null,null,null,null,null,null,null,null,0,0,0,0,0,0,0]
[null,{"$error":"#N/A"},{"$error":"#N/A"},{"$error":"#N/A"},0,0,null,null,null,null,null,null,null,null,null,null,null,null,null,0,0,0,0,0,0,0]
[null,{"$error":"#N/A"},{"$error":"#N/A"},{"$error":"#N/A"},0,0,null,null,null,null,null,null,null,null,null,null,null,null,null,0,0,0,0,0,0,0]
[null,{"$error":"#N/A"},{"$error":"#N/A"},{"$error":"#N/A"},0,0,null,null,null,null,null,null,null,null,null,null,null,null,null,0,0,0,0,0,0,0]
[null,{"$error":"#N/A"},{"$error":"#N/A"},{"$error":"#N/A"},0,0,null,null,null,null,null,null,null,null,null,null,null,null,null,0,0,0,0,0,0,0]
[null,{"$error":"#N/A"},{"$error":"#N/A"},{"$error":"#N/A"},0,0,null,null,null,null,null,null,null,null,null,null,null,null,null,0,0,0,0,0,0,0]
[null,{"$error":"#N/A"},{"$error":"#N/A"},{"$error":"#N/A"},0,0,null,null,null,null,null,null,null,null,null,null,null,null,null,0,0,0,0,0,0,0]
[null,{"$error":"#N/A"},{"$error":"#N/A"},{"$error":"#N/A"},0,0,null,null,null,null,null,null,null,null,null,null,null,null,null,0,0,0,0,0,0,0]
[null,{"$error":"#N/A"},{"$error":"#N/A"},{"$error":"#N/A"},0,0,null,null,null,null,null,null,null,null,null,null,null,null,null,0,0,0,0,0,0,0]
[null,{"$error":"#N/A"},{"$error":"#N/A"},{"$error":"#N/A"},0,0,null,null,null,null,null,null,null,null,null,null,null,null,null,0,0,0,0,0,0,0]
[null,{"$error":"#N/A"},{"$error":"#N/A"},{"$error":"#N/A"},0,0,null,null,null,null,null,null,null,null,null,null,null,null,null,0,0,0,0,0,0,0]
[null,{"$error":"#N/A"},{"$error":"#N/A"},{"$error":"#N/A"},0,0,null,null,null,null,null,null,null,null,null,null,null,null,null,0,0,0,0,0,0,0]
[null,{"$error":"#N/A"},{"$error":"#N/A"},{"$error":"#N/A"},0,0,null,null,null,null,null,null,null,null,null,null,null,null,null,0,0,0,0,0,0,0]
[null,{"$error":"#N/A"},{"$error":"#N/A"},{"$error":"#N/A"},0,0,null,null,null,null,null,null,null,null,null,null,null,null,null,0,0,0,0,0,0,0]
[null,{"$error":"#N/A"},{"$error":"#N/A"},{"$error":"#N/A"},0,0,null,null,null,null,null,null,null,null,null,null,null,null,null,0,0,0,0,0,0,0]
[null,{"$error":"#N/A"},{"$error":"#N/A"},{"$error":"#N/A"},0,0,null,null,null,null,null,null,null,null,null,null,null,null,null,0,0,0,0,0,0,0]
[null,{"$error":"#N/A"},{"$error":"#N/A"},{"$error":"#N/A"},0,0,null,null,null,null,null,null,null,null,null,null,null,null,null,0,0,0,0,0,0,0]
[null,{"$error":"#N/A"},{"$error":"#N/A"},{"$error":"#N/A"},0,0,null,null,null,null,null,null,null,null,null,null,null,null,null,0,0,0,0,0,0,0]
[null,{"$error":"#N/A"},{"$error":"#N/A"},{"$error":"#N/A"},0,0,null,null,null,null,null,null,null,null,null,null,null,null,null,0,0,0,0,0,0,0]
[null,{"$error":"#N/A"},{"$error":"#N/A"},{"$error":"#N/A"},0,0,null,null,null,null,null,null,null,null,null,null,null,null,null,0,0,0,0,0,0,0]
[null,{"$error":"#N/A"},{"$error":"#N/A"},{"$error":"#N/A"},0,0,null,null,null,null,null,null,null,null,null,null,null,null,null,0,0,0,0,0,0,0]
[null,{"$error":"#N/A"},{"$error":"#N/A"},{"$error":"#N/A"},0,0,null,null,null,null,null,null,null,null,null,null,null,null,null,0,0,0,0,0,0,0]
[null,{"$error":"#N/A"},{"$error":"#N/A"},{"$error":"#N/A"},0,0,null,null,null,null,null,null,null,null,null,null,null,null,null,0,0,0,0,0,0,0]
[null,{"$error":"#N/A"},{"$error":"#N/A"},{"$error":"#N/A"},0,0,null,null,null,null,null,null,null,null,null,null,null,null,null,0,0,0,0,0,0,0]
[null,{"$error":"#N/A"},{"$error":"#N/A"},{"$error":"#N/A"},0,0,null,null,null,null,null,null,null,null,null,null,null,null,null,0,0,0,0,0,0,0]
[null,{"$error":"#N/A"},{"$error":"#N/A"},{"$error":"#N/A"},0,0,null,null,null,null,null,null,null,null,null,null,null,null,null,0,0,0,0,0,0,0]
[null,{"$error":"#N/A"},{"$error":"#N/A"},{"$error":"#N/A"},0,0,null,null,null,null,null,null,null,null,null,null,null,null,null,0,0,0,0,0,0,0]
[null,{"$error":"#N/A"},{"$error":"#N/A"},{"$error":"#N/A"},0,0,null,null,null,null,null,null,null,null,null,null,null,null,null,0,0,0,0,0,0,0]
[null,{"$error":"#N/A"},{"$error":"#N/A"},{"$error":"#N/A"},0,0,null,null,null,null,null,null,null,null,null,null,null,null,null,0,0,0,0,0,0,0]
[null,{"$error":"#N/A"},{"$error":"#N/A"},{"$error":"#N/A"},0,0,null,null,null,null,null,null,null,null,null,null,null,null,null,0,0,0,0,0,0,0]
[null,{"$error":"#N/A"},{"$error":"#N/A"},{"$error":"#N/A"},0,0,null,null,null,null,null,null,null,null,null,null,null,null,null,0,0,0,0,0,0,0]
[null,{"$error":"#N/A"},{"$error":"#N/A"},{"$error":"#N/A"},0,0,null,null,null,null,null,null,null,null,null,null,null,null,null,0,0,0,0,0,0,0]
[null,{"$error":"#N/A"},{"$error":"#N/A"},{"$error":"#N/A"},0,0,null,null,null,null,null,null,null,null,null,null,null,null,null,0,0,0,0,0,0,0]
[null,{"$error":"#N/A"},{"$error":"#N/A"},{"$error":"#N/A"},0,0,null,null,null,null,null,null,null,null,null,null,null,null,null,0,0,0,0,0,0,0]
[null,{"$error":"#N/A"},{"$error":"#N/A"},{"$error":"#N/A"},0,0,null,null,null,null,null,null,null,null,null,null,null,null,null,0,0,0,0,0,0,0]
[null,{"$error":"#N/A"},{"$error":"#N/A"},{"$error":"#N/A"},0,0,null,null,null,null,null,null,null,null,null,null,null,null,null,0,0,0,0,0,0,0]
[null,{"$error":"#N/A"},{"$error":"#N/A"},{"$error":"#N/A"},0,0,null,null,null,null,null,null,null,null,null,null,null,null,null,0,0,0,0,0,0,0]
[null,{"$error":"#N/A"},{"$error":"#N/A"},{"$error":"#N/A"},0,0,null,null,null,null,null,null,null,null,null,null,null,null,null,0,0,0,0,0,0,0]
[null,{"$error":"#N/A"},{"$error":"#N/A"},{"$error":"#N/A"},0,0,null,null,null,null,null,null,null,null,null,null,null,null,null,0,0,0,0,0,0,0]
[null,{"$error":"#N/A"},{"$error":"#N/A"},{"$error":"#N/A"},0,0,null,null,null,null,null,null,null,null,null,null,null,null,null,0,0,0,0,0,0,0]
[null,{"$error":"#N/A"},{"$error":"#N/A"},{"$error":"#N/A"},0,0,null,null,null,null,null,null,null,null,null,null,null,null,null,0,0,0,0,0,0,0]
[null,{"$error":"#N/A"},{"$error":"#N/A"},{"$error":"#N/A"},0,0,null,null,null,null,null,null,null,null,null,null,null,null,null,0,0,0,0,0,0,0]
[null,{"$error":"#N/A"},{"$error":"#N/A"},{"$error":"#N/A"},0,0,null,null,null,null,null,null,null,null,null,null,null,null,null,0,0,0,0,0,0,0]
[null,{"$error":"#N/A"},{"$error":"#N/A"},{"$error":"#N/A"},0,0,null,null,null,null,null,null,null,null,null,null,null,null,null,0,0,0,0,0,0,0]
[null,{"$error":"#N/A"},{"$error":"#N/A"},{"$error":"#N/A"},0,0,null,null,null,null,null,null,null,null,null,null,null,null,null,0,0,0,0,0,0,0]
[null,{"$error":"#N/A"},{"$error":"#N/A"},{"$error":"#N/A"},0,0,null,null,null,null,null,null,null,null,null,null,null,null,null,0,0,0,0,0,0,0]
[null,{"$error":"#N/A"},{"$error":"#N/A"},{"$error":"#N/A"},0,0,null,null,null,null,null,null,null,null,null,null,null,null,null,0,0,0,0,0,0,0]
[null,{"$error":"#N/A"},{"$error":"#N/A"},{"$error":"#N/A"},0,0,null,null,null,null,null,null,null,null,null,null,null,null,null,0,0,0,0,0,0,0]
[null,{"$error":"#N/A"},{"$error":"#N/A"},{"$error":"#N/A"},0,0,null,null,null,null,null,null,null,null,null,null,null,null,null,0,0,0,0,0,0,0]
[null,{"$error":"#N/A"},{"$error":"#N/A"},{"$error":"#N/A"},0,0,null,null,null,null,null,null,null,null,null,null,null,null,null,0,0,0,0,0,0,0]
[null,{"$error":"#N/A"},{"$error":"#N/A"},{"$error":"#N/A"},0,0,null,null,null,null,null,null,null,null,null,null,null,null,null,0,0,0,0,0,0,0]
[null,{"$error":"#N/A"},{"$error":"#N/A"},{"$error":"#N/A"},0,0,null,null,null,null,null,null,null,null,null,null,null,null,null,0,0,0,0,0,0,0]
[null,{"$error":"#N/A"},{"$error":"#N/A"},{"$error":"#N/A"},0,0,null,null,null,null,null,null,null,null,null,null,null,null,null,0,0,0,0,0,0,0]
[null,{"$error":"#N/A"},{"$error":"#N/A"},{"$error":"#N/A"},0,0,null,null,null,null,null,null,null,null,null,null,null,null,null,0,0,0,0,0,0,0]
[null,{"$error":"#N/A"},{"$error":"#N/A"},{"$error":"#N/A"},0,0,null,null,null,null,null,null,null,null,null,null,null,null,null,0,0,0,0,0,0,0]
[null,{"$error":"#N/A"},{"$error":"#N/A"},{"$error":"#N/A"},0,0,null,null,null,null,null,null,null,null,null,null,null,null,null,0,0,0,0,0,0,0]
[null,{"$error":"#N/A"},{"$error":"#N/A"},{"$error":"#N/A"},0,0,null,null,null,null,null,null,null,null,null,null,null,null,null,0,0,0,0,0,0,0]
[null,{"$error":"#N/A"},{"$error":"#N/A"},{"$error":"#N/A"},0,0,null,null,null,null,null,null,null,null,null,null,null,null,null,0,0,0,0,0,0,0]
[null,{"$error":"#N/A"},{"$error":"#N/A"},{"$error":"#N/A"},0,0,null,null,null,null,null,null,null,null,null,null,null,null,null,0,0,0,0,0,0,0]
[null,{"$error":"#N/A"},{"$error":"#N/A"},{"$error":"#N/A"},0,0,null,null,null,null,null,null,null,null,null,null,null,null,null,0,0,0,0,0,0,0]
[null,{"$error":"#N/A"},{"$error":"#N/A"},{"$error":"#N/A"},0,0,null,null,null,null,null,null,null,null,null,null,null,null,null,0,0,0,0,0,0,0]
[null,{"$error":"#N/A"},{"$error":"#N/A"},{"$error":"#N/A"},0,0,null,null,null,null,null,null,null,null,null,null,null,null,null,0,0,0,0,0,0,0]
[null,{"$error":"#N/A"},{"$error":"#N/A"},{"$error":"#N/A"},0,0,null,null,null,null,null,null,null,null,null,null,null,null,null,0,0,0,0,0,0,0]
[null,{"$error":"#N/A"},{"$error":"#N/A"},{"$error":"#N/A"},0,0,null,null,null,null,null,null,null,null,null,null,null,null,null,0,0,0,0,0,0,0]
[null,{"$error":"#N/A"},{"$error":"#N/A"},{"$error":"#N/A"},0,0,null,null,null,null,null,null,null,null,null,null,null,null,null,0,0,0,0,0,0,0]
[null,{"$error":"#N/A"},{"$error":"#N/A"},{"$error":"#N/A"},0,0,null,null,null,null,null,null,null,null,null,null,null,null,null,0,0,0,0,0,0,0]
[null,{"$error":"#N/A"},{"$error":"#N/A"},{"$error":"#N/A"},0,0,null,null,null,null,null,null,null,null,null,null,null,null,null,0,0,0,0,0,0,0]
[null,{"$error":"#N/A"},{"$error":"#N/A"},{"$error":"#N/A"},0,0,null,null,null,null,null,null,null,null,null,null,null,null,null,0,0,0,0,0,0,0]
[null,{"$error":"#N/A"},{"$error":"#N/A"},{"$error":"#N/A"},0,0,null,null,null,null,null,null,null,null,null,null,null,null,null,0,0,0,0,0,0,0]
[null,{"$error":"#N/A"},{"$error":"#N/A"},{"$error":"#N/A"},0,0,null,null,null,null,null,null,null,null,null,null,null,null,null,0,0,0,0,0,0,0]
[null,{"$error":"#N/A"},{"$error":"#N/A"},{"$error":"#N/A"},0,0,null,null,null,null,null,null,null,null,null,null,null,null,null,0,0,0,0,0,0,0]
[null,"Brian Morrissey",1969,47,0,0,null,null,null,null,null,null,null,null,null,null,null,null,null,0,0,0,0,0,0,0]
[null,{"$error":"#N/A"},{"$error":"#N/A"},{"$error":"#N/A"},0,0,null,null,null,null,null,null,null,null,null,null,null,null,null,0,0,0,0,0,0,0]
[null,{"$error":"#N/A"},{"$error":"#N/A"},{"$error":"#N/A"},0,0,null,null,null,null,null,null,null,null,null,null,null,null,null,0,0,0,0,0,0,0]
[null,null,{"$error":"#N/A"},{"$error":"#N/A"}]
[null,null,{"$error":"#N/A"},{"$error":"#N/A"},null,null,null,null,null,null,null,null,null,null,null,null,null,null,null,0]
[null,null,{"$error":"#N/A"},{"$error":"#N/A"},null,null,null,null,null,null,null,null,null,null,null,null,null,null,null,0]
[null,"Stephen O'Brien",{"$error":"#N/A"},{"$error":"#N/A"},0,0,null,null,null,null,null,null,null,null,null,null,null,null,null,0]
[null,"Brian Kane",{"$error":"#N/A"},{"$error":"#N/A"},2,2,null,null,null,null,null,null,null,null,null,null,null,null,null,2]
[null,{"$error":"#N/A"},{"$error":"#N/A"},{"$error":"#N/A"},0,0,null,null,null,null,null,null,null,null,null,null,null,null,null,0]
[null,"Peter Hurley",{"$error":"#N/A"},{"$error":"#N/A"},0,0,null,null,null,null,null,null,null,null,null,null,null,null,null,0]
[null,"Michael Hayden",{"$error":"#N/A"},{"$error":"#N/A"},0,0,null,null,null,null,null,null,null,null,null,null,null,null,null,0]
[null,"Daniel Roberts",{"$error":"#N/A"},{"$error":"#N/A"},0,0,null,null,null,null,null,null,null,null,null,null,null,null,null,0]
[null,"Bernadette O'Brien",{"$error":"#N/A"},{"$error":"#N/A"},0,0,null,null,null,null,null,null,null,null,null,null,null,null,null,0]
[null,"Peter McLoughlin",{"$error":"#N/A"},{"$error":"#N/A"},0,0,null,null,null,null,null,null,null,null,null,null,null,null,null,0]
[]
[null,null,null,null,null,0]

{"sheet":"Handicap Points Table","index":3,"n_rows":303,"n_cols":25,"rows_kept":303,"cut":false,"hidden":false,"merged":[[0,0,0,4],[1,0,1,4],[2,0,2,4],[3,0,3,4]]}
["IVCA Time Trial League "]
[2015,null,null,null,null,"TTL_01","TTL_02","TTL_03","TTL_04","TTL_05","TTL_06","TTL_07","TTL_08","TTL_09","TTL_10",null,null,null,"Sat TT_01","Sat TT_02","Sat TT_03","Sat TT_04","Sat TT_05","SatTT_ 06"]
["Handicap League",null,null,null,null,"Tuesday","Tuesday","Tuesday","Sunday","Tuesday","Tuesday","Sunday","Sunday","Tuesday","Sunday",null,null,null,"Sunday","Tuesday","Saturday","Tuesday","Tuesday","Sunday"]
["Phil Ormrod Trophy.",null,null,null,null,41031,41038,41052,41057,41066,41073,41085,41076,41122,41127,null,null,null,41043,41059,41107,41094,41115,41103]
[null,null,null,null,null,"Tom Dempsey 10 TT","IVCA","Fred Smith 25 TT","IVCA","Championship  10 TT","IVCA","Championship 25 TT","40/50/60/70 Championships","IVCA","100 in 8",null,null,null,"Mind the Gaps","IVCA","Saturday 10 TT Series","IVCA","IVCA","Age Champs"]
[null,null,null,null,null,"TT","DMS","TT","DMS","TT","DMS","TT","Age DMS","DMS","Tour",null,null,null,"Tour","DMS","TT","DMS","DMS","Age CP"]
[null,null,null,null,null,"Kilcock","Kilcullen","Black Bull","The Curragh","Kilcock","Kilcullen","Moy Valley","Kentstown","Summerhill","Papal Cross",null,null,"TTL Points",41043,"Summerhill","T.B.A.","Kilcullen","Kilcullen","Summerhill","Sat TTL Points"]
[null,null,null,null,"TTL Points","19:15:00","19:15:00","19:15:00","09:00:00","19:15:00","19:15:00","09:00:00","09:00:00","19:15:00","09:00:00",null,null,"Total ","19:15:00","09:30:00","19:15:00","19:15:00","09:00:00",0,"Total "]
["Column1","Column2","Column3","Column4","Column5","Column6","Column7","Column8","Column9","Column10","Column11","Column12","Column13","Column14","Column15","Column16","Column17","Column18","Column21","Column22","Column23","Column24","Column25","Column26","Column27"]
[null,"Paul Dolan",1967,49,10,10,0,0,0,0,0,0,0,0,0,0,0,10,0,0,0,0,0,0,0]
[null,"Colm Conway",1952,64,9,9,0,0,0,0,0,0,0,0,0,0,0,9,0,0,0,0,0,0,0]
[null,"Stephen Walsh",1969,47,8,8,0,0,0,0,0,0,0,0,0,0,0,8,0,0,0,0,0,0,0]
[null,"Mick Usher",1954,62,7,7,0,0,0,0,0,0,0,0,0,0,0,7,0,0,0,0,0,0,0]
[null,"Rodney Joyce",1967,49,6,6,0,0,0,0,0,0,0,0,0,0,0,6,0,0,0,0,0,0,0]
[null,"Ciara Kinch",1973,43,5,5,0,0,0,0,0,0,0,0,0,0,0,5,0,0,0,0,0,0,0]
[null,"Jimmy Murphy",1956,60,4,4,0,0,0,0,0,0,0,0,0,0,0,4,0,0,0,0,0,0,0]
[null,"Donagh McArdle",1968,48,3,3,0,0,0,0,0,0,0,0,0,0,0,3,0,0,0,0,0,0,0]
[null,"Phil Ormrod",1944,72,2,2,0,0,0,0,0,0,0,0,0,0,0,2,0,0,0,0,0,0,0]
[null,"Adrian Byrne",1953,63,2,2,0,0,0,0,0,0,0,0,0,0,0,2,0,0,0,0,0,0,0]
[null,"Willie McDonald",1962,54,2,2,0,0,0,0,0,0,0,0,0,0,0,2,0,0,0,0,0,0,0]
[null,"Romano Morelli",1952,64,2,2,0,0,0,0,0,0,0,0,0,0,0,2,0,0,0,0,0,0,0]
[null,"Deanne Sanders",1971,45,2,2,0,0,0,0,0,0,0,0,0,0,0,2,0,0,0,0,0,0,0]
[null,"Leonard Carrigan",1967,49,2,2,0,0,0,0,0,0,0,0,0,0,0,2,0,0,0,0,0,0,0]
[null,"Ger Madden",1964,52,2,2,0,0,0,0,0,0,0,0,0,0,0,2,0,0,0,0,0,0,0]
[null,"Brendan Byrne",1950,66,2,2,0,0,0,0,0,0,0,0,0,0,0,2,0,0,0,0,0,0,0]
[null,"Billy Bourke",1965,51,2,2,0,0,0,0,0,0,0,0,0,0,0,2,0,0,0,0,0,0,0]
[null,"Enda Smyth",1969,47,2,2,0,0,0,0,0,0,0,0,0,0,0,2,0,0,0,0,0,0,0]
[null,"Colm Cassidy",1957,59,2,2,0,0,0,0,0,0,0,0,0,0,0,2,0,0,0,0,0,0,0]
[null,"Jimmy Stagg",1959,57,2,2,0,0,0,0,0,0,0,0,0,0,0,2,0,0,0,0,0,0,0]
[null,"Peter Raftery",1953,63,2,2,0,0,0,0,0,0,0,0,0,0,0,2,0,0,0,0,0,0,0]
[null,"Tom Malone",1958,58,2,2,0,0,0,0,0,0,0,0,0,0,0,2,0,0,0,0,0,0,0]
[null,"Mark McCabe",1971,45,2,2,0,0,0,0,0,0,0,0,0,0,0,2,0,0,0,0,0,0,0]
[null,"Mark Prendergast",1967,49,2,2,0,0,0,0,0,0,0,0,0,0,0,2,0,0,0,0,0,0,0]
[null,"David McDonald",1972,44,2,2,0,0,0,0,0,0,0,0,0,0,0,2,0,0,0,0,0,0,0]
[null,"Mark Mearns",1976,40,2,2,0,0,0,0,0,0,0,0,0,0,0,2,0,0,0,0,0,0,0]
[null,"Malcolm Garland",1965,51,2,2,0,0,0,0,0,0,0,0,0,0,0,2,0,0,0,0,0,0,0]
[null,"Conor Barry",1973,43,2,2,0,0,0,0,0,0,0,0,0,0,0,2,0,0,0,0,0,0,0]
[null,"John Kehoe",1969,47,2,2,0,0,0,0,0,0,0,0,0,0,0,2,0,0,0,0,0,0,0]
[null,"Gerry Jameson",1960,56,2,2,0,0,0,0,0,0,0,0,0,0,0,2,0,0,0,0,0,0,0]
[null,"Joe Sheehy",1967,49,2,2,null,null,null,null,null,null,null,null,null,null,null,2]
[null,"Kevin Simms",1932,84,2,2,0,0,0,0,0,0,0,0,0,0,0,2,0,0,0,0,0,0,0]
[null,"JJ Boylan",1944,72,2,2,0,0,0,0,0,0,0,0,0,0,0,2,0,0,0,0,0,0,0]
[null,"Brian Kane",1975,41,2,2,null,null,null,null,null,null,null,null,null,null,null,2,0,0,0,0,0,0,0]
[null,"Pat Halpin",1957,59,0,0,0,0,0,0,0,0,0,0,0,0,0,0,0,0,0,0,0,0,0]
[null,"John Piggott",1955,61,0,0,0,0,0,0,0,0,0,0,0,0,0,0,0,0,0,0,0,0,0]
[null,"Valerie Considine",1969,47,0,0,0,0,0,0,0,0,0,0,0,0,0,0,0,0,0,0,0,0,0]
[null,"Barry Timmins",1965,51,0,0,0,0,0,0,0,0,0,0,0,0,0,0,0,0,0,0,0,0,0]
[null,"Norman Eyre",1969,47,0,0,0,0,0,0,0,0,0,0,0,0,0,0,0,0,0,0,0,0,0]
[null,"David Ryan",1960,56,0,0,0,0,0,0,0,0,0,0,0,0,0,0,0,0,0,0,0,0,0]
[null,"Dave Woods",1953,63,0,0,0,0,0,0,0,0,0,0,0,0,0,0,0,0,0,0,0,0,0]
[null,"Jack Lynch",1970,46,0,0,0,0,0,0,0,0,0,0,0,0,0,0,0,0,0,0,0,0,0]
[null,"Joe Christian",1975,41,0,0,0,0,0,0,0,0,0,0,0,0,0,0,0,0,0,0,0,0,0]
[null,"Martin Gray",1951,65,0,0,0,0,0,0,0,0,0,0,0,0,0,0,0,0,0,0,0,0,0]
[null,"Seamus Brennan",1947,69,0,0,0,0,0,0,0,0,0,0,0,0,0,0,0,0,0,0,0,0,0]
[null,"Karl Monaghan",1970,46,0,0,0,0,0,0,0,0,0,0,0,0,0,0,0,0,0,0,0,0,0]
[null,"Barry Dace",1974,42,0,0,0,0,0,0,0,0,0,0,0,0,0,0,0,0,0,0,0,0,0]
[null,"Brian Moran",1976,40,0,0,0,0,0,0,0,0,0,0,0,0,0,0,0,0,0,0,0,0,0]
[null,"Anthony O'Malley",1968,48,0,0,0,0,0,0,0,0,0,0,0,0,0,0,0,0,0,0,0,0,0]
[null,"Emmet Reilly",1968,48,0,0,0,0,0,0,0,0,0,0,0,0,0,0,0,0,0,0,0,0,0]
[null,"Mick Hennessy",1968,48,0,0,0,0,0,0,0,0,0,0,0,0,0,0,0,0,0,0,0,0,0]
[null,"Kiaran Sweeney",1967,49,0,0,0,0,0,0,0,0,0,0,0,0,0,0,0,0,0,0,0,0,0]
[null,"Liam Cullen",1974,42,0,0,0,0,0,0,0,0,0,0,0,0,0,0,0,0,0,0,0,0,0]
[null,"Don Samway",1965,51,0,0,0,0,0,0,0,0,0,0,0,0,0,0,0,0,0,0,0,0,0]
[null,"Michael Kinsella",1965,51,0,0,0,0,0,0,0,0,0,0,0,0,0,0,0,0,0,0,0,0,0]
[null,"Seán Lally",1941,75,0,0,0,0,0,0,0,0,0,0,0,0,0,0,0,0,0,0,0,0,0]
[null,"Tosh Lavery",1953,63,0,0,0,0,0,0,0,0,0,0,0,0,0,0,0,0,0,0,0,0,0]
[null,"Damian Doyle",1967,49,0,0,0,0,0,0,0,0,0,0,0,0,0,0,0,0,0,0,0,0,0]
[null,"Robert Norgrove",1940,76,0,0,0,0,0,0,0,0,0,0,0,0,0,0,0,0,0,0,0,0,0]
[null,"Eddie Scully",1941,75,0,0,0,0,0,0,0,0,0,0,0,0,0,0,0,0,0,0,0,0,0]
[null,"Will Byrne",1973,43,0,0,0,0,0,0,0,0,0,0,0,0,0,0,0,0,0,0,0,0,0]
[null,"Paul Reid",1970,46,0,0,0,0,0,0,0,0,0,0,0,0,0,0,0,0,0,0,0,0,0]
[null,"Stephen McGovern",1976,40,0,0,0,0,0,0,0,0,0,0,0,0,0,0,0,0,0,0,0,0,0]
[null,"Jim Sweeney",1936,80,0,0,0,0,0,0,0,0,0,0,0,0,0,0,0,0,0,0,0,0,0]
[null,"Stephen McNally",1966,50,0,0,0,0,0,0,0,0,0,0,0,0,0,0,0,0,0,0,0,0,0]
[null,"Dale Copas",1968,48,0,0,0,0,0,0,0,0,0,0,0,0,0,0,0,0,0,0,0,0,0]
[null,"Anthony Crean",1972,44,0,0,0,0,0,0,0,0,0,0,0,0,0,0,0,0,0,0,0,0,0]
[null,"Seán Gaine",1964,52,0,0,0,0,0,0,0,0,0,0,0,0,0,0,0,0,0,0,0,0,0]
[null,"Kevin Byrne",1975,41,0,0,0,0,0,0,0,0,0,0,0,0,0,0,0,0,0,0,0,0,0]
[null,"Mark Pagell",1966,50,0,0,0,0,0,0,0,0,0,0,0,0,0,0,0,0,0,0,0,0,0]
[null,"Robert Kehoe",1964,52,0,0,0,0,0,0,0,0,0,0,0,0,0,0,0,0,0,0,0,0,0]
[null,"Dermot Hickey",1971,45,0,0,0,0,0,0,0,0,0,0,0,0,0,0,0,0,0,0,0,0,0]
[null,"Paul Faherty",1974,42,0,0,0,0,0,0,0,0,0,0,0,0,0,0,0,0,0,0,0,0,0]
[null,"Eunan Malone",1960,56,0,0,0,0,0,0,0,0,0,0,0,0,0,0,0,0,0,0,0,0,0]
[null,"Tony Keating",1969,47,0,0,0,0,0,0,0,0,0,0,0,0,0,0,0,0,0,0,0,0,0]
[null,"Cathal Murray",1972,44,0,0,0,0,0,0,0,0,0,0,0,0,0,0,0,0,0,0,0,0,0]
[null,"David Bradley",1972,44,0,0,0,0,0,0,0,0,0,0,0,0,0,0,0,0,0,0,0,0,0]
[null,"Mark Mahon",1973,43,0,0,0,0,0,0,0,0,0,0,0,0,0,0,0,0,0,0,0,0,0]
[null,"Gerard Murphy",1970,46,0,0,0,0,0,0,0,0,0,0,0,0,0,0,0,0,0,0,0,0,0]
[null,"Alan Quinn",1976,40,0,0,0,0,0,0,0,0,0,0,0,0,0,0,0,0,0,0,0,0,0]
[null,"Mark Cooney",1972,44,0,0,0,0,0,0,0,0,0,0,0,0,0,0,0,0,0,0,0,0,0]
[null,"Paul Kelly",1974,42,0,0,0,0,0,0,0,0,0,0,0,0,0,0,0,0,0,0,0,0,0]
[null,"Jason O'Toole",1971,45,0,0,0,0,0,0,0,0,0,0,0,0,0,0,0,0,0,0,0,0,0]
[null,"Des Howe",1948,68,0,0,0,0,0,0,0,0,0,0,0,0,0,0,0,0,0,0,0,0,0]
[null,"Seán Bracken",1960,56,0,0,0,0,0,0,0,0,0,0,0,0,0,0,0,0,0,0,0,0,0]
[null,"Jimmy Lally",1943,73,0,0,0,0,0,0,0,0,0,0,0,0,0,0,0,0,0,0,0,0,0]
[null,"William McGonagle",1964,52,0,0,0,0,0,0,0,0,0,0,0,0,0,0,0,0,0,0,0,0,0]
[null,"Paddy FitzSimons",1946,70,0,0,0,0,0,0,0,0,0,0,0,0,0,0,0,0,0,0,0,0,0]
[null,"Cian Lynch",1971,45,0,0,0,0,0,0,0,0,0,0,0,0,0,0,0,0,0,0,0,0,0]
[null,"Richard Cattle",1967,49,0,0,0,0,0,0,0,0,0,0,0,0,0,0,0,0,0,0,0,0,0]
[null,"Karl Gallagher",1958,58,0,0,0,0,0,0,0,0,0,0,0,0,0,0,0,0,0,0,0,0,0]
[null,"Noel Thompson",1961,55,0,0,0,0,0,0,0,0,0,0,0,0,0,0,0,0,0,0,0,0,0]
[null,"Stephen Murphy",1966,50,0,0,0,0,0,0,0,0,0,0,0,0,0,0,0,0,0,0,0,0,0]
[null,"Andy Brady",1968,48,0,0,0,0,0,0,0,0,0,0,0,0,0,0,0,0,0,0,0,0,0]
[null,"Elaine Clarke",1979,37,0,0,0,0,0,0,0,0,0,0,0,0,0,0,0,0,0,0,0,0,0]
[null,"Derek McCullagh",1946,70,0,0,0,0,0,0,0,0,0,0,0,0,0,0,0,0,0,0,0,0,0]
[null,"Paul Tansey",1957,59,0,0,0,0,0,0,0,0,0,0,0,0,0,0,0,0,0,0,0,0,0]
[null,"Column2","Column3","Column5",0,0,0,0,0,0,0,0,0,0,0,0,0,0,0,0,0,0,0,0,0]
[null,"John Shortt",1957,59,0,0,0,0,0,0,0,0,0,0,0,0,0,0,0,0,0,0,0,0,0]
[null,"Pat Beere",1969,47,0,0,0,0,0,0,0,0,0,0,0,0,0,0,0,0,0,0,0,0,0]
[null,"John Brady",1964,52,0,0,0,0,0,0,0,0,0,0,0,0,0,0,0,0,0,0,0,0,0]
[null,"Francis Coates",1954,62,0,0,0,0,0,0,0,0,0,0,0,0,0,0,0,0,0,0,0,0,0]
[null,"Seán Darragh",1951,65,0,0,0,0,0,0,0,0,0,0,0,0,0,0,0,0,0,0,0,0,0]
[null,"Tony Dunne",1962,54,0,0,0,0,0,0,0,0,0,0,0,0,0,0,0,0,0,0,0,0,0]
[null,"Sean Dunne",1966,50,0,0,0,0,0,0,0,0,0,0,0,0,0,0,0,0,0,0,0,0,0]
[null,"Enda McKeown",1972,44,0,0,0,0,0,0,0,0,0,0,0,0,0,0,0,0,0,0,0,0,0]
[null,"Declan Weldon",1968,48,0,0,0,0,0,0,0,0,0,0,0,0,0,0,0,0,0,0,0,0,0]
[null,"Darragh Murphy",1968,48,0,0,0,0,0,0,0,0,0,0,0,0,0,0,0,0,0,0,0,0,0]
[null,"Ian Cassidy",1974,42,0,0,0,0,0,0,0,0,0,0,0,0,0,0,0,0,0,0,0,0,0]
[null,"Erik Robson",1970,46,0,0,0,0,0,0,0,0,0,0,0,0,0,0,0,0,0,0,0,0,0]
[null,"Ken O'Neill",1971,45,0,0,0,0,0,0,0,0,0,0,0,0,0,0,0,0,0,0,0,0,0]
[null,"Malachy McKenna",1967,49,0,0,0,0,0,0,0,0,0,0,0,0,0,0,0,0,0,0,0,0,0]
[null,"Eddie Lynch",1960,56,0,0,0,0,0,0,0,0,0,0,0,0,0,0,0,0,0,0,0,0,0]
[null,"Seán G Lally",1963,53,0,0,0,0,0,0,0,0,0,0,0,0,0,0,0,0,0,0,0,0,0]
[null,"Damien Lyle-Stirling",1952,64,0,0,0,0,0,0,0,0,0,0,0,0,0,0,0,0,0,0,0,0,0]
[null,"Ken Nelson",1972,44,0,0,0,0,0,0,0,0,0,0,0,0,0,0,0,0,0,0,0,0,0]
[null,"Lloyd Berry",1964,52,0,0,0,0,0,0,0,0,0,0,0,0,0,0,0,0,0,0,0,0,0]
[null,"Ken Tobin",1975,41,0,0,0,0,0,0,0,0,0,0,0,0,0,0,0,0,0,0,0,0,0]
[null,"Gavin Kelly",1973,43,0,0,0,0,0,0,0,0,0,0,0,0,0,0,0,0,0,0,0,0,0]
[null,"David Kelly",1955,61,0,0,0,0,0,0,0,0,0,0,0,0,0,0,0,0,0,0,0,0,0]
[null,"Roy Bowden",1971,45,0,0,0,0,0,0,0,0,0,0,0,0,0,0,0,0,0,0,0,0,0]
[null,"Gerard Kane",1969,47,0,0,0,0,0,0,0,0,0,0,0,0,0,0,0,0,0,0,0,0,0]
[null,"Albert Murtagh",1936,80,0,0,0,0,0,0,0,0,0,0,0,0,0,0,0,0,0,0,0,0,0]
[null,"Paddy Byrne",1938,78,0,0,0,0,0,0,0,0,0,0,0,0,0,0,0,0,0,0,0,0,0]
[null,"Ronnie Howe",1953,63,0,0,0,0,0,0,0,0,0,0,0,0,0,0,0,0,0,0,0,0,0]
[null,"John Lanigan",1967,49,0,0,0,0,0,0,0,0,0,0,0,0,0,0,0,0,0,0,0,0,0]
[null,"Daniel Conroy",1967,49,0,0,0,0,0,0,0,0,0,0,0,0,0,0,0,0,0,0,0,0,0]
[null,"Noel Conway",1972,44,0,0,0,0,0,0,0,0,0,0,0,0,0,0,0,0,0,0,0,0,0]
[null,"Jason Ludgate",1972,44,0,0,0,0,0,0,0,0,0,0,0,0,0,0,0,0,0,0,0,0,0]
[null,"Orla Tansey",1963,53,0,0,0,0,0,0,0,0,0,0,0,0,0,0,0,0,0,0,0,0,0]
[null,"Neil Delahaye",1975,41,0,0,0,0,0,0,0,0,0,0,0,0,0,0,0,0,0,0,0,0,0]
[null,"Mick Davis",1945,71,0,0,0,0,0,0,0,0,0,0,0,0,0,0,0,0,0,0,0,0,0]
[null,"George O'Rorke",1948,68,0,0,0,0,0,0,0,0,0,0,0,0,0,0,0,0,0,0,0,0,0]
[null,"Tom Lucas",1958,58,0,0,0,0,0,0,0,0,0,0,0,0,0,0,0,0,0,0,0,0,0]
[null,"Patrick Troy",1954,62,0,0,0,0,0,0,0,0,0,0,0,0,0,0,0,0,0,0,0,0,0]
[null,"Mick Mullen",1948,68,0,0,0,0,0,0,0,0,0,0,0,0,0,0,0,0,0,0,0,0,0]
[null,"Oliver Bright",1944,72,0,0,0,0,0,0,0,0,0,0,0,0,0,0,0,0,0,0,0,0,0]
[null,"Jim Ludden",1935,81,0,0,0,0,0,0,0,0,0,0,0,0,0,0,0,0,0,0,0,0,0]
[null,"Peter Schweppe",1938,78,0,0,0,0,0,0,0,0,0,0,0,0,0,0,0,0,0,0,0,0,0]
[null,"Paddy Davis",1943,73,0,0,0,0,0,0,0,0,0,0,0,0,0,0,0,0,0,0,0,0,0]
[null,"Gerry Gaston",1954,62,0,0,0,0,0,0,0,0,0,0,0,0,0,0,0,0,0,0,0,0,0]
[null,"Hugh Byrne",1959,57,0,0,0,0,0,0,0,0,0,0,0,0,0,0,0,0,0,0,0,0,0]
[null,"Jim O'Shea",1959,57,0,0,0,0,0,0,0,0,0,0,0,0,0,0,0,0,0,0,0,0,0]
[null,"Karl Naylor",1959,57,0,0,0,0,0,0,0,0,0,0,0,0,0,0,0,0,0,0,0,0,0]
[null,"Jim Morahan",1943,73,0,0,0,0,0,0,0,0,0,0,0,0,0,0,0,0,0,0,0,0,0]
[null,"Jimmy Flynn",1956,60,0,0,0,0,0,0,0,0,0,0,0,0,0,0,0,0,0,0,0,0,0]
[null,"Paul Deans",1956,60,0,0,0,0,0,0,0,0,0,0,0,0,0,0,0,0,0,0,0,0,0]
[null,"Terry Ferris",1956,60,0,0,0,0,0,0,0,0,0,0,0,0,0,0,0,0,0,0,0,0,0]
[null,"Murray ch",{"$error":"#N/A"},{"$error":"#N/A"},0,0,0,0,0,0,0,0,0,0,0,0,0,0,0,0,0,0,0,0,0]
[null,"Dermot Naughton",1958,58,0,0,0,0,0,0,0,0,0,0,0,0,0,0,0,0,0,0,0,0,0]
[null,"Martin Kennedy",1960,56,0,0,0,0,0,0,0,0,0,0,0,0,0,0,0,0,0,0,0,0,0]
[null,"Michael McEntee",1954,62,0,0,0,0,0,0,0,0,0,0,0,0,0,0,0,0,0,0,0,0,0]
[null,"Dermot O'Gorman",1956,60,0,0,0,0,0,0,0,0,0,0,0,0,0,0,0,0,0,0,0,0,0]
[null,"Terry Ryan",1956,60,0,0,0,0,0,0,0,0,0,0,0,0,0,0,0,0,0,0,0,0,0]
[null,"Arthur Ebbs",1959,57,0,0,0,0,0,0,0,0,0,0,0,0,0,0,0,0,0,0,0,0,0]
[null,"Gerry Martin",1959,57,0,0,0,0,0,0,0,0,0,0,0,0,0,0,0,0,0,0,0,0,0]
[null,"Peter McDunphy",1959,57,0,0,0,0,0,0,0,0,0,0,0,0,0,0,0,0,0,0,0,0,0]
[null,"Noel Kelly",1959,57,0,0,0,0,0,0,0,0,0,0,0,0,0,0,0,0,0,0,0,0,0]
[null,"John Hogan",1960,56,0,0,0,0,0,0,0,0,0,0,0,0,0,0,0,0,0,0,0,0,0]
[null,"William Parnell",1960,56,0,0,0,0,0,0,0,0,0,0,0,0,0,0,0,0,0,0,0,0,0]
[null,"John Lawless",1961,55,0,0,0,0,0,0,0,0,0,0,0,0,0,0,0,0,0,0,0,0,0]
[null,"Brian Kinsella",1970,46,0,0,0,0,0,0,0,0,0,0,0,0,0,0,0,0,0,0,0,0,0]
[null,"Mike Claffey",1968,48,0,0,0,0,0,0,0,0,0,0,0,0,0,0,0,0,0,0,0,0,0]
[null,"Conor McGrane",1970,46,0,0,0,0,0,0,0,0,0,0,0,0,0,0,0,0,0,0,0,0,0]
[null,"Norman Shine",1975,41,0,0,0,0,0,0,0,0,0,0,0,0,0,0,0,0,0,0,0,0,0]
[null,"Denis Gleeson",1953,63,0,0,0,0,0,0,0,0,0,0,0,0,0,0,0,0,0,0,0,0,0]
[null,"Dave Cormack",1961,55,0,0,0,0,0,0,0,0,0,0,0,0,0,0,0,0,0,0,0,0,0]
[null,"Mark Burns",1962,54,0,0,0,0,0,0,0,0,0,0,0,0,0,0,0,0,0,0,0,0,0]
[null,"John Tracey",1957,59,0,0,0,0,0,0,0,0,0,0,0,0,0,0,0,0,0,0,0,0,0]
[null,"Jonathan Grimes",1971,45,0,0,0,0,0,0,0,0,0,0,0,0,0,0,0,0,0,0,0,0,0]
[null,"Tony O'Malley",1972,44,0,0,0,0,0,0,0,0,0,0,0,0,0,0,0,0,0,0,0,0,0]
[null,"Paul Atkinson",1960,56,0,0,0,0,0,0,0,0,0,0,0,0,0,0,0,0,0,0,0,0,0]
[null,"Ned Costello",1961,55,0,0,0,0,0,0,0,0,0,0,0,0,0,0,0,0,0,0,0,0,0]
[null,"Pat Byrne",1964,52,0,0,0,0,0,0,0,0,0,0,0,0,0,0,0,0,0,0,0,0,0]
[null,"Andrew Kavanagh",1971,45,0,0,0,0,0,0,0,0,0,0,0,0,0,0,0,0,0,0,0,0,0]
[null,"Mark Colbert",1971,45,0,0,0,0,0,0,0,0,0,0,0,0,0,0,0,0,0,0,0,0,0]
[null,"Eamonn Newton",1963,53,0,0,0,0,0,0,0,0,0,0,0,0,0,0,0,0,0,0,0,0,0]
[null,"Thomas Coleman",1964,52,0,0,0,0,0,0,0,0,0,0,0,0,0,0,0,0,0,0,0,0,0]
[null,"Conleth McKernan",1967,49,0,0,0,0,0,0,0,0,0,0,0,0,0,0,0,0,0,0,0,0,0]
[null,"Aidan Yates",1974,42,0,0,0,0,0,0,0,0,0,0,0,0,0,0,0,0,0,0,0,0,0]
[null,"Stephen Fennell",1961,55,0,0,0,0,0,0,0,0,0,0,0,0,0,0,0,0,0,0,0,0,0]
[null,"Derek Gormley",1973,43,0,0,0,0,0,0,0,0,0,0,0,0,0,0,0,0,0,0,0,0,0]
[null,"Gavin Keating",1975,41,0,0,0,0,0,0,0,0,0,0,0,0,0,0,0,0,0,0,0,0,0]
[null,"Quentin Jansen",1971,45,0,0,0,0,0,0,0,0,0,0,0,0,0,0,0,0,0,0,0,0,0]
[null,"Michael Lee",1964,52,0,0,0,0,0,0,0,0,0,0,0,0,0,0,0,0,0,0,0,0,0]
[null,"Liam Hogan",1959,57,0,0,0,0,0,0,0,0,0,0,0,0,0,0,0,0,0,0,0,0,0]
[null,"Aidan Hammond",1969,47,0,0,0,0,0,0,0,0,0,0,0,0,0,0,0,0,0,0,0,0,0]
[null,"Aidan Somerville",1973,43,0,0,0,0,0,0,0,0,0,0,0,0,0,0,0,0,0,0,0,0,0]
[null,"Seán Connolly",1970,46,0,0,0,0,0,0,0,0,0,0,0,0,0,0,0,0,0,0,0,0,0]
[null,"Richard Dufficy",1970,46,0,0,0,0,0,0,0,0,0,0,0,0,0,0,0,0,0,0,0,0,0]
[null,"Mark Kidd",1969,47,0,0,0,0,0,0,0,0,0,0,0,0,0,0,0,0,0,0,0,0,0]
[null,"Aidan Delaney",1973,43,0,0,0,0,0,0,0,0,0,0,0,0,0,0,0,0,0,0,0,0,0]
[null,"Paul O'Connell",1945,71,0,0,0,0,0,0,0,0,0,0,0,0,0,0,0,0,0,0,0,0,0]
[null,"Ed O'Brien",1975,41,0,0,0,0,0,0,0,0,0,0,0,0,0,0,0,0,0,0,0,0,0]
[null,"Padraic Hamrock",1964,52,0,0,0,0,0,0,0,0,0,0,0,0,0,0,0,0,0,0,0,0,0]
[null,"Conor Feeney",1972,44,0,0,0,0,0,0,0,0,0,0,0,0,0,0,0,0,0,0,0,0,0]
[null,"Mick Scully",1963,53,0,0,0,0,0,0,0,0,0,0,0,0,0,0,0,0,0,0,0,0,0]
[null,"Caroline Martinez",1979,37,0,0,0,0,0,0,0,0,0,0,0,0,0,0,0,0,0,0,0,0,0]
[null,"John Walsh",1963,53,0,0,0,0,0,0,0,0,0,0,0,0,0,0,0,0,0,0,0,0,0]
[null,"Eamonn Walsh",1962,54,0,0,0,0,0,0,0,0,0,0,0,0,0,0,0,0,0,0,0,0,0]
[null,"Tom Barber",1962,54,0,0,0,0,0,0,0,0,0,0,0,0,0,0,0,0,0,0,0,0,0]
[null,"Lloyd Scott",1062,954,0,0,0,0,0,0,0,0,0,0,0,0,0,0,0,0,0,0,0,0,0]
[null,"Patrick Deegan",1970,46,0,0,0,0,0,0,0,0,0,0,0,0,0,0,0,0,0,0,0,0,0]
[null,"Andreas Voigt",1972,44,0,0,0,0,0,0,0,0,0,0,0,0,0,0,0,0,0,0,0,0,0]
[null,"Ray Fedigan",1972,44,0,0,0,0,0,0,0,0,0,0,0,0,0,0,0,0,0,0,0,0,0]
[null,"Keith O'Rourke",1969,47,0,0,0,0,0,0,0,0,0,0,0,0,0,0,0,0,0,0,0,0,0]
[null,"Noel Murphy",1972,44,0,0,0,0,0,0,0,0,0,0,0,0,0,0,0,0,0,0,0,0,0]
[null,"Colin Bell",1971,45,0,0,0,0,0,0,0,0,0,0,0,0,0,0,0,0,0,0,0,0,0]
[null,"Barry Roden",1970,46,0,0,0,0,0,0,0,0,0,0,0,0,0,0,0,0,0,0,0,0,0]
[null,"Charlie Sheridan",1971,45,0,0,0,0,0,0,0,0,0,0,0,0,0,0,0,0,0,0,0,0,0]
[null,"Greg Burke",1966,50,0,0,0,0,0,0,0,0,0,0,0,0,0,0,0,0,0,0,0,0,0]
[null,"Alan Sheppard",1966,50,0,0,0,0,0,0,0,0,0,0,0,0,0,0,0,0,0,0,0,0,0]
[null,"Mark McGarry",1967,49,0,0,0,0,0,0,0,0,0,0,0,0,0,0,0,0,0,0,0,0,0]
[null,"Paul Fahy",1965,51,0,0,0,0,0,0,0,0,0,0,0,0,0,0,0,0,0,0,0,0,0]
[null,"Mark Kiernan",1969,47,0,0,0,0,0,0,0,0,0,0,0,0,0,0,0,0,0,0,0,0,0]
[null,"Brian Lenehan",1969,47,0,0,0,0,0,0,0,0,0,0,0,0,0,0,0,0,0,0,0,0,0]
[null,"Paul Durnin",1972,44,0,0,0,0,0,0,0,0,0,0,0,0,0,0,0,0,0,0,0,0,0]
[null,"Nathan Hannigan",1964,52,0,0,0,0,0,0,0,0,0,0,0,0,0,0,0,0,0,0,0,0,0]
[null,"Malcolm Kell",1971,45,0,0,0,0,0,0,0,0,0,0,0,0,0,0,0,0,0,0,0,0,0]
[null,"Susie Mitchell",1975,41,0,0,0,0,0,0,0,0,0,0,0,0,0,0,0,0,0,0,0,0,0]
[null,"Giovanni Furlan",1969,47,0,0,0,0,0,0,0,0,0,0,0,0,0,0,0,0,0,0,0,0,0]
[null,"Ian O'Hara",1972,44,0,0,0,0,0,0,0,0,0,0,0,0,0,0,0,0,0,0,0,0,0]
[null,"Barry Swan",1967,49,0,0,0,0,0,0,0,0,0,0,0,0,0,0,0,0,0,0,0,0,0]
[null,"Jason Kelly",1970,46,0,0,0,0,0,0,0,0,0,0,0,0,0,0,0,0,0,0,0,0,0]
[null,"Declan Looby",1966,50,0,0,0,0,0,0,0,0,0,0,0,0,0,0,0,0,0,0,0,0,0]
[null,"Aidan Richardson",1954,62,0,0,0,0,0,0,0,0,0,0,0,0,0,0,0,0,0,0,0,0,0]
[null,"John Kinehan",1969,47,0,0,0,0,0,0,0,0,0,0,0,0,0,0,0,0,0,0,0,0,0]
[null,"Leslie Walpole",1961,55,0,0,0,0,0,0,0,0,0,0,0,0,0,0,0,0,0,0,0,0,0]
[null,"Keith Lambourne",1961,55,0,0,0,0,0,0,0,0,0,0,0,0,0,0,0,0,0,0,0,0,0]
[null,"Matthew Chell",1968,48,0,0,0,0,0,0,0,0,0,0,0,0,0,0,0,0,0,0,0,0,0]
[null,"Dermot Moyne",1962,54,0,0,0,0,0,0,0,0,0,0,0,0,0,0,0,0,0,0,0,0,0]
[null,"David Tansey",1966,50,0,0,0,0,0,0,0,0,0,0,0,0,0,0,0,0,0,0,0,0,0]
[null,"Joseph Coleman",1960,56,0,0,0,0,0,0,0,0,0,0,0,0,0,0,0,0,0,0,0,0,0]
[null,"Albert Morrow",1962,54,0,0,0,0,0,0,0,0,0,0,0,0,0,0,0,0,0,0,0,0,0]
[null,"Brian Kilbride",1968,48,0,0,0,0,0,0,0,0,0,0,0,0,0,0,0,0,0,0,0,0,0]
[null,{"$error":"#N/A"},{"$error":"#N/A"},{"$error":"#N/A"},0,0,0,0,0,0,0,0,0,0,0,0,0,0,0,0,0,0,0,0,0]
[null,"Michael Moore",1968,48,0,0,0,0,0,0,0,0,0,0,0,0,0,0,0,0,0,0,0,0,0]
[null,"Dylan Rafter",1974,42,0,0,0,0,0,0,0,0,0,0,0,0,0,0,0,0,0,0,0,0,0]
[null,"Mick Rock",1960,56,0,0,0,0,0,0,0,0,0,0,0,0,0,0,0,0,0,0,0,0,0]
[null,"Linus Devlin",1964,52,0,0,0,0,0,0,0,0,0,0,0,0,0,0,0,0,0,0,0,0,0]
[null,"Cathal Miller",1968,48,0,0,0,0,0,0,0,0,0,0,0,0,0,0,0,0,0,0,0,0,0]
[null,"Tom O'Connell",1969,47,0,0,0,0,0,0,0,0,0,0,0,0,0,0,0,0,0,0,0,0,0]
[null,"Gavin Dodd",1974,42,0,0,0,0,0,0,0,0,0,0,0,0,0,0,0,0,0,0,0,0,0]
[null,"Fergus Craddock",1975,41,0,0,0,0,0,0,0,0,0,0,0,0,0,0,0,0,0,0,0,0,0]
[null,"Eamon Finn",1965,51,0,0,0,0,0,0,0,0,0,0,0,0,0,0,0,0,0,0,0,0,0]
[null,"Declan Crean",1976,40,0,0,0,0,0,0,0,0,0,0,0,0,0,0,0,0,0,0,0,0,0]
[null,"Alan Cody",1976,40,0,0,0,0,0,0,0,0,0,0,0,0,0,0,0,0,0,0,0,0,0]
[null,"Declan Quigley",1966,50,0,0,0,0,0,0,0,0,0,0,0,0,0,0,0,0,0,0,0,0,0]
[null,"Damien Nelson",1972,44,0,0,0,0,0,0,0,0,0,0,0,0,0,0,0,0,0,0,0,0,0]
[null,"Mark Shields",1976,40,0,0,0,0,0,0,0,0,0,0,0,0,0,0,0,0,0,0,0,0,0]
[null,"Ciaran Ruane",1971,45,0,0,0,0,0,0,0,0,0,0,0,0,0,0,0,0,0,0,0,0,0]
[null,"Diarmuid Collins",1975,41,0,0,0,0,0,0,0,0,0,0,0,0,0,0,0,0,0,0,0,0,0]
[null,"Sean Hynes",1964,52,0,0,0,0,0,0,0,0,0,0,0,0,0,0,0,0,0,0,0,0,0]
[null,"Fearghal Regan",1970,46,0,0,0,0,0,0,0,0,0,0,0,0,0,0,0,0,0,0,0,0,0]
[null,"Eamon Peregrine",1971,45,0,0,0,0,0,0,0,0,0,0,0,0,0,0,0,0,0,0,0,0,0]
[null,"David MacNeaney",1969,47,0,0,0,0,0,0,0,0,0,0,0,0,0,0,0,0,0,0,0,0,0]
[null,"Paul McKenna",1976,40,0,0,0,0,0,0,0,0,0,0,0,0,0,0,0,0,0,0,0,0,0]
[null,"Daragh O'Toole",1970,46,0,0,0,0,0,0,0,0,0,0,0,0,0,0,0,0,0,0,0,0,0]
[null,"Tom Cummins",1974,42,0,0,0,0,0,0,0,0,0,0,0,0,0,0,0,0,0,0,0,0,0]
[null,"Aidan McKenna",1972,44,0,0,0,0,0,0,0,0,0,0,0,0,0,0,0,0,0,0,0,0,0]
[null,"Paul McDonnell",1969,47,0,0,0,0,0,0,0,0,0,0,0,0,0,0,0,0,0,0,0,0,0]
[null,"Brian Byrne",1971,45,0,0,0,0,0,0,0,0,0,0,0,0,0,0,0,0,0,0,0,0,0]
[null,"Tony Kavanagh",1950,66,0,0,0,0,0,0,0,0,0,0,0,0,0,0,0,0,0,0,0,0,0]
[null,"Phillip Morrissey",1974,42,0,0,0,0,0,0,0,0,0,0,0,0,0,0,0,0,0,0,0,0,0]
[null,"Graham Synnott",1975,41,0,0,0,0,0,0,0,0,0,0,0,0,0,0,0,0,0,0,0,0,0]
[null,"Brian Morrissey",1969,47,0,0,0,0,0,0,0,0,0,0,0,0,0,0,0,0,0,0,0,0,0]
[null,"Donal Gleeson",1971,45,0,0,0,0,0,0,0,0,0,0,0,0,0,0,0,0,0,0,0,0,0]
[null,null,{"$error":"#N/A"},{"$error":"#N/A"},0,0,null,null,null,null,null,null,null,null,null,null,null,0,"1904-01-01","1904-01-01","1904-01-01","1904-01-01","1904-01-01","1904-01-01",0]
[null,"Patsy FitzSimons",1934,82,0,0,0,0,0,0,0,0,0,0,0,0,0,0,0,0,0,0,0,0,0]
[null,"Eddie Dunne",1944,72,0,0,0,0,0,0,0,0,0,0,0,0,0,0,0,0,0,0,0,0,0]
[null,"Peter Rice",1946,70,0,0,0,0,0,0,0,0,0,0,0,0,0,0,0,0,0,0,0,0,0]
[null,"Hugh Davis",1947,69,0,0,0,0,0,0,0,0,0,0,0,0,0,0,0,0,0,0,0,0,0]
[null,"Ed Hogan",1958,58,0,0,0,0,0,0,0,0,0,0,0,0,0,0,0,0,0,0,0,0,0]
[null,"Paul Cullinan",1965,51,0,0,0,0,0,0,0,0,0,0,0,0,0,0,0,0,0,0,0,0,0]
[null,"Shay Dalton",1967,49,0,0,0,0,0,0,0,0,0,0,0,0,0,0,0,0,0,0,0,0,0]
[null,"Martin McCaffrey",1964,52,0,0,0,0,0,0,0,0,0,0,0,0,0,0,0,0,0,0,0,0,0]
[null,"David Carroll",1971,45,0,0,0,0,0,0,0,0,0,0,0,0,0,0,0,0,0,0,0,0,0]
[null,"Andrew Bartley",1965,51,0,0,0,0,0,0,0,0,0,0,0,0,0,0,0,0,0,0,0,0,0]
[null,"Billy Riggs",1972,44,0,0,0,0,0,0,0,0,0,0,0,0,0,0,0,0,0,0,0,0,0]
[null,"Desmond King",1962,54,0,0,0,0,0,0,0,0,0,0,0,0,0,0,0,0,0,0,0,0,0]
[null,"Brian McNamara",1968,48,0,0,0,0,0,0,0,0,0,0,0,0,0,0,0,0,0,0,0,0,0]
[null,"Simon Wallace",1972,44,0,0,0,0,0,0,0,0,0,0,0,0,0,0,0,0,0,0,0,0,0]
[null,"Harry Sherratt",1948,68,0,0,0,0,0,0,0,0,0,0,0,0,0,0,0,0,0,0,0,0,0]
[null,"Bill Andrews",1966,50,0,0,0,0,0,0,0,0,0,0,0,0,0,0,0,0,0,0,0,0,0]
[null,"Paul Hunter",1976,40,0,0,0,0,0,0,0,0,0,0,0,0,0,0,0,0,0,0,0,0,0]
[null,"Ollie Daly",1971,45,0,0,0,0,0,0,0,0,0,0,0,0,0,0,0,0,0,0,0,0,0]
[null,"Dermot Anglin",1958,58,0,0,0,0,0,0,0,0,0,0,0,0,0,0,0,0,0,0,0,0,0]
[null,"Tony Brady",1962,54,0,0,0,0,0,0,0,0,0,0,0,0,0,0,0,0,0,0,0,0,0]
[null,"Sam McArdle",1964,52,0,0,0,0,0,0,0,0,0,0,0,0,0,0,0,0,0,0,0,0,0]
[null,"David Holland",1974,42,0,0,0,0,0,0,0,0,0,0,0,0,0,0,0,0,0,0,0,0,0]
[null,"Lochlann Walsh",1968,48,0,0,0,0,0,0,0,0,0,0,0,0,0,0,0,0,0,0,0,0,0]
[null,"Alan Carroll",1975,41,0,0,0,0,0,0,0,0,0,0,0,0,0,0,0,0,0,0,0,0,0]
[null,"Mick Payne",1942,74,0,0,0,0,0,0,0,0,0,0,0,0,0,0,0,0,0,0,0,0,0]
[null,"Stephen O'Brien",1976,40,0,0,null,null,null,null,null,null,null,null,null,null,null,0,0,0,0,0,0,0,0]

{"sheet":"TTL_01","index":4,"n_rows":106,"n_cols":26,"rows_kept":106,"cut":false,"hidden":false,"merged":[]}
[null,"Start/Result",null,null,null,11,2,null,"Red Result",null,null,null,null,null,null,null,null,null,null,null,null,null,null,null,null,27]
["TTL_01","Tuesday","IVCA 10 TT",null,null,null,null,null,"Age Record",null,null,null,null,null,null,null,null,null,null,null,null,null,null,null,null,20]
[null,"2016-04-26","TT","10 mls"]
[null,"19:15:00",null,null,null,"10 mls","10 mls"]
["Start","IVCA No.","Licence Name","Gender","Age","Handicap Time","Age Std Time","Finish time ","Actual Time","Actual Time Pos.","Nett Age Std Time"," Nett Age Std by %","Age Std Pos.","Age Std Points.","Handicap by %","Handicap by % Position","Handicap by % Points.","Date","Age record Year","Distance"]
["00:04:00",1255,"Paul Dolan","M",49,"00:22:34","00:25:53.847","00:27:13","00:23:13",1,1.8616584904221911E-3,"20:56:46.547",1,10,1.028803545051699,1,10,"2016-04-26",null,"10 mls"]
["00:11:00",1095,"Adrian Byrne","M",63,"00:20:00","00:27:02.171","00:36:10","00:25:10",4,1.2982739800770117E-3,"21:32:13.409",2,9,1.2583333333333342,19,2,"2016-04-26",null,"10 mls"]
["00:09:00",1539,"Joe Sheehy","M",49,"00:20:00","00:25:53.847","00:33:25","00:24:25",2,1.0283251570888663E-3,"23:06:11.530",3,8,1.2208333333333332,17,2,"2016-04-26",null,"10 mls"]
["00:17:00",1328,"Mark McCabe","M",45,"00:20:00","00:25:35.552","00:41:25","00:24:25",3,8.1657861164323789E-4,"21:11:02.537",4,7,1.2208333333333374,18,2,"2016-04-26",null,"10 mls"]
["00:26:00",1348,"Ciara Kinch","F",43,"00:24:35","00:27:28.609","00:52:38","00:26:38",11,5.857487703515088E-4,1.0562571756601626,5,6,1.0833898305085012,6,5,"2016-04-26",null,"10 mls"]
["00:12:00",1101,"Mick Usher","M",62,"00:24:50","00:26:56.129","00:38:20","00:26:20",9,4.1816282100103422E-4,"23:47:51.501",6,5,1.0604026845637591,4,7,"2016-04-26",null,"10 mls"]
["00:05:00",1141,"Tom Malone","M",58,"00:23:22.435","00:26:35.848","00:31:12","00:26:12",8,2.760238525482267E-4,"20:49:46.847",7,4,1.1209075921284086,10,2,"2016-04-26",null,"10 mls"]
["00:14:00",1402,"Stephen Walsh","M",47,"00:24:15.567","00:25:44.672","00:39:31","00:25:31",5,1.5823529705038045E-4,"20:31:26.538",8,3,1.0518240618395651,3,8,"2016-04-26",null,"10 mls"]
["00:16:00",1258,"Rodney Joyce","M",49,"00:24:29","00:25:53.847","00:42:08","00:26:08",6,-1.6380447254077737E-4,"21:15:48.785",9,2,1.0673927842069442,5,6,"2016-04-26",null,"10 mls"]
["00:25:00",1519,"John Kehoe","M",47,"00:20:00","00:25:44.672","00:51:08","00:26:08",7,-2.700054436907684E-4,"21:53:51.714",10,2,1.3066666666666966,20,2,"2016-04-26",null,"10 mls"]
["00:10:00",1040,"Phil Ormrod","M",72,"00:24:24.669","00:28:20.374","00:38:51","00:28:51",17,-3.5446181304986044E-4,1.0180110326631988,11,2,1.1818368780070712,15,2,"2016-04-26",null,"10 mls"]
["00:22:00",1096,"Peter Raftery","M",63,"00:24:39.598","00:27:02.171","00:49:39","00:27:39",16,-4.2626305696029029E-4,1.0227036058653407,12,2,1.1212501495893989,11,2,"2016-04-26",null,"10 mls"]
["00:23:00",1259,"Mark Prendergast","M",49,"00:22:29","00:25:53.847","00:49:31","00:26:31",10,-4.3000817624479562E-4,"22:53:59.566",13,2,1.179392142327671,14,2,"2016-04-26",null,"10 mls"]
["00:19:00",1390,"Donagh McArdle","M",48,"00:24:42.581","00:25:49.252","00:45:59","00:26:59",13,-8.0726491426963767E-4,1.0603941513032724,14,2,1.092014732103409,8,3,"2016-04-26",null,"10 mls"]
["00:08:00",1488,"Conor Barry","M",43,"00:20:00","00:25:26.490","00:34:57","00:26:57",12,-1.0475748697015529E-3,1.0715388574369498,15,2,1.3475000000000006,21,2,"2016-04-26",null,"10 mls"]
["00:24:00",1446,"David McDonald","M",44,"00:20:00","00:25:31.014","00:51:02","00:27:02",14,-1.0530792962424283E-3,1.0130111524163357,16,2,1.351666666666693,22,2,"2016-04-26",null,"10 mls"]
["00:28:00",1261,"Leonard Carrigan","M",49,"00:24:57","00:25:53.847","00:55:26","00:27:26",15,-1.0665822503190849E-3,1.0593061537055544,17,2,1.0995323981296239,9,2,"2016-04-26",null,"10 mls"]
["00:03:00",1311,"Deanne Sanders","F",45,"00:25:05.538","00:27:38.397","00:32:24","00:29:24",19,-1.2222617660919075E-3,1.0636780234877357,18,2,1.1716738339821198,13,2,"2016-04-26",null,"10 mls"]
["00:21:00",1114,"Jimmy Murphy","M",60,"00:27:03","00:26:45.495","00:50:27","00:29:27",20,-1.8692665238391436E-3,"21:51:14.712",19,2,1.0887245841035245,7,4,"2016-04-26",null,"10 mls"]
["00:18:00",1195,"Willie McDonald","M",54,"00:20:00","00:26:17.037","00:47:06","00:29:06",18,-1.9555930985946102E-3,null,20,2,1.4550000000000072,24,2,"2016-04-26",null,"10 mls"]
["00:02:00",1077,"Brendan Byrne","M",66,"00:26:52","00:27:23.260","00:33:06","00:31:06",24,-2.5780074490832673E-3,1.1355475228516907,21,2,1.1575682382133996,12,2,"2016-04-26",null,"10 mls"]
["00:15:00",1090,"Colm Conway","M",64,"00:29:51","00:27:08.703","00:45:56","00:30:56",23,-2.6307570655029547E-3,"22:00:59.504",22,2,1.0362925739810163,2,9,"2016-04-26",null,"10 mls"]
["00:07:00",1284,"Enda Smyth","M",47,"00:24:37.567","00:25:44.672","00:36:46","00:29:46",21,-2.7931535918385014E-3,{"$error":"#REF!"},23,2,1.2087441402201551,16,2,"2016-04-26",null,"10 mls"]
["00:20:00",1530,"Brian Kane","M",41,"00:20:00","00:25:17.483","00:50:42","00:30:42",22,-3.7559884259261121E-3,"20:27:33.272",24,2,1.5350000000000137,25,2,"2016-04-26",null,"10 mls"]
["00:01:00",1002,"Kevin Simms","M",84,"00:31:23.055","00:31:47.667","00:45:17","00:44:17",25,-8.6728375979314952E-3,1.0506062203479427,25,2,1.4110046616006868,23,2,"2016-04-26",null,"10 mls"]
["00:06:00",1123,"Colm Cassidy","M",59,"00:25:05.464","00:26:40.588","01:06:00","01:00:00",26,-2.3141343853138509E-2,1.1458094144661333,26,2,2.3912889907376198,26,2,"2016-04-26",null,"10 mls"]
["00:13:00",1231,"Billy Bourke","M",51,"00:23:11","00:26:03.080","01:13:00","01:00:00",27,-2.3141343853138516E-2,"20:20:28.037",27,2,2.5880661394680096,27,2,"2016-04-26",null,"10 mls"]
["00:27:00",null,"","","",{"$error":"#N/A"},{"$error":"#N/A"},null,"",28,-1,{"$error":"#VALUE!"},28,2,10,28,2,"2016-04-26",null,"10 mls"]
["00:57:00",null,"","","",{"$error":"#N/A"},{"$error":"#N/A"},null,"",29,-1,{"$error":"#VALUE!"},29,2,10,29,2,"2016-04-26",null,"10 mls"]
["00:59:00",null,"","","",{"$error":"#N/A"},{"$error":"#N/A"},null,"",30,-1,{"$error":"#VALUE!"},30,2,10,30,2,"2016-04-26",null,"10 mls"]
["01:01:00",null,"","","",{"$error":"#N/A"},{"$error":"#N/A"},null,"",31,-1,{"$error":"#VALUE!"},31,2,10,31,2,"2016-04-26",null,"10 mls"]
["01:03:00",null,"","","",{"$error":"#N/A"},{"$error":"#N/A"},null,"",32,-1,{"$error":"#VALUE!"},32,2,10,32,2,"2016-04-26",null,"10 mls"]
["01:39:00",null,"","","",{"$error":"#N/A"},{"$error":"#N/A"},null,"",33,-1,{"$error":"#VALUE!"},33,2,10,33,2,"2016-04-26",null,"10 mls"]
["01:40:00",null,"","","",{"$error":"#N/A"},{"$error":"#N/A"},null,"",34,-1,{"$error":"#VALUE!"},34,2,10,34,2,"2016-04-26",null,"10 mls"]
["00:33:00",null,"","","",{"$error":"#N/A"},{"$error":"#N/A"},null,null,35,-1,{"$error":"#N/A"},35,2,10,35,2,"2016-04-26",null,"10 mls"]
["00:34:00",null,"","","",{"$error":"#N/A"},{"$error":"#N/A"},null,null,36,-1,{"$error":"#N/A"},36,2,10,36,2,"2016-04-26",null,"10 mls"]
["00:35:00",null,"","","",{"$error":"#N/A"},{"$error":"#N/A"},null,null,37,-1,{"$error":"#N/A"},37,2,10,37,2,"2016-04-26",null,"10 mls"]
["00:36:00",null,"","","",{"$error":"#N/A"},{"$error":"#N/A"},null,null,38,-1,{"$error":"#N/A"},38,2,10,38,2,"2016-04-26",null,"10 mls"]
["00:37:00",null,"","","",{"$error":"#N/A"},{"$error":"#N/A"},null,null,39,-1,{"$error":"#N/A"},39,2,10,39,2,"2016-04-26",null,"10 mls"]
["00:38:00",null,"","","",{"$error":"#N/A"},{"$error":"#N/A"},null,null,40,-1,{"$error":"#N/A"},40,2,10,40,2,"2016-04-26",null,"10 mls"]
["00:39:00",null,"","","",{"$error":"#N/A"},{"$error":"#N/A"},null,null,41,-1,{"$error":"#N/A"},41,2,10,41,2,"2016-04-26",null,"10 mls"]
["00:40:00",null,"","","",{"$error":"#N/A"},{"$error":"#N/A"},null,null,42,-1,{"$error":"#N/A"},42,2,10,42,2,"2016-04-26",null,"10 mls"]
["00:41:00",null,"","","",{"$error":"#N/A"},{"$error":"#N/A"},null,null,43,-1,{"$error":"#N/A"},43,2,10,43,2,"2016-04-26",null,"10 mls"]
["00:42:00",null,"","","",{"$error":"#N/A"},{"$error":"#N/A"},null,null,44,-1,{"$error":"#N/A"},44,2,10,44,2,"2016-04-26",null,"10 mls"]
["00:43:00",null,"","","",{"$error":"#N/A"},{"$error":"#N/A"},null,null,45,-1,{"$error":"#N/A"},45,2,10,45,2,"2016-04-26",null,"10 mls"]
["00:44:00",null,"","","",{"$error":"#N/A"},{"$error":"#N/A"},null,null,46,-1,null,46,2,10,46,2,"2016-04-26",null,"10 mls"]
["00:46:00",null,"","","",{"$error":"#N/A"},{"$error":"#N/A"},null,null,47,-1,null,47,2,10,47,2,"2016-04-26",null,"10 mls"]
["00:48:00",null,"","","",{"$error":"#N/A"},{"$error":"#N/A"},null,null,48,-1,null,48,2,10,48,2,"2016-04-26",null,"10 mls"]
["00:50:00",null,"","","",{"$error":"#N/A"},{"$error":"#N/A"},null,null,49,-1,null,49,2,10,49,2,"2016-04-26",null,"10 mls"]
["00:52:00",null,"","","",{"$error":"#N/A"},{"$error":"#N/A"},null,null,50,-1,null,50,2,10,50,2,"2016-04-26",null,"10 mls"]
["00:54:00",null,"","","",{"$error":"#N/A"},{"$error":"#N/A"},null,null,51,-1,null,51,2,10,51,2,"2016-04-26",null,"10 mls"]
["00:56:00",null,"","","",{"$error":"#N/A"},{"$error":"#N/A"},null,null,52,-1,null,52,2,10,52,2,"2016-04-26",null,"10 mls"]
["00:58:00",null,"","","",{"$error":"#N/A"},{"$error":"#N/A"},null,null,53,-1,null,53,2,10,53,2,"2016-04-26",null,"10 mls"]
["01:00:00",null,"","","",{"$error":"#N/A"},{"$error":"#N/A"},null,null,54,-1,null,54,2,10,54,2,"2016-04-26",null,"10 mls"]
["01:02:00",null,"","","",{"$error":"#N/A"},{"$error":"#N/A"},null,null,55,-1,null,55,2,10,55,2,"2016-04-26",null,"10 mls"]
["01:04:00",null,"","","",{"$error":"#N/A"},{"$error":"#N/A"},null,null,56,-1,null,56,2,10,56,2,"2016-04-26",null,"10 mls"]
["01:05:00",null,"","","",{"$error":"#N/A"},{"$error":"#N/A"},null,null,57,-1,null,57,2,10,57,2,"2016-04-26",null,"10 mls"]
["01:06:00",null,"","","",{"$error":"#N/A"},{"$error":"#N/A"},null,null,58,-1,null,58,2,10,58,2,"2016-04-26",null,"10 mls"]
["01:07:00",null,"","","",{"$error":"#N/A"},{"$error":"#N/A"},null,null,59,-1,null,59,2,10,59,2,"2016-04-26",null,"10 mls"]
["01:08:00",null,"","","",{"$error":"#N/A"},{"$error":"#N/A"},null,null,60,-1,null,60,2,10,60,2,"2016-04-26",null,"10 mls"]
["01:09:00",null,"","","",{"$error":"#N/A"},{"$error":"#N/A"},null,null,61,-1,null,61,2,10,61,2,"2016-04-26",null,"10 mls"]
["01:10:00",null,"","","",{"$error":"#N/A"},{"$error":"#N/A"},null,null,62,-1,null,62,2,10,62,2,"2016-04-26",null,"10 mls"]
["01:11:00",null,"","","",{"$error":"#N/A"},{"$error":"#N/A"},null,null,63,-1,null,63,2,10,63,2,"2016-04-26",null,"10 mls"]
["01:12:00",null,"","","",{"$error":"#N/A"},{"$error":"#N/A"},null,null,64,-1,null,64,2,10,64,2,"2016-04-26",null,"10 mls"]
["01:13:00",null,"","","",{"$error":"#N/A"},{"$error":"#N/A"},null,null,65,-1,null,65,2,10,65,2,"2016-04-26",null,"10 mls"]
["01:14:00",null,"","","",{"$error":"#N/A"},{"$error":"#N/A"},null,null,66,-1,null,66,2,10,66,2,"2016-04-26",null,"10 mls"]
["01:15:00",null,"","","",{"$error":"#N/A"},{"$error":"#N/A"},null,null,67,-1,null,67,2,10,67,2,"2016-04-26",null,"10 mls"]
["01:16:00",null,"","","",{"$error":"#N/A"},{"$error":"#N/A"},null,null,68,-1,null,68,2,10,68,2,"2016-04-26",null,"10 mls"]
["01:17:00",null,"","","",{"$error":"#N/A"},{"$error":"#N/A"},null,null,69,-1,null,69,2,10,69,2,"2016-04-26",null,"10 mls"]
["01:18:00",null,"","","",{"$error":"#N/A"},{"$error":"#N/A"},null,null,70,-1,null,70,2,10,70,2,"2016-04-26",null,"10 mls"]
["01:19:00",null,"","","",{"$error":"#N/A"},{"$error":"#N/A"},null,null,71,-1,null,71,2,10,71,2,"2016-04-26",null,"10 mls"]
["01:20:00",null,"","","",{"$error":"#N/A"},{"$error":"#N/A"},null,null,72,-1,null,72,2,10,72,2,"2016-04-26",null,"10 mls"]
["01:21:00",null,"","","",{"$error":"#N/A"},{"$error":"#N/A"},null,null,73,-1,null,73,2,10,73,2,"2016-04-26",null,"10 mls"]
["01:22:00",null,"","","",{"$error":"#N/A"},{"$error":"#N/A"},null,null,74,-1,null,74,2,10,74,2,"2016-04-26",null,"10 mls"]
["01:23:00",null,"","","",{"$error":"#N/A"},{"$error":"#N/A"},null,null,75,-1,null,75,2,10,75,2,"2016-04-26",null,"10 mls"]
["01:24:00",null,"","","",{"$error":"#N/A"},{"$error":"#N/A"},null,null,76,-1,null,76,2,10,76,2,"2016-04-26",null,"10 mls"]
["01:25:00",null,"","","",{"$error":"#N/A"},{"$error":"#N/A"},null,null,77,-1,null,77,2,10,77,2,"2016-04-26",null,"10 mls"]
["01:26:00",null,"","","",{"$error":"#N/A"},{"$error":"#N/A"},null,null,78,-1,null,78,2,10,78,2,"2016-04-26",null,"10 mls"]
["01:27:00",null,"","","",{"$error":"#N/A"},{"$error":"#N/A"},null,null,79,-1,null,79,2,10,79,2,"2016-04-26",null,"10 mls"]
["01:28:00",null,"","","",{"$error":"#N/A"},{"$error":"#N/A"},null,null,80,-1,null,80,2,10,80,2,"2016-04-26",null,"10 mls"]
["01:29:00",null,"","","",{"$error":"#N/A"},{"$error":"#N/A"},null,null,81,-1,null,81,2,10,81,2,"2016-04-26",null,"10 mls"]
["01:30:00",null,"","","",{"$error":"#N/A"},{"$error":"#N/A"},null,null,82,-1,null,82,2,10,82,2,"2016-04-26",null,"10 mls"]
["01:31:00",null,"","","",{"$error":"#N/A"},{"$error":"#N/A"},null,null,83,-1,null,83,2,10,83,2,"2016-04-26",null,"10 mls"]
["01:32:00",null,"","","",{"$error":"#N/A"},{"$error":"#N/A"},null,null,84,-1,null,84,2,10,84,2,"2016-04-26",null,"10 mls"]
["01:33:00",null,"","","",{"$error":"#N/A"},{"$error":"#N/A"},null,null,85,-1,null,85,2,10,85,2,"2016-04-26",null,"10 mls"]
["01:34:00",null,"","","",{"$error":"#N/A"},{"$error":"#N/A"},null,null,86,-1,null,86,2,10,86,2,"2016-04-26",null,"10 mls"]
["01:35:00",null,"","","",{"$error":"#N/A"},{"$error":"#N/A"},null,null,87,-1,null,87,2,10,87,2,"2016-04-26",null,"10 mls"]
["01:37:00",null,"","","",{"$error":"#N/A"},{"$error":"#N/A"},null,null,88,-1,null,88,2,10,88,2,"2016-04-26",null,"10 mls"]
["01:36:00",null,"","","",{"$error":"#N/A"},{"$error":"#N/A"},null,null,null,-1,null,null,null,10,98,2,"2016-04-26",null,"10 mls"]
["01:38:00",null,"","","",{"$error":"#N/A"},{"$error":"#N/A"},null,null,null,-1,null,null,null,10,97,2,"2016-04-26",null,"10 mls"]
["Timekeeper",null,"Ger Madden",null,null,null,null,null,null,89,null,null,89,2,null,89,2,"2016-04-26",null,"10 mls"]
[null,null,"Harry Sherrattt",null,null,null,null,null,null,90,null,null,90,2,null,90,2,"2016-04-26",null,"10 mls"]
[null,null,null,null,null,null,null,null,null,91,null,null,91,2,null,91,2,"2016-04-26",null,"10 mls"]
["Marshalls",null,"Mark Mearns",null,null,null,null,null,null,92,null,null,92,2,null,92,2,"2016-04-26",null,"10 mls"]
[null,null,"Jimmy Stagg",null,null,null,null,null,null,93,null,null,93,2,null,93,2,"2016-04-26",null,"10 mls"]
[null,null,"Malcolm Garland",null,null,null,null,null,null,94,null,null,94,2,null,94,2,"2016-04-26",null,"10 mls"]
[null,null,"Gerry Jameson",null,null,null,null,null,null,95,null,null,95,2,null,95,2,"2016-04-26",null,"10 mls"]
[null,null,"JJ Boylan",null,null,null,null,null,null,96,null,null,96,2,null,96,2,"2016-04-26",null,"10 mls"]
[null,null,"Romano Morelli",null,null,null,null,null,null,97,null,null,97,2,null,97,2,"2016-04-26",null,"10 mls"]
[null,null,"Colm Cassidy",null,null,null,null,null,null,98,null,null,98,2,null,98,2,"2016-04-26",null,"10 mls"]
[null,null,null,""]

{"sheet":"TTL_02","index":5,"n_rows":0,"n_cols":0,"rows_kept":0,"cut":false,"hidden":false,"merged":[]}

{"sheet":"TTL_03","index":6,"n_rows":0,"n_cols":0,"rows_kept":0,"cut":false,"hidden":false,"merged":[]}

{"sheet":"TTL_04","index":7,"n_rows":0,"n_cols":0,"rows_kept":0,"cut":false,"hidden":false,"merged":[]}

{"sheet":"TTL_05","index":8,"n_rows":0,"n_cols":0,"rows_kept":0,"cut":false,"hidden":false,"merged":[]}

{"sheet":"TTL_06","index":9,"n_rows":0,"n_cols":0,"rows_kept":0,"cut":false,"hidden":false,"merged":[]}

{"sheet":"TTL_07","index":10,"n_rows":0,"n_cols":0,"rows_kept":0,"cut":false,"hidden":false,"merged":[]}

{"sheet":"TTL_08","index":11,"n_rows":0,"n_cols":0,"rows_kept":0,"cut":false,"hidden":false,"merged":[]}

{"sheet":"TTL_09","index":12,"n_rows":0,"n_cols":0,"rows_kept":0,"cut":false,"hidden":false,"merged":[]}

{"sheet":"TTL_10","index":13,"n_rows":0,"n_cols":0,"rows_kept":0,"cut":false,"hidden":false,"merged":[]}

{"sheet":"TTL_Opt","index":14,"n_rows":0,"n_cols":0,"rows_kept":0,"cut":false,"hidden":false,"merged":[]}

{"sheet":"Sat TT_01","index":15,"n_rows":0,"n_cols":0,"rows_kept":0,"cut":false,"hidden":false,"merged":[]}

{"sheet":"Sat TT_02","index":16,"n_rows":0,"n_cols":0,"rows_kept":0,"cut":false,"hidden":false,"merged":[]}

{"sheet":"Sat TT_03","index":17,"n_rows":0,"n_cols":0,"rows_kept":0,"cut":false,"hidden":false,"merged":[]}

{"sheet":"Sat TT_04","index":18,"n_rows":0,"n_cols":0,"rows_kept":0,"cut":false,"hidden":false,"merged":[]}

{"sheet":"Sat TT_05","index":19,"n_rows":0,"n_cols":0,"rows_kept":0,"cut":false,"hidden":false,"merged":[]}

{"sheet":"Sat TT_06","index":20,"n_rows":0,"n_cols":0,"rows_kept":0,"cut":false,"hidden":false,"merged":[]}

{"sheet":"Sat TT_07","index":21,"n_rows":0,"n_cols":0,"rows_kept":0,"cut":false,"hidden":false,"merged":[]}

{"sheet":"Sat TT_08","index":22,"n_rows":0,"n_cols":0,"rows_kept":0,"cut":false,"hidden":false,"merged":[]}

{"sheet":"Master Times","index":23,"n_rows":29,"n_cols":27,"rows_kept":29,"cut":false,"hidden":false,"merged":[]}
["Start","IVCA No.","Licence Name","Gender","Age","Handicap Time","Age Std Time","Finish time ","Actual Time","Actual Time Pos.","Nett Age Std Time"," Nett Age Std by %","Age Std Pos.","Age Std Points.","Handicap by %","Handicap by % Position","Handicap by % Points.","Date","Age record Year","Distance",null,null,null,"Sort FAR",null,"Sort BAR"]
["Column1","Column2","Column3","Column4","Column5","Column6","Column7","Column8","Column9","Column10","Column11","Column12","Column13","Column14","Column15","Column16","Column17","Column18","Column19","Column20","Column21","Column22","Column23","Column24","Column25","Column26","Column27"]
["00:04:00",1255,"Paul Dolan","M",49,"00:22:34","00:25:53.847","00:27:13","00:23:13",1,"00:02:40.847",0.87276096355774868,1,10,1.028803545051699,1,10,"2016-04-26",null,"10 mls"]
["00:11:00",1095,"Adrian Byrne","M",63,"00:20:00","00:27:02.171","00:36:10","00:25:10",4,"00:01:52.171",0.89737742303306256,2,9,1.2583333333333342,19,2,"2016-04-26",null,"10 mls"]
["00:09:00",1539,"Joe Sheehy","M",49,"00:20:00","00:25:53.847","00:33:25","00:24:25",2,"00:01:28.847",0.96263345195729011,3,8,1.2208333333333332,17,2,"2016-04-26",null,"10 mls"]
["00:17:00",1328,"Mark McCabe","M",45,"00:20:00","00:25:35.552","00:41:25","00:24:25",3,"00:01:10.552",0.88266825491365608,4,7,1.2208333333333374,18,2,"2016-04-26",null,"10 mls"]
["00:12:00",1101,"Mick Usher","M",62,"00:24:50","00:26:56.129","00:38:20","00:26:20",9,"00:00:36.129",0.99156829679594249,5,6,1.0604026845637591,4,7,"2016-04-26",null,"10 mls"]
["00:05:00",1141,"Tom Malone","M",58,"00:23:22.435","00:26:35.848","00:31:12","00:26:12",8,"00:00:23.848",0.86790331646991759,6,5,1.1209075921284086,10,2,"2016-04-26",null,"10 mls"]
["00:14:00",1402,"Stephen Walsh","M",47,"00:24:15.567","00:25:44.672","00:39:31","00:25:31",5,"00:00:13.672",0.85516826923078093,7,4,1.0518240618395651,3,8,"2016-04-26",null,"10 mls"]
["00:16:00",1258,"Rodney Joyce","M",49,"00:24:29","00:25:53.847","00:42:08","00:26:08",6,-1.6380447254077737E-4,0.8859813084112127,8,3,1.0673927842069442,5,6,"2016-04-26",null,"10 mls"]
["00:25:00",1519,"John Kehoe","M",47,"00:20:00","00:25:44.672","00:51:08","00:26:08",7,-2.700054436907684E-4,0.91240409207160433,9,2,1.3066666666666966,20,2,"2016-04-26",null,"10 mls"]
["00:10:00",1040,"Phil Ormrod","M",72,"00:24:24.669","00:28:20.374","00:38:51","00:28:51",17,-3.5446181304986044E-4,1.0180110326631988,10,2,1.1818368780070712,15,2,"2016-04-26",null,"10 mls"]
["00:22:00",1096,"Peter Raftery","M",63,"00:24:39.598","00:27:02.171","00:49:39","00:27:39",16,-4.2626305696029029E-4,1.0227036058653407,11,2,1.1212501495893989,11,2,"2016-04-26",null,"10 mls"]
["00:23:00",1259,"Mark Prendergast","M",49,"00:22:29","00:25:53.847","00:49:31","00:26:31",10,-4.3000817624479562E-4,0.95416164053075192,12,2,1.179392142327671,14,2,"2016-04-26",null,"10 mls"]
["00:19:00",1390,"Donagh McArdle","M",48,"00:24:42.581","00:25:49.252","00:45:59","00:26:59",13,-8.0726491426963767E-4,1.0603941513032724,13,2,1.092014732103409,8,3,"2016-04-26",null,"10 mls"]
["00:26:00",1348,"Ciara Kinch","M",43,"00:24:35","00:25:26.490","00:52:38","00:26:38",11,-8.2766746229459218E-4,1.0562571756601626,14,2,1.0833898305085012,6,5,"2016-04-26",null,"10 mls"]
["00:08:00",1488,"Conor Barry","M",43,"00:20:00","00:25:26.490","00:34:57","00:26:57",12,-1.0475748697015529E-3,1.0715388574369498,15,2,1.3475000000000006,21,2,"2016-04-26",null,"10 mls"]
["00:24:00",1446,"David McDonald","M",44,"00:20:00","00:25:31.014","00:51:02","00:27:02",14,-1.0530792962424283E-3,1.0130111524163357,16,2,1.351666666666693,22,2,"2016-04-26",null,"10 mls"]
["00:28:00",1261,"Leonard Carrigan","M",49,"00:24:57","00:25:53.847","00:55:26","00:27:26",15,-1.0665822503190849E-3,1.0593061537055544,17,2,1.0995323981296239,9,2,"2016-04-26",null,"10 mls"]
["00:21:00",1114,"Jimmy Murphy","M",60,"00:27:03","00:26:45.495","00:50:27","00:29:27",20,-1.8692665238391436E-3,0.91058694459681999,18,2,1.0887245841035245,7,4,"2016-04-26",null,"10 mls"]
["00:18:00",1195,"Willie McDonald","M",54,"00:20:00","00:26:17.037","00:47:06","00:29:06",18,-1.9555930985946102E-3,null,19,2,1.4550000000000072,24,2,"2016-04-26",null,"10 mls"]
["00:02:00",1077,"Brendan Byrne","M",66,"00:26:52","00:27:23.260","00:33:06","00:31:06",24,-2.5780074490832673E-3,1.1355475228516907,20,2,1.1575682382133996,12,2,"2016-04-26",null,"10 mls"]
["00:15:00",1090,"Colm Conway","M",64,"00:29:51","00:27:08.703","00:45:56","00:30:56",23,-2.6307570655029547E-3,0.9173553719008527,21,2,1.0362925739810163,2,9,"2016-04-26",null,"10 mls"]
["00:03:00",1311,"Deanne Sanders","M",45,"00:25:05.538","00:25:35.552","00:32:24","00:29:24",19,-2.6440695365048533E-3,1.1487722653667545,22,2,1.1716738339821198,13,2,"2016-04-26",null,"10 mls"]
["00:07:00",1284,"Enda Smyth","M",47,"00:24:37.567","00:25:44.672","00:36:46","00:29:46",21,-2.7931535918385014E-3,{"$error":"#REF!"},23,2,1.2087441402201551,16,2,"2016-04-26",null,"10 mls"]
["00:20:00",1530,"Brian Kane","M",41,"00:20:00","00:25:17.483","00:50:42","00:30:42",22,-3.7559884259261121E-3,0.8524684270952948,24,2,1.5350000000000137,25,2,"2016-04-26",null,"10 mls"]
["00:01:00",1002,"Kevin Simms","M",84,"00:31:23.055","00:31:47.667","00:45:17","00:44:17",25,-8.6728375979314952E-3,1.0506062203479427,25,2,1.4110046616006868,23,2,"2016-04-26",null,"10 mls"]
["00:13:00",1231,"Billy Bourke","M",51,"00:23:11","00:26:03.080","01:13:00","01:00:00",26,-1.9587189449783368E-2,0.8475467289719546,26,2,2.5880661394680096,27,2,"2016-04-26",null,"10 mls"]
["00:06:00",1123,"Colm Cassidy","M",59,"00:25:05.464","00:26:40.588","01:06:00","01:00:00",27,-2.3141343853138509E-2,1.1458094144661333,27,2,2.3912889907376198,26,2,"2016-04-26",null,"10 mls"]

{"sheet":"FAR_BAR","index":24,"n_rows":301,"n_cols":14,"rows_kept":301,"cut":false,"hidden":false,"merged":[]}
["IVCA No.","Licence Name","Age",null,null,2011,"Fastest 10","Fastest 25","Fastest 50","FAR","Av Sp Mp/h","FAR Pos","BAR","BAR Pos"]
[]
[]
[null,null,null,null,null,null,null,null,null,null,{"$f":"(85/((HOUR(J4)*3600)+(MINUTE(J4)*60)+SECOND(J4))*3600)","v":{"$error":"#DIV/0!"}}]
[{"$f":"'Ability Times'!A11","v":1004},{"$f":"'Ability Times'!B11","v":"Patsy FitzSimons"},{"$f":"'Ability Times'!C11","v":82},null,null,null,null,null,null,null,{"$f":"(85/((HOUR(J5)*3600)+(MINUTE(J5)*60)+SECOND(J5))*3600)","v":{"$error":"#DIV/0!"}}]
[{"$f":"'Ability Times'!A12","v":1014},{"$f":"'Ability Times'!B12","v":"Peter Schweppe"},{"$f":"'Ability Times'!C12","v":78},null,null,null,null,null,null,null,{"$error":"#DIV/0!"}]
[{"$f":"'Ability Times'!A13","v":1015},{"$f":"'Ability Times'!B13","v":"Paddy Byrne"},{"$f":"'Ability Times'!C13","v":78},null,null,null,null,null,null,null,{"$error":"#DIV/0!"}]
[{"$f":"'Ability Times'!A14","v":1023},{"$f":"'Ability Times'!B14","v":"Robert Norgrove"},{"$f":"'Ability Times'!C14","v":76},null,null,null,null,null,null,null,{"$error":"#DIV/0!"}]
[{"$f":"'Ability Times'!A15","v":1024},{"$f":"'Ability Times'!B15","v":"Eddie Scully"},{"$f":"'Ability Times'!C15","v":75},null,null,null,null,null,null,null,{"$error":"#DIV/0!"}]
[{"$f":"'Ability Times'!A16","v":1026},{"$f":"'Ability Times'!B16","v":"Seán Lally"},{"$f":"'Ability Times'!C16","v":75},null,null,null,null,null,null,null,{"$error":"#DIV/0!"}]
[{"$f":"'Ability Times'!A17","v":1034},{"$f":"'Ability Times'!B17","v":"Paddy Davis"},{"$f":"'Ability Times'!C17","v":73},null,null,null,null,null,null,null,{"$error":"#DIV/0!"}]
[{"$f":"'Ability Times'!A18","v":1040},{"$f":"'Ability Times'!B18","v":"Phil Ormrod"},{"$f":"'Ability Times'!C18","v":72},null,null,null,null,null,null,null,{"$error":"#DIV/0!"}]
[{"$f":"'Ability Times'!A19","v":1044},{"$f":"'Ability Times'!B19","v":"Eddie Dunne"},{"$f":"'Ability Times'!C19","v":72},null,null,null,null,null,null,null,{"$error":"#DIV/0!"}]
[{"$f":"'Ability Times'!A21","v":1050},{"$f":"'Ability Times'!B21","v":"Mick Davis"},{"$f":"'Ability Times'!C21","v":71},null,null,null,null,null,null,null,{"$error":"#DIV/0!"}]
[{"$f":"'Ability Times'!A22","v":1054},{"$f":"'Ability Times'!B22","v":"Peter Rice"},{"$f":"'Ability Times'!C22","v":70},null,null,null,null,null,null,null,{"$error":"#DIV/0!"}]
[{"$f":"'Ability Times'!A23","v":1060},{"$f":"'Ability Times'!B23","v":"Hugh Davis"},{"$f":"'Ability Times'!C23","v":69},null,null,null,null,null,null,null,{"$error":"#DIV/0!"}]
[{"$f":"'Ability Times'!A24","v":1062},{"$f":"'Ability Times'!B24","v":"Mick Mullen"},{"$f":"'Ability Times'!C24","v":68},null,null,null,null,null,null,null,{"$error":"#DIV/0!"}]
[{"$f":"'Ability Times'!A25","v":1077},{"$f":"'Ability Times'!B25","v":"Brendan Byrne"},{"$f":"'Ability Times'!C25","v":66},null,null,null,null,null,null,null,{"$error":"#DIV/0!"}]
[{"$f":"'Ability Times'!A26","v":1083},{"$f":"'Ability Times'!B26","v":"Seán Darragh"},{"$f":"'Ability Times'!C26","v":65},null,null,null,null,null,null,null,{"$error":"#DIV/0!"}]
[{"$f":"'Ability Times'!A28","v":1095},{"$f":"'Ability Times'!B28","v":"Adrian Byrne"},{"$f":"'Ability Times'!C28","v":63},null,null,null,null,null,null,null,{"$error":"#DIV/0!"}]
[{"$f":"'Ability Times'!A30","v":1096},{"$f":"'Ability Times'!B30","v":"Peter Raftery"},{"$f":"'Ability Times'!C30","v":63},null,null,null,null,null,null,null,{"$error":"#DIV/0!"}]
[{"$f":"'Ability Times'!A31","v":1101},{"$f":"'Ability Times'!B31","v":"Mick Usher"},{"$f":"'Ability Times'!C31","v":62},null,null,null,null,null,null,null,{"$error":"#DIV/0!"}]
[{"$f":"'Ability Times'!A36","v":1123},{"$f":"'Ability Times'!B36","v":"Colm Cassidy"},{"$f":"'Ability Times'!C36","v":59},null,null,null,null,null,null,null,{"$error":"#DIV/0!"}]
[{"$f":"'Ability Times'!A37","v":1131},{"$f":"'Ability Times'!B37","v":"Ed Hogan"},{"$f":"'Ability Times'!C37","v":58},null,null,null,null,null,null,null,{"$error":"#DIV/0!"}]
[{"$f":"'Ability Times'!A40","v":1162},{"$f":"'Ability Times'!B40","v":"William Parnell"},{"$f":"'Ability Times'!C40","v":56},null,null,null,null,null,null,null,{"$error":"#DIV/0!"}]
[{"$f":"'Ability Times'!A42","v":1164},{"$f":"'Ability Times'!B42","v":"Eunan Malone"},{"$f":"'Ability Times'!C42","v":56},null,null,null,null,null,null,null,{"$error":"#DIV/0!"}]
[{"$f":"'Ability Times'!A43","v":1169},{"$f":"'Ability Times'!B43","v":"Paul Atkinson"},{"$f":"'Ability Times'!C43","v":56},null,null,null,null,null,null,null,{"$error":"#DIV/0!"}]
[{"$f":"'Ability Times'!A44","v":1185},{"$f":"'Ability Times'!B44","v":"Noel Thompson"},{"$f":"'Ability Times'!C44","v":55},null,null,null,null,null,null,null,{"$error":"#DIV/0!"}]
[{"$f":"'Ability Times'!A45","v":1190},{"$f":"'Ability Times'!B45","v":"Lloyd Scott"},{"$f":"'Ability Times'!C45","v":954},null,null,null,null,null,null,null,{"$error":"#DIV/0!"}]
[{"$f":"'Ability Times'!A47","v":1196},{"$f":"'Ability Times'!B47","v":"Tom Barber"},{"$f":"'Ability Times'!C47","v":54},null,null,null,null,null,null,null,{"$error":"#DIV/0!"}]
[{"$f":"'Ability Times'!A49","v":1213},{"$f":"'Ability Times'!B49","v":"Lloyd Berry"},{"$f":"'Ability Times'!C49","v":52},null,null,null,null,null,null,null,{"$error":"#DIV/0!"}]
[{"$f":"'Ability Times'!A51","v":1224},{"$f":"'Ability Times'!B51","v":"Pat Byrne"},{"$f":"'Ability Times'!C51","v":52},null,null,null,null,null,null,null,{"$error":"#DIV/0!"}]
[{"$f":"'Ability Times'!A52","v":1227},{"$f":"'Ability Times'!B52","v":"Linus Devlin"},{"$f":"'Ability Times'!C52","v":52},null,null,null,null,null,null,null,{"$error":"#DIV/0!"}]
[{"$f":"'Ability Times'!A54","v":1230},{"$f":"'Ability Times'!B54","v":"Paul Cullinan"},{"$f":"'Ability Times'!C54","v":51},null,null,null,null,null,null,null,{"$error":"#DIV/0!"}]
[{"$f":"'Ability Times'!A57","v":1236},{"$f":"'Ability Times'!B57","v":"John Dillon"},{"$f":"'Ability Times'!C57","v":51},null,null,null,null,null,null,null,{"$error":"#DIV/0!"}]
[{"$f":"'Ability Times'!A58","v":1252},{"$f":"'Ability Times'!B58","v":"Barry Swan"},{"$f":"'Ability Times'!C58","v":49},null,null,null,null,null,null,null,{"$error":"#DIV/0!"}]
[{"$f":"'Ability Times'!A59","v":1255},{"$f":"'Ability Times'!B59","v":"Paul Dolan"},{"$f":"'Ability Times'!C59","v":49},null,null,null,null,null,null,null,{"$f":"(85/((HOUR(J37)*3600)+(MINUTE(J37)*60)+SECOND(J37))*3600)","v":{"$error":"#DIV/0!"}}]
[{"$f":"'Ability Times'!A60","v":1258},{"$f":"'Ability Times'!B60","v":"Rodney Joyce"},{"$f":"'Ability Times'!C60","v":49},null,null,null,null,null,null,null,{"$error":"#DIV/0!"}]
[{"$f":"'Ability Times'!A61","v":1259},{"$f":"'Ability Times'!B61","v":"Mark Prendergast"},{"$f":"'Ability Times'!C61","v":49},null,null,null,null,null,null,null,{"$error":"#DIV/0!"}]
[{"$f":"'Ability Times'!A65","v":1281},{"$f":"'Ability Times'!B65","v":"Cathal Miller"},{"$f":"'Ability Times'!C65","v":48},null,null,null,null,null,null,null,{"$error":"#DIV/0!"}]
[{"$f":"'Ability Times'!A67","v":1294},{"$f":"'Ability Times'!B67","v":"Mark Kidd"},{"$f":"'Ability Times'!C67","v":47},null,null,null,null,null,null,null,{"$error":"#DIV/0!"}]
[{"$f":"'Ability Times'!A68","v":1303},{"$f":"'Ability Times'!B68","v":"Richard Dufficy"},{"$f":"'Ability Times'!C68","v":46},null,null,null,null,null,null,null,{"$error":"#DIV/0!"}]
[{"$f":"'Ability Times'!A69","v":1311},{"$f":"'Ability Times'!B69","v":"Deanne Sanders"},{"$f":"'Ability Times'!C69","v":45},null,null,null,null,null,null,null,{"$error":"#DIV/0!"}]
[{"$f":"'Ability Times'!A70","v":1311},{"$f":"'Ability Times'!B70","v":"Deanne Sanders"},{"$f":"'Ability Times'!C70","v":45},null,null,null,null,null,null,null,{"$error":"#DIV/0!"}]
[{"$f":"'Ability Times'!A72","v":1328},{"$f":"'Ability Times'!B72","v":"Mark McCabe"},{"$f":"'Ability Times'!C72","v":45},null,null,null,null,null,null,null,{"$error":"#DIV/0!"}]
[{"$f":"'Ability Times'!A73","v":1339},{"$f":"'Ability Times'!B73","v":"Noel Conway"},{"$f":"'Ability Times'!C73","v":44},null,null,null,null,null,null,null,{"$error":"#DIV/0!"}]
[{"$f":"'Ability Times'!A75","v":1351},{"$f":"'Ability Times'!B75","v":{"$error":"#N/A"}},{"$f":"'Ability Times'!C75","v":{"$error":"#N/A"}},null,null,null,null,null,null,null,{"$error":"#DIV/0!"}]
[{"$f":"'Ability Times'!A78","v":1374},{"$f":"'Ability Times'!B78","v":"Martin McCaffrey"},{"$f":"'Ability Times'!C78","v":52},null,null,null,null,null,null,null,{"$error":"#DIV/0!"}]
[{"$f":"'Ability Times'!A79","v":1375},{"$f":"'Ability Times'!B79","v":"Paul Fahy"},{"$f":"'Ability Times'!C79","v":51},null,null,null,null,null,null,null,{"$error":"#DIV/0!"}]
[{"$f":"'Ability Times'!A81","v":1387},{"$f":"'Ability Times'!B81","v":"Tony O'Malley"},{"$f":"'Ability Times'!C81","v":44},null,null,null,null,null,null,null,{"$error":"#DIV/0!"}]
[{"$f":"'Ability Times'!A82","v":1390},{"$f":"'Ability Times'!B82","v":"Donagh McArdle"},{"$f":"'Ability Times'!C82","v":48},null,null,null,null,null,null,null,{"$error":"#DIV/0!"}]
[{"$f":"'Ability Times'!A85","v":1402},{"$f":"'Ability Times'!B85","v":"Stephen Walsh"},{"$f":"'Ability Times'!C85","v":47},null,null,null,null,null,null,null,{"$error":"#DIV/0!"}]
[{"$f":"'Ability Times'!A86","v":1405},{"$f":"'Ability Times'!B86","v":"Anthony O'Malley"},{"$f":"'Ability Times'!C86","v":48},null,null,null,null,null,null,null,{"$error":"#DIV/0!"}]
[{"$f":"'Ability Times'!A89","v":1420},{"$f":"'Ability Times'!B89","v":"Ian O'Hara"},{"$f":"'Ability Times'!C89","v":44},null,null,null,null,null,null,null,{"$error":"#DIV/0!"}]
[{"$f":"'Ability Times'!A91","v":1427},{"$f":"'Ability Times'!B91","v":"David Carroll"},{"$f":"'Ability Times'!C91","v":45},null,null,null,null,null,null,null,{"$error":"#DIV/0!"}]
[{"$f":"'Ability Times'!A92","v":1438},{"$f":"'Ability Times'!B92","v":"Neil Delahaye"},{"$f":"'Ability Times'!C92","v":41},null,null,null,null,null,null,null,{"$error":"#DIV/0!"}]
[{"$f":"'Ability Times'!A93","v":1439},{"$f":"'Ability Times'!B93","v":{"$error":"#N/A"}},{"$f":"'Ability Times'!C93","v":{"$error":"#N/A"}},null,null,null,null,null,null,null,{"$error":"#DIV/0!"}]
[{"$f":"'Ability Times'!A98","v":1466},{"$f":"'Ability Times'!B98","v":"Andrew Bartley"},{"$f":"'Ability Times'!C98","v":51},null,null,null,null,null,null,null,{"$error":"#DIV/0!"}]
[{"$f":"'Ability Times'!A99","v":1471},{"$f":"'Ability Times'!B99","v":"Ed O'Brien"},{"$f":"'Ability Times'!C99","v":41},null,null,null,null,null,null,null,{"$error":"#DIV/0!"}]
[{"$f":"'Ability Times'!A100","v":1472},{"$f":"'Ability Times'!B100","v":"Caroline Martinez"},{"$f":"'Ability Times'!C100","v":37},null,null,null,null,null,null,null,{"$error":"#DIV/0!"}]
[{"$f":"'Ability Times'!A101","v":1473},{"$f":"'Ability Times'!B101","v":{"$error":"#N/A"}},{"$f":"'Ability Times'!C101","v":{"$error":"#N/A"}},null,null,null,null,null,null,null,{"$error":"#DIV/0!"}]
[{"$f":"'Ability Times'!A102","v":1488},{"$f":"'Ability Times'!B102","v":"Conor Barry"},{"$f":"'Ability Times'!C102","v":43},null,null,null,null,null,null,null,{"$error":"#DIV/0!"}]
[{"$f":"'Ability Times'!A103","v":1519},{"$f":"'Ability Times'!B103","v":"John Kehoe"},{"$f":"'Ability Times'!C103","v":47},null,null,null,null,null,null,null,{"$error":"#DIV/0!"}]
[{"$f":"'Ability Times'!A105","v":1539},{"$f":"'Ability Times'!B105","v":"Joe Sheehy"},{"$f":"'Ability Times'!C105","v":49},null,null,null,null,null,null,null,{"$error":"#DIV/0!"}]
[{"$f":"'Ability Times'!A84","v":1398},{"$f":"'Ability Times'!B84","v":"Aidan Yates"},{"$f":"'Ability Times'!C84","v":42},null,null,null,null,null,null,null,{"$error":"#DIV/0!"}]
[{"$f":"'Ability Times'!A27","v":1090},{"$f":"'Ability Times'!B27","v":"Colm Conway"},{"$f":"'Ability Times'!C27","v":64},null,null,null,null,null,null,null,{"$error":"#DIV/0!"}]
[{"$f":"'Ability Times'!A39","v":1141},{"$f":"'Ability Times'!B39","v":"Tom Malone"},{"$f":"'Ability Times'!C39","v":58},null,null,null,null,null,null,null,{"$error":"#DIV/0!"}]
[{"$f":"'Ability Times'!A29","v":1095},{"$f":"'Ability Times'!B29","v":"Adrian Byrne"},{"$f":"'Ability Times'!C29","v":63},null,null,null,null,null,null,null,{"$error":"#DIV/0!"}]
[{"$f":"'Ability Times'!A32","v":1103},{"$f":"'Ability Times'!B32","v":"Gerry Gaston"},{"$f":"'Ability Times'!C32","v":62},null,null,null,null,null,null,null,{"$f":"(85/((HOUR(J69)*3600)+(MINUTE(J69)*60)+SECOND(J69))*3600)","v":{"$error":"#DIV/0!"}}]
[{"$f":"'Ability Times'!A38","v":1137},{"$f":"'Ability Times'!B38","v":"Karl Gallagher"},{"$f":"'Ability Times'!C38","v":58},null,null,null,null,null,null,null,{"$error":"#DIV/0!"}]
[{"$f":"'Ability Times'!A53","v":1228},{"$f":"'Ability Times'!B53","v":"William McGonagle"},{"$f":"'Ability Times'!C53","v":52},null,null,null,null,null,null,null,{"$error":"#DIV/0!"}]
[{"$f":"'Ability Times'!A90","v":1426},{"$f":"'Ability Times'!B90","v":"Seán Bracken"},{"$f":"'Ability Times'!C90","v":56},null,null,null,null,null,null,null,{"$error":"#DIV/0!"}]
[{"$f":"'Ability Times'!A48","v":1197},{"$f":"'Ability Times'!B48","v":"Dermot Moyne"},{"$f":"'Ability Times'!C48","v":54},null,null,null,null,null,null,null,{"$error":"#DIV/0!"}]
[{"$f":"'Ability Times'!A34","v":1115},{"$f":"'Ability Times'!B34","v":"Jimmy Flynn"},{"$f":"'Ability Times'!C34","v":60},null,null,null,null,null,null,null,{"$error":"#DIV/0!"}]
[{"$f":"'Ability Times'!A20","v":1045},{"$f":"'Ability Times'!B20","v":"Oliver Bright"},{"$f":"'Ability Times'!C20","v":72},null,null,null,null,null,null,null,{"$error":"#DIV/0!"}]
[{"$f":"'Ability Times'!A94","v":1441},{"$f":"'Ability Times'!B94","v":"David Bradley"},{"$f":"'Ability Times'!C94","v":44},null,null,null,null,null,null,null,{"$error":"#DIV/0!"}]
[{"$f":"'Ability Times'!A46","v":1195},{"$f":"'Ability Times'!B46","v":"Willie McDonald"},{"$f":"'Ability Times'!C46","v":54},null,null,null,null,null,null,null,{"$error":"#DIV/0!"}]
[{"$f":"'Ability Times'!A10","v":1002},{"$f":"'Ability Times'!B10","v":"Kevin Simms"},{"$f":"'Ability Times'!C10","v":84},null,null,null,null,null,null,null,{"$error":"#DIV/0!"}]
[{"$f":"'Ability Times'!A33","v":1114},{"$f":"'Ability Times'!B33","v":"Jimmy Murphy"},{"$f":"'Ability Times'!C33","v":60},null,null,null,null,null,null,null,{"$error":"#DIV/0!"}]
[{"$f":"'Ability Times'!A35","v":1120},{"$f":"'Ability Times'!B35","v":"Dermot O'Gorman"},{"$f":"'Ability Times'!C35","v":60},null,null,null,null,null,null,null,{"$error":"#DIV/0!"}]
[{"$f":"'Ability Times'!A41","v":1163},{"$f":"'Ability Times'!B41","v":"Eddie Lynch"},{"$f":"'Ability Times'!C41","v":56},null,null,null,null,null,null,null,{"$error":"#DIV/0!"}]
[{"$f":"'Ability Times'!A50","v":1214},{"$f":"'Ability Times'!B50","v":"Robert Kehoe"},{"$f":"'Ability Times'!C50","v":52},null,null,null,null,null,null,null,{"$error":"#DIV/0!"}]
[{"$f":"'Ability Times'!A55","v":1231},{"$f":"'Ability Times'!B55","v":"Billy Bourke"},{"$f":"'Ability Times'!C55","v":51},null,null,null,null,null,null,null,{"$error":"#DIV/0!"}]
[{"$f":"'Ability Times'!A56","v":1235},{"$f":"'Ability Times'!B56","v":{"$error":"#N/A"}},{"$f":"'Ability Times'!C56","v":{"$error":"#N/A"}},null,null,null,null,null,null,null,{"$error":"#DIV/0!"}]
[{"$f":"'Ability Times'!A62","v":1261},{"$f":"'Ability Times'!B62","v":"Leonard Carrigan"},{"$f":"'Ability Times'!C62","v":49},null,null,null,null,null,null,null,{"$error":"#DIV/0!"}]
[{"$f":"'Ability Times'!A63","v":1263},{"$f":"'Ability Times'!B63","v":"Shay Dalton"},{"$f":"'Ability Times'!C63","v":49},0,null,null,null,null,null,null,{"$error":"#DIV/0!"}]
[{"$f":"'Ability Times'!A64","v":1266},{"$f":"'Ability Times'!B64","v":"Mick Hennessy"},{"$f":"'Ability Times'!C64","v":48},null,null,null,null,null,null,null,{"$error":"#DIV/0!"}]
[{"$f":"'Ability Times'!A66","v":1284},{"$f":"'Ability Times'!B66","v":"Enda Smyth"},{"$f":"'Ability Times'!C66","v":47},null,null,null,null,null,null,null,{"$error":"#DIV/0!"}]
[{"$f":"'Ability Times'!A71","v":1326},{"$f":"'Ability Times'!B71","v":"Andrew Kavanagh"},{"$f":"'Ability Times'!C71","v":45},null,null,null,null,null,null,null,{"$error":"#DIV/0!"}]
[{"$f":"'Ability Times'!A74","v":1348},{"$f":"'Ability Times'!B74","v":"Ciara Kinch"},{"$f":"'Ability Times'!C74","v":43},null,null,null,null,null,null,null,{"$error":"#DIV/0!"}]
[{"$f":"'Ability Times'!A76","v":1360},{"$f":"'Ability Times'!B76","v":"David Kelly"},{"$f":"'Ability Times'!C76","v":61},null,null,null,null,null,null,null,{"$error":"#DIV/0!"}]
[{"$f":"'Ability Times'!A77","v":1363},{"$f":"'Ability Times'!B77","v":"Paul Faherty"},{"$f":"'Ability Times'!C77","v":42},null,null,null,null,null,null,null,{"$error":"#DIV/0!"}]
[{"$f":"'Ability Times'!A80","v":1381},{"$f":"'Ability Times'!B80","v":"Aidan Hammond"},{"$f":"'Ability Times'!C80","v":47},null,null,null,null,null,null,null,{"$error":"#DIV/0!"}]
[{"$f":"'Ability Times'!A83","v":1396},{"$f":"'Ability Times'!B83","v":"Cathal Murray"},{"$f":"'Ability Times'!C83","v":44},null,null,null,null,null,null,null,{"$error":"#DIV/0!"}]
[{"$f":"'Ability Times'!A87","v":1416},{"$f":"'Ability Times'!B87","v":"Barry Dace"},{"$f":"'Ability Times'!C87","v":42},null,null,null,null,null,null,null,{"$error":"#DIV/0!"}]
[{"$f":"'Ability Times'!A88","v":0},{"$f":"'Ability Times'!B88","v":{"$error":"#N/A"}},{"$f":"'Ability Times'!C88","v":{"$error":"#N/A"}},null,null,null,null,null,null,null,{"$error":"#DIV/0!"}]
[{"$f":"'Ability Times'!A95","v":1446},{"$f":"'Ability Times'!B95","v":"David McDonald"},{"$f":"'Ability Times'!C95","v":44},null,null,null,null,null,null,null,{"$error":"#DIV/0!"}]
[{"$f":"'Ability Times'!A96","v":1451},{"$f":"'Ability Times'!B96","v":"Andreas Voigt"},{"$f":"'Ability Times'!C96","v":44},null,null,null,null,null,null,null,{"$error":"#DIV/0!"}]
[{"$f":"'Ability Times'!A97","v":1462},{"$f":"'Ability Times'!B97","v":{"$error":"#N/A"}},{"$f":"'Ability Times'!C97","v":{"$error":"#N/A"}},null,null,null,null,null,null,null,{"$error":"#DIV/0!"}]
[{"$f":"'Ability Times'!A104","v":1530},{"$f":"'Ability Times'!B104","v":"Brian Kane"},{"$f":"'Ability Times'!C104","v":41},null,null,null,null,null,null,null,{"$error":"#DIV/0!"}]
[{"$f":"'Ability Times'!A106","v":1540},{"$f":"'Ability Times'!B106","v":"Aogan Lynch"},{"$f":"'Ability Times'!C106","v":41},null,null,null,null,null,null,null,{"$f":"(85/((HOUR(J101)*3600)+(MINUTE(J101)*60)+SECOND(J101))*3600)","v":{"$error":"#DIV/0!"}}]
[{"$f":"'Ability Times'!A107","v":0},{"$f":"'Ability Times'!B107","v":{"$error":"#N/A"}},{"$f":"'Ability Times'!C107","v":{"$error":"#N/A"}},null,null,null,null,null,null,null,{"$error":"#DIV/0!"}]
[{"$f":"'Ability Times'!A108","v":0},{"$f":"'Ability Times'!B108","v":{"$error":"#N/A"}},{"$f":"'Ability Times'!C108","v":{"$error":"#N/A"}},null,null,null,null,null,null,null,{"$error":"#DIV/0!"}]
[{"$f":"'Ability Times'!A109","v":0},{"$f":"'Ability Times'!B109","v":{"$error":"#N/A"}},{"$f":"'Ability Times'!C109","v":{"$error":"#N/A"}},null,null,null,null,null,null,null,{"$error":"#DIV/0!"}]
[{"$f":"'Ability Times'!A110","v":0},{"$f":"'Ability Times'!B110","v":{"$error":"#N/A"}},{"$f":"'Ability Times'!C110","v":{"$error":"#N/A"}},null,null,null,null,null,null,null,{"$error":"#DIV/0!"}]
[{"$f":"'Ability Times'!A111","v":0},{"$f":"'Ability Times'!B111","v":{"$error":"#N/A"}},{"$f":"'Ability Times'!C111","v":{"$error":"#N/A"}},null,null,null,null,null,null,null,{"$error":"#DIV/0!"}]
[{"$f":"'Ability Times'!A112","v":0},{"$f":"'Ability Times'!B112","v":{"$error":"#N/A"}},{"$f":"'Ability Times'!C112","v":{"$error":"#N/A"}},null,null,null,null,null,null,null,{"$error":"#DIV/0!"}]
[{"$f":"'Ability Times'!A113","v":0},{"$f":"'Ability Times'!B113","v":{"$error":"#N/A"}},{"$f":"'Ability Times'!C113","v":{"$error":"#N/A"}},null,null,null,null,null,null,null,{"$error":"#DIV/0!"}]
[{"$f":"'Ability Times'!A114","v":0},{"$f":"'Ability Times'!B114","v":{"$error":"#N/A"}},{"$f":"'Ability Times'!C114","v":{"$error":"#N/A"}},null,null,null,null,null,null,null,{"$error":"#DIV/0!"}]
[{"$f":"'Ability Times'!A115","v":0},{"$f":"'Ability Times'!B115","v":{"$error":"#N/A"}},{"$f":"'Ability Times'!C115","v":{"$error":"#N/A"}},null,null,null,null,null,null,null,{"$error":"#DIV/0!"}]
[{"$f":"'Ability Times'!A116","v":0},{"$f":"'Ability Times'!B116","v":{"$error":"#N/A"}},{"$f":"'Ability Times'!C116","v":{"$error":"#N/A"}},null,null,null,null,null,null,null,{"$error":"#DIV/0!"}]
[{"$f":"'Ability Times'!A117","v":0},{"$f":"'Ability Times'!B117","v":{"$error":"#N/A"}},{"$f":"'Ability Times'!C117","v":{"$error":"#N/A"}},null,null,null,null,null,null,null,{"$error":"#DIV/0!"}]
[{"$f":"'Ability Times'!A118","v":0},{"$f":"'Ability Times'!B118","v":{"$error":"#N/A"}},{"$f":"'Ability Times'!C118","v":{"$error":"#N/A"}},null,null,null,null,null,null,null,{"$error":"#DIV/0!"}]
[{"$f":"'Ability Times'!A119","v":0},{"$f":"'Ability Times'!B119","v":{"$error":"#N/A"}},{"$f":"'Ability Times'!C119","v":{"$error":"#N/A"}},null,null,null,null,null,null,null,{"$error":"#DIV/0!"}]
[{"$f":"'Ability Times'!A120","v":0},{"$f":"'Ability Times'!B120","v":{"$error":"#N/A"}},{"$f":"'Ability Times'!C120","v":{"$error":"#N/A"}},null,null,null,null,null,null,null,{"$error":"#DIV/0!"}]
[{"$f":"'Ability Times'!A121","v":0},{"$f":"'Ability Times'!B121","v":{"$error":"#N/A"}},{"$f":"'Ability Times'!C121","v":{"$error":"#N/A"}},null,null,null,null,null,null,null,{"$error":"#DIV/0!"}]
[{"$f":"'Ability Times'!A122","v":0},{"$f":"'Ability Times'!B122","v":{"$error":"#N/A"}},{"$f":"'Ability Times'!C122","v":{"$error":"#N/A"}},null,null,null,null,null,null,null,{"$error":"#DIV/0!"}]
[{"$f":"'Ability Times'!A123","v":0},{"$f":"'Ability Times'!B123","v":{"$error":"#N/A"}},{"$f":"'Ability Times'!C123","v":{"$error":"#N/A"}},null,null,null,null,null,null,null,{"$error":"#DIV/0!"}]
[{"$f":"'Ability Times'!A124","v":0},{"$f":"'Ability Times'!B124","v":{"$error":"#N/A"}},{"$f":"'Ability Times'!C124","v":{"$error":"#N/A"}},null,null,null,null,null,null,null,{"$error":"#DIV/0!"}]
[{"$f":"'Ability Times'!A125","v":0},{"$f":"'Ability Times'!B125","v":{"$error":"#N/A"}},{"$f":"'Ability Times'!C125","v":{"$error":"#N/A"}},null,null,null,null,null,null,null,{"$error":"#DIV/0!"}]
[{"$f":"'Ability Times'!A126","v":0},{"$f":"'Ability Times'!B126","v":{"$error":"#N/A"}},{"$f":"'Ability Times'!C126","v":{"$error":"#N/A"}},null,null,null,null,null,null,null,{"$error":"#DIV/0!"}]
[{"$f":"'Ability Times'!A127","v":0},{"$f":"'Ability Times'!B127","v":{"$error":"#N/A"}},{"$f":"'Ability Times'!C127","v":{"$error":"#N/A"}},null,null,null,null,null,null,null,{"$error":"#DIV/0!"}]
[{"$f":"'Ability Times'!A128","v":0},{"$f":"'Ability Times'!B128","v":{"$error":"#N/A"}},{"$f":"'Ability Times'!C128","v":{"$error":"#N/A"}},null,null,null,null,null,null,null,{"$error":"#DIV/0!"}]
[{"$f":"'Ability Times'!A129","v":0},{"$f":"'Ability Times'!B129","v":{"$error":"#N/A"}},{"$f":"'Ability Times'!C129","v":{"$error":"#N/A"}},null,null,null,null,null,null,null,{"$error":"#DIV/0!"}]
[{"$f":"'Ability Times'!A130","v":0},{"$f":"'Ability Times'!B130","v":{"$error":"#N/A"}},{"$f":"'Ability Times'!C130","v":{"$error":"#N/A"}},null,null,null,null,null,null,null,{"$error":"#DIV/0!"}]
[{"$f":"'Ability Times'!A131","v":0},{"$f":"'Ability Times'!B131","v":{"$error":"#N/A"}},{"$f":"'Ability Times'!C131","v":{"$error":"#N/A"}},null,null,null,null,null,null,null,{"$error":"#DIV/0!"}]
[{"$f":"'Ability Times'!A132","v":0},{"$f":"'Ability Times'!B132","v":{"$error":"#N/A"}},{"$f":"'Ability Times'!C132","v":{"$error":"#N/A"}},null,null,null,null,null,null,null,{"$error":"#DIV/0!"}]
[{"$f":"'Ability Times'!A133","v":0},{"$f":"'Ability Times'!B133","v":{"$error":"#N/A"}},{"$f":"'Ability Times'!C133","v":{"$error":"#N/A"}},null,null,null,null,null,null,null,{"$error":"#DIV/0!"}]
[{"$f":"'Ability Times'!A134","v":0},{"$f":"'Ability Times'!B134","v":{"$error":"#N/A"}},{"$f":"'Ability Times'!C134","v":{"$error":"#N/A"}},null,null,null,null,null,null,null,{"$error":"#DIV/0!"}]
[{"$f":"'Ability Times'!A135","v":0},{"$f":"'Ability Times'!B135","v":{"$error":"#N/A"}},{"$f":"'Ability Times'!C135","v":{"$error":"#N/A"}},null,null,null,null,null,null,null,{"$error":"#DIV/0!"}]
[{"$f":"'Ability Times'!A136","v":0},{"$f":"'Ability Times'!B136","v":{"$error":"#N/A"}},{"$f":"'Ability Times'!C136","v":{"$error":"#N/A"}},null,null,null,null,null,null,null,{"$error":"#DIV/0!"}]
[{"$f":"'Ability Times'!A137","v":0},{"$f":"'Ability Times'!B137","v":{"$error":"#N/A"}},{"$f":"'Ability Times'!C137","v":{"$error":"#N/A"}},null,null,null,null,null,null,null,{"$f":"(85/((HOUR(J132)*3600)+(MINUTE(J132)*60)+SECOND(J132))*3600)","v":{"$error":"#DIV/0!"}}]
[{"$f":"'Ability Times'!A138","v":0},{"$f":"'Ability Times'!B138","v":{"$error":"#N/A"}},{"$f":"'Ability Times'!C138","v":{"$error":"#N/A"}},null,null,null,null,null,null,null,{"$error":"#DIV/0!"}]
[{"$f":"'Ability Times'!A139","v":0},{"$f":"'Ability Times'!B139","v":{"$error":"#N/A"}},{"$f":"'Ability Times'!C139","v":{"$error":"#N/A"}},null,null,null,null,null,null,null,{"$error":"#DIV/0!"}]
[{"$f":"'Ability Times'!A140","v":0},{"$f":"'Ability Times'!B140","v":{"$error":"#N/A"}},{"$f":"'Ability Times'!C140","v":{"$error":"#N/A"}},null,null,null,null,null,null,null,{"$error":"#DIV/0!"}]
[{"$f":"'Ability Times'!A141","v":0},{"$f":"'Ability Times'!B141","v":{"$error":"#N/A"}},{"$f":"'Ability Times'!C141","v":{"$error":"#N/A"}},null,null,null,null,null,null,null,{"$error":"#DIV/0!"}]
[{"$f":"'Ability Times'!A142","v":0},{"$f":"'Ability Times'!B142","v":{"$error":"#N/A"}},{"$f":"'Ability Times'!C142","v":{"$error":"#N/A"}},null,null,null,null,null,null,null,{"$error":"#DIV/0!"}]
[{"$f":"'Ability Times'!A143","v":0},{"$f":"'Ability Times'!B143","v":{"$error":"#N/A"}},{"$f":"'Ability Times'!C143","v":{"$error":"#N/A"}},null,null,null,null,null,null,null,{"$error":"#DIV/0!"}]
[{"$f":"'Ability Times'!A144","v":0},{"$f":"'Ability Times'!B144","v":{"$error":"#N/A"}},{"$f":"'Ability Times'!C144","v":{"$error":"#N/A"}},null,null,null,null,null,null,null,{"$error":"#DIV/0!"}]
[{"$f":"'Ability Times'!A145","v":0},{"$f":"'Ability Times'!B145","v":{"$error":"#N/A"}},{"$f":"'Ability Times'!C145","v":{"$error":"#N/A"}},null,null,null,null,null,null,null,{"$error":"#DIV/0!"}]
[{"$f":"'Ability Times'!A146","v":0},{"$f":"'Ability Times'!B146","v":{"$error":"#N/A"}},{"$f":"'Ability Times'!C146","v":{"$error":"#N/A"}},null,null,null,null,null,null,null,{"$error":"#DIV/0!"}]
[{"$f":"'Ability Times'!A147","v":0},{"$f":"'Ability Times'!B147","v":{"$error":"#N/A"}},{"$f":"'Ability Times'!C147","v":{"$error":"#N/A"}},null,null,null,null,null,null,null,{"$error":"#DIV/0!"}]
[{"$f":"'Ability Times'!A148","v":0},{"$f":"'Ability Times'!B148","v":{"$error":"#N/A"}},{"$f":"'Ability Times'!C148","v":{"$error":"#N/A"}},null,null,null,null,null,null,null,{"$error":"#DIV/0!"}]
[{"$f":"'Ability Times'!A149","v":0},{"$f":"'Ability Times'!B149","v":{"$error":"#N/A"}},{"$f":"'Ability Times'!C149","v":{"$error":"#N/A"}},null,null,null,null,null,null,null,{"$error":"#DIV/0!"}]
[{"$f":"'Ability Times'!A150","v":0},{"$f":"'Ability Times'!B150","v":{"$error":"#N/A"}},{"$f":"'Ability Times'!C150","v":{"$error":"#N/A"}},null,null,null,null,null,null,null,{"$error":"#DIV/0!"}]
[{"$f":"'Ability Times'!A151","v":0},{"$f":"'Ability Times'!B151","v":{"$error":"#N/A"}},{"$f":"'Ability Times'!C151","v":{"$error":"#N/A"}},null,null,null,null,null,null,null,{"$error":"#DIV/0!"}]
[{"$f":"'Ability Times'!A152","v":0},{"$f":"'Ability Times'!B152","v":{"$error":"#N/A"}},{"$f":"'Ability Times'!C152","v":{"$error":"#N/A"}},null,null,null,null,null,null,null,{"$error":"#DIV/0!"}]
[{"$f":"'Ability Times'!A153","v":0},{"$f":"'Ability Times'!B153","v":{"$error":"#N/A"}},{"$f":"'Ability Times'!C153","v":{"$error":"#N/A"}},null,null,null,null,null,null,null,{"$error":"#DIV/0!"}]
[{"$f":"'Ability Times'!A154","v":0},{"$f":"'Ability Times'!B154","v":{"$error":"#N/A"}},{"$f":"'Ability Times'!C154","v":{"$error":"#N/A"}},null,null,null,null,null,null,null,{"$error":"#DIV/0!"}]
[{"$f":"'Ability Times'!A155","v":0},{"$f":"'Ability Times'!B155","v":{"$error":"#N/A"}},{"$f":"'Ability Times'!C155","v":{"$error":"#N/A"}},null,null,null,null,null,null,null,{"$error":"#DIV/0!"}]
[{"$f":"'Ability Times'!A156","v":0},{"$f":"'Ability Times'!B156","v":{"$error":"#N/A"}},{"$f":"'Ability Times'!C156","v":{"$error":"#N/A"}},null,null,null,null,null,null,null,{"$error":"#DIV/0!"}]
[{"$f":"'Ability Times'!A157","v":0},{"$f":"'Ability Times'!B157","v":{"$error":"#N/A"}},{"$f":"'Ability Times'!C157","v":{"$error":"#N/A"}},null,null,null,null,null,null,null,{"$error":"#DIV/0!"}]
[{"$f":"'Ability Times'!A158","v":0},{"$f":"'Ability Times'!B158","v":{"$error":"#N/A"}},{"$f":"'Ability Times'!C158","v":{"$error":"#N/A"}},null,null,null,null,null,null,null,{"$error":"#DIV/0!"}]
[{"$f":"'Ability Times'!A159","v":0},{"$f":"'Ability Times'!B159","v":{"$error":"#N/A"}},{"$f":"'Ability Times'!C159","v":{"$error":"#N/A"}},null,null,null,null,null,null,null,{"$error":"#DIV/0!"}]
[{"$f":"'Ability Times'!A160","v":0},{"$f":"'Ability Times'!B160","v":{"$error":"#N/A"}},{"$f":"'Ability Times'!C160","v":{"$error":"#N/A"}},null,null,null,null,null,null,null,{"$error":"#DIV/0!"}]
[{"$f":"'Ability Times'!A161","v":0},{"$f":"'Ability Times'!B161","v":{"$error":"#N/A"}},{"$f":"'Ability Times'!C161","v":{"$error":"#N/A"}},null,null,null,null,null,null,null,{"$error":"#DIV/0!"}]
[{"$f":"'Ability Times'!A162","v":0},{"$f":"'Ability Times'!B162","v":{"$error":"#N/A"}},{"$f":"'Ability Times'!C162","v":{"$error":"#N/A"}},null,null,null,null,null,null,null,{"$error":"#DIV/0!"}]
[{"$f":"'Ability Times'!A163","v":0},{"$f":"'Ability Times'!B163","v":{"$error":"#N/A"}},{"$f":"'Ability Times'!C163","v":{"$error":"#N/A"}},null,null,null,null,null,null,null,{"$error":"#DIV/0!"}]
[{"$f":"'Ability Times'!A164","v":0},{"$f":"'Ability Times'!B164","v":{"$error":"#N/A"}},{"$f":"'Ability Times'!C164","v":{"$error":"#N/A"}},null,null,null,null,null,null,null,{"$error":"#DIV/0!"}]
[{"$f":"'Ability Times'!A165","v":0},{"$f":"'Ability Times'!B165","v":{"$error":"#N/A"}},{"$f":"'Ability Times'!C165","v":{"$error":"#N/A"}},null,null,null,null,null,null,null,{"$error":"#DIV/0!"}]
[{"$f":"'Ability Times'!A166","v":0},{"$f":"'Ability Times'!B166","v":{"$error":"#N/A"}},{"$f":"'Ability Times'!C166","v":{"$error":"#N/A"}},null,null,null,null,null,null,null,{"$error":"#DIV/0!"}]
[{"$f":"'Ability Times'!A167","v":0},{"$f":"'Ability Times'!B167","v":{"$error":"#N/A"}},{"$f":"'Ability Times'!C167","v":{"$error":"#N/A"}},null,null,null,null,null,null,null,{"$error":"#DIV/0!"}]
[{"$f":"'Ability Times'!A168","v":0},{"$f":"'Ability Times'!B168","v":{"$error":"#N/A"}},{"$f":"'Ability Times'!C168","v":{"$error":"#N/A"}},null,null,null,null,null,null,null,{"$error":"#DIV/0!"}]
[{"$f":"'Ability Times'!A169","v":0},{"$f":"'Ability Times'!B169","v":{"$error":"#N/A"}},{"$f":"'Ability Times'!C169","v":{"$error":"#N/A"}},null,null,null,null,null,null,null,{"$error":"#DIV/0!"}]
[{"$f":"'Ability Times'!A170","v":0},{"$f":"'Ability Times'!B170","v":{"$error":"#N/A"}},{"$f":"'Ability Times'!C170","v":{"$error":"#N/A"}},null,null,null,null,null,null,null,{"$error":"#DIV/0!"}]
[{"$f":"'Ability Times'!A171","v":0},{"$f":"'Ability Times'!B171","v":{"$error":"#N/A"}},{"$f":"'Ability Times'!C171","v":{"$error":"#N/A"}},null,null,null,null,null,null,null,{"$error":"#DIV/0!"}]
[{"$f":"'Ability Times'!A172","v":0},{"$f":"'Ability Times'!B172","v":{"$error":"#N/A"}},{"$f":"'Ability Times'!C172","v":{"$error":"#N/A"}},null,null,null,null,null,null,null,{"$error":"#DIV/0!"}]
[{"$f":"'Ability Times'!A173","v":0},{"$f":"'Ability Times'!B173","v":{"$error":"#N/A"}},{"$f":"'Ability Times'!C173","v":{"$error":"#N/A"}},null,null,null,null,null,null,null,{"$error":"#DIV/0!"}]
[{"$f":"'Ability Times'!A174","v":0},{"$f":"'Ability Times'!B174","v":{"$error":"#N/A"}},{"$f":"'Ability Times'!C174","v":{"$error":"#N/A"}},null,null,null,null,null,null,null,{"$error":"#DIV/0!"}]
[{"$f":"'Ability Times'!A175","v":0},{"$f":"'Ability Times'!B175","v":{"$error":"#N/A"}},{"$f":"'Ability Times'!C175","v":{"$error":"#N/A"}},null,null,null,null,null,null,null,{"$error":"#DIV/0!"}]
[{"$f":"'Ability Times'!A176","v":0},{"$f":"'Ability Times'!B176","v":{"$error":"#N/A"}},{"$f":"'Ability Times'!C176","v":{"$error":"#N/A"}},null,null,null,null,null,null,null,{"$error":"#DIV/0!"}]
[{"$f":"'Ability Times'!A177","v":0},{"$f":"'Ability Times'!B177","v":{"$error":"#N/A"}},{"$f":"'Ability Times'!C177","v":{"$error":"#N/A"}},null,null,null,null,null,null,null,{"$error":"#DIV/0!"}]
[{"$f":"'Ability Times'!A178","v":0},{"$f":"'Ability Times'!B178","v":{"$error":"#N/A"}},{"$f":"'Ability Times'!C178","v":{"$error":"#N/A"}},null,null,null,null,null,null,null,{"$error":"#DIV/0!"}]
[{"$f":"'Ability Times'!A179","v":0},{"$f":"'Ability Times'!B179","v":{"$error":"#N/A"}},{"$f":"'Ability Times'!C179","v":{"$error":"#N/A"}},null,null,null,null,null,null,null,{"$error":"#DIV/0!"}]
[{"$f":"'Ability Times'!A180","v":0},{"$f":"'Ability Times'!B180","v":{"$error":"#N/A"}},{"$f":"'Ability Times'!C180","v":{"$error":"#N/A"}},null,null,null,null,null,null,null,{"$error":"#DIV/0!"}]
[{"$f":"'Ability Times'!A181","v":0},{"$f":"'Ability Times'!B181","v":{"$error":"#N/A"}},{"$f":"'Ability Times'!C181","v":{"$error":"#N/A"}},null,null,null,null,null,null,null,{"$error":"#DIV/0!"}]
[{"$f":"'Ability Times'!A182","v":0},{"$f":"'Ability Times'!B182","v":{"$error":"#N/A"}},{"$f":"'Ability Times'!C182","v":{"$error":"#N/A"}},null,null,null,null,null,null,null,{"$error":"#DIV/0!"}]
[{"$f":"'Ability Times'!A183","v":0},{"$f":"'Ability Times'!B183","v":{"$error":"#N/A"}},{"$f":"'Ability Times'!C183","v":{"$error":"#N/A"}},null,null,null,null,null,null,null,{"$error":"#DIV/0!"}]
[{"$f":"'Ability Times'!A184","v":0},{"$f":"'Ability Times'!B184","v":{"$error":"#N/A"}},{"$f":"'Ability Times'!C184","v":{"$error":"#N/A"}},null,null,null,null,null,null,null,{"$error":"#DIV/0!"}]
[{"$f":"'Ability Times'!A185","v":0},{"$f":"'Ability Times'!B185","v":{"$error":"#N/A"}},{"$f":"'Ability Times'!C185","v":{"$error":"#N/A"}},null,null,null,null,null,null,null,{"$error":"#DIV/0!"}]
[{"$f":"'Ability Times'!A186","v":0},{"$f":"'Ability Times'!B186","v":{"$error":"#N/A"}},{"$f":"'Ability Times'!C186","v":{"$error":"#N/A"}},null,null,null,null,null,null,null,{"$error":"#DIV/0!"}]
[{"$f":"'Ability Times'!A187","v":0},{"$f":"'Ability Times'!B187","v":{"$error":"#N/A"}},{"$f":"'Ability Times'!C187","v":{"$error":"#N/A"}},null,null,null,null,null,null,null,{"$error":"#DIV/0!"}]
[{"$f":"'Ability Times'!A188","v":0},{"$f":"'Ability Times'!B188","v":{"$error":"#N/A"}},{"$f":"'Ability Times'!C188","v":{"$error":"#N/A"}},null,null,null,null,null,null,null,{"$error":"#DIV/0!"}]
[{"$f":"'Ability Times'!A189","v":0},{"$f":"'Ability Times'!B189","v":{"$error":"#N/A"}},{"$f":"'Ability Times'!C189","v":{"$error":"#N/A"}},null,null,null,null,null,null,null,{"$error":"#DIV/0!"}]
[{"$f":"'Ability Times'!A190","v":0},{"$f":"'Ability Times'!B190","v":{"$error":"#N/A"}},{"$f":"'Ability Times'!C190","v":{"$error":"#N/A"}},null,null,null,null,null,null,null,{"$error":"#DIV/0!"}]
[{"$f":"'Ability Times'!A191","v":0},{"$f":"'Ability Times'!B191","v":{"$error":"#N/A"}},{"$f":"'Ability Times'!C191","v":{"$error":"#N/A"}},null,null,null,null,null,null,null,{"$error":"#DIV/0!"}]
[{"$f":"'Ability Times'!A192","v":0},{"$f":"'Ability Times'!B192","v":{"$error":"#N/A"}},{"$f":"'Ability Times'!C192","v":{"$error":"#N/A"}},null,null,null,null,null,null,null,{"$error":"#DIV/0!"}]
[{"$f":"'Ability Times'!A193","v":0},{"$f":"'Ability Times'!B193","v":{"$error":"#N/A"}},{"$f":"'Ability Times'!C193","v":{"$error":"#N/A"}},null,null,null,null,null,null,null,{"$error":"#DIV/0!"}]
[{"$f":"'Ability Times'!A194","v":0},{"$f":"'Ability Times'!B194","v":{"$error":"#N/A"}},{"$f":"'Ability Times'!C194","v":{"$error":"#N/A"}},null,null,null,null,null,null,null,{"$error":"#DIV/0!"}]
[{"$f":"'Ability Times'!A195","v":0},{"$f":"'Ability Times'!B195","v":{"$error":"#N/A"}},{"$f":"'Ability Times'!C195","v":{"$error":"#N/A"}},null,null,null,null,null,null,null,{"$error":"#DIV/0!"}]
[{"$f":"'Ability Times'!A196","v":0},{"$f":"'Ability Times'!B196","v":{"$error":"#N/A"}},{"$f":"'Ability Times'!C196","v":{"$error":"#N/A"}},null,null,null,null,null,null,null,{"$error":"#DIV/0!"}]
[{"$f":"'Ability Times'!A197","v":0},{"$f":"'Ability Times'!B197","v":{"$error":"#N/A"}},{"$f":"'Ability Times'!C197","v":{"$error":"#N/A"}},null,null,null,null,null,null,null,{"$error":"#DIV/0!"}]
[{"$f":"'Ability Times'!A198","v":0},{"$f":"'Ability Times'!B198","v":{"$error":"#N/A"}},{"$f":"'Ability Times'!C198","v":{"$error":"#N/A"}},null,null,null,null,null,null,null,{"$error":"#DIV/0!"}]
[{"$f":"'Ability Times'!A199","v":0},{"$f":"'Ability Times'!B199","v":{"$error":"#N/A"}},{"$f":"'Ability Times'!C199","v":{"$error":"#N/A"}},null,null,null,null,null,null,null,{"$error":"#DIV/0!"}]
[{"$f":"'Ability Times'!A200","v":0},{"$f":"'Ability Times'!B200","v":0},{"$f":"'Ability Times'!C200","v":0},null,null,null,null,null,null,null,{"$error":"#DIV/0!"}]
[{"$f":"'Ability Times'!A201","v":0},{"$f":"'Ability Times'!B201","v":0},{"$f":"'Ability Times'!C201","v":0},null,null,null,null,null,null,null,{"$f":"(85/((HOUR(J196)*3600)+(MINUTE(J196)*60)+SECOND(J196))*3600)","v":{"$error":"#DIV/0!"}}]
[{"$f":"'Ability Times'!A202","v":0},{"$f":"'Ability Times'!B202","v":0},{"$f":"'Ability Times'!C202","v":0},null,null,null,null,null,null,null,{"$error":"#DIV/0!"}]
[{"$f":"'Ability Times'!A203","v":0},{"$f":"'Ability Times'!B203","v":0},{"$f":"'Ability Times'!C203","v":0},null,null,null,null,null,null,null,{"$error":"#DIV/0!"}]
[{"$f":"'Ability Times'!A204","v":0},{"$f":"'Ability Times'!B204","v":0},{"$f":"'Ability Times'!C204","v":0},null,null,null,null,null,null,null,{"$error":"#DIV/0!"}]
[{"$f":"'Ability Times'!A205","v":0},{"$f":"'Ability Times'!B205","v":0},{"$f":"'Ability Times'!C205","v":0},null,null,null,null,null,null,null,{"$error":"#DIV/0!"}]
[{"$f":"'Ability Times'!A206","v":0},{"$f":"'Ability Times'!B206","v":0},{"$f":"'Ability Times'!C206","v":0},null,null,null,null,null,null,null,{"$error":"#DIV/0!"}]
[{"$f":"'Ability Times'!A207","v":0},{"$f":"'Ability Times'!B207","v":0},{"$f":"'Ability Times'!C207","v":0},null,null,null,null,null,null,null,{"$error":"#DIV/0!"}]
[{"$f":"'Ability Times'!A208","v":0},{"$f":"'Ability Times'!B208","v":0},{"$f":"'Ability Times'!C208","v":0},null,null,null,null,null,null,null,{"$error":"#DIV/0!"}]
[{"$f":"'Ability Times'!A209","v":0},{"$f":"'Ability Times'!B209","v":0},{"$f":"'Ability Times'!C209","v":0},null,null,null,null,null,null,null,{"$error":"#DIV/0!"}]
[{"$f":"'Ability Times'!A210","v":0},{"$f":"'Ability Times'!B210","v":0},{"$f":"'Ability Times'!C210","v":0},null,null,null,null,null,null,null,{"$error":"#DIV/0!"}]
[{"$f":"'Ability Times'!A211","v":0},{"$f":"'Ability Times'!B211","v":0},{"$f":"'Ability Times'!C211","v":0},null,null,null,null,null,null,null,{"$error":"#DIV/0!"}]
[{"$f":"'Ability Times'!A212","v":0},{"$f":"'Ability Times'!B212","v":0},{"$f":"'Ability Times'!C212","v":0},null,null,null,null,null,null,null,{"$error":"#DIV/0!"}]
[{"$f":"'Ability Times'!A213","v":0},{"$f":"'Ability Times'!B213","v":0},{"$f":"'Ability Times'!C213","v":0},null,null,null,null,null,null,null,{"$error":"#DIV/0!"}]
[{"$f":"'Ability Times'!A214","v":0},{"$f":"'Ability Times'!B214","v":0},{"$f":"'Ability Times'!C214","v":0},null,null,null,null,null,null,null,{"$error":"#DIV/0!"}]
[{"$f":"'Ability Times'!A215","v":0},{"$f":"'Ability Times'!B215","v":0},{"$f":"'Ability Times'!C215","v":0},null,null,null,null,null,null,null,{"$error":"#DIV/0!"}]
[{"$f":"'Ability Times'!A216","v":0},{"$f":"'Ability Times'!B216","v":0},{"$f":"'Ability Times'!C216","v":0},null,null,null,null,null,null,null,{"$error":"#DIV/0!"}]
[{"$f":"'Ability Times'!A217","v":0},{"$f":"'Ability Times'!B217","v":0},{"$f":"'Ability Times'!C217","v":0},null,null,null,null,null,null,null,{"$error":"#DIV/0!"}]
[{"$f":"'Ability Times'!A218","v":0},{"$f":"'Ability Times'!B218","v":0},{"$f":"'Ability Times'!C218","v":0},null,null,null,null,null,null,null,{"$error":"#DIV/0!"}]
[{"$f":"'Ability Times'!A219","v":0},{"$f":"'Ability Times'!B219","v":0},{"$f":"'Ability Times'!C219","v":0},null,null,null,null,null,null,null,{"$error":"#DIV/0!"}]
[{"$f":"'Ability Times'!A220","v":0},{"$f":"'Ability Times'!B220","v":0},{"$f":"'Ability Times'!C220","v":0},null,null,null,null,null,null,null,{"$error":"#DIV/0!"}]
[{"$f":"'Ability Times'!A221","v":0},{"$f":"'Ability Times'!B221","v":0},{"$f":"'Ability Times'!C221","v":0},null,null,null,null,null,null,null,{"$error":"#DIV/0!"}]
[{"$f":"'Ability Times'!A222","v":0},{"$f":"'Ability Times'!B222","v":0},{"$f":"'Ability Times'!C222","v":0},null,null,null,null,null,null,null,{"$error":"#DIV/0!"}]
[{"$f":"'Ability Times'!A223","v":0},{"$f":"'Ability Times'!B223","v":0},{"$f":"'Ability Times'!C223","v":0},null,null,null,null,null,null,null,{"$error":"#DIV/0!"}]
[{"$f":"'Ability Times'!A224","v":0},{"$f":"'Ability Times'!B224","v":0},{"$f":"'Ability Times'!C224","v":0},null,null,null,null,null,null,null,{"$error":"#DIV/0!"}]
[{"$f":"'Ability Times'!A225","v":0},{"$f":"'Ability Times'!B225","v":0},{"$f":"'Ability Times'!C225","v":0}]
[{"$f":"'Ability Times'!A226","v":0},{"$f":"'Ability Times'!B226","v":0},{"$f":"'Ability Times'!C226","v":0},null,null,null,null,null,null,null,{"$f":"(85/((HOUR(J221)*3600)+(MINUTE(J221)*60)+SECOND(J221))*3600)","v":{"$error":"#DIV/0!"}}]
[{"$f":"'Ability Times'!A227","v":0},{"$f":"'Ability Times'!B227","v":0},{"$f":"'Ability Times'!C227","v":0}]
[{"$f":"'Ability Times'!A228","v":0},{"$f":"'Ability Times'!B228","v":0},{"$f":"'Ability Times'!C228","v":0},null,null,null,null,null,null,null,{"$f":"(85/((HOUR(J223)*3600)+(MINUTE(J223)*60)+SECOND(J223))*3600)","v":{"$error":"#DIV/0!"}}]
[{"$f":"'Ability Times'!A229","v":0},{"$f":"'Ability Times'!B229","v":0},{"$f":"'Ability Times'!C229","v":0},null,null,null,null,null,null,null,{"$error":"#DIV/0!"}]
[{"$f":"'Ability Times'!A230","v":0},{"$f":"'Ability Times'!B230","v":0},{"$f":"'Ability Times'!C230","v":0},null,null,null,null,null,null,null,{"$error":"#DIV/0!"}]
[{"$f":"'Ability Times'!A231","v":0},{"$f":"'Ability Times'!B231","v":0},{"$f":"'Ability Times'!C231","v":0},null,null,null,null,null,null,null,{"$error":"#DIV/0!"}]
[{"$f":"'Ability Times'!A232","v":0},{"$f":"'Ability Times'!B232","v":0},{"$f":"'Ability Times'!C232","v":0},null,null,null,null,null,null,null,{"$error":"#DIV/0!"}]
[{"$f":"'Ability Times'!A233","v":0},{"$f":"'Ability Times'!B233","v":0},{"$f":"'Ability Times'!C233","v":0},null,null,null,null,null,null,null,{"$error":"#DIV/0!"}]
[{"$f":"'Ability Times'!A234","v":0},{"$f":"'Ability Times'!B234","v":0},{"$f":"'Ability Times'!C234","v":0},null,null,null,null,null,null,null,{"$error":"#DIV/0!"}]
[{"$f":"'Ability Times'!A235","v":0},{"$f":"'Ability Times'!B235","v":0},{"$f":"'Ability Times'!C235","v":0},null,null,null,null,null,null,null,{"$error":"#DIV/0!"}]
[{"$f":"'Ability Times'!A236","v":0},{"$f":"'Ability Times'!B236","v":0},{"$f":"'Ability Times'!C236","v":0},null,null,null,null,null,null,null,{"$error":"#DIV/0!"}]
[{"$f":"'Ability Times'!A237","v":0},{"$f":"'Ability Times'!B237","v":0},{"$f":"'Ability Times'!C237","v":0},null,null,null,null,null,null,null,{"$error":"#DIV/0!"}]
[{"$f":"'Ability Times'!A238","v":0},{"$f":"'Ability Times'!B238","v":0},{"$f":"'Ability Times'!C238","v":0},null,null,null,null,null,null,null,{"$error":"#DIV/0!"}]
[{"$f":"'Ability Times'!A239","v":0},{"$f":"'Ability Times'!B239","v":0},{"$f":"'Ability Times'!C239","v":0},null,null,null,null,null,null,null,{"$error":"#DIV/0!"}]
[{"$f":"'Ability Times'!A240","v":0},{"$f":"'Ability Times'!B240","v":0},{"$f":"'Ability Times'!C240","v":0},null,null,null,null,null,null,null,{"$error":"#DIV/0!"}]
[{"$f":"'Ability Times'!A241","v":0},{"$f":"'Ability Times'!B241","v":0},{"$f":"'Ability Times'!C241","v":0},null,null,null,null,null,null,null,{"$error":"#DIV/0!"}]
[{"$f":"'Ability Times'!A242","v":0},{"$f":"'Ability Times'!B242","v":0},{"$f":"'Ability Times'!C242","v":0},null,null,null,null,null,null,null,{"$error":"#DIV/0!"}]
[{"$f":"'Ability Times'!A243","v":0},{"$f":"'Ability Times'!B243","v":0},{"$f":"'Ability Times'!C243","v":0},null,null,null,null,null,null,null,{"$error":"#DIV/0!"}]
[{"$f":"'Ability Times'!A244","v":0},{"$f":"'Ability Times'!B244","v":0},{"$f":"'Ability Times'!C244","v":0},null,null,null,null,null,null,null,{"$error":"#DIV/0!"}]
[{"$f":"'Ability Times'!A245","v":0},{"$f":"'Ability Times'!B245","v":0},{"$f":"'Ability Times'!C245","v":0},null,null,null,null,null,null,null,{"$error":"#DIV/0!"}]
[{"$f":"'Ability Times'!A246","v":0},{"$f":"'Ability Times'!B246","v":0},{"$f":"'Ability Times'!C246","v":0},null,null,null,null,null,null,null,{"$error":"#DIV/0!"}]
[{"$f":"'Ability Times'!A247","v":0},{"$f":"'Ability Times'!B247","v":0},{"$f":"'Ability Times'!C247","v":0},null,null,null,null,null,null,null,{"$error":"#DIV/0!"}]
[{"$f":"'Ability Times'!A248","v":0},{"$f":"'Ability Times'!B248","v":0},{"$f":"'Ability Times'!C248","v":0},null,null,null,null,null,null,null,{"$error":"#DIV/0!"}]
[{"$f":"'Ability Times'!A249","v":0},{"$f":"'Ability Times'!B249","v":0},{"$f":"'Ability Times'!C249","v":0},null,null,null,null,null,null,null,{"$error":"#DIV/0!"}]
[{"$f":"'Ability Times'!A250","v":0},{"$f":"'Ability Times'!B250","v":0},{"$f":"'Ability Times'!C250","v":0},null,null,null,null,null,null,null,{"$error":"#DIV/0!"}]
[{"$f":"'Ability Times'!A251","v":0},{"$f":"'Ability Times'!B251","v":0},{"$f":"'Ability Times'!C251","v":0},null,null,null,null,null,null,null,{"$error":"#DIV/0!"}]
[{"$f":"'Ability Times'!A252","v":0},{"$f":"'Ability Times'!B252","v":0},{"$f":"'Ability Times'!C252","v":0},null,null,null,null,null,null,null,{"$error":"#DIV/0!"}]
[{"$f":"'Ability Times'!A253","v":0},{"$f":"'Ability Times'!B253","v":0},{"$f":"'Ability Times'!C253","v":0},null,null,null,null,null,null,null,{"$error":"#DIV/0!"}]
[{"$f":"'Ability Times'!A254","v":0},{"$f":"'Ability Times'!B254","v":0},{"$f":"'Ability Times'!C254","v":0},null,null,null,null,null,null,null,{"$error":"#DIV/0!"}]
[{"$f":"'Ability Times'!A255","v":0},{"$f":"'Ability Times'!B255","v":0},{"$f":"'Ability Times'!C255","v":0},null,null,null,null,null,null,null,{"$error":"#DIV/0!"}]
[{"$f":"'Ability Times'!A256","v":0},{"$f":"'Ability Times'!B256","v":0},{"$f":"'Ability Times'!C256","v":0},null,null,null,null,null,null,null,{"$error":"#DIV/0!"}]
[{"$f":"'Ability Times'!A257","v":0},{"$f":"'Ability Times'!B257","v":0},{"$f":"'Ability Times'!C257","v":0},null,null,null,null,null,null,null,{"$error":"#DIV/0!"}]
[{"$f":"'Ability Times'!A258","v":0},{"$f":"'Ability Times'!B258","v":0},{"$f":"'Ability Times'!C258","v":0},null,null,null,null,null,null,null,{"$error":"#DIV/0!"}]
[{"$f":"'Ability Times'!A259","v":0},{"$f":"'Ability Times'!B259","v":0},{"$f":"'Ability Times'!C259","v":0},null,null,null,null,null,null,null,{"$error":"#DIV/0!"}]
[{"$f":"'Ability Times'!A260","v":0},{"$f":"'Ability Times'!B260","v":0},{"$f":"'Ability Times'!C260","v":0},null,null,null,null,null,null,null,{"$f":"(85/((HOUR(J255)*3600)+(MINUTE(J255)*60)+SECOND(J255))*3600)","v":{"$error":"#DIV/0!"}}]
[{"$f":"'Ability Times'!A261","v":0},{"$f":"'Ability Times'!B261","v":0},{"$f":"'Ability Times'!C261","v":0},null,null,null,null,null,null,null,{"$error":"#DIV/0!"}]
[{"$f":"'Ability Times'!A262","v":0},{"$f":"'Ability Times'!B262","v":0},{"$f":"'Ability Times'!C262","v":0},null,null,null,null,null,null,null,{"$error":"#DIV/0!"}]
[{"$f":"'Ability Times'!A263","v":0},{"$f":"'Ability Times'!B263","v":0},{"$f":"'Ability Times'!C263","v":0},null,null,null,null,null,null,null,{"$error":"#DIV/0!"}]
[{"$f":"'Ability Times'!A264","v":0},{"$f":"'Ability Times'!B264","v":0},{"$f":"'Ability Times'!C264","v":0},null,null,null,null,null,null,null,{"$error":"#DIV/0!"}]
[{"$f":"'Ability Times'!A265","v":0},{"$f":"'Ability Times'!B265","v":0},{"$f":"'Ability Times'!C265","v":0},null,null,null,null,null,null,null,{"$error":"#DIV/0!"}]
[{"$f":"'Ability Times'!A266","v":0},{"$f":"'Ability Times'!B266","v":0},{"$f":"'Ability Times'!C266","v":0},null,null,null,null,null,null,null,{"$error":"#DIV/0!"}]
[{"$f":"'Ability Times'!A267","v":0},{"$f":"'Ability Times'!B267","v":0},{"$f":"'Ability Times'!C267","v":0},null,null,null,null,null,null,null,{"$error":"#DIV/0!"}]
[{"$f":"'Ability Times'!A268","v":0},{"$f":"'Ability Times'!B268","v":0},{"$f":"'Ability Times'!C268","v":0},null,null,null,null,null,null,null,{"$error":"#DIV/0!"}]
[{"$f":"'Ability Times'!A269","v":0},{"$f":"'Ability Times'!B269","v":0},{"$f":"'Ability Times'!C269","v":0},null,null,null,null,null,null,null,{"$error":"#DIV/0!"}]
[{"$f":"'Ability Times'!A270","v":0},{"$f":"'Ability Times'!B270","v":0},{"$f":"'Ability Times'!C270","v":0},null,null,null,null,null,null,null,{"$error":"#DIV/0!"}]
[{"$f":"'Ability Times'!A271","v":0},{"$f":"'Ability Times'!B271","v":0},{"$f":"'Ability Times'!C271","v":0},null,null,null,null,null,null,null,{"$error":"#DIV/0!"}]
[{"$f":"'Ability Times'!A272","v":0},{"$f":"'Ability Times'!B272","v":0},{"$f":"'Ability Times'!C272","v":0},null,null,null,null,null,null,null,{"$error":"#DIV/0!"}]
[{"$f":"'Ability Times'!A273","v":0},{"$f":"'Ability Times'!B273","v":0},{"$f":"'Ability Times'!C273","v":0},null,null,null,null,null,null,null,{"$error":"#DIV/0!"}]
[{"$f":"'Ability Times'!A274","v":0},{"$f":"'Ability Times'!B274","v":0},{"$f":"'Ability Times'!C274","v":0},null,null,null,null,null,null,null,{"$error":"#DIV/0!"}]
[{"$f":"'Ability Times'!A275","v":0},{"$f":"'Ability Times'!B275","v":0},{"$f":"'Ability Times'!C275","v":0},null,null,null,null,null,null,null,{"$error":"#DIV/0!"}]
[{"$f":"'Ability Times'!A276","v":0},{"$f":"'Ability Times'!B276","v":0},{"$f":"'Ability Times'!C276","v":0},null,null,null,null,null,null,null,{"$error":"#DIV/0!"}]
[{"$f":"'Ability Times'!A277","v":0},{"$f":"'Ability Times'!B277","v":0},{"$f":"'Ability Times'!C277","v":0},null,null,null,null,null,null,null,{"$error":"#DIV/0!"}]
[{"$f":"'Ability Times'!A278","v":0},{"$f":"'Ability Times'!B278","v":0},{"$f":"'Ability Times'!C278","v":0},null,null,null,null,null,null,null,{"$error":"#DIV/0!"}]
[{"$f":"'Ability Times'!A279","v":0},{"$f":"'Ability Times'!B279","v":0},{"$f":"'Ability Times'!C279","v":0},null,null,null,null,null,null,null,{"$error":"#DIV/0!"}]
[{"$f":"'Ability Times'!A280","v":0},{"$f":"'Ability Times'!B280","v":0},{"$f":"'Ability Times'!C280","v":0},null,null,null,null,null,null,null,{"$error":"#DIV/0!"}]
[{"$f":"'Ability Times'!A281","v":0},{"$f":"'Ability Times'!B281","v":0},{"$f":"'Ability Times'!C281","v":0},null,null,null,null,null,null,null,{"$error":"#DIV/0!"}]
[{"$f":"'Ability Times'!A282","v":0},{"$f":"'Ability Times'!B282","v":0},{"$f":"'Ability Times'!C282","v":0},null,null,null,null,null,null,null,{"$error":"#DIV/0!"}]
[{"$f":"'Ability Times'!A283","v":0},{"$f":"'Ability Times'!B283","v":0},{"$f":"'Ability Times'!C283","v":0},null,null,null,null,null,null,null,{"$error":"#DIV/0!"}]
[{"$f":"'Ability Times'!A284","v":0},{"$f":"'Ability Times'!B284","v":0},{"$f":"'Ability Times'!C284","v":0},null,null,null,null,null,null,null,{"$error":"#DIV/0!"}]
[{"$f":"'Ability Times'!A285","v":0},{"$f":"'Ability Times'!B285","v":0},{"$f":"'Ability Times'!C285","v":0},null,null,null,null,null,null,null,{"$error":"#DIV/0!"}]
[{"$f":"'Ability Times'!A286","v":0},{"$f":"'Ability Times'!B286","v":0},{"$f":"'Ability Times'!C286","v":0},null,null,null,null,null,null,null,{"$error":"#DIV/0!"}]
[{"$f":"'Ability Times'!A287","v":0},{"$f":"'Ability Times'!B287","v":0},{"$f":"'Ability Times'!C287","v":0},null,null,null,null,null,null,null,{"$error":"#DIV/0!"}]
[{"$f":"'Ability Times'!A288","v":0},{"$f":"'Ability Times'!B288","v":0},{"$f":"'Ability Times'!C288","v":0},null,null,null,null,null,null,null,{"$error":"#DIV/0!"}]
[{"$f":"'Ability Times'!A289","v":0},{"$f":"'Ability Times'!B289","v":0},{"$f":"'Ability Times'!C289","v":0},null,null,null,null,null,null,null,{"$error":"#DIV/0!"}]
[{"$f":"'Ability Times'!A290","v":0},{"$f":"'Ability Times'!B290","v":0},{"$f":"'Ability Times'!C290","v":0},null,null,null,null,null,null,null,{"$error":"#DIV/0!"}]
[{"$f":"'Ability Times'!A291","v":0},{"$f":"'Ability Times'!B291","v":0},{"$f":"'Ability Times'!C291","v":0},null,null,null,null,null,null,null,{"$error":"#DIV/0!"}]
[{"$f":"'Ability Times'!A292","v":0},{"$f":"'Ability Times'!B292","v":0},{"$f":"'Ability Times'!C292","v":0},null,null,null,null,null,null,null,{"$f":"(85/((HOUR(J287)*3600)+(MINUTE(J287)*60)+SECOND(J287))*3600)","v":{"$error":"#DIV/0!"}}]
[{"$f":"'Ability Times'!A293","v":0},{"$f":"'Ability Times'!B293","v":0},{"$f":"'Ability Times'!C293","v":0},null,null,null,null,null,null,null,{"$error":"#DIV/0!"}]
[{"$f":"'Ability Times'!A294","v":0},{"$f":"'Ability Times'!B294","v":0},{"$f":"'Ability Times'!C294","v":0},null,null,null,null,null,null,null,{"$error":"#DIV/0!"}]
[{"$f":"'Ability Times'!A295","v":0},{"$f":"'Ability Times'!B295","v":0},{"$f":"'Ability Times'!C295","v":0},null,null,null,null,null,null,null,{"$error":"#DIV/0!"}]
[{"$f":"'Ability Times'!A296","v":0},{"$f":"'Ability Times'!B296","v":0},{"$f":"'Ability Times'!C296","v":0},null,null,null,null,null,null,null,{"$error":"#DIV/0!"}]
[{"$f":"'Ability Times'!A297","v":0},{"$f":"'Ability Times'!B297","v":0},{"$f":"'Ability Times'!C297","v":0},null,null,null,null,null,null,null,{"$error":"#DIV/0!"}]
[{"$f":"'Ability Times'!A298","v":0},{"$f":"'Ability Times'!B298","v":0},{"$f":"'Ability Times'!C298","v":0},null,null,null,null,null,null,null,{"$error":"#DIV/0!"}]
[{"$f":"'Ability Times'!A299","v":0},{"$f":"'Ability Times'!B299","v":0},{"$f":"'Ability Times'!C299","v":0},null,null,null,null,null,null,null,{"$error":"#DIV/0!"}]
[{"$f":"'Ability Times'!A300","v":0},{"$f":"'Ability Times'!B300","v":0},{"$f":"'Ability Times'!C300","v":0},null,null,null,null,null,null,null,{"$error":"#DIV/0!"}]
[{"$f":"'Ability Times'!A301","v":0},{"$f":"'Ability Times'!B301","v":0},{"$f":"'Ability Times'!C301","v":0},null,null,null,null,null,null,null,{"$error":"#DIV/0!"}]
[{"$f":"'Ability Times'!A302","v":0},{"$f":"'Ability Times'!B302","v":0},{"$f":"'Ability Times'!C302","v":0},null,null,null,null,null,null,null,{"$error":"#DIV/0!"}]
[{"$f":"'Ability Times'!A303","v":0},{"$f":"'Ability Times'!B303","v":0},{"$f":"'Ability Times'!C303","v":0},null,null,null,null,null,null,null,{"$error":"#DIV/0!"}]
[{"$f":"'Ability Times'!A304","v":0},{"$f":"'Ability Times'!B304","v":0},{"$f":"'Ability Times'!C304","v":0},null,null,null,null,null,null,null,{"$error":"#DIV/0!"}]
[{"$f":"'Ability Times'!A305","v":0},{"$f":"'Ability Times'!B305","v":0},{"$f":"'Ability Times'!C305","v":0},null,null,null,null,null,null,null,{"$error":"#DIV/0!"}]
[{"$f":"'Ability Times'!A306","v":0},{"$f":"'Ability Times'!B306","v":0},{"$f":"'Ability Times'!C306","v":0},null,null,null,null,null,null,null,{"$error":"#DIV/0!"},null,-0.99999000000000005]

{"sheet":"IVCA Age Records Road & Track .","index":25,"n_rows":106,"n_cols":33,"rows_kept":106,"cut":false,"hidden":false,"merged":[]}
["IVCA Age Records Men",null,"As of","2015-08-09",null,"IVCA Age Records Women",null,null,"See below",null,null,null,null,null,null,null,null,"IVCA Track Records."]
[null,null,null,null,null,null,null,null,null,null,null,null,null,null,null,null,null,"Sundrive Road only.",null,null,null,"Eligible events, IVCA, Leinster & National Champs +Sundrive League."]
["10 Miles.","Name","Time ","Year","25 Miles.","Name","Time ","Year","50 Miles.","Name","Time ","Year","Circuit TT","Name","Time ","Year",null,"Men"]
["Age",null,null,null,"Age",null,null,null,"Age",null,null,null,"Age",null,null,null,null,"Age","Flying 200m.","Time","Year",null,"500m. T.T.","Time","Year",null,"2000m. T.T.","Time","Year",null,"3000m. T.T.","Time","Year"]
[40,null,null,null,40,"Neil Delahaye","00:53:51",2015,40,null,null,null,40,null,null,null,null,40,null,null,null,40,"Stephen McNally",37.19,null,40,null,null,null,40]
[41,"John Oram","00:21:05",2009,41,"John Oram","00:54:18",2009,41,"John Oram","01:52:59",2009,41,null,null,null,null,41,"Brendan Whelan, 1968",12.25,2009,41,null,null,null,41,null,null,null,41,"Brendan Whelan, 1968","4:04.83",2009]
[42,"John Oram","00:21:35",2009,42,null,null,null,42,null,null,null,42,null,null,null,null,42,null,null,null,42,null,null,null,42,null,null,null,42]
[43,null,null,null,43,null,null,null,43,null,null,null,43,null,null,null,null,43,null,null,null,43,null,null,null,43,null,null,null,43]
[44,"Paul Lee","00:21:37",2013,44,"David Carroll","00:54:56",2015,44,null,null,null,44,"David Carroll","00:29:01",2015,null,44,null,null,null,44,null,null,null,44,null,null,null,44]
[45,null,null,null,45,null,null,null,45,null,null,null,45,null,null,null,null,45,null,null,null,45,null,null,null,45,null,null,null,45]
[46,null,null,null,46,null,null,null,46,null,null,null,46,null,null,null,null,46,null,null,null,46,null,null,null,46,null,null,null,46]
[47,"Dave woods","00:21:53",2000,47,null,null,null,47,null,null,null,47,"John Dillon","00:29:43",2012,null,47,null,null,null,47,null,null,null,47,null,null,null,47]
[48,null,null,null,48,null,null,null,48,null,null,null,48,null,null,null,null,48,null,null,null,48,null,null,null,48,null,null,null,48,"Ned Costello, 1961","4:21.46",2009]
[49,"Pat Byrne","00:22:00",2013,49,null,null,null,49,null,null,null,49,"Pat Byrne","00:29:49",2013,null,49,null,null,null,49,null,null,null,49,null,null,null,49]
[50,null,null,null,50,null,null,null,50,null,null,null,50,"John Dillon","00:30:31",2015,null,50,null,null,null,50,null,null,null,50,null,null,null,50]
[51,null,null,null,51,null,null,null,51,null,null,null,51,null,null,null,null,51,null,null,null,51,null,null,null,51,null,null,null,51]
[52,null,null,null,52,null,null,null,52,null,null,null,52,null,null,null,null,52,null,null,null,52,null,null,null,52,null,null,null,52]
[53,null,null,null,53,null,null,null,53,null,null,null,53,null,null,null,null,53,null,null,null,53,null,null,null,53,null,null,null,53]
[54,null,null,null,54,null,null,null,54,null,null,null,54,"Tom Malone","00:30:55",2012,null,54,null,null,null,54,null,null,null,54,null,null,null,54]
[55,null,null,null,55,null,null,null,55,null,null,null,55,"Tom Malone","00:31:14",2013,null,55,null,null,null,55,null,null,null,55,null,null,null,55]
[56,null,null,null,56,null,null,null,56,null,null,null,56,null,null,null,null,56,null,null,null,56,null,null,null,56,null,null,null,56]
[57,"Hugh Davis","00:22:13",2004,57,null,null,null,57,null,null,null,57,null,null,null,null,57,"Terry Cromer, 1952",12.366,2009,57,"Terry Cromer, 1952",37.366,2009,57,null,null,null,57]
[58,"Hugh Davis","00:22:29",2005,58,"Hugh Davis","00:55:38",2005,58,"Hugh Davis","01:54:01",2005,58,null,null,null,null,58,null,null,null,58,null,null,null,58,null,null,null,58]
[59,"Hugh Davis","00:22:59",2006,59,"Hugh Davis","00:57:27",2006,59,"Hugh Davis","01:59:25",2006,59,null,null,null,null,59,"Hugh Davis, 1947",13.004,2006,59,null,null,null,59,null,null,null,59]
[60,null,null,null,60,"Paddy Davis","00:58:27",2003,60,null,null,null,60,null,null,null,null,60,null,null,null,60,null,null,null,60,null,null,null,60]
[61,"Mick Manley","00:23:11",1995,61,null,null,null,61,null,null,null,61,null,null,null,null,61,null,null,null,61,"Hugh Davis, 1947",41.37,2008,61,null,null,null,61]
[62,null,null,null,62,"Sean lally","00:59:18",2003,62,"Hugh Davis","02:00:05",2009,62,null,null,null,null,62,"Eddie Dunne, 1944",13.661,2006,62,"Hugh Davis, 1947",41.66,2009,62,null,null,null,62]
[63,null,null,null,63,null,null,null,63,"Sean Lally","02:00:14",2004,63,null,null,null,null,63,null,null,null,63,"Paddy Davis, 1943",42.115000000000002,2006,63,null,null,null,63]
[64,"Paddy Davis","00:23:29",2007,64,null,null,null,64,"Hugh Davis","02:02:15",2011,64,null,null,null,null,64,null,null,null,64,null,null,null,64,null,null,null,64]
[65,null,null,null,65,null,null,null,65,null,null,null,65,null,null,null,null,65,"Eddie Dunne, 1944",13.85,2009,65,null,null,null,65,null,null,null,65]
[66,"Hugh Davis","00:23:35",2013,66,null,null,null,66,"Sean Lally","02:03:47",2007,66,"Hugh Davis","00:31:15",2013,null,66,"Paddy Fitzsimons, 1946",14.71,2011,66,null,null,null,66,null,null,null,66]
[67,"Hugh Davis","00:23:40",2014,67,"Hugh Davis","00:59:24",2014,67,"Hugh Davis","02:04:51",2014,67,null,null,null,null,67,null,null,null,67,"Phil Ormrod, 1944","42.54.",2011,67,null,null,null,67]
[68,null,null,null,68,"Hugh Davis","01:01:04",2015,68,"Hugh Davis","02:06:40",2015,68,null,null,null,null,68,null,null,null,68,null,null,null,68,"Hugh Davis, 1947","2:56.09",2015,68]
[69,"Fred Harte","00:24:03",2008,69,"Fred Harte","01:02:01",2008,69,"Dermot McGrath","02:11:52",2008,69,"Phil Ormrod","00:32:52",2013,null,69,null,null,null,69,null,null,null,69,null,null,null,69]
[70,"Phil Ormrod","00:24:45",2014,70,null,null,null,70,"Phil Ormrod","02:12:17",2014,70,"Phil Ormrod","00:33:14",2014,null,70,"Paul O'Connell, 1945",14.92,2015,70,null,null,null,70,null,null,null,70]
[71,null,null,null,71,null,null,null,71,null,null,null,71,null,null,null,null,71,"Eddie Dunne, 1944",15.14,2015,71,"Eddie Dunne, 1944",43.26,2015,71,"Phil Ormrod, 1944","3:14.92",2015,71]
[72,"Sean Lally","00:25:12",2013,72,null,null,null,72,null,null,null,72,null,null,null,null,72,"Paddy Davis, 1943",16.77,2015,72,"Paddy Davis, 1943",46.23,2015,72,null,null,null,72]
[73,"Fred Harte","00:25:13",2012,73,"Sean Lally","01:03:47",2014,73,"Sean Lally","02:13:11",2014,73,null,null,null,null,73,null,null,null,73,null,null,null,73,null,null,null,73]
[74,"Dermot McGrath","00:25:36",2013,74,"Dermot McGrath","01:05:50",2013,74,"Fred Harte","02:19:56",2013,74,"Dermot McGrath","00:34:30",2013,null,74,"Eddie Scully, 1941",17.16,2015,74,"Eddie Scully, 1941",50.9,2015,74,"Eddie Scully, 1941","3:47.77",2015,74]
[75,"Dermot McGrath","00:26:26",2014,75,"Peter Schweppe","01:06:32",2013,75,"Fred Harte","02:23:25",2014,75,null,null,null,null,75,null,null,null,75,null,null,null,75,null,null,null,75]
[76,"Peter Schweppe","00:26:55",2014,76,"Peter Schweppe","01:08:14",2014,76,"Patsy Fitzsimons","02:34:53",2010,76,null,null,null,null,76,null,null,null,76,null,null,null,76,null,null,null,76]
[77,"Patsy Fitzsimons","00:29:59",2011,77,"Patsy Fitzsimons","01:14:14",2011,77,"Patsy Fitzsimons","02:36:45",2011,77,"Paddy byrne","00:40:35",2015,null,77,null,null,null,77,null,null,null,77,null,null,null,77]
[78,null,null,null,78,"Patsy Fitzsimons","01:17:48",2012,78,"Patsy Fitzsimons","02:41:53",2012,78,null,null,null,null,78,null,null,null,78,null,null,null,78,null,null,null,78]
[79,"Kevin Simms","00:30:11",2011,79,"Kevin Simms","01:18:21",2011,79,null,null,null,79,null,null,null,null,79,null,null,null,79,null,null,null,79,null,null,null,79]
[80,"Kevin Simms","00:31:45",2012,80,null,null,null,80,null,null,null,80,null,null,null,null,80,null,null,null,80,null,null,null,80,null,null,null,80]
[81,"Patsy Fitzsimons","00:30:54",2015,81,"Patsy Fitzsimons","01:19:36",2015,81,"Patsy Fitzsimons","02:46:13",2015,81,"Patsy Fitzsimons","00:41:49",2015]
[82,"Kevin simms","00:34:35",2014,82,"Kevin simms","01:27:13",2014,82,"Kevin simms","03:04:41",2014,82,null,"00:46:20",2014]
[83,"Kevin simms","00:36:13",2015,83,"Kevin simms","01:33:01",2015,83,null,null,null,83,"Kevin simms","00:49:06",2015]
[84,null,null,null,84,null,null,null,84,null,null,null,84]
[85,null,null,null,85,null,null,null,85,null,null,null,85]
[]
["IVCA Age Records Women",null,"As of","2015-08-09",null,null,null,null,null,null,null,null,null,null,null,null,null,"Women",null,"Time","Year",null,"500m. T.T.","Time","Year",null,"2000m. T.T.","Time","Year",null,"3000m. T.T.","Time","Year"]
[]
["10 Miles.","Name","Time ","Year","25 Miles.","Name","Time ","Year","50 Miles.","Name","Time ","Year"]
["Age",null,null,null,"Age",null,null,null,"Age"]
[35,null,null,null,35,null,null,null,35,null,null,null,null,null,null,null,null,35,null,null,null,35,null,null,null,35,null,null,null,35]
[36,null,null,null,36,null,null,null,36,null,null,null,null,null,null,null,null,36,null,null,null,36,null,null,null,36,null,null,null,36]
[37,null,null,null,37,"Eve McCrystal","00:57:51",2015,37,null,null,null,null,null,null,null,null,37,null,null,null,37,null,null,null,37,null,null,null,37]
[38,null,null,null,38,null,null,null,38,null,null,null,null,null,null,null,null,38,null,null,null,38,null,null,null,38,null,null,null,38]
[39,null,null,null,39,null,null,null,39,null,null,null,null,null,null,null,null,39,null,null,null,39,null,null,null,39,null,null,null,39]
[40,null,null,null,40,null,null,null,40,null,null,null,null,null,null,null,null,40,null,null,null,40,null,null,null,40,null,null,null,40]
[41,null,null,null,41,null,null,null,41,null,null,null,null,null,null,null,null,41,null,null,null,41,null,null,null,41,null,null,null,41]
[42,null,null,null,42,null,null,null,42,null,null,null,null,null,null,null,null,42,null,null,null,42,null,null,null,42,null,null,null,42]
[43,null,null,null,43,null,null,null,43,"Rose Leith","02:19:52",2005,null,null,null,null,null,43,null,null,null,43,null,null,null,43,null,null,null,43]
[44,"Orla Tansey","00:23:56",2007,44,null,null,null,44,"Rose Leith","02:27:48",2006,null,null,null,null,null,44,null,null,null,44,null,null,null,44,null,null,null,44]
[45,"Orla Tansey","00:24:22",2008,45,null,null,null,45,null,null,null,null,null,null,null,null,45,null,null,null,45,null,null,null,45,null,null,null,45]
[46,null,null,null,46,null,null,null,46,null,null,null,null,null,null,null,null,46,null,null,null,46,null,null,null,46,null,null,null,46]
[47,null,null,null,47,"Orla Tansey","01:01:22",2010,47,"Rose Leith","02:28:53",2009,null,null,null,null,null,47,null,null,null,47,null,null,null,47,null,null,null,47]
[48,"Orla Tansey","00:25:13",2011,48,"Orla Tansey","01:03:36",2011,48,"Rose Leith","02:35:58",2010,null,null,null,null,null,48,null,null,null,48,null,null,null,48,null,null,null,48]
[49,"Orla Tansey","00:25:19",2012,49,null,null,null,49,"Rose Leith","02:42:03",2011,null,null,null,null,null,49,"Susie Mitchell, 1966",13.81,2015,49,"Susie Mitchell, 1966","39.16",2015,49,"Susie Mitchell, 1966","2:46.61",2015,49]
[50,"Orla Tansey","00:25:26",2013,50,null,null,null,50,null,null,null,null,null,null,null,null,50,null,null,null,50,null,null,null,50,null,null,null,50]
[51,null,null,null,51,null,null,null,51,null,null,null,null,null,null,null,null,51,null,null,null,51,null,null,null,51,null,null,null,51]
[52,null,null,null,52,null,null,null,52,null,null,null,null,null,null,null,null,52,null,null,null,52,"Orla Hendron, 1963","41.88",2015,52,null,null,null,52]
[53,null,null,null,53,null,null,null,53,null,null,null,null,null,null,null,null,53,null,null,null,53,null,null,null,53,null,null,null,53]
[54,null,null,null,54,null,null,null,54,null,null,null,null,null,null,null,null,54,null,null,null,54,null,null,null,54,null,null,null,54]
[55,"Tess Quinlan","00:28:43",2002,55,null,null,null,55,"Susan Maher","02:51:41",2012,null,null,null,null,null,55,null,null,null,55,null,null,null,55,null,null,null,55]
[56,null,null,null,56,null,null,null,56,null,null,null,null,null,null,null,null,56,null,null,null,56,null,null,null,56,null,null,null,56]
[57,null,null,null,57,null,null,null,57,null,null,null,null,null,null,null,null,57,null,null,null,57,null,null,null,57,null,null,null,57]
[58,null,null,null,58,null,null,null,58,null,null,null,null,null,null,null,null,58,null,null,null,58,null,null,null,58,null,null,null,58]
[59,null,null,null,59,"Tess Quinlan","01:17:28",2006,59,null,null,null,null,null,null,null,null,59,null,null,null,59,null,null,null,59,null,null,null,59]
[60,null,null,null,60,null,null,null,60,null,null,null,null,null,null,null,null,60,null,null,null,60,null,null,null,60,null,null,null,60]
[61,null,null,null,61,null,null,null,61,null,null,null,null,null,null,null,null,61,null,null,null,61,null,null,null,61,null,null,null,61]
[62,null,null,null,62,null,null,null,62,null,null,null,null,null,null,null,null,62,null,null,null,62,null,null,null,62,null,null,null,62]
[63,null,null,null,63,null,null,null,63,null,null,null,null,null,null,null,null,63,null,null,null,63,null,null,null,63,null,null,null,63]
[64,null,null,null,64,null,null,null,64,null,null,null,null,null,null,null,null,64,null,null,null,64,null,null,null,64,null,null,null,64]
[65,null,null,null,65,"Tess Quinlan","01:18:06",2012,65,null,null,null,null,null,null,null,null,65,null,null,null,65,null,null,null,65,null,null,null,65]
[66,null,null,null,66,null,null,null,66,null,null,null,null,null,null,null,null,66,null,null,null,66,null,null,null,66,null,null,null,66]
[67,null,null,null,67,null,null,null,67,null,null,null,null,null,null,null,null,67,null,null,null,67,null,null,null,67,null,null,null,67]
[68,null,null,null,68,null,null,null,68,null,null,null,null,null,null,null,null,68,null,null,null,68,null,null,null,68,null,null,null,68]
[69,null,null,null,69,null,null,null,69,null,null,null,null,null,null,null,null,69,null,null,null,69,null,null,null,69,null,null,null,69]
[70,null,null,null,70,null,null,null,70,null,null,null,null,null,null,null,null,70,null,null,null,70,null,null,null,70,null,null,null,70]
[71,null,null,null,71,null,null,null,71,null,null,null,null,null,null,null,null,71,null,null,null,71,null,null,null,71,null,null,null,71]
[72,null,null,null,72,null,null,null,72,null,null,null,null,null,null,null,null,72,null,null,null,72,null,null,null,72,null,null,null,72]
[73,null,null,null,73,null,null,null,73,null,null,null,null,null,null,null,null,73,null,null,null,73,null,null,null,73,null,null,null,73]
[74,null,null,null,74,null,null,null,74,null,null,null,null,null,null,null,null,74,null,null,null,74,null,null,null,74,null,null,null,74]
[75,null,null,null,75,null,null,null,75,null,null,null,null,null,null,null,null,75,null,null,null,75,null,null,null,75,null,null,null,75]
[76,null,null,null,76,null,null,null,76,null,null,null,null,null,null,null,null,76,null,null,null,76,null,null,null,76,null,null,null,76]
[77,null,null,null,77,null,null,null,77,null,null,null,null,null,null,null,null,77,null,null,null,77,null,null,null,77,null,null,null,77]
[78,null,null,null,78,null,null,null,78,null,null,null,null,null,null,null,null,78,null,null,null,78,null,null,null,78,null,null,null,78]
[79,null,null,null,79,null,null,null,79,null,null,null,null,null,null,null,null,79,null,null,null,79,null,null,null,79,null,null,null,79]
[80,null,null,null,80,null,null,null,80,null,null,null,null,null,null,null,null,80,null,null,null,80,null,null,null,80,null,null,null,80]
[81,null,null,null,81,null,null,null,81]
[82,null,null,null,82,null,null,null,82]
[83,null,null,null,83,null,null,null,83]
[84,null,null,null,84,null,null,null,84]
[85,null,null,null,85,null,null,null,85]

{"sheet":"SatTTL Age Std","index":26,"n_rows":310,"n_cols":16,"rows_kept":310,"cut":false,"hidden":false,"merged":[[0,0,0,4],[1,0,1,4],[2,0,2,4],[3,0,3,4]]}
["IVCA Saturday Time Trial League "]
[2015,null,null,null,null,"Sat TT_01","Sat TT_02","Sat TT_03","Sat TT_04","Sat TT_05","Sat TT_06","Sat TT_07","Sat TT_08"]
["Age Standard Points Table ",null,null,null,null,{"$f":"+'[1]Racing Calendar'!$C$17","v":41043},{"$f":"+'[1]Racing Calendar'!$C$24","v":41059},{"$f":"+'[1]Racing Calendar'!$C$31","v":41107},{"$f":"+'[1]Racing Calendar'!$C$38","v":41094},{"$f":"+'[1]Racing Calendar'!$C$46","v":41115},{"$f":"+'[1]Racing Calendar'!$C$53","v":41103},{"$f":"+'[1]Racing Calendar'!$C$55","v":41141},{"$f":"+'[1]Racing Calendar'!$C$57","v":41154}]
[]
[]
[null,null,null,null,null," TT"," TT"," TT"," TT"," TT"," TT","TT","TT"]
[null,null,null,null,null,"10 mls","10 mls","10 mls","10 mls","10 mls","10 mls","10 mls","10 mls"]
[null,null,null,null,null,{"$f":"+'[1]Racing Calendar'!$G$17","v":"09:00:00"},{"$f":"+'[1]Racing Calendar'!$G$24","v":"19:15:00"},{"$f":"+'[1]Racing Calendar'!$G$31","v":"09:30:00"},{"$f":"+'[1]Racing Calendar'!$G$38","v":"19:15:00"},{"$f":"+'[1]Racing Calendar'!$G$46","v":"19:15:00"},{"$f":"+'[1]Racing Calendar'!$G$53","v":"09:00:00"},"Kilcock","Batterstown","Total "]
["Column7","Position","Surname+id","First Name","Age","Points","Column1","Column2","Column3","Column4","Column5","Column6","7.15 pm","7.15 pm7","Points8","Points9"]
[{"$f":"VLOOKUP(C10,'Sheet 1'!C$1:D$96,2,FALSE)","v":{"$error":"#N/A"}},1,{"$f":"+'[1]Racing numbers file'!$B122","v":"Bill Andrews"},{"$f":"VLOOKUP(C10,'[1]Racing numbers file'!$B$4:$F$290,2,FALSE)","v":1966},{"$f":"VLOOKUP(C10,'[1]Racing numbers file'!$B$4:$F$290,4,FALSE)","v":50},{"$f":"+O10","v":0},{"$f":"IF(ISNA(VLOOKUP($C10,'Sat TT_01'!$C$4:$Q$152,12,FALSE)=$C10),0,VLOOKUP($C10,'Sat TT_01'!$C$4:$Q$152,12,FALSE))","v":0},{"$f":"IF(ISNA(VLOOKUP($C10,'Sat TT_02'!$C$4:$Q$152,12,FALSE)=$C10),0,VLOOKUP($C10,'Sat TT_02'!$C$4:$Q$152,12,FALSE))","v":0},{"$f":"IF(ISNA(VLOOKUP($C10,'Sat TT_03'!$C$4:$Q$152,12,FALSE)=$C10),0,VLOOKUP($C10,'Sat TT_03'!$C$4:$Q$152,12,FALSE))","v":0},{"$f":"IF(ISNA(VLOOKUP($C10,'Sat TT_04'!$C$4:$Q$152,12,FALSE)=$C10),0,VLOOKUP($C10,'Sat TT_04'!$C$4:$Q$152,12,FALSE))","v":0},{"$f":"IF(ISNA(VLOOKUP($C10,'Sat TT_05'!$C$4:$Q$152,12,FALSE)=$C10),0,VLOOKUP($C10,'Sat TT_05'!$C$4:$Q$152,12,FALSE))","v":0},{"$f":"IF(ISNA(VLOOKUP($C10,'Sat TT_06'!$C$4:$Q$152,12,FALSE)=$C10),0,VLOOKUP($C10,'Sat TT_06'!$C$4:$Q$152,12,FALSE))","v":0},{"$f":"IF(ISNA(VLOOKUP($C10,'Sat TT_07'!$C$4:$Q$152,12,FALSE)=$C10),0,VLOOKUP($C10,'Sat TT_07'!$C$4:$Q$152,12,FALSE))","v":0},{"$f":"IF(ISNA(VLOOKUP($C10,'Sat TT_08'!$C$4:$Q$152,12,FALSE)=$C10),0,VLOOKUP($C10,'Sat TT_08'!$C$4:$Q$152,12,FALSE))","v":0},{"$f":"SUM(G10:N10)","v":0}]
[{"$f":"VLOOKUP(C11,'Sheet 1'!C$1:D$96,2,FALSE)","v":{"$error":"#N/A"}},2,{"$f":"+'[1]Racing numbers file'!$B114","v":"Sam McArdle"},{"$f":"VLOOKUP(C11,'[1]Racing numbers file'!$B$4:$F$290,2,FALSE)","v":1964},{"$f":"VLOOKUP(C11,'[1]Racing numbers file'!$B$4:$F$290,4,FALSE)","v":52},0,{"$f":"IF(ISNA(VLOOKUP($C11,'Sat TT_01'!$C$4:$Q$152,12,FALSE)=$C11),0,VLOOKUP($C11,'Sat TT_01'!$C$4:$Q$152,12,FALSE))","v":0},{"$f":"IF(ISNA(VLOOKUP($C11,'Sat TT_02'!$C$4:$Q$152,12,FALSE)=$C11),0,VLOOKUP($C11,'Sat TT_02'!$C$4:$Q$152,12,FALSE))","v":0},{"$f":"IF(ISNA(VLOOKUP($C11,'Sat TT_03'!$C$4:$Q$152,12,FALSE)=$C11),0,VLOOKUP($C11,'Sat TT_03'!$C$4:$Q$152,12,FALSE))","v":0},{"$f":"IF(ISNA(VLOOKUP($C11,'Sat TT_04'!$C$4:$Q$152,12,FALSE)=$C11),0,VLOOKUP($C11,'Sat TT_04'!$C$4:$Q$152,12,FALSE))","v":0},{"$f":"IF(ISNA(VLOOKUP($C11,'Sat TT_05'!$C$4:$Q$152,12,FALSE)=$C11),0,VLOOKUP($C11,'Sat TT_05'!$C$4:$Q$152,12,FALSE))","v":0},{"$f":"IF(ISNA(VLOOKUP($C11,'Sat TT_06'!$C$4:$Q$152,12,FALSE)=$C11),0,VLOOKUP($C11,'Sat TT_06'!$C$4:$Q$152,12,FALSE))","v":0},{"$f":"IF(ISNA(VLOOKUP($C11,'Sat TT_07'!$C$4:$Q$152,12,FALSE)=$C11),0,VLOOKUP($C11,'Sat TT_07'!$C$4:$Q$152,12,FALSE))","v":0},{"$f":"IF(ISNA(VLOOKUP($C11,'Sat TT_08'!$C$4:$Q$152,12,FALSE)=$C11),0,VLOOKUP($C11,'Sat TT_08'!$C$4:$Q$152,12,FALSE))","v":0},0]
[{"$f":"VLOOKUP(C12,'Sheet 1'!C$1:D$96,2,FALSE)","v":1466},3,{"$f":"+'[1]Racing numbers file'!$B237","v":"Andrew Bartley"},{"$f":"VLOOKUP(C12,'[1]Racing numbers file'!$B$4:$F$290,2,FALSE)","v":1965},{"$f":"VLOOKUP(C12,'[1]Racing numbers file'!$B$4:$F$290,4,FALSE)","v":51},0,{"$f":"IF(ISNA(VLOOKUP($C12,'Sat TT_01'!$C$4:$Q$152,12,FALSE)=$C12),0,VLOOKUP($C12,'Sat TT_01'!$C$4:$Q$152,12,FALSE))","v":0},{"$f":"IF(ISNA(VLOOKUP($C12,'Sat TT_02'!$C$4:$Q$152,12,FALSE)=$C12),0,VLOOKUP($C12,'Sat TT_02'!$C$4:$Q$152,12,FALSE))","v":0},{"$f":"IF(ISNA(VLOOKUP($C12,'Sat TT_03'!$C$4:$Q$152,12,FALSE)=$C12),0,VLOOKUP($C12,'Sat TT_03'!$C$4:$Q$152,12,FALSE))","v":0},{"$f":"IF(ISNA(VLOOKUP($C12,'Sat TT_04'!$C$4:$Q$152,12,FALSE)=$C12),0,VLOOKUP($C12,'Sat TT_04'!$C$4:$Q$152,12,FALSE))","v":0},{"$f":"IF(ISNA(VLOOKUP($C12,'Sat TT_05'!$C$4:$Q$152,12,FALSE)=$C12),0,VLOOKUP($C12,'Sat TT_05'!$C$4:$Q$152,12,FALSE))","v":0},{"$f":"IF(ISNA(VLOOKUP($C12,'Sat TT_06'!$C$4:$Q$152,12,FALSE)=$C12),0,VLOOKUP($C12,'Sat TT_06'!$C$4:$Q$152,12,FALSE))","v":0},{"$f":"IF(ISNA(VLOOKUP($C12,'Sat TT_07'!$C$4:$Q$152,12,FALSE)=$C12),0,VLOOKUP($C12,'Sat TT_07'!$C$4:$Q$152,12,FALSE))","v":0},{"$f":"IF(ISNA(VLOOKUP($C12,'Sat TT_08'!$C$4:$Q$152,12,FALSE)=$C12),0,VLOOKUP($C12,'Sat TT_08'!$C$4:$Q$152,12,FALSE))","v":0},0]
[{"$f":"VLOOKUP(C13,'Sheet 1'!C$1:D$96,2,FALSE)","v":1466},4,{"$f":"+'[1]Racing numbers file'!$B237","v":"Andrew Bartley"},{"$f":"VLOOKUP(C13,'[1]Racing numbers file'!$B$4:$F$290,2,FALSE)","v":1965},{"$f":"VLOOKUP(C13,'[1]Racing numbers file'!$B$4:$F$290,4,FALSE)","v":51},0,{"$f":"IF(ISNA(VLOOKUP($C13,'Sat TT_01'!$C$4:$Q$152,12,FALSE)=$C13),0,VLOOKUP($C13,'Sat TT_01'!$C$4:$Q$152,12,FALSE))","v":0},{"$f":"IF(ISNA(VLOOKUP($C13,'Sat TT_02'!$C$4:$Q$152,12,FALSE)=$C13),0,VLOOKUP($C13,'Sat TT_02'!$C$4:$Q$152,12,FALSE))","v":0},{"$f":"IF(ISNA(VLOOKUP($C13,'Sat TT_03'!$C$4:$Q$152,12,FALSE)=$C13),0,VLOOKUP($C13,'Sat TT_03'!$C$4:$Q$152,12,FALSE))","v":0},{"$f":"IF(ISNA(VLOOKUP($C13,'Sat TT_04'!$C$4:$Q$152,12,FALSE)=$C13),0,VLOOKUP($C13,'Sat TT_04'!$C$4:$Q$152,12,FALSE))","v":0},{"$f":"IF(ISNA(VLOOKUP($C13,'Sat TT_05'!$C$4:$Q$152,12,FALSE)=$C13),0,VLOOKUP($C13,'Sat TT_05'!$C$4:$Q$152,12,FALSE))","v":0},{"$f":"IF(ISNA(VLOOKUP($C13,'Sat TT_06'!$C$4:$Q$152,12,FALSE)=$C13),0,VLOOKUP($C13,'Sat TT_06'!$C$4:$Q$152,12,FALSE))","v":0},{"$f":"IF(ISNA(VLOOKUP($C13,'Sat TT_07'!$C$4:$Q$152,12,FALSE)=$C13),0,VLOOKUP($C13,'Sat TT_07'!$C$4:$Q$152,12,FALSE))","v":0},{"$f":"IF(ISNA(VLOOKUP($C13,'Sat TT_08'!$C$4:$Q$152,12,FALSE)=$C13),0,VLOOKUP($C13,'Sat TT_08'!$C$4:$Q$152,12,FALSE))","v":0},0]
[{"$f":"VLOOKUP(C14,'Sheet 1'!C$1:D$96,2,FALSE)","v":{"$error":"#N/A"}},5,{"$f":"+'[1]Racing numbers file'!$B185","v":"Billy Riggs"},{"$f":"VLOOKUP(C14,'[1]Racing numbers file'!$B$4:$F$290,2,FALSE)","v":1972},{"$f":"VLOOKUP(C14,'[1]Racing numbers file'!$B$4:$F$290,4,FALSE)","v":44},0,{"$f":"IF(ISNA(VLOOKUP($C14,'Sat TT_01'!$C$4:$Q$152,12,FALSE)=$C14),0,VLOOKUP($C14,'Sat TT_01'!$C$4:$Q$152,12,FALSE))","v":0},{"$f":"IF(ISNA(VLOOKUP($C14,'Sat TT_02'!$C$4:$Q$152,12,FALSE)=$C14),0,VLOOKUP($C14,'Sat TT_02'!$C$4:$Q$152,12,FALSE))","v":0},{"$f":"IF(ISNA(VLOOKUP($C14,'Sat TT_03'!$C$4:$Q$152,12,FALSE)=$C14),0,VLOOKUP($C14,'Sat TT_03'!$C$4:$Q$152,12,FALSE))","v":0},{"$f":"IF(ISNA(VLOOKUP($C14,'Sat TT_04'!$C$4:$Q$152,12,FALSE)=$C14),0,VLOOKUP($C14,'Sat TT_04'!$C$4:$Q$152,12,FALSE))","v":0},{"$f":"IF(ISNA(VLOOKUP($C14,'Sat TT_05'!$C$4:$Q$152,12,FALSE)=$C14),0,VLOOKUP($C14,'Sat TT_05'!$C$4:$Q$152,12,FALSE))","v":0},{"$f":"IF(ISNA(VLOOKUP($C14,'Sat TT_06'!$C$4:$Q$152,12,FALSE)=$C14),0,VLOOKUP($C14,'Sat TT_06'!$C$4:$Q$152,12,FALSE))","v":0},{"$f":"IF(ISNA(VLOOKUP($C14,'Sat TT_07'!$C$4:$Q$152,12,FALSE)=$C14),0,VLOOKUP($C14,'Sat TT_07'!$C$4:$Q$152,12,FALSE))","v":0},{"$f":"IF(ISNA(VLOOKUP($C14,'Sat TT_08'!$C$4:$Q$152,12,FALSE)=$C14),0,VLOOKUP($C14,'Sat TT_08'!$C$4:$Q$152,12,FALSE))","v":0},0]
[{"$f":"VLOOKUP(C15,'Sheet 1'!C$1:D$96,2,FALSE)","v":{"$error":"#N/A"}},6,{"$f":"+'[1]Racing numbers file'!$B19","v":"JJ Boylan"},{"$f":"VLOOKUP(C15,'[1]Racing numbers file'!$B$4:$F$290,2,FALSE)","v":1944},{"$f":"VLOOKUP(C15,'[1]Racing numbers file'!$B$4:$F$290,4,FALSE)","v":72},0,{"$f":"IF(ISNA(VLOOKUP($C15,'Sat TT_01'!$C$4:$Q$152,12,FALSE)=$C15),0,VLOOKUP($C15,'Sat TT_01'!$C$4:$Q$152,12,FALSE))","v":0},{"$f":"IF(ISNA(VLOOKUP($C15,'Sat TT_02'!$C$4:$Q$152,12,FALSE)=$C15),0,VLOOKUP($C15,'Sat TT_02'!$C$4:$Q$152,12,FALSE))","v":0},{"$f":"IF(ISNA(VLOOKUP($C15,'Sat TT_03'!$C$4:$Q$152,12,FALSE)=$C15),0,VLOOKUP($C15,'Sat TT_03'!$C$4:$Q$152,12,FALSE))","v":0},{"$f":"IF(ISNA(VLOOKUP($C15,'Sat TT_04'!$C$4:$Q$152,12,FALSE)=$C15),0,VLOOKUP($C15,'Sat TT_04'!$C$4:$Q$152,12,FALSE))","v":0},{"$f":"IF(ISNA(VLOOKUP($C15,'Sat TT_05'!$C$4:$Q$152,12,FALSE)=$C15),0,VLOOKUP($C15,'Sat TT_05'!$C$4:$Q$152,12,FALSE))","v":0},{"$f":"IF(ISNA(VLOOKUP($C15,'Sat TT_06'!$C$4:$Q$152,12,FALSE)=$C15),0,VLOOKUP($C15,'Sat TT_06'!$C$4:$Q$152,12,FALSE))","v":0},{"$f":"IF(ISNA(VLOOKUP($C15,'Sat TT_07'!$C$4:$Q$152,12,FALSE)=$C15),0,VLOOKUP($C15,'Sat TT_07'!$C$4:$Q$152,12,FALSE))","v":0},{"$f":"IF(ISNA(VLOOKUP($C15,'Sat TT_08'!$C$4:$Q$152,12,FALSE)=$C15),0,VLOOKUP($C15,'Sat TT_08'!$C$4:$Q$152,12,FALSE))","v":0},0]
[{"$f":"VLOOKUP(C16,'Sheet 1'!C$1:D$96,2,FALSE)","v":{"$error":"#N/A"}},7,{"$f":"+'[1]Racing numbers file'!$B65","v":"Dermot Anglin"},{"$f":"VLOOKUP(C16,'[1]Racing numbers file'!$B$4:$F$290,2,FALSE)","v":1958},{"$f":"VLOOKUP(C16,'[1]Racing numbers file'!$B$4:$F$290,4,FALSE)","v":58},0,{"$f":"IF(ISNA(VLOOKUP($C16,'Sat TT_01'!$C$4:$Q$152,12,FALSE)=$C16),0,VLOOKUP($C16,'Sat TT_01'!$C$4:$Q$152,12,FALSE))","v":0},{"$f":"IF(ISNA(VLOOKUP($C16,'Sat TT_02'!$C$4:$Q$152,12,FALSE)=$C16),0,VLOOKUP($C16,'Sat TT_02'!$C$4:$Q$152,12,FALSE))","v":0},{"$f":"IF(ISNA(VLOOKUP($C16,'Sat TT_03'!$C$4:$Q$152,12,FALSE)=$C16),0,VLOOKUP($C16,'Sat TT_03'!$C$4:$Q$152,12,FALSE))","v":0},{"$f":"IF(ISNA(VLOOKUP($C16,'Sat TT_04'!$C$4:$Q$152,12,FALSE)=$C16),0,VLOOKUP($C16,'Sat TT_04'!$C$4:$Q$152,12,FALSE))","v":0},{"$f":"IF(ISNA(VLOOKUP($C16,'Sat TT_05'!$C$4:$Q$152,12,FALSE)=$C16),0,VLOOKUP($C16,'Sat TT_05'!$C$4:$Q$152,12,FALSE))","v":0},{"$f":"IF(ISNA(VLOOKUP($C16,'Sat TT_06'!$C$4:$Q$152,12,FALSE)=$C16),0,VLOOKUP($C16,'Sat TT_06'!$C$4:$Q$152,12,FALSE))","v":0},{"$f":"IF(ISNA(VLOOKUP($C16,'Sat TT_07'!$C$4:$Q$152,12,FALSE)=$C16),0,VLOOKUP($C16,'Sat TT_07'!$C$4:$Q$152,12,FALSE))","v":0},{"$f":"IF(ISNA(VLOOKUP($C16,'Sat TT_08'!$C$4:$Q$152,12,FALSE)=$C16),0,VLOOKUP($C16,'Sat TT_08'!$C$4:$Q$152,12,FALSE))","v":0},0]
[{"$f":"VLOOKUP(C17,'Sheet 1'!C$1:D$96,2,FALSE)","v":{"$error":"#N/A"}},8,{"$f":"+'[1]Racing numbers file'!$B170","v":"Ollie Daly"},{"$f":"VLOOKUP(C17,'[1]Racing numbers file'!$B$4:$F$290,2,FALSE)","v":1971},{"$f":"VLOOKUP(C17,'[1]Racing numbers file'!$B$4:$F$290,4,FALSE)","v":45},0,{"$f":"IF(ISNA(VLOOKUP($C17,'Sat TT_01'!$C$4:$Q$152,12,FALSE)=$C17),0,VLOOKUP($C17,'Sat TT_01'!$C$4:$Q$152,12,FALSE))","v":0},{"$f":"IF(ISNA(VLOOKUP($C17,'Sat TT_02'!$C$4:$Q$152,12,FALSE)=$C17),0,VLOOKUP($C17,'Sat TT_02'!$C$4:$Q$152,12,FALSE))","v":0},{"$f":"IF(ISNA(VLOOKUP($C17,'Sat TT_03'!$C$4:$Q$152,12,FALSE)=$C17),0,VLOOKUP($C17,'Sat TT_03'!$C$4:$Q$152,12,FALSE))","v":0},{"$f":"IF(ISNA(VLOOKUP($C17,'Sat TT_04'!$C$4:$Q$152,12,FALSE)=$C17),0,VLOOKUP($C17,'Sat TT_04'!$C$4:$Q$152,12,FALSE))","v":0},{"$f":"IF(ISNA(VLOOKUP($C17,'Sat TT_05'!$C$4:$Q$152,12,FALSE)=$C17),0,VLOOKUP($C17,'Sat TT_05'!$C$4:$Q$152,12,FALSE))","v":0},{"$f":"IF(ISNA(VLOOKUP($C17,'Sat TT_06'!$C$4:$Q$152,12,FALSE)=$C17),0,VLOOKUP($C17,'Sat TT_06'!$C$4:$Q$152,12,FALSE))","v":0},{"$f":"IF(ISNA(VLOOKUP($C17,'Sat TT_07'!$C$4:$Q$152,12,FALSE)=$C17),0,VLOOKUP($C17,'Sat TT_07'!$C$4:$Q$152,12,FALSE))","v":0},{"$f":"IF(ISNA(VLOOKUP($C17,'Sat TT_08'!$C$4:$Q$152,12,FALSE)=$C17),0,VLOOKUP($C17,'Sat TT_08'!$C$4:$Q$152,12,FALSE))","v":0},0]
[{"$f":"VLOOKUP(C18,'Sheet 1'!C$1:D$96,2,FALSE)","v":{"$error":"#N/A"}},9,{"$f":"+'[1]Racing numbers file'!$B134","v":"Conleth McKernan"},{"$f":"VLOOKUP(C18,'[1]Racing numbers file'!$B$4:$F$290,2,FALSE)","v":1967},{"$f":"VLOOKUP(C18,'[1]Racing numbers file'!$B$4:$F$290,4,FALSE)","v":49},0,{"$f":"IF(ISNA(VLOOKUP($C18,'Sat TT_01'!$C$4:$Q$152,12,FALSE)=$C18),0,VLOOKUP($C18,'Sat TT_01'!$C$4:$Q$152,12,FALSE))","v":0},{"$f":"IF(ISNA(VLOOKUP($C18,'Sat TT_02'!$C$4:$Q$152,12,FALSE)=$C18),0,VLOOKUP($C18,'Sat TT_02'!$C$4:$Q$152,12,FALSE))","v":0},{"$f":"IF(ISNA(VLOOKUP($C18,'Sat TT_03'!$C$4:$Q$152,12,FALSE)=$C18),0,VLOOKUP($C18,'Sat TT_03'!$C$4:$Q$152,12,FALSE))","v":0},{"$f":"IF(ISNA(VLOOKUP($C18,'Sat TT_04'!$C$4:$Q$152,12,FALSE)=$C18),0,VLOOKUP($C18,'Sat TT_04'!$C$4:$Q$152,12,FALSE))","v":0},{"$f":"IF(ISNA(VLOOKUP($C18,'Sat TT_05'!$C$4:$Q$152,12,FALSE)=$C18),0,VLOOKUP($C18,'Sat TT_05'!$C$4:$Q$152,12,FALSE))","v":0},{"$f":"IF(ISNA(VLOOKUP($C18,'Sat TT_06'!$C$4:$Q$152,12,FALSE)=$C18),0,VLOOKUP($C18,'Sat TT_06'!$C$4:$Q$152,12,FALSE))","v":0},{"$f":"IF(ISNA(VLOOKUP($C18,'Sat TT_07'!$C$4:$Q$152,12,FALSE)=$C18),0,VLOOKUP($C18,'Sat TT_07'!$C$4:$Q$152,12,FALSE))","v":0},{"$f":"IF(ISNA(VLOOKUP($C18,'Sat TT_08'!$C$4:$Q$152,12,FALSE)=$C18),0,VLOOKUP($C18,'Sat TT_08'!$C$4:$Q$152,12,FALSE))","v":0},0]
[{"$f":"VLOOKUP(C19,'Sheet 1'!C$1:D$96,2,FALSE)","v":{"$error":"#N/A"}},10,{"$f":"+'[1]Racing numbers file'!$B44","v":"Dave Woods"},{"$f":"VLOOKUP(C19,'[1]Racing numbers file'!$B$4:$F$290,2,FALSE)","v":1953},{"$f":"VLOOKUP(C19,'[1]Racing numbers file'!$B$4:$F$290,4,FALSE)","v":63},0,{"$f":"IF(ISNA(VLOOKUP($C19,'Sat TT_01'!$C$4:$Q$152,12,FALSE)=$C19),0,VLOOKUP($C19,'Sat TT_01'!$C$4:$Q$152,12,FALSE))","v":0},{"$f":"IF(ISNA(VLOOKUP($C19,'Sat TT_02'!$C$4:$Q$152,12,FALSE)=$C19),0,VLOOKUP($C19,'Sat TT_02'!$C$4:$Q$152,12,FALSE))","v":0},{"$f":"IF(ISNA(VLOOKUP($C19,'Sat TT_03'!$C$4:$Q$152,12,FALSE)=$C19),0,VLOOKUP($C19,'Sat TT_03'!$C$4:$Q$152,12,FALSE))","v":0},{"$f":"IF(ISNA(VLOOKUP($C19,'Sat TT_04'!$C$4:$Q$152,12,FALSE)=$C19),0,VLOOKUP($C19,'Sat TT_04'!$C$4:$Q$152,12,FALSE))","v":0},{"$f":"IF(ISNA(VLOOKUP($C19,'Sat TT_05'!$C$4:$Q$152,12,FALSE)=$C19),0,VLOOKUP($C19,'Sat TT_05'!$C$4:$Q$152,12,FALSE))","v":0},{"$f":"IF(ISNA(VLOOKUP($C19,'Sat TT_06'!$C$4:$Q$152,12,FALSE)=$C19),0,VLOOKUP($C19,'Sat TT_06'!$C$4:$Q$152,12,FALSE))","v":0},{"$f":"IF(ISNA(VLOOKUP($C19,'Sat TT_07'!$C$4:$Q$152,12,FALSE)=$C19),0,VLOOKUP($C19,'Sat TT_07'!$C$4:$Q$152,12,FALSE))","v":0},{"$f":"IF(ISNA(VLOOKUP($C19,'Sat TT_08'!$C$4:$Q$152,12,FALSE)=$C19),0,VLOOKUP($C19,'Sat TT_08'!$C$4:$Q$152,12,FALSE))","v":0},0,"Second Road Bike."]
[{"$f":"VLOOKUP(C20,'Sheet 1'!C$1:D$96,2,FALSE)","v":1101},11,{"$f":"+'[1]Racing numbers file'!$B45","v":"Mick Usher"},{"$f":"VLOOKUP(C20,'[1]Racing numbers file'!$B$4:$F$290,2,FALSE)","v":1954},{"$f":"VLOOKUP(C20,'[1]Racing numbers file'!$B$4:$F$290,4,FALSE)","v":62},0,{"$f":"IF(ISNA(VLOOKUP($C20,'Sat TT_01'!$C$4:$Q$152,12,FALSE)=$C20),0,VLOOKUP($C20,'Sat TT_01'!$C$4:$Q$152,12,FALSE))","v":0},{"$f":"IF(ISNA(VLOOKUP($C20,'Sat TT_02'!$C$4:$Q$152,12,FALSE)=$C20),0,VLOOKUP($C20,'Sat TT_02'!$C$4:$Q$152,12,FALSE))","v":0},{"$f":"IF(ISNA(VLOOKUP($C20,'Sat TT_03'!$C$4:$Q$152,12,FALSE)=$C20),0,VLOOKUP($C20,'Sat TT_03'!$C$4:$Q$152,12,FALSE))","v":0},{"$f":"IF(ISNA(VLOOKUP($C20,'Sat TT_04'!$C$4:$Q$152,12,FALSE)=$C20),0,VLOOKUP($C20,'Sat TT_04'!$C$4:$Q$152,12,FALSE))","v":0},{"$f":"IF(ISNA(VLOOKUP($C20,'Sat TT_05'!$C$4:$Q$152,12,FALSE)=$C20),0,VLOOKUP($C20,'Sat TT_05'!$C$4:$Q$152,12,FALSE))","v":0},{"$f":"IF(ISNA(VLOOKUP($C20,'Sat TT_06'!$C$4:$Q$152,12,FALSE)=$C20),0,VLOOKUP($C20,'Sat TT_06'!$C$4:$Q$152,12,FALSE))","v":0},{"$f":"IF(ISNA(VLOOKUP($C20,'Sat TT_07'!$C$4:$Q$152,12,FALSE)=$C20),0,VLOOKUP($C20,'Sat TT_07'!$C$4:$Q$152,12,FALSE))","v":0},{"$f":"IF(ISNA(VLOOKUP($C20,'Sat TT_08'!$C$4:$Q$152,12,FALSE)=$C20),0,VLOOKUP($C20,'Sat TT_08'!$C$4:$Q$152,12,FALSE))","v":0},0]
[{"$f":"VLOOKUP(C21,'Sheet 1'!C$1:D$96,2,FALSE)","v":{"$error":"#N/A"}},12,{"$f":"+'[1]Racing numbers file'!$B188","v":"Desmond King"},{"$f":"VLOOKUP(C21,'[1]Racing numbers file'!$B$4:$F$290,2,FALSE)","v":1962},{"$f":"VLOOKUP(C21,'[1]Racing numbers file'!$B$4:$F$290,4,FALSE)","v":54},0,{"$f":"IF(ISNA(VLOOKUP($C21,'Sat TT_01'!$C$4:$Q$152,12,FALSE)=$C21),0,VLOOKUP($C21,'Sat TT_01'!$C$4:$Q$152,12,FALSE))","v":0},{"$f":"IF(ISNA(VLOOKUP($C21,'Sat TT_02'!$C$4:$Q$152,12,FALSE)=$C21),0,VLOOKUP($C21,'Sat TT_02'!$C$4:$Q$152,12,FALSE))","v":0},{"$f":"IF(ISNA(VLOOKUP($C21,'Sat TT_03'!$C$4:$Q$152,12,FALSE)=$C21),0,VLOOKUP($C21,'Sat TT_03'!$C$4:$Q$152,12,FALSE))","v":0},{"$f":"IF(ISNA(VLOOKUP($C21,'Sat TT_04'!$C$4:$Q$152,12,FALSE)=$C21),0,VLOOKUP($C21,'Sat TT_04'!$C$4:$Q$152,12,FALSE))","v":0},{"$f":"IF(ISNA(VLOOKUP($C21,'Sat TT_05'!$C$4:$Q$152,12,FALSE)=$C21),0,VLOOKUP($C21,'Sat TT_05'!$C$4:$Q$152,12,FALSE))","v":0},{"$f":"IF(ISNA(VLOOKUP($C21,'Sat TT_06'!$C$4:$Q$152,12,FALSE)=$C21),0,VLOOKUP($C21,'Sat TT_06'!$C$4:$Q$152,12,FALSE))","v":0},{"$f":"IF(ISNA(VLOOKUP($C21,'Sat TT_07'!$C$4:$Q$152,12,FALSE)=$C21),0,VLOOKUP($C21,'Sat TT_07'!$C$4:$Q$152,12,FALSE))","v":0},{"$f":"IF(ISNA(VLOOKUP($C21,'Sat TT_08'!$C$4:$Q$152,12,FALSE)=$C21),0,VLOOKUP($C21,'Sat TT_08'!$C$4:$Q$152,12,FALSE))","v":0},0]
[{"$f":"VLOOKUP(C22,'Sheet 1'!C$1:D$96,2,FALSE)","v":{"$error":"#N/A"}},13,{"$f":"+'[1]Racing numbers file'!$B229","v":"Simon Wallace"},{"$f":"VLOOKUP(C22,'[1]Racing numbers file'!$B$4:$F$290,2,FALSE)","v":1972},{"$f":"VLOOKUP(C22,'[1]Racing numbers file'!$B$4:$F$290,4,FALSE)","v":44},0,{"$f":"IF(ISNA(VLOOKUP($C22,'Sat TT_01'!$C$4:$Q$152,12,FALSE)=$C22),0,VLOOKUP($C22,'Sat TT_01'!$C$4:$Q$152,12,FALSE))","v":0},{"$f":"IF(ISNA(VLOOKUP($C22,'Sat TT_02'!$C$4:$Q$152,12,FALSE)=$C22),0,VLOOKUP($C22,'Sat TT_02'!$C$4:$Q$152,12,FALSE))","v":0},{"$f":"IF(ISNA(VLOOKUP($C22,'Sat TT_03'!$C$4:$Q$152,12,FALSE)=$C22),0,VLOOKUP($C22,'Sat TT_03'!$C$4:$Q$152,12,FALSE))","v":0},{"$f":"IF(ISNA(VLOOKUP($C22,'Sat TT_04'!$C$4:$Q$152,12,FALSE)=$C22),0,VLOOKUP($C22,'Sat TT_04'!$C$4:$Q$152,12,FALSE))","v":0},{"$f":"IF(ISNA(VLOOKUP($C22,'Sat TT_05'!$C$4:$Q$152,12,FALSE)=$C22),0,VLOOKUP($C22,'Sat TT_05'!$C$4:$Q$152,12,FALSE))","v":0},{"$f":"IF(ISNA(VLOOKUP($C22,'Sat TT_06'!$C$4:$Q$152,12,FALSE)=$C22),0,VLOOKUP($C22,'Sat TT_06'!$C$4:$Q$152,12,FALSE))","v":0},{"$f":"IF(ISNA(VLOOKUP($C22,'Sat TT_07'!$C$4:$Q$152,12,FALSE)=$C22),0,VLOOKUP($C22,'Sat TT_07'!$C$4:$Q$152,12,FALSE))","v":0},{"$f":"IF(ISNA(VLOOKUP($C22,'Sat TT_08'!$C$4:$Q$152,12,FALSE)=$C22),0,VLOOKUP($C22,'Sat TT_08'!$C$4:$Q$152,12,FALSE))","v":0},0]
[{"$f":"VLOOKUP(C23,'Sheet 1'!C$1:D$96,2,FALSE)","v":1266},14,{"$f":"+'[1]Racing numbers file'!$B139","v":"Mick Hennessy"},{"$f":"VLOOKUP(C23,'[1]Racing numbers file'!$B$4:$F$290,2,FALSE)","v":1968},{"$f":"VLOOKUP(C23,'[1]Racing numbers file'!$B$4:$F$290,4,FALSE)","v":48},0,{"$f":"IF(ISNA(VLOOKUP($C23,'Sat TT_01'!$C$4:$Q$152,12,FALSE)=$C23),0,VLOOKUP($C23,'Sat TT_01'!$C$4:$Q$152,12,FALSE))","v":0},{"$f":"IF(ISNA(VLOOKUP($C23,'Sat TT_02'!$C$4:$Q$152,12,FALSE)=$C23),0,VLOOKUP($C23,'Sat TT_02'!$C$4:$Q$152,12,FALSE))","v":0},{"$f":"IF(ISNA(VLOOKUP($C23,'Sat TT_03'!$C$4:$Q$152,12,FALSE)=$C23),0,VLOOKUP($C23,'Sat TT_03'!$C$4:$Q$152,12,FALSE))","v":0},{"$f":"IF(ISNA(VLOOKUP($C23,'Sat TT_04'!$C$4:$Q$152,12,FALSE)=$C23),0,VLOOKUP($C23,'Sat TT_04'!$C$4:$Q$152,12,FALSE))","v":0},{"$f":"IF(ISNA(VLOOKUP($C23,'Sat TT_05'!$C$4:$Q$152,12,FALSE)=$C23),0,VLOOKUP($C23,'Sat TT_05'!$C$4:$Q$152,12,FALSE))","v":0},{"$f":"IF(ISNA(VLOOKUP($C23,'Sat TT_06'!$C$4:$Q$152,12,FALSE)=$C23),0,VLOOKUP($C23,'Sat TT_06'!$C$4:$Q$152,12,FALSE))","v":0},{"$f":"IF(ISNA(VLOOKUP($C23,'Sat TT_07'!$C$4:$Q$152,12,FALSE)=$C23),0,VLOOKUP($C23,'Sat TT_07'!$C$4:$Q$152,12,FALSE))","v":0},{"$f":"IF(ISNA(VLOOKUP($C23,'Sat TT_08'!$C$4:$Q$152,12,FALSE)=$C23),0,VLOOKUP($C23,'Sat TT_08'!$C$4:$Q$152,12,FALSE))","v":0},0]
[{"$f":"VLOOKUP(C24,'Sheet 1'!C$1:D$96,2,FALSE)","v":{"$error":"#N/A"}},15,{"$f":"+'[1]Racing numbers file'!$B159","v":"Karl Monaghan"},{"$f":"VLOOKUP(C24,'[1]Racing numbers file'!$B$4:$F$290,2,FALSE)","v":1970},{"$f":"VLOOKUP(C24,'[1]Racing numbers file'!$B$4:$F$290,4,FALSE)","v":46},0,{"$f":"IF(ISNA(VLOOKUP($C24,'Sat TT_01'!$C$4:$Q$152,12,FALSE)=$C24),0,VLOOKUP($C24,'Sat TT_01'!$C$4:$Q$152,12,FALSE))","v":0},{"$f":"IF(ISNA(VLOOKUP($C24,'Sat TT_02'!$C$4:$Q$152,12,FALSE)=$C24),0,VLOOKUP($C24,'Sat TT_02'!$C$4:$Q$152,12,FALSE))","v":0},{"$f":"IF(ISNA(VLOOKUP($C24,'Sat TT_03'!$C$4:$Q$152,12,FALSE)=$C24),0,VLOOKUP($C24,'Sat TT_03'!$C$4:$Q$152,12,FALSE))","v":0},{"$f":"IF(ISNA(VLOOKUP($C24,'Sat TT_04'!$C$4:$Q$152,12,FALSE)=$C24),0,VLOOKUP($C24,'Sat TT_04'!$C$4:$Q$152,12,FALSE))","v":0},{"$f":"IF(ISNA(VLOOKUP($C24,'Sat TT_05'!$C$4:$Q$152,12,FALSE)=$C24),0,VLOOKUP($C24,'Sat TT_05'!$C$4:$Q$152,12,FALSE))","v":0},{"$f":"IF(ISNA(VLOOKUP($C24,'Sat TT_06'!$C$4:$Q$152,12,FALSE)=$C24),0,VLOOKUP($C24,'Sat TT_06'!$C$4:$Q$152,12,FALSE))","v":0},{"$f":"IF(ISNA(VLOOKUP($C24,'Sat TT_07'!$C$4:$Q$152,12,FALSE)=$C24),0,VLOOKUP($C24,'Sat TT_07'!$C$4:$Q$152,12,FALSE))","v":0},{"$f":"IF(ISNA(VLOOKUP($C24,'Sat TT_08'!$C$4:$Q$152,12,FALSE)=$C24),0,VLOOKUP($C24,'Sat TT_08'!$C$4:$Q$152,12,FALSE))","v":0},0]
[{"$f":"VLOOKUP(C25,'Sheet 1'!C$1:D$96,2,FALSE)","v":1230},16,{"$f":"+'[1]Racing numbers file'!$B117","v":"Paul Cullinan"},{"$f":"VLOOKUP(C25,'[1]Racing numbers file'!$B$4:$F$290,2,FALSE)","v":1965},{"$f":"VLOOKUP(C25,'[1]Racing numbers file'!$B$4:$F$290,4,FALSE)","v":51},0,{"$f":"IF(ISNA(VLOOKUP($C25,'Sat TT_01'!$C$4:$Q$152,12,FALSE)=$C25),0,VLOOKUP($C25,'Sat TT_01'!$C$4:$Q$152,12,FALSE))","v":0},{"$f":"IF(ISNA(VLOOKUP($C25,'Sat TT_02'!$C$4:$Q$152,12,FALSE)=$C25),0,VLOOKUP($C25,'Sat TT_02'!$C$4:$Q$152,12,FALSE))","v":0},{"$f":"IF(ISNA(VLOOKUP($C25,'Sat TT_03'!$C$4:$Q$152,12,FALSE)=$C25),0,VLOOKUP($C25,'Sat TT_03'!$C$4:$Q$152,12,FALSE))","v":0},{"$f":"IF(ISNA(VLOOKUP($C25,'Sat TT_04'!$C$4:$Q$152,12,FALSE)=$C25),0,VLOOKUP($C25,'Sat TT_04'!$C$4:$Q$152,12,FALSE))","v":0},{"$f":"IF(ISNA(VLOOKUP($C25,'Sat TT_05'!$C$4:$Q$152,12,FALSE)=$C25),0,VLOOKUP($C25,'Sat TT_05'!$C$4:$Q$152,12,FALSE))","v":0},{"$f":"IF(ISNA(VLOOKUP($C25,'Sat TT_06'!$C$4:$Q$152,12,FALSE)=$C25),0,VLOOKUP($C25,'Sat TT_06'!$C$4:$Q$152,12,FALSE))","v":0},{"$f":"IF(ISNA(VLOOKUP($C25,'Sat TT_07'!$C$4:$Q$152,12,FALSE)=$C25),0,VLOOKUP($C25,'Sat TT_07'!$C$4:$Q$152,12,FALSE))","v":0},{"$f":"IF(ISNA(VLOOKUP($C25,'Sat TT_08'!$C$4:$Q$152,12,FALSE)=$C25),0,VLOOKUP($C25,'Sat TT_08'!$C$4:$Q$152,12,FALSE))","v":0},0]
[{"$f":"VLOOKUP(C26,'Sheet 1'!C$1:D$96,2,FALSE)","v":{"$error":"#N/A"}},17,{"$f":"+'[1]Racing numbers file'!$B32","v":"Harry Sherratt"},{"$f":"VLOOKUP(C26,'[1]Racing numbers file'!$B$4:$F$290,2,FALSE)","v":1948},{"$f":"VLOOKUP(C26,'[1]Racing numbers file'!$B$4:$F$290,4,FALSE)","v":68},0,{"$f":"IF(ISNA(VLOOKUP($C26,'Sat TT_01'!$C$4:$Q$152,12,FALSE)=$C26),0,VLOOKUP($C26,'Sat TT_01'!$C$4:$Q$152,12,FALSE))","v":0},{"$f":"IF(ISNA(VLOOKUP($C26,'Sat TT_02'!$C$4:$Q$152,12,FALSE)=$C26),0,VLOOKUP($C26,'Sat TT_02'!$C$4:$Q$152,12,FALSE))","v":0},{"$f":"IF(ISNA(VLOOKUP($C26,'Sat TT_03'!$C$4:$Q$152,12,FALSE)=$C26),0,VLOOKUP($C26,'Sat TT_03'!$C$4:$Q$152,12,FALSE))","v":0},{"$f":"IF(ISNA(VLOOKUP($C26,'Sat TT_04'!$C$4:$Q$152,12,FALSE)=$C26),0,VLOOKUP($C26,'Sat TT_04'!$C$4:$Q$152,12,FALSE))","v":0},{"$f":"IF(ISNA(VLOOKUP($C26,'Sat TT_05'!$C$4:$Q$152,12,FALSE)=$C26),0,VLOOKUP($C26,'Sat TT_05'!$C$4:$Q$152,12,FALSE))","v":0},{"$f":"IF(ISNA(VLOOKUP($C26,'Sat TT_06'!$C$4:$Q$152,12,FALSE)=$C26),0,VLOOKUP($C26,'Sat TT_06'!$C$4:$Q$152,12,FALSE))","v":0},{"$f":"IF(ISNA(VLOOKUP($C26,'Sat TT_07'!$C$4:$Q$152,12,FALSE)=$C26),0,VLOOKUP($C26,'Sat TT_07'!$C$4:$Q$152,12,FALSE))","v":0},{"$f":"IF(ISNA(VLOOKUP($C26,'Sat TT_08'!$C$4:$Q$152,12,FALSE)=$C26),0,VLOOKUP($C26,'Sat TT_08'!$C$4:$Q$152,12,FALSE))","v":0},0]
[{"$f":"VLOOKUP(C27,'Sheet 1'!C$1:D$96,2,FALSE)","v":1004},18,{"$f":"+'[1]Racing numbers file'!$B6","v":"Patsy FitzSimons"},{"$f":"VLOOKUP(C27,'[1]Racing numbers file'!$B$4:$F$290,2,FALSE)","v":1934},{"$f":"VLOOKUP(C27,'[1]Racing numbers file'!$B$4:$F$290,4,FALSE)","v":82},0,{"$f":"IF(ISNA(VLOOKUP($C27,'Sat TT_01'!$C$4:$Q$152,12,FALSE)=$C27),0,VLOOKUP($C27,'Sat TT_01'!$C$4:$Q$152,12,FALSE))","v":0},{"$f":"IF(ISNA(VLOOKUP($C27,'Sat TT_02'!$C$4:$Q$152,12,FALSE)=$C27),0,VLOOKUP($C27,'Sat TT_02'!$C$4:$Q$152,12,FALSE))","v":0},{"$f":"IF(ISNA(VLOOKUP($C27,'Sat TT_03'!$C$4:$Q$152,12,FALSE)=$C27),0,VLOOKUP($C27,'Sat TT_03'!$C$4:$Q$152,12,FALSE))","v":0},{"$f":"IF(ISNA(VLOOKUP($C27,'Sat TT_04'!$C$4:$Q$152,12,FALSE)=$C27),0,VLOOKUP($C27,'Sat TT_04'!$C$4:$Q$152,12,FALSE))","v":0},{"$f":"IF(ISNA(VLOOKUP($C27,'Sat TT_05'!$C$4:$Q$152,12,FALSE)=$C27),0,VLOOKUP($C27,'Sat TT_05'!$C$4:$Q$152,12,FALSE))","v":0},{"$f":"IF(ISNA(VLOOKUP($C27,'Sat TT_06'!$C$4:$Q$152,12,FALSE)=$C27),0,VLOOKUP($C27,'Sat TT_06'!$C$4:$Q$152,12,FALSE))","v":0},{"$f":"IF(ISNA(VLOOKUP($C27,'Sat TT_07'!$C$4:$Q$152,12,FALSE)=$C27),0,VLOOKUP($C27,'Sat TT_07'!$C$4:$Q$152,12,FALSE))","v":0},{"$f":"IF(ISNA(VLOOKUP($C27,'Sat TT_08'!$C$4:$Q$152,12,FALSE)=$C27),0,VLOOKUP($C27,'Sat TT_08'!$C$4:$Q$152,12,FALSE))","v":0},0]
[{"$f":"VLOOKUP(C28,'Sheet 1'!C$1:D$96,2,FALSE)","v":{"$error":"#N/A"}},19,{"$f":"+'[1]Racing numbers file'!$B28","v":"Seamus Brennan"},{"$f":"VLOOKUP(C28,'[1]Racing numbers file'!$B$4:$F$290,2,FALSE)","v":1947},{"$f":"VLOOKUP(C28,'[1]Racing numbers file'!$B$4:$F$290,4,FALSE)","v":69},0,{"$f":"IF(ISNA(VLOOKUP($C28,'Sat TT_01'!$C$4:$Q$152,12,FALSE)=$C28),0,VLOOKUP($C28,'Sat TT_01'!$C$4:$Q$152,12,FALSE))","v":0},{"$f":"IF(ISNA(VLOOKUP($C28,'Sat TT_02'!$C$4:$Q$152,12,FALSE)=$C28),0,VLOOKUP($C28,'Sat TT_02'!$C$4:$Q$152,12,FALSE))","v":0},{"$f":"IF(ISNA(VLOOKUP($C28,'Sat TT_03'!$C$4:$Q$152,12,FALSE)=$C28),0,VLOOKUP($C28,'Sat TT_03'!$C$4:$Q$152,12,FALSE))","v":0},{"$f":"IF(ISNA(VLOOKUP($C28,'Sat TT_04'!$C$4:$Q$152,12,FALSE)=$C28),0,VLOOKUP($C28,'Sat TT_04'!$C$4:$Q$152,12,FALSE))","v":0},{"$f":"IF(ISNA(VLOOKUP($C28,'Sat TT_05'!$C$4:$Q$152,12,FALSE)=$C28),0,VLOOKUP($C28,'Sat TT_05'!$C$4:$Q$152,12,FALSE))","v":0},{"$f":"IF(ISNA(VLOOKUP($C28,'Sat TT_06'!$C$4:$Q$152,12,FALSE)=$C28),0,VLOOKUP($C28,'Sat TT_06'!$C$4:$Q$152,12,FALSE))","v":0},{"$f":"IF(ISNA(VLOOKUP($C28,'Sat TT_07'!$C$4:$Q$152,12,FALSE)=$C28),0,VLOOKUP($C28,'Sat TT_07'!$C$4:$Q$152,12,FALSE))","v":0},{"$f":"IF(ISNA(VLOOKUP($C28,'Sat TT_08'!$C$4:$Q$152,12,FALSE)=$C28),0,VLOOKUP($C28,'Sat TT_08'!$C$4:$Q$152,12,FALSE))","v":0},0]
[{"$f":"VLOOKUP(C29,'Sheet 1'!C$1:D$96,2,FALSE)","v":1427},20,{"$f":"+'[1]Racing numbers file'!$B218","v":"David Carroll"},{"$f":"VLOOKUP(C29,'[1]Racing numbers file'!$B$4:$F$290,2,FALSE)","v":1971},{"$f":"VLOOKUP(C29,'[1]Racing numbers file'!$B$4:$F$290,4,FALSE)","v":45},0,{"$f":"IF(ISNA(VLOOKUP($C29,'Sat TT_01'!$C$4:$Q$152,12,FALSE)=$C29),0,VLOOKUP($C29,'Sat TT_01'!$C$4:$Q$152,12,FALSE))","v":0},{"$f":"IF(ISNA(VLOOKUP($C29,'Sat TT_02'!$C$4:$Q$152,12,FALSE)=$C29),0,VLOOKUP($C29,'Sat TT_02'!$C$4:$Q$152,12,FALSE))","v":0},{"$f":"IF(ISNA(VLOOKUP($C29,'Sat TT_03'!$C$4:$Q$152,12,FALSE)=$C29),0,VLOOKUP($C29,'Sat TT_03'!$C$4:$Q$152,12,FALSE))","v":0},{"$f":"IF(ISNA(VLOOKUP($C29,'Sat TT_04'!$C$4:$Q$152,12,FALSE)=$C29),0,VLOOKUP($C29,'Sat TT_04'!$C$4:$Q$152,12,FALSE))","v":0},{"$f":"IF(ISNA(VLOOKUP($C29,'Sat TT_05'!$C$4:$Q$152,12,FALSE)=$C29),0,VLOOKUP($C29,'Sat TT_05'!$C$4:$Q$152,12,FALSE))","v":0},{"$f":"IF(ISNA(VLOOKUP($C29,'Sat TT_06'!$C$4:$Q$152,12,FALSE)=$C29),0,VLOOKUP($C29,'Sat TT_06'!$C$4:$Q$152,12,FALSE))","v":0},{"$f":"IF(ISNA(VLOOKUP($C29,'Sat TT_07'!$C$4:$Q$152,12,FALSE)=$C29),0,VLOOKUP($C29,'Sat TT_07'!$C$4:$Q$152,12,FALSE))","v":0},{"$f":"IF(ISNA(VLOOKUP($C29,'Sat TT_08'!$C$4:$Q$152,12,FALSE)=$C29),0,VLOOKUP($C29,'Sat TT_08'!$C$4:$Q$152,12,FALSE))","v":0},0]
[{"$f":"VLOOKUP(C30,'Sheet 1'!C$1:D$96,2,FALSE)","v":{"$error":"#N/A"}},21,{"$f":"+'[1]Racing numbers file'!$B248","v":"Joe Christian"},{"$f":"VLOOKUP(C30,'[1]Racing numbers file'!$B$4:$F$290,2,FALSE)","v":1975},{"$f":"VLOOKUP(C30,'[1]Racing numbers file'!$B$4:$F$290,4,FALSE)","v":41},0,{"$f":"IF(ISNA(VLOOKUP($C30,'Sat TT_01'!$C$4:$Q$152,12,FALSE)=$C30),0,VLOOKUP($C30,'Sat TT_01'!$C$4:$Q$152,12,FALSE))","v":0},{"$f":"IF(ISNA(VLOOKUP($C30,'Sat TT_02'!$C$4:$Q$152,12,FALSE)=$C30),0,VLOOKUP($C30,'Sat TT_02'!$C$4:$Q$152,12,FALSE))","v":0},{"$f":"IF(ISNA(VLOOKUP($C30,'Sat TT_03'!$C$4:$Q$152,12,FALSE)=$C30),0,VLOOKUP($C30,'Sat TT_03'!$C$4:$Q$152,12,FALSE))","v":0},{"$f":"IF(ISNA(VLOOKUP($C30,'Sat TT_04'!$C$4:$Q$152,12,FALSE)=$C30),0,VLOOKUP($C30,'Sat TT_04'!$C$4:$Q$152,12,FALSE))","v":0},{"$f":"IF(ISNA(VLOOKUP($C30,'Sat TT_05'!$C$4:$Q$152,12,FALSE)=$C30),0,VLOOKUP($C30,'Sat TT_05'!$C$4:$Q$152,12,FALSE))","v":0},{"$f":"IF(ISNA(VLOOKUP($C30,'Sat TT_06'!$C$4:$Q$152,12,FALSE)=$C30),0,VLOOKUP($C30,'Sat TT_06'!$C$4:$Q$152,12,FALSE))","v":0},{"$f":"IF(ISNA(VLOOKUP($C30,'Sat TT_07'!$C$4:$Q$152,12,FALSE)=$C30),0,VLOOKUP($C30,'Sat TT_07'!$C$4:$Q$152,12,FALSE))","v":0},{"$f":"IF(ISNA(VLOOKUP($C30,'Sat TT_08'!$C$4:$Q$152,12,FALSE)=$C30),0,VLOOKUP($C30,'Sat TT_08'!$C$4:$Q$152,12,FALSE))","v":0},0]
[{"$f":"VLOOKUP(C31,'Sheet 1'!C$1:D$96,2,FALSE)","v":{"$error":"#N/A"}},22,{"$f":"+'[1]Racing numbers file'!$B136","v":"Brian McNamara"},{"$f":"VLOOKUP(C31,'[1]Racing numbers file'!$B$4:$F$290,2,FALSE)","v":1968},{"$f":"VLOOKUP(C31,'[1]Racing numbers file'!$B$4:$F$290,4,FALSE)","v":48},0,{"$f":"IF(ISNA(VLOOKUP($C31,'Sat TT_01'!$C$4:$Q$152,12,FALSE)=$C31),0,VLOOKUP($C31,'Sat TT_01'!$C$4:$Q$152,12,FALSE))","v":0},{"$f":"IF(ISNA(VLOOKUP($C31,'Sat TT_02'!$C$4:$Q$152,12,FALSE)=$C31),0,VLOOKUP($C31,'Sat TT_02'!$C$4:$Q$152,12,FALSE))","v":0},{"$f":"IF(ISNA(VLOOKUP($C31,'Sat TT_03'!$C$4:$Q$152,12,FALSE)=$C31),0,VLOOKUP($C31,'Sat TT_03'!$C$4:$Q$152,12,FALSE))","v":0},{"$f":"IF(ISNA(VLOOKUP($C31,'Sat TT_04'!$C$4:$Q$152,12,FALSE)=$C31),0,VLOOKUP($C31,'Sat TT_04'!$C$4:$Q$152,12,FALSE))","v":0},{"$f":"IF(ISNA(VLOOKUP($C31,'Sat TT_05'!$C$4:$Q$152,12,FALSE)=$C31),0,VLOOKUP($C31,'Sat TT_05'!$C$4:$Q$152,12,FALSE))","v":0},{"$f":"IF(ISNA(VLOOKUP($C31,'Sat TT_06'!$C$4:$Q$152,12,FALSE)=$C31),0,VLOOKUP($C31,'Sat TT_06'!$C$4:$Q$152,12,FALSE))","v":0},{"$f":"IF(ISNA(VLOOKUP($C31,'Sat TT_07'!$C$4:$Q$152,12,FALSE)=$C31),0,VLOOKUP($C31,'Sat TT_07'!$C$4:$Q$152,12,FALSE))","v":0},{"$f":"IF(ISNA(VLOOKUP($C31,'Sat TT_08'!$C$4:$Q$152,12,FALSE)=$C31),0,VLOOKUP($C31,'Sat TT_08'!$C$4:$Q$152,12,FALSE))","v":0},0]
[{"$f":"VLOOKUP(C32,'Sheet 1'!C$1:D$96,2,FALSE)","v":{"$error":"#N/A"}},23,{"$f":"+'[1]Racing numbers file'!$B55","v":"Terry Ryan"},{"$f":"VLOOKUP(C32,'[1]Racing numbers file'!$B$4:$F$290,2,FALSE)","v":1956},{"$f":"VLOOKUP(C32,'[1]Racing numbers file'!$B$4:$F$290,4,FALSE)","v":60},0,{"$f":"IF(ISNA(VLOOKUP($C32,'Sat TT_01'!$C$4:$Q$152,12,FALSE)=$C32),0,VLOOKUP($C32,'Sat TT_01'!$C$4:$Q$152,12,FALSE))","v":0},{"$f":"IF(ISNA(VLOOKUP($C32,'Sat TT_02'!$C$4:$Q$152,12,FALSE)=$C32),0,VLOOKUP($C32,'Sat TT_02'!$C$4:$Q$152,12,FALSE))","v":0},{"$f":"IF(ISNA(VLOOKUP($C32,'Sat TT_03'!$C$4:$Q$152,12,FALSE)=$C32),0,VLOOKUP($C32,'Sat TT_03'!$C$4:$Q$152,12,FALSE))","v":0},{"$f":"IF(ISNA(VLOOKUP($C32,'Sat TT_04'!$C$4:$Q$152,12,FALSE)=$C32),0,VLOOKUP($C32,'Sat TT_04'!$C$4:$Q$152,12,FALSE))","v":0},{"$f":"IF(ISNA(VLOOKUP($C32,'Sat TT_05'!$C$4:$Q$152,12,FALSE)=$C32),0,VLOOKUP($C32,'Sat TT_05'!$C$4:$Q$152,12,FALSE))","v":0},{"$f":"IF(ISNA(VLOOKUP($C32,'Sat TT_06'!$C$4:$Q$152,12,FALSE)=$C32),0,VLOOKUP($C32,'Sat TT_06'!$C$4:$Q$152,12,FALSE))","v":0},{"$f":"IF(ISNA(VLOOKUP($C32,'Sat TT_07'!$C$4:$Q$152,12,FALSE)=$C32),0,VLOOKUP($C32,'Sat TT_07'!$C$4:$Q$152,12,FALSE))","v":0},{"$f":"IF(ISNA(VLOOKUP($C32,'Sat TT_08'!$C$4:$Q$152,12,FALSE)=$C32),0,VLOOKUP($C32,'Sat TT_08'!$C$4:$Q$152,12,FALSE))","v":0},0]
[{"$f":"VLOOKUP(C33,'Sheet 1'!C$1:D$96,2,FALSE)","v":1214},24,{"$f":"+'[1]Racing numbers file'!$B108","v":"Robert Kehoe"},{"$f":"VLOOKUP(C33,'[1]Racing numbers file'!$B$4:$F$290,2,FALSE)","v":1964},{"$f":"VLOOKUP(C33,'[1]Racing numbers file'!$B$4:$F$290,4,FALSE)","v":52},0,{"$f":"IF(ISNA(VLOOKUP($C33,'Sat TT_01'!$C$4:$Q$152,12,FALSE)=$C33),0,VLOOKUP($C33,'Sat TT_01'!$C$4:$Q$152,12,FALSE))","v":0},{"$f":"IF(ISNA(VLOOKUP($C33,'Sat TT_02'!$C$4:$Q$152,12,FALSE)=$C33),0,VLOOKUP($C33,'Sat TT_02'!$C$4:$Q$152,12,FALSE))","v":0},{"$f":"IF(ISNA(VLOOKUP($C33,'Sat TT_03'!$C$4:$Q$152,12,FALSE)=$C33),0,VLOOKUP($C33,'Sat TT_03'!$C$4:$Q$152,12,FALSE))","v":0},{"$f":"IF(ISNA(VLOOKUP($C33,'Sat TT_04'!$C$4:$Q$152,12,FALSE)=$C33),0,VLOOKUP($C33,'Sat TT_04'!$C$4:$Q$152,12,FALSE))","v":0},{"$f":"IF(ISNA(VLOOKUP($C33,'Sat TT_05'!$C$4:$Q$152,12,FALSE)=$C33),0,VLOOKUP($C33,'Sat TT_05'!$C$4:$Q$152,12,FALSE))","v":0},{"$f":"IF(ISNA(VLOOKUP($C33,'Sat TT_06'!$C$4:$Q$152,12,FALSE)=$C33),0,VLOOKUP($C33,'Sat TT_06'!$C$4:$Q$152,12,FALSE))","v":0},{"$f":"IF(ISNA(VLOOKUP($C33,'Sat TT_07'!$C$4:$Q$152,12,FALSE)=$C33),0,VLOOKUP($C33,'Sat TT_07'!$C$4:$Q$152,12,FALSE))","v":0},{"$f":"IF(ISNA(VLOOKUP($C33,'Sat TT_08'!$C$4:$Q$152,12,FALSE)=$C33),0,VLOOKUP($C33,'Sat TT_08'!$C$4:$Q$152,12,FALSE))","v":0},0]
[{"$f":"VLOOKUP(C34,'Sheet 1'!C$1:D$96,2,FALSE)","v":1416},25,{"$f":"+'[1]Racing numbers file'!$B211","v":"Barry Dace"},{"$f":"VLOOKUP(C34,'[1]Racing numbers file'!$B$4:$F$290,2,FALSE)","v":1974},{"$f":"VLOOKUP(C34,'[1]Racing numbers file'!$B$4:$F$290,4,FALSE)","v":42},0,{"$f":"IF(ISNA(VLOOKUP($C34,'Sat TT_01'!$C$4:$Q$152,12,FALSE)=$C34),0,VLOOKUP($C34,'Sat TT_01'!$C$4:$Q$152,12,FALSE))","v":0},{"$f":"IF(ISNA(VLOOKUP($C34,'Sat TT_02'!$C$4:$Q$152,12,FALSE)=$C34),0,VLOOKUP($C34,'Sat TT_02'!$C$4:$Q$152,12,FALSE))","v":0},{"$f":"IF(ISNA(VLOOKUP($C34,'Sat TT_03'!$C$4:$Q$152,12,FALSE)=$C34),0,VLOOKUP($C34,'Sat TT_03'!$C$4:$Q$152,12,FALSE))","v":0},{"$f":"IF(ISNA(VLOOKUP($C34,'Sat TT_04'!$C$4:$Q$152,12,FALSE)=$C34),0,VLOOKUP($C34,'Sat TT_04'!$C$4:$Q$152,12,FALSE))","v":0},{"$f":"IF(ISNA(VLOOKUP($C34,'Sat TT_05'!$C$4:$Q$152,12,FALSE)=$C34),0,VLOOKUP($C34,'Sat TT_05'!$C$4:$Q$152,12,FALSE))","v":0},{"$f":"IF(ISNA(VLOOKUP($C34,'Sat TT_06'!$C$4:$Q$152,12,FALSE)=$C34),0,VLOOKUP($C34,'Sat TT_06'!$C$4:$Q$152,12,FALSE))","v":0},{"$f":"IF(ISNA(VLOOKUP($C34,'Sat TT_07'!$C$4:$Q$152,12,FALSE)=$C34),0,VLOOKUP($C34,'Sat TT_07'!$C$4:$Q$152,12,FALSE))","v":0},{"$f":"IF(ISNA(VLOOKUP($C34,'Sat TT_08'!$C$4:$Q$152,12,FALSE)=$C34),0,VLOOKUP($C34,'Sat TT_08'!$C$4:$Q$152,12,FALSE))","v":0},0]
[{"$f":"VLOOKUP(C35,'Sheet 1'!C$1:D$96,2,FALSE)","v":{"$error":"#N/A"}},26,{"$f":"+'[1]Racing numbers file'!$B236","v":"Alan Carroll"},{"$f":"VLOOKUP(C35,'[1]Racing numbers file'!$B$4:$F$290,2,FALSE)","v":1975},{"$f":"VLOOKUP(C35,'[1]Racing numbers file'!$B$4:$F$290,4,FALSE)","v":41},0,{"$f":"IF(ISNA(VLOOKUP($C35,'Sat TT_01'!$C$4:$Q$152,12,FALSE)=$C35),0,VLOOKUP($C35,'Sat TT_01'!$C$4:$Q$152,12,FALSE))","v":0},{"$f":"IF(ISNA(VLOOKUP($C35,'Sat TT_02'!$C$4:$Q$152,12,FALSE)=$C35),0,VLOOKUP($C35,'Sat TT_02'!$C$4:$Q$152,12,FALSE))","v":0},{"$f":"IF(ISNA(VLOOKUP($C35,'Sat TT_03'!$C$4:$Q$152,12,FALSE)=$C35),0,VLOOKUP($C35,'Sat TT_03'!$C$4:$Q$152,12,FALSE))","v":0},{"$f":"IF(ISNA(VLOOKUP($C35,'Sat TT_04'!$C$4:$Q$152,12,FALSE)=$C35),0,VLOOKUP($C35,'Sat TT_04'!$C$4:$Q$152,12,FALSE))","v":0},{"$f":"IF(ISNA(VLOOKUP($C35,'Sat TT_05'!$C$4:$Q$152,12,FALSE)=$C35),0,VLOOKUP($C35,'Sat TT_05'!$C$4:$Q$152,12,FALSE))","v":0},{"$f":"IF(ISNA(VLOOKUP($C35,'Sat TT_06'!$C$4:$Q$152,12,FALSE)=$C35),0,VLOOKUP($C35,'Sat TT_06'!$C$4:$Q$152,12,FALSE))","v":0},{"$f":"IF(ISNA(VLOOKUP($C35,'Sat TT_07'!$C$4:$Q$152,12,FALSE)=$C35),0,VLOOKUP($C35,'Sat TT_07'!$C$4:$Q$152,12,FALSE))","v":0},{"$f":"IF(ISNA(VLOOKUP($C35,'Sat TT_08'!$C$4:$Q$152,12,FALSE)=$C35),0,VLOOKUP($C35,'Sat TT_08'!$C$4:$Q$152,12,FALSE))","v":0},0]
[{"$f":"VLOOKUP(C36,'Sheet 1'!C$1:D$96,2,FALSE)","v":1060},27,{"$f":"+'[1]Racing numbers file'!$B27","v":"Hugh Davis"},{"$f":"VLOOKUP(C36,'[1]Racing numbers file'!$B$4:$F$290,2,FALSE)","v":1947},{"$f":"VLOOKUP(C36,'[1]Racing numbers file'!$B$4:$F$290,4,FALSE)","v":69},0,{"$f":"IF(ISNA(VLOOKUP($C36,'Sat TT_01'!$C$4:$Q$152,12,FALSE)=$C36),0,VLOOKUP($C36,'Sat TT_01'!$C$4:$Q$152,12,FALSE))","v":0},{"$f":"IF(ISNA(VLOOKUP($C36,'Sat TT_02'!$C$4:$Q$152,12,FALSE)=$C36),0,VLOOKUP($C36,'Sat TT_02'!$C$4:$Q$152,12,FALSE))","v":0},{"$f":"IF(ISNA(VLOOKUP($C36,'Sat TT_03'!$C$4:$Q$152,12,FALSE)=$C36),0,VLOOKUP($C36,'Sat TT_03'!$C$4:$Q$152,12,FALSE))","v":0},{"$f":"IF(ISNA(VLOOKUP($C36,'Sat TT_04'!$C$4:$Q$152,12,FALSE)=$C36),0,VLOOKUP($C36,'Sat TT_04'!$C$4:$Q$152,12,FALSE))","v":0},{"$f":"IF(ISNA(VLOOKUP($C36,'Sat TT_05'!$C$4:$Q$152,12,FALSE)=$C36),0,VLOOKUP($C36,'Sat TT_05'!$C$4:$Q$152,12,FALSE))","v":0},{"$f":"IF(ISNA(VLOOKUP($C36,'Sat TT_06'!$C$4:$Q$152,12,FALSE)=$C36),0,VLOOKUP($C36,'Sat TT_06'!$C$4:$Q$152,12,FALSE))","v":0},{"$f":"IF(ISNA(VLOOKUP($C36,'Sat TT_07'!$C$4:$Q$152,12,FALSE)=$C36),0,VLOOKUP($C36,'Sat TT_07'!$C$4:$Q$152,12,FALSE))","v":0},{"$f":"IF(ISNA(VLOOKUP($C36,'Sat TT_08'!$C$4:$Q$152,12,FALSE)=$C36),0,VLOOKUP($C36,'Sat TT_08'!$C$4:$Q$152,12,FALSE))","v":0},0]
[{"$f":"VLOOKUP(C37,'Sheet 1'!C$1:D$96,2,FALSE)","v":1002},28,{"$f":"+'[1]Racing numbers file'!$B5","v":"Kevin Simms"},{"$f":"VLOOKUP(C37,'[1]Racing numbers file'!$B$4:$F$290,2,FALSE)","v":1932},{"$f":"VLOOKUP(C37,'[1]Racing numbers file'!$B$4:$F$290,4,FALSE)","v":84},0,{"$f":"IF(ISNA(VLOOKUP($C37,'Sat TT_01'!$C$4:$Q$152,12,FALSE)=$C37),0,VLOOKUP($C37,'Sat TT_01'!$C$4:$Q$152,12,FALSE))","v":0},{"$f":"IF(ISNA(VLOOKUP($C37,'Sat TT_02'!$C$4:$Q$152,12,FALSE)=$C37),0,VLOOKUP($C37,'Sat TT_02'!$C$4:$Q$152,12,FALSE))","v":0},{"$f":"IF(ISNA(VLOOKUP($C37,'Sat TT_03'!$C$4:$Q$152,12,FALSE)=$C37),0,VLOOKUP($C37,'Sat TT_03'!$C$4:$Q$152,12,FALSE))","v":0},{"$f":"IF(ISNA(VLOOKUP($C37,'Sat TT_04'!$C$4:$Q$152,12,FALSE)=$C37),0,VLOOKUP($C37,'Sat TT_04'!$C$4:$Q$152,12,FALSE))","v":0},{"$f":"IF(ISNA(VLOOKUP($C37,'Sat TT_05'!$C$4:$Q$152,12,FALSE)=$C37),0,VLOOKUP($C37,'Sat TT_05'!$C$4:$Q$152,12,FALSE))","v":0},{"$f":"IF(ISNA(VLOOKUP($C37,'Sat TT_06'!$C$4:$Q$152,12,FALSE)=$C37),0,VLOOKUP($C37,'Sat TT_06'!$C$4:$Q$152,12,FALSE))","v":0},{"$f":"IF(ISNA(VLOOKUP($C37,'Sat TT_07'!$C$4:$Q$152,12,FALSE)=$C37),0,VLOOKUP($C37,'Sat TT_07'!$C$4:$Q$152,12,FALSE))","v":0},{"$f":"IF(ISNA(VLOOKUP($C37,'Sat TT_08'!$C$4:$Q$152,12,FALSE)=$C37),0,VLOOKUP($C37,'Sat TT_08'!$C$4:$Q$152,12,FALSE))","v":0},0]
[{"$f":"VLOOKUP(C38,'Sheet 1'!C$1:D$96,2,FALSE)","v":1040},29,{"$f":"+'[1]Racing numbers file'!$B20","v":"Phil Ormrod"},{"$f":"VLOOKUP(C38,'[1]Racing numbers file'!$B$4:$F$290,2,FALSE)","v":1944},{"$f":"VLOOKUP(C38,'[1]Racing numbers file'!$B$4:$F$290,4,FALSE)","v":72},0,{"$f":"IF(ISNA(VLOOKUP($C38,'Sat TT_01'!$C$4:$Q$152,12,FALSE)=$C38),0,VLOOKUP($C38,'Sat TT_01'!$C$4:$Q$152,12,FALSE))","v":0},{"$f":"IF(ISNA(VLOOKUP($C38,'Sat TT_02'!$C$4:$Q$152,12,FALSE)=$C38),0,VLOOKUP($C38,'Sat TT_02'!$C$4:$Q$152,12,FALSE))","v":0},{"$f":"IF(ISNA(VLOOKUP($C38,'Sat TT_03'!$C$4:$Q$152,12,FALSE)=$C38),0,VLOOKUP($C38,'Sat TT_03'!$C$4:$Q$152,12,FALSE))","v":0},{"$f":"IF(ISNA(VLOOKUP($C38,'Sat TT_04'!$C$4:$Q$152,12,FALSE)=$C38),0,VLOOKUP($C38,'Sat TT_04'!$C$4:$Q$152,12,FALSE))","v":0},{"$f":"IF(ISNA(VLOOKUP($C38,'Sat TT_05'!$C$4:$Q$152,12,FALSE)=$C38),0,VLOOKUP($C38,'Sat TT_05'!$C$4:$Q$152,12,FALSE))","v":0},{"$f":"IF(ISNA(VLOOKUP($C38,'Sat TT_06'!$C$4:$Q$152,12,FALSE)=$C38),0,VLOOKUP($C38,'Sat TT_06'!$C$4:$Q$152,12,FALSE))","v":0},{"$f":"IF(ISNA(VLOOKUP($C38,'Sat TT_07'!$C$4:$Q$152,12,FALSE)=$C38),0,VLOOKUP($C38,'Sat TT_07'!$C$4:$Q$152,12,FALSE))","v":0},{"$f":"IF(ISNA(VLOOKUP($C38,'Sat TT_08'!$C$4:$Q$152,12,FALSE)=$C38),0,VLOOKUP($C38,'Sat TT_08'!$C$4:$Q$152,12,FALSE))","v":0},0]
[{"$f":"VLOOKUP(C39,'Sheet 1'!C$1:D$96,2,FALSE)","v":1054},30,{"$f":"+'[1]Racing numbers file'!$B25","v":"Peter Rice"},{"$f":"VLOOKUP(C39,'[1]Racing numbers file'!$B$4:$F$290,2,FALSE)","v":1946},{"$f":"VLOOKUP(C39,'[1]Racing numbers file'!$B$4:$F$290,4,FALSE)","v":70},0,{"$f":"IF(ISNA(VLOOKUP($C39,'Sat TT_01'!$C$4:$Q$152,12,FALSE)=$C39),0,VLOOKUP($C39,'Sat TT_01'!$C$4:$Q$152,12,FALSE))","v":0},{"$f":"IF(ISNA(VLOOKUP($C39,'Sat TT_02'!$C$4:$Q$152,12,FALSE)=$C39),0,VLOOKUP($C39,'Sat TT_02'!$C$4:$Q$152,12,FALSE))","v":0},{"$f":"IF(ISNA(VLOOKUP($C39,'Sat TT_03'!$C$4:$Q$152,12,FALSE)=$C39),0,VLOOKUP($C39,'Sat TT_03'!$C$4:$Q$152,12,FALSE))","v":0},{"$f":"IF(ISNA(VLOOKUP($C39,'Sat TT_04'!$C$4:$Q$152,12,FALSE)=$C39),0,VLOOKUP($C39,'Sat TT_04'!$C$4:$Q$152,12,FALSE))","v":0},{"$f":"IF(ISNA(VLOOKUP($C39,'Sat TT_05'!$C$4:$Q$152,12,FALSE)=$C39),0,VLOOKUP($C39,'Sat TT_05'!$C$4:$Q$152,12,FALSE))","v":0},{"$f":"IF(ISNA(VLOOKUP($C39,'Sat TT_06'!$C$4:$Q$152,12,FALSE)=$C39),0,VLOOKUP($C39,'Sat TT_06'!$C$4:$Q$152,12,FALSE))","v":0},{"$f":"IF(ISNA(VLOOKUP($C39,'Sat TT_07'!$C$4:$Q$152,12,FALSE)=$C39),0,VLOOKUP($C39,'Sat TT_07'!$C$4:$Q$152,12,FALSE))","v":0},{"$f":"IF(ISNA(VLOOKUP($C39,'Sat TT_08'!$C$4:$Q$152,12,FALSE)=$C39),0,VLOOKUP($C39,'Sat TT_08'!$C$4:$Q$152,12,FALSE))","v":0},0]
[{"$f":"VLOOKUP(C40,'Sheet 1'!C$1:D$96,2,FALSE)","v":{"$error":"#N/A"}},31,{"$f":"+'[1]Racing numbers file'!$B89","v":"Stephen Fennell"},{"$f":"VLOOKUP(C40,'[1]Racing numbers file'!$B$4:$F$290,2,FALSE)","v":1961},{"$f":"VLOOKUP(C40,'[1]Racing numbers file'!$B$4:$F$290,4,FALSE)","v":55},0,{"$f":"IF(ISNA(VLOOKUP($C40,'Sat TT_01'!$C$4:$Q$152,12,FALSE)=$C40),0,VLOOKUP($C40,'Sat TT_01'!$C$4:$Q$152,12,FALSE))","v":0},{"$f":"IF(ISNA(VLOOKUP($C40,'Sat TT_02'!$C$4:$Q$152,12,FALSE)=$C40),0,VLOOKUP($C40,'Sat TT_02'!$C$4:$Q$152,12,FALSE))","v":0},{"$f":"IF(ISNA(VLOOKUP($C40,'Sat TT_03'!$C$4:$Q$152,12,FALSE)=$C40),0,VLOOKUP($C40,'Sat TT_03'!$C$4:$Q$152,12,FALSE))","v":0},{"$f":"IF(ISNA(VLOOKUP($C40,'Sat TT_04'!$C$4:$Q$152,12,FALSE)=$C40),0,VLOOKUP($C40,'Sat TT_04'!$C$4:$Q$152,12,FALSE))","v":0},{"$f":"IF(ISNA(VLOOKUP($C40,'Sat TT_05'!$C$4:$Q$152,12,FALSE)=$C40),0,VLOOKUP($C40,'Sat TT_05'!$C$4:$Q$152,12,FALSE))","v":0},{"$f":"IF(ISNA(VLOOKUP($C40,'Sat TT_06'!$C$4:$Q$152,12,FALSE)=$C40),0,VLOOKUP($C40,'Sat TT_06'!$C$4:$Q$152,12,FALSE))","v":0},{"$f":"IF(ISNA(VLOOKUP($C40,'Sat TT_07'!$C$4:$Q$152,12,FALSE)=$C40),0,VLOOKUP($C40,'Sat TT_07'!$C$4:$Q$152,12,FALSE))","v":0},{"$f":"IF(ISNA(VLOOKUP($C40,'Sat TT_08'!$C$4:$Q$152,12,FALSE)=$C40),0,VLOOKUP($C40,'Sat TT_08'!$C$4:$Q$152,12,FALSE))","v":0},0]
[{"$f":"VLOOKUP(C41,'Sheet 1'!C$1:D$96,2,FALSE)","v":{"$error":"#N/A"}},32,{"$f":"+'[1]Racing numbers file'!$B206","v":"Norman Eyre"},{"$f":"VLOOKUP(C41,'[1]Racing numbers file'!$B$4:$F$290,2,FALSE)","v":1969},{"$f":"VLOOKUP(C41,'[1]Racing numbers file'!$B$4:$F$290,4,FALSE)","v":47},0,{"$f":"IF(ISNA(VLOOKUP($C41,'Sat TT_01'!$C$4:$Q$152,12,FALSE)=$C41),0,VLOOKUP($C41,'Sat TT_01'!$C$4:$Q$152,12,FALSE))","v":0},{"$f":"IF(ISNA(VLOOKUP($C41,'Sat TT_02'!$C$4:$Q$152,12,FALSE)=$C41),0,VLOOKUP($C41,'Sat TT_02'!$C$4:$Q$152,12,FALSE))","v":0},{"$f":"IF(ISNA(VLOOKUP($C41,'Sat TT_03'!$C$4:$Q$152,12,FALSE)=$C41),0,VLOOKUP($C41,'Sat TT_03'!$C$4:$Q$152,12,FALSE))","v":0},{"$f":"IF(ISNA(VLOOKUP($C41,'Sat TT_04'!$C$4:$Q$152,12,FALSE)=$C41),0,VLOOKUP($C41,'Sat TT_04'!$C$4:$Q$152,12,FALSE))","v":0},{"$f":"IF(ISNA(VLOOKUP($C41,'Sat TT_05'!$C$4:$Q$152,12,FALSE)=$C41),0,VLOOKUP($C41,'Sat TT_05'!$C$4:$Q$152,12,FALSE))","v":0},{"$f":"IF(ISNA(VLOOKUP($C41,'Sat TT_06'!$C$4:$Q$152,12,FALSE)=$C41),0,VLOOKUP($C41,'Sat TT_06'!$C$4:$Q$152,12,FALSE))","v":0},{"$f":"IF(ISNA(VLOOKUP($C41,'Sat TT_07'!$C$4:$Q$152,12,FALSE)=$C41),0,VLOOKUP($C41,'Sat TT_07'!$C$4:$Q$152,12,FALSE))","v":0},{"$f":"IF(ISNA(VLOOKUP($C41,'Sat TT_08'!$C$4:$Q$152,12,FALSE)=$C41),0,VLOOKUP($C41,'Sat TT_08'!$C$4:$Q$152,12,FALSE))","v":0},0]
[{"$f":"VLOOKUP(C42,'Sheet 1'!C$1:D$96,2,FALSE)","v":{"$error":"#N/A"}},33,{"$f":"+'[1]Racing numbers file'!$B119","v":"Don Samway"},{"$f":"VLOOKUP(C42,'[1]Racing numbers file'!$B$4:$F$290,2,FALSE)","v":1965},{"$f":"VLOOKUP(C42,'[1]Racing numbers file'!$B$4:$F$290,4,FALSE)","v":51},0,{"$f":"IF(ISNA(VLOOKUP($C42,'Sat TT_01'!$C$4:$Q$152,12,FALSE)=$C42),0,VLOOKUP($C42,'Sat TT_01'!$C$4:$Q$152,12,FALSE))","v":0},{"$f":"IF(ISNA(VLOOKUP($C42,'Sat TT_02'!$C$4:$Q$152,12,FALSE)=$C42),0,VLOOKUP($C42,'Sat TT_02'!$C$4:$Q$152,12,FALSE))","v":0},{"$f":"IF(ISNA(VLOOKUP($C42,'Sat TT_03'!$C$4:$Q$152,12,FALSE)=$C42),0,VLOOKUP($C42,'Sat TT_03'!$C$4:$Q$152,12,FALSE))","v":0},{"$f":"IF(ISNA(VLOOKUP($C42,'Sat TT_04'!$C$4:$Q$152,12,FALSE)=$C42),0,VLOOKUP($C42,'Sat TT_04'!$C$4:$Q$152,12,FALSE))","v":0},{"$f":"IF(ISNA(VLOOKUP($C42,'Sat TT_05'!$C$4:$Q$152,12,FALSE)=$C42),0,VLOOKUP($C42,'Sat TT_05'!$C$4:$Q$152,12,FALSE))","v":0},{"$f":"IF(ISNA(VLOOKUP($C42,'Sat TT_06'!$C$4:$Q$152,12,FALSE)=$C42),0,VLOOKUP($C42,'Sat TT_06'!$C$4:$Q$152,12,FALSE))","v":0},{"$f":"IF(ISNA(VLOOKUP($C42,'Sat TT_07'!$C$4:$Q$152,12,FALSE)=$C42),0,VLOOKUP($C42,'Sat TT_07'!$C$4:$Q$152,12,FALSE))","v":0},{"$f":"IF(ISNA(VLOOKUP($C42,'Sat TT_08'!$C$4:$Q$152,12,FALSE)=$C42),0,VLOOKUP($C42,'Sat TT_08'!$C$4:$Q$152,12,FALSE))","v":0},0]
[{"$f":"VLOOKUP(C43,'Sheet 1'!C$1:D$96,2,FALSE)","v":{"$error":"#N/A"}},34,{"$f":"+'[1]Racing numbers file'!$B251","v":"Brian Moran"},{"$f":"VLOOKUP(C43,'[1]Racing numbers file'!$B$4:$F$290,2,FALSE)","v":1976},{"$f":"VLOOKUP(C43,'[1]Racing numbers file'!$B$4:$F$290,4,FALSE)","v":40},0,{"$f":"IF(ISNA(VLOOKUP($C43,'Sat TT_01'!$C$4:$Q$152,12,FALSE)=$C43),0,VLOOKUP($C43,'Sat TT_01'!$C$4:$Q$152,12,FALSE))","v":0},{"$f":"IF(ISNA(VLOOKUP($C43,'Sat TT_02'!$C$4:$Q$152,12,FALSE)=$C43),0,VLOOKUP($C43,'Sat TT_02'!$C$4:$Q$152,12,FALSE))","v":0},{"$f":"IF(ISNA(VLOOKUP($C43,'Sat TT_03'!$C$4:$Q$152,12,FALSE)=$C43),0,VLOOKUP($C43,'Sat TT_03'!$C$4:$Q$152,12,FALSE))","v":0},{"$f":"IF(ISNA(VLOOKUP($C43,'Sat TT_04'!$C$4:$Q$152,12,FALSE)=$C43),0,VLOOKUP($C43,'Sat TT_04'!$C$4:$Q$152,12,FALSE))","v":0},{"$f":"IF(ISNA(VLOOKUP($C43,'Sat TT_05'!$C$4:$Q$152,12,FALSE)=$C43),0,VLOOKUP($C43,'Sat TT_05'!$C$4:$Q$152,12,FALSE))","v":0},{"$f":"IF(ISNA(VLOOKUP($C43,'Sat TT_06'!$C$4:$Q$152,12,FALSE)=$C43),0,VLOOKUP($C43,'Sat TT_06'!$C$4:$Q$152,12,FALSE))","v":0},{"$f":"IF(ISNA(VLOOKUP($C43,'Sat TT_07'!$C$4:$Q$152,12,FALSE)=$C43),0,VLOOKUP($C43,'Sat TT_07'!$C$4:$Q$152,12,FALSE))","v":0},{"$f":"IF(ISNA(VLOOKUP($C43,'Sat TT_08'!$C$4:$Q$152,12,FALSE)=$C43),0,VLOOKUP($C43,'Sat TT_08'!$C$4:$Q$152,12,FALSE))","v":0},0]
[{"$f":"VLOOKUP(C44,'Sheet 1'!C$1:D$96,2,FALSE)","v":1381},35,{"$f":"+'[1]Racing numbers file'!$B194","v":"Aidan Hammond"},{"$f":"VLOOKUP(C44,'[1]Racing numbers file'!$B$4:$F$290,2,FALSE)","v":1969},{"$f":"VLOOKUP(C44,'[1]Racing numbers file'!$B$4:$F$290,4,FALSE)","v":47},0,{"$f":"IF(ISNA(VLOOKUP($C44,'Sat TT_01'!$C$4:$Q$152,12,FALSE)=$C44),0,VLOOKUP($C44,'Sat TT_01'!$C$4:$Q$152,12,FALSE))","v":0},{"$f":"IF(ISNA(VLOOKUP($C44,'Sat TT_02'!$C$4:$Q$152,12,FALSE)=$C44),0,VLOOKUP($C44,'Sat TT_02'!$C$4:$Q$152,12,FALSE))","v":0},{"$f":"IF(ISNA(VLOOKUP($C44,'Sat TT_03'!$C$4:$Q$152,12,FALSE)=$C44),0,VLOOKUP($C44,'Sat TT_03'!$C$4:$Q$152,12,FALSE))","v":0},{"$f":"IF(ISNA(VLOOKUP($C44,'Sat TT_04'!$C$4:$Q$152,12,FALSE)=$C44),0,VLOOKUP($C44,'Sat TT_04'!$C$4:$Q$152,12,FALSE))","v":0},{"$f":"IF(ISNA(VLOOKUP($C44,'Sat TT_05'!$C$4:$Q$152,12,FALSE)=$C44),0,VLOOKUP($C44,'Sat TT_05'!$C$4:$Q$152,12,FALSE))","v":0},{"$f":"IF(ISNA(VLOOKUP($C44,'Sat TT_06'!$C$4:$Q$152,12,FALSE)=$C44),0,VLOOKUP($C44,'Sat TT_06'!$C$4:$Q$152,12,FALSE))","v":0},{"$f":"IF(ISNA(VLOOKUP($C44,'Sat TT_07'!$C$4:$Q$152,12,FALSE)=$C44),0,VLOOKUP($C44,'Sat TT_07'!$C$4:$Q$152,12,FALSE))","v":0},{"$f":"IF(ISNA(VLOOKUP($C44,'Sat TT_08'!$C$4:$Q$152,12,FALSE)=$C44),0,VLOOKUP($C44,'Sat TT_08'!$C$4:$Q$152,12,FALSE))","v":0},0]
[{"$f":"VLOOKUP(C45,'Sheet 1'!C$1:D$96,2,FALSE)","v":{"$error":"#N/A"}},36,{"$f":"+'[1]Racing numbers file'!$B173","v":"Paul Durnin"},{"$f":"VLOOKUP(C45,'[1]Racing numbers file'!$B$4:$F$290,2,FALSE)","v":1972},{"$f":"VLOOKUP(C45,'[1]Racing numbers file'!$B$4:$F$290,4,FALSE)","v":44},0,{"$f":"IF(ISNA(VLOOKUP($C45,'Sat TT_01'!$C$4:$Q$152,12,FALSE)=$C45),0,VLOOKUP($C45,'Sat TT_01'!$C$4:$Q$152,12,FALSE))","v":0},{"$f":"IF(ISNA(VLOOKUP($C45,'Sat TT_02'!$C$4:$Q$152,12,FALSE)=$C45),0,VLOOKUP($C45,'Sat TT_02'!$C$4:$Q$152,12,FALSE))","v":0},{"$f":"IF(ISNA(VLOOKUP($C45,'Sat TT_03'!$C$4:$Q$152,12,FALSE)=$C45),0,VLOOKUP($C45,'Sat TT_03'!$C$4:$Q$152,12,FALSE))","v":0},{"$f":"IF(ISNA(VLOOKUP($C45,'Sat TT_04'!$C$4:$Q$152,12,FALSE)=$C45),0,VLOOKUP($C45,'Sat TT_04'!$C$4:$Q$152,12,FALSE))","v":0},{"$f":"IF(ISNA(VLOOKUP($C45,'Sat TT_05'!$C$4:$Q$152,12,FALSE)=$C45),0,VLOOKUP($C45,'Sat TT_05'!$C$4:$Q$152,12,FALSE))","v":0},{"$f":"IF(ISNA(VLOOKUP($C45,'Sat TT_06'!$C$4:$Q$152,12,FALSE)=$C45),0,VLOOKUP($C45,'Sat TT_06'!$C$4:$Q$152,12,FALSE))","v":0},{"$f":"IF(ISNA(VLOOKUP($C45,'Sat TT_07'!$C$4:$Q$152,12,FALSE)=$C45),0,VLOOKUP($C45,'Sat TT_07'!$C$4:$Q$152,12,FALSE))","v":0},{"$f":"IF(ISNA(VLOOKUP($C45,'Sat TT_08'!$C$4:$Q$152,12,FALSE)=$C45),0,VLOOKUP($C45,'Sat TT_08'!$C$4:$Q$152,12,FALSE))","v":0},0]
[{"$f":"VLOOKUP(C46,'Sheet 1'!C$1:D$96,2,FALSE)","v":{"$error":"#N/A"}},37,{"$f":"+'[1]Racing numbers file'!$B34","v":"Martin Gray"},{"$f":"VLOOKUP(C46,'[1]Racing numbers file'!$B$4:$F$290,2,FALSE)","v":1951},{"$f":"VLOOKUP(C46,'[1]Racing numbers file'!$B$4:$F$290,4,FALSE)","v":65},0,{"$f":"IF(ISNA(VLOOKUP($C46,'Sat TT_01'!$C$4:$Q$152,12,FALSE)=$C46),0,VLOOKUP($C46,'Sat TT_01'!$C$4:$Q$152,12,FALSE))","v":0},{"$f":"IF(ISNA(VLOOKUP($C46,'Sat TT_02'!$C$4:$Q$152,12,FALSE)=$C46),0,VLOOKUP($C46,'Sat TT_02'!$C$4:$Q$152,12,FALSE))","v":0},{"$f":"IF(ISNA(VLOOKUP($C46,'Sat TT_03'!$C$4:$Q$152,12,FALSE)=$C46),0,VLOOKUP($C46,'Sat TT_03'!$C$4:$Q$152,12,FALSE))","v":0},{"$f":"IF(ISNA(VLOOKUP($C46,'Sat TT_04'!$C$4:$Q$152,12,FALSE)=$C46),0,VLOOKUP($C46,'Sat TT_04'!$C$4:$Q$152,12,FALSE))","v":0},{"$f":"IF(ISNA(VLOOKUP($C46,'Sat TT_05'!$C$4:$Q$152,12,FALSE)=$C46),0,VLOOKUP($C46,'Sat TT_05'!$C$4:$Q$152,12,FALSE))","v":0},{"$f":"IF(ISNA(VLOOKUP($C46,'Sat TT_06'!$C$4:$Q$152,12,FALSE)=$C46),0,VLOOKUP($C46,'Sat TT_06'!$C$4:$Q$152,12,FALSE))","v":0},{"$f":"IF(ISNA(VLOOKUP($C46,'Sat TT_07'!$C$4:$Q$152,12,FALSE)=$C46),0,VLOOKUP($C46,'Sat TT_07'!$C$4:$Q$152,12,FALSE))","v":0},{"$f":"IF(ISNA(VLOOKUP($C46,'Sat TT_08'!$C$4:$Q$152,12,FALSE)=$C46),0,VLOOKUP($C46,'Sat TT_08'!$C$4:$Q$152,12,FALSE))","v":0},0]
[{"$f":"VLOOKUP(C47,'Sheet 1'!C$1:D$96,2,FALSE)","v":{"$error":"#N/A"}},38,{"$f":"+'[1]Racing numbers file'!$B9","v":"Jim Sweeney"},{"$f":"VLOOKUP(C47,'[1]Racing numbers file'!$B$4:$F$290,2,FALSE)","v":1936},{"$f":"VLOOKUP(C47,'[1]Racing numbers file'!$B$4:$F$290,4,FALSE)","v":80},0,{"$f":"IF(ISNA(VLOOKUP($C47,'Sat TT_01'!$C$4:$Q$152,12,FALSE)=$C47),0,VLOOKUP($C47,'Sat TT_01'!$C$4:$Q$152,12,FALSE))","v":0},{"$f":"IF(ISNA(VLOOKUP($C47,'Sat TT_02'!$C$4:$Q$152,12,FALSE)=$C47),0,VLOOKUP($C47,'Sat TT_02'!$C$4:$Q$152,12,FALSE))","v":0},{"$f":"IF(ISNA(VLOOKUP($C47,'Sat TT_03'!$C$4:$Q$152,12,FALSE)=$C47),0,VLOOKUP($C47,'Sat TT_03'!$C$4:$Q$152,12,FALSE))","v":0},{"$f":"IF(ISNA(VLOOKUP($C47,'Sat TT_04'!$C$4:$Q$152,12,FALSE)=$C47),0,VLOOKUP($C47,'Sat TT_04'!$C$4:$Q$152,12,FALSE))","v":0},{"$f":"IF(ISNA(VLOOKUP($C47,'Sat TT_05'!$C$4:$Q$152,12,FALSE)=$C47),0,VLOOKUP($C47,'Sat TT_05'!$C$4:$Q$152,12,FALSE))","v":0},{"$f":"IF(ISNA(VLOOKUP($C47,'Sat TT_06'!$C$4:$Q$152,12,FALSE)=$C47),0,VLOOKUP($C47,'Sat TT_06'!$C$4:$Q$152,12,FALSE))","v":0},{"$f":"IF(ISNA(VLOOKUP($C47,'Sat TT_07'!$C$4:$Q$152,12,FALSE)=$C47),0,VLOOKUP($C47,'Sat TT_07'!$C$4:$Q$152,12,FALSE))","v":0},{"$f":"IF(ISNA(VLOOKUP($C47,'Sat TT_08'!$C$4:$Q$152,12,FALSE)=$C47),0,VLOOKUP($C47,'Sat TT_08'!$C$4:$Q$152,12,FALSE))","v":0},0]
[{"$f":"VLOOKUP(C48,'Sheet 1'!C$1:D$96,2,FALSE)","v":{"$error":"#N/A"}},39,{"$f":"+'[1]Racing numbers file'!$B50","v":"John Piggott"},{"$f":"VLOOKUP(C48,'[1]Racing numbers file'!$B$4:$F$290,2,FALSE)","v":1955},{"$f":"VLOOKUP(C48,'[1]Racing numbers file'!$B$4:$F$290,4,FALSE)","v":61},0,{"$f":"IF(ISNA(VLOOKUP($C48,'Sat TT_01'!$C$4:$Q$152,12,FALSE)=$C48),0,VLOOKUP($C48,'Sat TT_01'!$C$4:$Q$152,12,FALSE))","v":0},{"$f":"IF(ISNA(VLOOKUP($C48,'Sat TT_02'!$C$4:$Q$152,12,FALSE)=$C48),0,VLOOKUP($C48,'Sat TT_02'!$C$4:$Q$152,12,FALSE))","v":0},{"$f":"IF(ISNA(VLOOKUP($C48,'Sat TT_03'!$C$4:$Q$152,12,FALSE)=$C48),0,VLOOKUP($C48,'Sat TT_03'!$C$4:$Q$152,12,FALSE))","v":0},{"$f":"IF(ISNA(VLOOKUP($C48,'Sat TT_04'!$C$4:$Q$152,12,FALSE)=$C48),0,VLOOKUP($C48,'Sat TT_04'!$C$4:$Q$152,12,FALSE))","v":0},{"$f":"IF(ISNA(VLOOKUP($C48,'Sat TT_05'!$C$4:$Q$152,12,FALSE)=$C48),0,VLOOKUP($C48,'Sat TT_05'!$C$4:$Q$152,12,FALSE))","v":0},{"$f":"IF(ISNA(VLOOKUP($C48,'Sat TT_06'!$C$4:$Q$152,12,FALSE)=$C48),0,VLOOKUP($C48,'Sat TT_06'!$C$4:$Q$152,12,FALSE))","v":0},{"$f":"IF(ISNA(VLOOKUP($C48,'Sat TT_07'!$C$4:$Q$152,12,FALSE)=$C48),0,VLOOKUP($C48,'Sat TT_07'!$C$4:$Q$152,12,FALSE))","v":0},{"$f":"IF(ISNA(VLOOKUP($C48,'Sat TT_08'!$C$4:$Q$152,12,FALSE)=$C48),0,VLOOKUP($C48,'Sat TT_08'!$C$4:$Q$152,12,FALSE))","v":0},0]
[{"$f":"VLOOKUP(C49,'Sheet 1'!C$1:D$96,2,FALSE)","v":1095},40,{"$f":"+'[1]Racing numbers file'!$B40","v":"Adrian Byrne"},{"$f":"VLOOKUP(C49,'[1]Racing numbers file'!$B$4:$F$290,2,FALSE)","v":1953},{"$f":"VLOOKUP(C49,'[1]Racing numbers file'!$B$4:$F$290,4,FALSE)","v":63},0,{"$f":"IF(ISNA(VLOOKUP($C49,'Sat TT_01'!$C$4:$Q$152,12,FALSE)=$C49),0,VLOOKUP($C49,'Sat TT_01'!$C$4:$Q$152,12,FALSE))","v":0},{"$f":"IF(ISNA(VLOOKUP($C49,'Sat TT_02'!$C$4:$Q$152,12,FALSE)=$C49),0,VLOOKUP($C49,'Sat TT_02'!$C$4:$Q$152,12,FALSE))","v":0},{"$f":"IF(ISNA(VLOOKUP($C49,'Sat TT_03'!$C$4:$Q$152,12,FALSE)=$C49),0,VLOOKUP($C49,'Sat TT_03'!$C$4:$Q$152,12,FALSE))","v":0},{"$f":"IF(ISNA(VLOOKUP($C49,'Sat TT_04'!$C$4:$Q$152,12,FALSE)=$C49),0,VLOOKUP($C49,'Sat TT_04'!$C$4:$Q$152,12,FALSE))","v":0},{"$f":"IF(ISNA(VLOOKUP($C49,'Sat TT_05'!$C$4:$Q$152,12,FALSE)=$C49),0,VLOOKUP($C49,'Sat TT_05'!$C$4:$Q$152,12,FALSE))","v":0},{"$f":"IF(ISNA(VLOOKUP($C49,'Sat TT_06'!$C$4:$Q$152,12,FALSE)=$C49),0,VLOOKUP($C49,'Sat TT_06'!$C$4:$Q$152,12,FALSE))","v":0},{"$f":"IF(ISNA(VLOOKUP($C49,'Sat TT_07'!$C$4:$Q$152,12,FALSE)=$C49),0,VLOOKUP($C49,'Sat TT_07'!$C$4:$Q$152,12,FALSE))","v":0},{"$f":"IF(ISNA(VLOOKUP($C49,'Sat TT_08'!$C$4:$Q$152,12,FALSE)=$C49),0,VLOOKUP($C49,'Sat TT_08'!$C$4:$Q$152,12,FALSE))","v":0},0]
[{"$f":"VLOOKUP(C50,'Sheet 1'!C$1:D$96,2,FALSE)","v":{"$error":"#N/A"}},41,{"$f":"+'[1]Racing numbers file'!$B58","v":"Pat Halpin"},{"$f":"VLOOKUP(C50,'[1]Racing numbers file'!$B$4:$F$290,2,FALSE)","v":1957},{"$f":"VLOOKUP(C50,'[1]Racing numbers file'!$B$4:$F$290,4,FALSE)","v":59},0,{"$f":"IF(ISNA(VLOOKUP($C50,'Sat TT_01'!$C$4:$Q$152,12,FALSE)=$C50),0,VLOOKUP($C50,'Sat TT_01'!$C$4:$Q$152,12,FALSE))","v":0},{"$f":"IF(ISNA(VLOOKUP($C50,'Sat TT_02'!$C$4:$Q$152,12,FALSE)=$C50),0,VLOOKUP($C50,'Sat TT_02'!$C$4:$Q$152,12,FALSE))","v":0},{"$f":"IF(ISNA(VLOOKUP($C50,'Sat TT_03'!$C$4:$Q$152,12,FALSE)=$C50),0,VLOOKUP($C50,'Sat TT_03'!$C$4:$Q$152,12,FALSE))","v":0},{"$f":"IF(ISNA(VLOOKUP($C50,'Sat TT_04'!$C$4:$Q$152,12,FALSE)=$C50),0,VLOOKUP($C50,'Sat TT_04'!$C$4:$Q$152,12,FALSE))","v":0},{"$f":"IF(ISNA(VLOOKUP($C50,'Sat TT_05'!$C$4:$Q$152,12,FALSE)=$C50),0,VLOOKUP($C50,'Sat TT_05'!$C$4:$Q$152,12,FALSE))","v":0},{"$f":"IF(ISNA(VLOOKUP($C50,'Sat TT_06'!$C$4:$Q$152,12,FALSE)=$C50),0,VLOOKUP($C50,'Sat TT_06'!$C$4:$Q$152,12,FALSE))","v":0},{"$f":"IF(ISNA(VLOOKUP($C50,'Sat TT_07'!$C$4:$Q$152,12,FALSE)=$C50),0,VLOOKUP($C50,'Sat TT_07'!$C$4:$Q$152,12,FALSE))","v":0},{"$f":"IF(ISNA(VLOOKUP($C50,'Sat TT_08'!$C$4:$Q$152,12,FALSE)=$C50),0,VLOOKUP($C50,'Sat TT_08'!$C$4:$Q$152,12,FALSE))","v":0},0]
[{"$f":"VLOOKUP(C51,'Sheet 1'!C$1:D$96,2,FALSE)","v":{"$error":"#N/A"}},42,{"$f":"+'[1]Racing numbers file'!$B201","v":"David Holland"},{"$f":"VLOOKUP(C51,'[1]Racing numbers file'!$B$4:$F$290,2,FALSE)","v":1974},{"$f":"VLOOKUP(C51,'[1]Racing numbers file'!$B$4:$F$290,4,FALSE)","v":42},0,{"$f":"IF(ISNA(VLOOKUP($C51,'Sat TT_01'!$C$4:$Q$152,12,FALSE)=$C51),0,VLOOKUP($C51,'Sat TT_01'!$C$4:$Q$152,12,FALSE))","v":0},{"$f":"IF(ISNA(VLOOKUP($C51,'Sat TT_02'!$C$4:$Q$152,12,FALSE)=$C51),0,VLOOKUP($C51,'Sat TT_02'!$C$4:$Q$152,12,FALSE))","v":0},{"$f":"IF(ISNA(VLOOKUP($C51,'Sat TT_03'!$C$4:$Q$152,12,FALSE)=$C51),0,VLOOKUP($C51,'Sat TT_03'!$C$4:$Q$152,12,FALSE))","v":0},{"$f":"IF(ISNA(VLOOKUP($C51,'Sat TT_04'!$C$4:$Q$152,12,FALSE)=$C51),0,VLOOKUP($C51,'Sat TT_04'!$C$4:$Q$152,12,FALSE))","v":0},{"$f":"IF(ISNA(VLOOKUP($C51,'Sat TT_05'!$C$4:$Q$152,12,FALSE)=$C51),0,VLOOKUP($C51,'Sat TT_05'!$C$4:$Q$152,12,FALSE))","v":0},{"$f":"IF(ISNA(VLOOKUP($C51,'Sat TT_06'!$C$4:$Q$152,12,FALSE)=$C51),0,VLOOKUP($C51,'Sat TT_06'!$C$4:$Q$152,12,FALSE))","v":0},{"$f":"IF(ISNA(VLOOKUP($C51,'Sat TT_07'!$C$4:$Q$152,12,FALSE)=$C51),0,VLOOKUP($C51,'Sat TT_07'!$C$4:$Q$152,12,FALSE))","v":0},{"$f":"IF(ISNA(VLOOKUP($C51,'Sat TT_08'!$C$4:$Q$152,12,FALSE)=$C51),0,VLOOKUP($C51,'Sat TT_08'!$C$4:$Q$152,12,FALSE))","v":0},0]
[{"$f":"VLOOKUP(C52,'Sheet 1'!C$1:D$96,2,FALSE)","v":{"$error":"#N/A"}},43,{"$f":"+'[1]Racing numbers file'!$B249","v":"Kevin Byrne"},{"$f":"VLOOKUP(C52,'[1]Racing numbers file'!$B$4:$F$290,2,FALSE)","v":1975},{"$f":"VLOOKUP(C52,'[1]Racing numbers file'!$B$4:$F$290,4,FALSE)","v":41},0,{"$f":"IF(ISNA(VLOOKUP($C52,'Sat TT_01'!$C$4:$Q$152,12,FALSE)=$C52),0,VLOOKUP($C52,'Sat TT_01'!$C$4:$Q$152,12,FALSE))","v":0},{"$f":"IF(ISNA(VLOOKUP($C52,'Sat TT_02'!$C$4:$Q$152,12,FALSE)=$C52),0,VLOOKUP($C52,'Sat TT_02'!$C$4:$Q$152,12,FALSE))","v":0},{"$f":"IF(ISNA(VLOOKUP($C52,'Sat TT_03'!$C$4:$Q$152,12,FALSE)=$C52),0,VLOOKUP($C52,'Sat TT_03'!$C$4:$Q$152,12,FALSE))","v":0},{"$f":"IF(ISNA(VLOOKUP($C52,'Sat TT_04'!$C$4:$Q$152,12,FALSE)=$C52),0,VLOOKUP($C52,'Sat TT_04'!$C$4:$Q$152,12,FALSE))","v":0},{"$f":"IF(ISNA(VLOOKUP($C52,'Sat TT_05'!$C$4:$Q$152,12,FALSE)=$C52),0,VLOOKUP($C52,'Sat TT_05'!$C$4:$Q$152,12,FALSE))","v":0},{"$f":"IF(ISNA(VLOOKUP($C52,'Sat TT_06'!$C$4:$Q$152,12,FALSE)=$C52),0,VLOOKUP($C52,'Sat TT_06'!$C$4:$Q$152,12,FALSE))","v":0},{"$f":"IF(ISNA(VLOOKUP($C52,'Sat TT_07'!$C$4:$Q$152,12,FALSE)=$C52),0,VLOOKUP($C52,'Sat TT_07'!$C$4:$Q$152,12,FALSE))","v":0},{"$f":"IF(ISNA(VLOOKUP($C52,'Sat TT_08'!$C$4:$Q$152,12,FALSE)=$C52),0,VLOOKUP($C52,'Sat TT_08'!$C$4:$Q$152,12,FALSE))","v":0},0]
[{"$f":"VLOOKUP(C53,'Sheet 1'!C$1:D$96,2,FALSE)","v":{"$error":"#N/A"}},44,{"$f":"+'[1]Racing numbers file'!$B232","v":"Mark Pagell"},{"$f":"VLOOKUP(C53,'[1]Racing numbers file'!$B$4:$F$290,2,FALSE)","v":1966},{"$f":"VLOOKUP(C53,'[1]Racing numbers file'!$B$4:$F$290,4,FALSE)","v":50},0,{"$f":"IF(ISNA(VLOOKUP($C53,'Sat TT_01'!$C$4:$Q$152,12,FALSE)=$C53),0,VLOOKUP($C53,'Sat TT_01'!$C$4:$Q$152,12,FALSE))","v":0},{"$f":"IF(ISNA(VLOOKUP($C53,'Sat TT_02'!$C$4:$Q$152,12,FALSE)=$C53),0,VLOOKUP($C53,'Sat TT_02'!$C$4:$Q$152,12,FALSE))","v":0},{"$f":"IF(ISNA(VLOOKUP($C53,'Sat TT_03'!$C$4:$Q$152,12,FALSE)=$C53),0,VLOOKUP($C53,'Sat TT_03'!$C$4:$Q$152,12,FALSE))","v":0},{"$f":"IF(ISNA(VLOOKUP($C53,'Sat TT_04'!$C$4:$Q$152,12,FALSE)=$C53),0,VLOOKUP($C53,'Sat TT_04'!$C$4:$Q$152,12,FALSE))","v":0},{"$f":"IF(ISNA(VLOOKUP($C53,'Sat TT_05'!$C$4:$Q$152,12,FALSE)=$C53),0,VLOOKUP($C53,'Sat TT_05'!$C$4:$Q$152,12,FALSE))","v":0},{"$f":"IF(ISNA(VLOOKUP($C53,'Sat TT_06'!$C$4:$Q$152,12,FALSE)=$C53),0,VLOOKUP($C53,'Sat TT_06'!$C$4:$Q$152,12,FALSE))","v":0},{"$f":"IF(ISNA(VLOOKUP($C53,'Sat TT_07'!$C$4:$Q$152,12,FALSE)=$C53),0,VLOOKUP($C53,'Sat TT_07'!$C$4:$Q$152,12,FALSE))","v":0},{"$f":"IF(ISNA(VLOOKUP($C53,'Sat TT_08'!$C$4:$Q$152,12,FALSE)=$C53),0,VLOOKUP($C53,'Sat TT_08'!$C$4:$Q$152,12,FALSE))","v":0},0]
[{"$f":"VLOOKUP(C54,'Sheet 1'!C$1:D$96,2,FALSE)","v":1348},45,{"$f":"+'[1]Racing numbers file'!$B179","v":"Ciara Kinch"},{"$f":"VLOOKUP(C54,'[1]Racing numbers file'!$B$4:$F$290,2,FALSE)","v":1973},{"$f":"VLOOKUP(C54,'[1]Racing numbers file'!$B$4:$F$290,4,FALSE)","v":43},0,{"$f":"IF(ISNA(VLOOKUP($C54,'Sat TT_01'!$C$4:$Q$152,12,FALSE)=$C54),0,VLOOKUP($C54,'Sat TT_01'!$C$4:$Q$152,12,FALSE))","v":0},{"$f":"IF(ISNA(VLOOKUP($C54,'Sat TT_02'!$C$4:$Q$152,12,FALSE)=$C54),0,VLOOKUP($C54,'Sat TT_02'!$C$4:$Q$152,12,FALSE))","v":0},{"$f":"IF(ISNA(VLOOKUP($C54,'Sat TT_03'!$C$4:$Q$152,12,FALSE)=$C54),0,VLOOKUP($C54,'Sat TT_03'!$C$4:$Q$152,12,FALSE))","v":0},{"$f":"IF(ISNA(VLOOKUP($C54,'Sat TT_04'!$C$4:$Q$152,12,FALSE)=$C54),0,VLOOKUP($C54,'Sat TT_04'!$C$4:$Q$152,12,FALSE))","v":0},{"$f":"IF(ISNA(VLOOKUP($C54,'Sat TT_05'!$C$4:$Q$152,12,FALSE)=$C54),0,VLOOKUP($C54,'Sat TT_05'!$C$4:$Q$152,12,FALSE))","v":0},{"$f":"IF(ISNA(VLOOKUP($C54,'Sat TT_06'!$C$4:$Q$152,12,FALSE)=$C54),0,VLOOKUP($C54,'Sat TT_06'!$C$4:$Q$152,12,FALSE))","v":0},{"$f":"IF(ISNA(VLOOKUP($C54,'Sat TT_07'!$C$4:$Q$152,12,FALSE)=$C54),0,VLOOKUP($C54,'Sat TT_07'!$C$4:$Q$152,12,FALSE))","v":0},{"$f":"IF(ISNA(VLOOKUP($C54,'Sat TT_08'!$C$4:$Q$152,12,FALSE)=$C54),0,VLOOKUP($C54,'Sat TT_08'!$C$4:$Q$152,12,FALSE))","v":0},0]
[{"$f":"VLOOKUP(C55,'Sheet 1'!C$1:D$96,2,FALSE)","v":{"$error":"#N/A"}},46,{"$f":"+'[1]Racing numbers file'!$B168","v":"Malcolm Kell"},{"$f":"VLOOKUP(C55,'[1]Racing numbers file'!$B$4:$F$290,2,FALSE)","v":1971},{"$f":"VLOOKUP(C55,'[1]Racing numbers file'!$B$4:$F$290,4,FALSE)","v":45},0,{"$f":"IF(ISNA(VLOOKUP($C55,'Sat TT_01'!$C$4:$Q$152,12,FALSE)=$C55),0,VLOOKUP($C55,'Sat TT_01'!$C$4:$Q$152,12,FALSE))","v":0},{"$f":"IF(ISNA(VLOOKUP($C55,'Sat TT_02'!$C$4:$Q$152,12,FALSE)=$C55),0,VLOOKUP($C55,'Sat TT_02'!$C$4:$Q$152,12,FALSE))","v":0},{"$f":"IF(ISNA(VLOOKUP($C55,'Sat TT_03'!$C$4:$Q$152,12,FALSE)=$C55),0,VLOOKUP($C55,'Sat TT_03'!$C$4:$Q$152,12,FALSE))","v":0},{"$f":"IF(ISNA(VLOOKUP($C55,'Sat TT_04'!$C$4:$Q$152,12,FALSE)=$C55),0,VLOOKUP($C55,'Sat TT_04'!$C$4:$Q$152,12,FALSE))","v":0},{"$f":"IF(ISNA(VLOOKUP($C55,'Sat TT_05'!$C$4:$Q$152,12,FALSE)=$C55),0,VLOOKUP($C55,'Sat TT_05'!$C$4:$Q$152,12,FALSE))","v":0},{"$f":"IF(ISNA(VLOOKUP($C55,'Sat TT_06'!$C$4:$Q$152,12,FALSE)=$C55),0,VLOOKUP($C55,'Sat TT_06'!$C$4:$Q$152,12,FALSE))","v":0},{"$f":"IF(ISNA(VLOOKUP($C55,'Sat TT_07'!$C$4:$Q$152,12,FALSE)=$C55),0,VLOOKUP($C55,'Sat TT_07'!$C$4:$Q$152,12,FALSE))","v":0},{"$f":"IF(ISNA(VLOOKUP($C55,'Sat TT_08'!$C$4:$Q$152,12,FALSE)=$C55),0,VLOOKUP($C55,'Sat TT_08'!$C$4:$Q$152,12,FALSE))","v":0},0]
[{"$f":"VLOOKUP(C56,'Sheet 1'!C$1:D$96,2,FALSE)","v":{"$error":"#N/A"}},47,{"$f":"+'[1]Racing numbers file'!$B121","v":"Michael Kinsella"},{"$f":"VLOOKUP(C56,'[1]Racing numbers file'!$B$4:$F$290,2,FALSE)","v":1965},{"$f":"VLOOKUP(C56,'[1]Racing numbers file'!$B$4:$F$290,4,FALSE)","v":51},0,{"$f":"IF(ISNA(VLOOKUP($C56,'Sat TT_01'!$C$4:$Q$152,12,FALSE)=$C56),0,VLOOKUP($C56,'Sat TT_01'!$C$4:$Q$152,12,FALSE))","v":0},{"$f":"IF(ISNA(VLOOKUP($C56,'Sat TT_02'!$C$4:$Q$152,12,FALSE)=$C56),0,VLOOKUP($C56,'Sat TT_02'!$C$4:$Q$152,12,FALSE))","v":0},{"$f":"IF(ISNA(VLOOKUP($C56,'Sat TT_03'!$C$4:$Q$152,12,FALSE)=$C56),0,VLOOKUP($C56,'Sat TT_03'!$C$4:$Q$152,12,FALSE))","v":0},{"$f":"IF(ISNA(VLOOKUP($C56,'Sat TT_04'!$C$4:$Q$152,12,FALSE)=$C56),0,VLOOKUP($C56,'Sat TT_04'!$C$4:$Q$152,12,FALSE))","v":0},{"$f":"IF(ISNA(VLOOKUP($C56,'Sat TT_05'!$C$4:$Q$152,12,FALSE)=$C56),0,VLOOKUP($C56,'Sat TT_05'!$C$4:$Q$152,12,FALSE))","v":0},{"$f":"IF(ISNA(VLOOKUP($C56,'Sat TT_06'!$C$4:$Q$152,12,FALSE)=$C56),0,VLOOKUP($C56,'Sat TT_06'!$C$4:$Q$152,12,FALSE))","v":0},{"$f":"IF(ISNA(VLOOKUP($C56,'Sat TT_07'!$C$4:$Q$152,12,FALSE)=$C56),0,VLOOKUP($C56,'Sat TT_07'!$C$4:$Q$152,12,FALSE))","v":0},{"$f":"IF(ISNA(VLOOKUP($C56,'Sat TT_08'!$C$4:$Q$152,12,FALSE)=$C56),0,VLOOKUP($C56,'Sat TT_08'!$C$4:$Q$152,12,FALSE))","v":0},0]
[{"$f":"VLOOKUP(C57,'Sheet 1'!C$1:D$96,2,FALSE)","v":{"$error":"#N/A"}},48,{"$f":"+'[1]Racing numbers file'!$B113","v":"Ger Madden"},{"$f":"VLOOKUP(C57,'[1]Racing numbers file'!$B$4:$F$290,2,FALSE)","v":1964},{"$f":"VLOOKUP(C57,'[1]Racing numbers file'!$B$4:$F$290,4,FALSE)","v":52},0,{"$f":"IF(ISNA(VLOOKUP($C57,'Sat TT_01'!$C$4:$Q$152,12,FALSE)=$C57),0,VLOOKUP($C57,'Sat TT_01'!$C$4:$Q$152,12,FALSE))","v":0},{"$f":"IF(ISNA(VLOOKUP($C57,'Sat TT_02'!$C$4:$Q$152,12,FALSE)=$C57),0,VLOOKUP($C57,'Sat TT_02'!$C$4:$Q$152,12,FALSE))","v":0},{"$f":"IF(ISNA(VLOOKUP($C57,'Sat TT_03'!$C$4:$Q$152,12,FALSE)=$C57),0,VLOOKUP($C57,'Sat TT_03'!$C$4:$Q$152,12,FALSE))","v":0},{"$f":"IF(ISNA(VLOOKUP($C57,'Sat TT_04'!$C$4:$Q$152,12,FALSE)=$C57),0,VLOOKUP($C57,'Sat TT_04'!$C$4:$Q$152,12,FALSE))","v":0},{"$f":"IF(ISNA(VLOOKUP($C57,'Sat TT_05'!$C$4:$Q$152,12,FALSE)=$C57),0,VLOOKUP($C57,'Sat TT_05'!$C$4:$Q$152,12,FALSE))","v":0},{"$f":"IF(ISNA(VLOOKUP($C57,'Sat TT_06'!$C$4:$Q$152,12,FALSE)=$C57),0,VLOOKUP($C57,'Sat TT_06'!$C$4:$Q$152,12,FALSE))","v":0},{"$f":"IF(ISNA(VLOOKUP($C57,'Sat TT_07'!$C$4:$Q$152,12,FALSE)=$C57),0,VLOOKUP($C57,'Sat TT_07'!$C$4:$Q$152,12,FALSE))","v":0},{"$f":"IF(ISNA(VLOOKUP($C57,'Sat TT_08'!$C$4:$Q$152,12,FALSE)=$C57),0,VLOOKUP($C57,'Sat TT_08'!$C$4:$Q$152,12,FALSE))","v":0},0]
[{"$f":"VLOOKUP(C58,'Sheet 1'!C$1:D$96,2,FALSE)","v":{"$error":"#N/A"}},49,{"$f":"+'[1]Racing numbers file'!$B184","v":"Mark Cooney"},{"$f":"VLOOKUP(C58,'[1]Racing numbers file'!$B$4:$F$290,2,FALSE)","v":1972},{"$f":"VLOOKUP(C58,'[1]Racing numbers file'!$B$4:$F$290,4,FALSE)","v":44},0,{"$f":"IF(ISNA(VLOOKUP($C58,'Sat TT_01'!$C$4:$Q$152,12,FALSE)=$C58),0,VLOOKUP($C58,'Sat TT_01'!$C$4:$Q$152,12,FALSE))","v":0},{"$f":"IF(ISNA(VLOOKUP($C58,'Sat TT_02'!$C$4:$Q$152,12,FALSE)=$C58),0,VLOOKUP($C58,'Sat TT_02'!$C$4:$Q$152,12,FALSE))","v":0},{"$f":"IF(ISNA(VLOOKUP($C58,'Sat TT_03'!$C$4:$Q$152,12,FALSE)=$C58),0,VLOOKUP($C58,'Sat TT_03'!$C$4:$Q$152,12,FALSE))","v":0},{"$f":"IF(ISNA(VLOOKUP($C58,'Sat TT_04'!$C$4:$Q$152,12,FALSE)=$C58),0,VLOOKUP($C58,'Sat TT_04'!$C$4:$Q$152,12,FALSE))","v":0},{"$f":"IF(ISNA(VLOOKUP($C58,'Sat TT_05'!$C$4:$Q$152,12,FALSE)=$C58),0,VLOOKUP($C58,'Sat TT_05'!$C$4:$Q$152,12,FALSE))","v":0},{"$f":"IF(ISNA(VLOOKUP($C58,'Sat TT_06'!$C$4:$Q$152,12,FALSE)=$C58),0,VLOOKUP($C58,'Sat TT_06'!$C$4:$Q$152,12,FALSE))","v":0},{"$f":"IF(ISNA(VLOOKUP($C58,'Sat TT_07'!$C$4:$Q$152,12,FALSE)=$C58),0,VLOOKUP($C58,'Sat TT_07'!$C$4:$Q$152,12,FALSE))","v":0},{"$f":"IF(ISNA(VLOOKUP($C58,'Sat TT_08'!$C$4:$Q$152,12,FALSE)=$C58),0,VLOOKUP($C58,'Sat TT_08'!$C$4:$Q$152,12,FALSE))","v":0},0]
[{"$f":"VLOOKUP(C59,'Sheet 1'!C$1:D$96,2,FALSE)","v":{"$error":"#N/A"}},50,{"$f":"+'[1]Racing numbers file'!$B18","v":"Jimmy Lally"},{"$f":"VLOOKUP(C59,'[1]Racing numbers file'!$B$4:$F$290,2,FALSE)","v":1943},{"$f":"VLOOKUP(C59,'[1]Racing numbers file'!$B$4:$F$290,4,FALSE)","v":73},0,{"$f":"IF(ISNA(VLOOKUP($C59,'Sat TT_01'!$C$4:$Q$152,12,FALSE)=$C59),0,VLOOKUP($C59,'Sat TT_01'!$C$4:$Q$152,12,FALSE))","v":0},{"$f":"IF(ISNA(VLOOKUP($C59,'Sat TT_02'!$C$4:$Q$152,12,FALSE)=$C59),0,VLOOKUP($C59,'Sat TT_02'!$C$4:$Q$152,12,FALSE))","v":0},{"$f":"IF(ISNA(VLOOKUP($C59,'Sat TT_03'!$C$4:$Q$152,12,FALSE)=$C59),0,VLOOKUP($C59,'Sat TT_03'!$C$4:$Q$152,12,FALSE))","v":0},{"$f":"IF(ISNA(VLOOKUP($C59,'Sat TT_04'!$C$4:$Q$152,12,FALSE)=$C59),0,VLOOKUP($C59,'Sat TT_04'!$C$4:$Q$152,12,FALSE))","v":0},{"$f":"IF(ISNA(VLOOKUP($C59,'Sat TT_05'!$C$4:$Q$152,12,FALSE)=$C59),0,VLOOKUP($C59,'Sat TT_05'!$C$4:$Q$152,12,FALSE))","v":0},{"$f":"IF(ISNA(VLOOKUP($C59,'Sat TT_06'!$C$4:$Q$152,12,FALSE)=$C59),0,VLOOKUP($C59,'Sat TT_06'!$C$4:$Q$152,12,FALSE))","v":0},{"$f":"IF(ISNA(VLOOKUP($C59,'Sat TT_07'!$C$4:$Q$152,12,FALSE)=$C59),0,VLOOKUP($C59,'Sat TT_07'!$C$4:$Q$152,12,FALSE))","v":0},{"$f":"IF(ISNA(VLOOKUP($C59,'Sat TT_08'!$C$4:$Q$152,12,FALSE)=$C59),0,VLOOKUP($C59,'Sat TT_08'!$C$4:$Q$152,12,FALSE))","v":0},0]
[{"$f":"VLOOKUP(C60,'Sheet 1'!C$1:D$96,2,FALSE)","v":{"$error":"#N/A"}},51,{"$f":"+'[1]Racing numbers file'!$B169","v":"Cian Lynch"},{"$f":"VLOOKUP(C60,'[1]Racing numbers file'!$B$4:$F$290,2,FALSE)","v":1971},{"$f":"VLOOKUP(C60,'[1]Racing numbers file'!$B$4:$F$290,4,FALSE)","v":45},0,{"$f":"IF(ISNA(VLOOKUP($C60,'Sat TT_01'!$C$4:$Q$152,12,FALSE)=$C60),0,VLOOKUP($C60,'Sat TT_01'!$C$4:$Q$152,12,FALSE))","v":0},{"$f":"IF(ISNA(VLOOKUP($C60,'Sat TT_02'!$C$4:$Q$152,12,FALSE)=$C60),0,VLOOKUP($C60,'Sat TT_02'!$C$4:$Q$152,12,FALSE))","v":0},{"$f":"IF(ISNA(VLOOKUP($C60,'Sat TT_03'!$C$4:$Q$152,12,FALSE)=$C60),0,VLOOKUP($C60,'Sat TT_03'!$C$4:$Q$152,12,FALSE))","v":0},{"$f":"IF(ISNA(VLOOKUP($C60,'Sat TT_04'!$C$4:$Q$152,12,FALSE)=$C60),0,VLOOKUP($C60,'Sat TT_04'!$C$4:$Q$152,12,FALSE))","v":0},{"$f":"IF(ISNA(VLOOKUP($C60,'Sat TT_05'!$C$4:$Q$152,12,FALSE)=$C60),0,VLOOKUP($C60,'Sat TT_05'!$C$4:$Q$152,12,FALSE))","v":0},{"$f":"IF(ISNA(VLOOKUP($C60,'Sat TT_06'!$C$4:$Q$152,12,FALSE)=$C60),0,VLOOKUP($C60,'Sat TT_06'!$C$4:$Q$152,12,FALSE))","v":0},{"$f":"IF(ISNA(VLOOKUP($C60,'Sat TT_07'!$C$4:$Q$152,12,FALSE)=$C60),0,VLOOKUP($C60,'Sat TT_07'!$C$4:$Q$152,12,FALSE))","v":0},{"$f":"IF(ISNA(VLOOKUP($C60,'Sat TT_08'!$C$4:$Q$152,12,FALSE)=$C60),0,VLOOKUP($C60,'Sat TT_08'!$C$4:$Q$152,12,FALSE))","v":0},0]
[{"$f":"VLOOKUP(C61,'Sheet 1'!C$1:D$96,2,FALSE)","v":1137},52,{"$f":"+'[1]Racing numbers file'!$B64","v":"Karl Gallagher"},{"$f":"VLOOKUP(C61,'[1]Racing numbers file'!$B$4:$F$290,2,FALSE)","v":1958},{"$f":"VLOOKUP(C61,'[1]Racing numbers file'!$B$4:$F$290,4,FALSE)","v":58},0,{"$f":"IF(ISNA(VLOOKUP($C61,'Sat TT_01'!$C$4:$Q$152,12,FALSE)=$C61),0,VLOOKUP($C61,'Sat TT_01'!$C$4:$Q$152,12,FALSE))","v":0},{"$f":"IF(ISNA(VLOOKUP($C61,'Sat TT_02'!$C$4:$Q$152,12,FALSE)=$C61),0,VLOOKUP($C61,'Sat TT_02'!$C$4:$Q$152,12,FALSE))","v":0},{"$f":"IF(ISNA(VLOOKUP($C61,'Sat TT_03'!$C$4:$Q$152,12,FALSE)=$C61),0,VLOOKUP($C61,'Sat TT_03'!$C$4:$Q$152,12,FALSE))","v":0},{"$f":"IF(ISNA(VLOOKUP($C61,'Sat TT_04'!$C$4:$Q$152,12,FALSE)=$C61),0,VLOOKUP($C61,'Sat TT_04'!$C$4:$Q$152,12,FALSE))","v":0},{"$f":"IF(ISNA(VLOOKUP($C61,'Sat TT_05'!$C$4:$Q$152,12,FALSE)=$C61),0,VLOOKUP($C61,'Sat TT_05'!$C$4:$Q$152,12,FALSE))","v":0},{"$f":"IF(ISNA(VLOOKUP($C61,'Sat TT_06'!$C$4:$Q$152,12,FALSE)=$C61),0,VLOOKUP($C61,'Sat TT_06'!$C$4:$Q$152,12,FALSE))","v":0},{"$f":"IF(ISNA(VLOOKUP($C61,'Sat TT_07'!$C$4:$Q$152,12,FALSE)=$C61),0,VLOOKUP($C61,'Sat TT_07'!$C$4:$Q$152,12,FALSE))","v":0},{"$f":"IF(ISNA(VLOOKUP($C61,'Sat TT_08'!$C$4:$Q$152,12,FALSE)=$C61),0,VLOOKUP($C61,'Sat TT_08'!$C$4:$Q$152,12,FALSE))","v":0},0]
[{"$f":"VLOOKUP(C62,'Sheet 1'!C$1:D$96,2,FALSE)","v":1259},53,{"$f":"+'[1]Racing numbers file'!$B133","v":"Mark Prendergast"},{"$f":"VLOOKUP(C62,'[1]Racing numbers file'!$B$4:$F$290,2,FALSE)","v":1967},{"$f":"VLOOKUP(C62,'[1]Racing numbers file'!$B$4:$F$290,4,FALSE)","v":49},0,{"$f":"IF(ISNA(VLOOKUP($C62,'Sat TT_01'!$C$4:$Q$152,12,FALSE)=$C62),0,VLOOKUP($C62,'Sat TT_01'!$C$4:$Q$152,12,FALSE))","v":0},{"$f":"IF(ISNA(VLOOKUP($C62,'Sat TT_02'!$C$4:$Q$152,12,FALSE)=$C62),0,VLOOKUP($C62,'Sat TT_02'!$C$4:$Q$152,12,FALSE))","v":0},{"$f":"IF(ISNA(VLOOKUP($C62,'Sat TT_03'!$C$4:$Q$152,12,FALSE)=$C62),0,VLOOKUP($C62,'Sat TT_03'!$C$4:$Q$152,12,FALSE))","v":0},{"$f":"IF(ISNA(VLOOKUP($C62,'Sat TT_04'!$C$4:$Q$152,12,FALSE)=$C62),0,VLOOKUP($C62,'Sat TT_04'!$C$4:$Q$152,12,FALSE))","v":0},{"$f":"IF(ISNA(VLOOKUP($C62,'Sat TT_05'!$C$4:$Q$152,12,FALSE)=$C62),0,VLOOKUP($C62,'Sat TT_05'!$C$4:$Q$152,12,FALSE))","v":0},{"$f":"IF(ISNA(VLOOKUP($C62,'Sat TT_06'!$C$4:$Q$152,12,FALSE)=$C62),0,VLOOKUP($C62,'Sat TT_06'!$C$4:$Q$152,12,FALSE))","v":0},{"$f":"IF(ISNA(VLOOKUP($C62,'Sat TT_07'!$C$4:$Q$152,12,FALSE)=$C62),0,VLOOKUP($C62,'Sat TT_07'!$C$4:$Q$152,12,FALSE))","v":0},{"$f":"IF(ISNA(VLOOKUP($C62,'Sat TT_08'!$C$4:$Q$152,12,FALSE)=$C62),0,VLOOKUP($C62,'Sat TT_08'!$C$4:$Q$152,12,FALSE))","v":0},0]
[{"$f":"VLOOKUP(C63,'Sheet 1'!C$1:D$96,2,FALSE)","v":{"$error":"#N/A"}},54,{"$f":"+'[1]Racing numbers file'!$B43","v":"Tosh Lavery"},{"$f":"VLOOKUP(C63,'[1]Racing numbers file'!$B$4:$F$290,2,FALSE)","v":1953},{"$f":"VLOOKUP(C63,'[1]Racing numbers file'!$B$4:$F$290,4,FALSE)","v":63},0,{"$f":"IF(ISNA(VLOOKUP($C63,'Sat TT_01'!$C$4:$Q$152,12,FALSE)=$C63),0,VLOOKUP($C63,'Sat TT_01'!$C$4:$Q$152,12,FALSE))","v":0},{"$f":"IF(ISNA(VLOOKUP($C63,'Sat TT_02'!$C$4:$Q$152,12,FALSE)=$C63),0,VLOOKUP($C63,'Sat TT_02'!$C$4:$Q$152,12,FALSE))","v":0},{"$f":"IF(ISNA(VLOOKUP($C63,'Sat TT_03'!$C$4:$Q$152,12,FALSE)=$C63),0,VLOOKUP($C63,'Sat TT_03'!$C$4:$Q$152,12,FALSE))","v":0},{"$f":"IF(ISNA(VLOOKUP($C63,'Sat TT_04'!$C$4:$Q$152,12,FALSE)=$C63),0,VLOOKUP($C63,'Sat TT_04'!$C$4:$Q$152,12,FALSE))","v":0},{"$f":"IF(ISNA(VLOOKUP($C63,'Sat TT_05'!$C$4:$Q$152,12,FALSE)=$C63),0,VLOOKUP($C63,'Sat TT_05'!$C$4:$Q$152,12,FALSE))","v":0},{"$f":"IF(ISNA(VLOOKUP($C63,'Sat TT_06'!$C$4:$Q$152,12,FALSE)=$C63),0,VLOOKUP($C63,'Sat TT_06'!$C$4:$Q$152,12,FALSE))","v":0},{"$f":"IF(ISNA(VLOOKUP($C63,'Sat TT_07'!$C$4:$Q$152,12,FALSE)=$C63),0,VLOOKUP($C63,'Sat TT_07'!$C$4:$Q$152,12,FALSE))","v":0},{"$f":"IF(ISNA(VLOOKUP($C63,'Sat TT_08'!$C$4:$Q$152,12,FALSE)=$C63),0,VLOOKUP($C63,'Sat TT_08'!$C$4:$Q$152,12,FALSE))","v":0},0]
[{"$f":"VLOOKUP(C64,'Sheet 1'!C$1:D$96,2,FALSE)","v":{"$error":"#N/A"}},55,{"$f":"+'[1]Racing numbers file'!$B138","v":"Damian Doyle"},{"$f":"VLOOKUP(C64,'[1]Racing numbers file'!$B$4:$F$290,2,FALSE)","v":1967},{"$f":"VLOOKUP(C64,'[1]Racing numbers file'!$B$4:$F$290,4,FALSE)","v":49},0,{"$f":"IF(ISNA(VLOOKUP($C64,'Sat TT_01'!$C$4:$Q$152,12,FALSE)=$C64),0,VLOOKUP($C64,'Sat TT_01'!$C$4:$Q$152,12,FALSE))","v":0},{"$f":"IF(ISNA(VLOOKUP($C64,'Sat TT_02'!$C$4:$Q$152,12,FALSE)=$C64),0,VLOOKUP($C64,'Sat TT_02'!$C$4:$Q$152,12,FALSE))","v":0},{"$f":"IF(ISNA(VLOOKUP($C64,'Sat TT_03'!$C$4:$Q$152,12,FALSE)=$C64),0,VLOOKUP($C64,'Sat TT_03'!$C$4:$Q$152,12,FALSE))","v":0},{"$f":"IF(ISNA(VLOOKUP($C64,'Sat TT_04'!$C$4:$Q$152,12,FALSE)=$C64),0,VLOOKUP($C64,'Sat TT_04'!$C$4:$Q$152,12,FALSE))","v":0},{"$f":"IF(ISNA(VLOOKUP($C64,'Sat TT_05'!$C$4:$Q$152,12,FALSE)=$C64),0,VLOOKUP($C64,'Sat TT_05'!$C$4:$Q$152,12,FALSE))","v":0},{"$f":"IF(ISNA(VLOOKUP($C64,'Sat TT_06'!$C$4:$Q$152,12,FALSE)=$C64),0,VLOOKUP($C64,'Sat TT_06'!$C$4:$Q$152,12,FALSE))","v":0},{"$f":"IF(ISNA(VLOOKUP($C64,'Sat TT_07'!$C$4:$Q$152,12,FALSE)=$C64),0,VLOOKUP($C64,'Sat TT_07'!$C$4:$Q$152,12,FALSE))","v":0},{"$f":"IF(ISNA(VLOOKUP($C64,'Sat TT_08'!$C$4:$Q$152,12,FALSE)=$C64),0,VLOOKUP($C64,'Sat TT_08'!$C$4:$Q$152,12,FALSE))","v":0},0]
[{"$f":"VLOOKUP(C65,'Sheet 1'!C$1:D$96,2,FALSE)","v":{"$error":"#N/A"}},56,{"$f":"+'[1]Racing numbers file'!$B228","v":"Jason O'Toole"},{"$f":"VLOOKUP(C65,'[1]Racing numbers file'!$B$4:$F$290,2,FALSE)","v":1971},{"$f":"VLOOKUP(C65,'[1]Racing numbers file'!$B$4:$F$290,4,FALSE)","v":45},0,{"$f":"IF(ISNA(VLOOKUP($C65,'Sat TT_01'!$C$4:$Q$152,12,FALSE)=$C65),0,VLOOKUP($C65,'Sat TT_01'!$C$4:$Q$152,12,FALSE))","v":0},{"$f":"IF(ISNA(VLOOKUP($C65,'Sat TT_02'!$C$4:$Q$152,12,FALSE)=$C65),0,VLOOKUP($C65,'Sat TT_02'!$C$4:$Q$152,12,FALSE))","v":0},{"$f":"IF(ISNA(VLOOKUP($C65,'Sat TT_03'!$C$4:$Q$152,12,FALSE)=$C65),0,VLOOKUP($C65,'Sat TT_03'!$C$4:$Q$152,12,FALSE))","v":0},{"$f":"IF(ISNA(VLOOKUP($C65,'Sat TT_04'!$C$4:$Q$152,12,FALSE)=$C65),0,VLOOKUP($C65,'Sat TT_04'!$C$4:$Q$152,12,FALSE))","v":0},{"$f":"IF(ISNA(VLOOKUP($C65,'Sat TT_05'!$C$4:$Q$152,12,FALSE)=$C65),0,VLOOKUP($C65,'Sat TT_05'!$C$4:$Q$152,12,FALSE))","v":0},{"$f":"IF(ISNA(VLOOKUP($C65,'Sat TT_06'!$C$4:$Q$152,12,FALSE)=$C65),0,VLOOKUP($C65,'Sat TT_06'!$C$4:$Q$152,12,FALSE))","v":0},{"$f":"IF(ISNA(VLOOKUP($C65,'Sat TT_07'!$C$4:$Q$152,12,FALSE)=$C65),0,VLOOKUP($C65,'Sat TT_07'!$C$4:$Q$152,12,FALSE))","v":0},{"$f":"IF(ISNA(VLOOKUP($C65,'Sat TT_08'!$C$4:$Q$152,12,FALSE)=$C65),0,VLOOKUP($C65,'Sat TT_08'!$C$4:$Q$152,12,FALSE))","v":0},0]
[{"$f":"VLOOKUP(C66,'Sheet 1'!C$1:D$96,2,FALSE)","v":{"$error":"#N/A"}},57,{"$f":"+'[1]Racing numbers file'!$B187","v":"Paul Kelly"},{"$f":"VLOOKUP(C66,'[1]Racing numbers file'!$B$4:$F$290,2,FALSE)","v":1974},{"$f":"VLOOKUP(C66,'[1]Racing numbers file'!$B$4:$F$290,4,FALSE)","v":42},0,{"$f":"IF(ISNA(VLOOKUP($C66,'Sat TT_01'!$C$4:$Q$152,12,FALSE)=$C66),0,VLOOKUP($C66,'Sat TT_01'!$C$4:$Q$152,12,FALSE))","v":0},{"$f":"IF(ISNA(VLOOKUP($C66,'Sat TT_02'!$C$4:$Q$152,12,FALSE)=$C66),0,VLOOKUP($C66,'Sat TT_02'!$C$4:$Q$152,12,FALSE))","v":0},{"$f":"IF(ISNA(VLOOKUP($C66,'Sat TT_03'!$C$4:$Q$152,12,FALSE)=$C66),0,VLOOKUP($C66,'Sat TT_03'!$C$4:$Q$152,12,FALSE))","v":0},{"$f":"IF(ISNA(VLOOKUP($C66,'Sat TT_04'!$C$4:$Q$152,12,FALSE)=$C66),0,VLOOKUP($C66,'Sat TT_04'!$C$4:$Q$152,12,FALSE))","v":0},{"$f":"IF(ISNA(VLOOKUP($C66,'Sat TT_05'!$C$4:$Q$152,12,FALSE)=$C66),0,VLOOKUP($C66,'Sat TT_05'!$C$4:$Q$152,12,FALSE))","v":0},{"$f":"IF(ISNA(VLOOKUP($C66,'Sat TT_06'!$C$4:$Q$152,12,FALSE)=$C66),0,VLOOKUP($C66,'Sat TT_06'!$C$4:$Q$152,12,FALSE))","v":0},{"$f":"IF(ISNA(VLOOKUP($C66,'Sat TT_07'!$C$4:$Q$152,12,FALSE)=$C66),0,VLOOKUP($C66,'Sat TT_07'!$C$4:$Q$152,12,FALSE))","v":0},{"$f":"IF(ISNA(VLOOKUP($C66,'Sat TT_08'!$C$4:$Q$152,12,FALSE)=$C66),0,VLOOKUP($C66,'Sat TT_08'!$C$4:$Q$152,12,FALSE))","v":0},0]
[{"$f":"VLOOKUP(C67,'Sheet 1'!C$1:D$96,2,FALSE)","v":{"$error":"#N/A"}},58,{"$f":"+'[1]Racing numbers file'!$B158","v":"Erik Robson"},{"$f":"VLOOKUP(C67,'[1]Racing numbers file'!$B$4:$F$290,2,FALSE)","v":1970},{"$f":"VLOOKUP(C67,'[1]Racing numbers file'!$B$4:$F$290,4,FALSE)","v":46},0,{"$f":"IF(ISNA(VLOOKUP($C67,'Sat TT_01'!$C$4:$Q$152,12,FALSE)=$C67),0,VLOOKUP($C67,'Sat TT_01'!$C$4:$Q$152,12,FALSE))","v":0},{"$f":"IF(ISNA(VLOOKUP($C67,'Sat TT_02'!$C$4:$Q$152,12,FALSE)=$C67),0,VLOOKUP($C67,'Sat TT_02'!$C$4:$Q$152,12,FALSE))","v":0},{"$f":"IF(ISNA(VLOOKUP($C67,'Sat TT_03'!$C$4:$Q$152,12,FALSE)=$C67),0,VLOOKUP($C67,'Sat TT_03'!$C$4:$Q$152,12,FALSE))","v":0},{"$f":"IF(ISNA(VLOOKUP($C67,'Sat TT_04'!$C$4:$Q$152,12,FALSE)=$C67),0,VLOOKUP($C67,'Sat TT_04'!$C$4:$Q$152,12,FALSE))","v":0},{"$f":"IF(ISNA(VLOOKUP($C67,'Sat TT_05'!$C$4:$Q$152,12,FALSE)=$C67),0,VLOOKUP($C67,'Sat TT_05'!$C$4:$Q$152,12,FALSE))","v":0},{"$f":"IF(ISNA(VLOOKUP($C67,'Sat TT_06'!$C$4:$Q$152,12,FALSE)=$C67),0,VLOOKUP($C67,'Sat TT_06'!$C$4:$Q$152,12,FALSE))","v":0},{"$f":"IF(ISNA(VLOOKUP($C67,'Sat TT_07'!$C$4:$Q$152,12,FALSE)=$C67),0,VLOOKUP($C67,'Sat TT_07'!$C$4:$Q$152,12,FALSE))","v":0},{"$f":"IF(ISNA(VLOOKUP($C67,'Sat TT_08'!$C$4:$Q$152,12,FALSE)=$C67),0,VLOOKUP($C67,'Sat TT_08'!$C$4:$Q$152,12,FALSE))","v":0},0]
[{"$f":"VLOOKUP(C68,'Sheet 1'!C$1:D$96,2,FALSE)","v":1228},59,{"$f":"+'[1]Racing numbers file'!$B116","v":"William McGonagle"},{"$f":"VLOOKUP(C68,'[1]Racing numbers file'!$B$4:$F$290,2,FALSE)","v":1964},{"$f":"VLOOKUP(C68,'[1]Racing numbers file'!$B$4:$F$290,4,FALSE)","v":52},0,{"$f":"IF(ISNA(VLOOKUP($C68,'Sat TT_01'!$C$4:$Q$152,12,FALSE)=$C68),0,VLOOKUP($C68,'Sat TT_01'!$C$4:$Q$152,12,FALSE))","v":0},{"$f":"IF(ISNA(VLOOKUP($C68,'Sat TT_02'!$C$4:$Q$152,12,FALSE)=$C68),0,VLOOKUP($C68,'Sat TT_02'!$C$4:$Q$152,12,FALSE))","v":0},{"$f":"IF(ISNA(VLOOKUP($C68,'Sat TT_03'!$C$4:$Q$152,12,FALSE)=$C68),0,VLOOKUP($C68,'Sat TT_03'!$C$4:$Q$152,12,FALSE))","v":0},{"$f":"IF(ISNA(VLOOKUP($C68,'Sat TT_04'!$C$4:$Q$152,12,FALSE)=$C68),0,VLOOKUP($C68,'Sat TT_04'!$C$4:$Q$152,12,FALSE))","v":0},{"$f":"IF(ISNA(VLOOKUP($C68,'Sat TT_05'!$C$4:$Q$152,12,FALSE)=$C68),0,VLOOKUP($C68,'Sat TT_05'!$C$4:$Q$152,12,FALSE))","v":0},{"$f":"IF(ISNA(VLOOKUP($C68,'Sat TT_06'!$C$4:$Q$152,12,FALSE)=$C68),0,VLOOKUP($C68,'Sat TT_06'!$C$4:$Q$152,12,FALSE))","v":0},{"$f":"IF(ISNA(VLOOKUP($C68,'Sat TT_07'!$C$4:$Q$152,12,FALSE)=$C68),0,VLOOKUP($C68,'Sat TT_07'!$C$4:$Q$152,12,FALSE))","v":0},{"$f":"IF(ISNA(VLOOKUP($C68,'Sat TT_08'!$C$4:$Q$152,12,FALSE)=$C68),0,VLOOKUP($C68,'Sat TT_08'!$C$4:$Q$152,12,FALSE))","v":0},0]
[{"$f":"VLOOKUP(C69,'Sheet 1'!C$1:D$96,2,FALSE)","v":{"$error":"#N/A"}},60,{"$f":"+'[1]Racing numbers file'!$B31","v":"Des Howe"},{"$f":"VLOOKUP(C69,'[1]Racing numbers file'!$B$4:$F$290,2,FALSE)","v":1948},{"$f":"VLOOKUP(C69,'[1]Racing numbers file'!$B$4:$F$290,4,FALSE)","v":68},0,{"$f":"IF(ISNA(VLOOKUP($C69,'Sat TT_01'!$C$4:$Q$152,12,FALSE)=$C69),0,VLOOKUP($C69,'Sat TT_01'!$C$4:$Q$152,12,FALSE))","v":0},{"$f":"IF(ISNA(VLOOKUP($C69,'Sat TT_02'!$C$4:$Q$152,12,FALSE)=$C69),0,VLOOKUP($C69,'Sat TT_02'!$C$4:$Q$152,12,FALSE))","v":0},{"$f":"IF(ISNA(VLOOKUP($C69,'Sat TT_03'!$C$4:$Q$152,12,FALSE)=$C69),0,VLOOKUP($C69,'Sat TT_03'!$C$4:$Q$152,12,FALSE))","v":0},{"$f":"IF(ISNA(VLOOKUP($C69,'Sat TT_04'!$C$4:$Q$152,12,FALSE)=$C69),0,VLOOKUP($C69,'Sat TT_04'!$C$4:$Q$152,12,FALSE))","v":0},{"$f":"IF(ISNA(VLOOKUP($C69,'Sat TT_05'!$C$4:$Q$152,12,FALSE)=$C69),0,VLOOKUP($C69,'Sat TT_05'!$C$4:$Q$152,12,FALSE))","v":0},{"$f":"IF(ISNA(VLOOKUP($C69,'Sat TT_06'!$C$4:$Q$152,12,FALSE)=$C69),0,VLOOKUP($C69,'Sat TT_06'!$C$4:$Q$152,12,FALSE))","v":0},{"$f":"IF(ISNA(VLOOKUP($C69,'Sat TT_07'!$C$4:$Q$152,12,FALSE)=$C69),0,VLOOKUP($C69,'Sat TT_07'!$C$4:$Q$152,12,FALSE))","v":0},{"$f":"IF(ISNA(VLOOKUP($C69,'Sat TT_08'!$C$4:$Q$152,12,FALSE)=$C69),0,VLOOKUP($C69,'Sat TT_08'!$C$4:$Q$152,12,FALSE))","v":0},0]
[{"$f":"VLOOKUP(C70,'Sheet 1'!C$1:D$96,2,FALSE)","v":1426},61,{"$f":"+'[1]Racing numbers file'!$B217","v":"Seán Bracken"},{"$f":"VLOOKUP(C70,'[1]Racing numbers file'!$B$4:$F$290,2,FALSE)","v":1960},{"$f":"VLOOKUP(C70,'[1]Racing numbers file'!$B$4:$F$290,4,FALSE)","v":56},0,{"$f":"IF(ISNA(VLOOKUP($C70,'Sat TT_01'!$C$4:$Q$152,12,FALSE)=$C70),0,VLOOKUP($C70,'Sat TT_01'!$C$4:$Q$152,12,FALSE))","v":0},{"$f":"IF(ISNA(VLOOKUP($C70,'Sat TT_02'!$C$4:$Q$152,12,FALSE)=$C70),0,VLOOKUP($C70,'Sat TT_02'!$C$4:$Q$152,12,FALSE))","v":0},{"$f":"IF(ISNA(VLOOKUP($C70,'Sat TT_03'!$C$4:$Q$152,12,FALSE)=$C70),0,VLOOKUP($C70,'Sat TT_03'!$C$4:$Q$152,12,FALSE))","v":0},{"$f":"IF(ISNA(VLOOKUP($C70,'Sat TT_04'!$C$4:$Q$152,12,FALSE)=$C70),0,VLOOKUP($C70,'Sat TT_04'!$C$4:$Q$152,12,FALSE))","v":0},{"$f":"IF(ISNA(VLOOKUP($C70,'Sat TT_05'!$C$4:$Q$152,12,FALSE)=$C70),0,VLOOKUP($C70,'Sat TT_05'!$C$4:$Q$152,12,FALSE))","v":0},{"$f":"IF(ISNA(VLOOKUP($C70,'Sat TT_06'!$C$4:$Q$152,12,FALSE)=$C70),0,VLOOKUP($C70,'Sat TT_06'!$C$4:$Q$152,12,FALSE))","v":0},{"$f":"IF(ISNA(VLOOKUP($C70,'Sat TT_07'!$C$4:$Q$152,12,FALSE)=$C70),0,VLOOKUP($C70,'Sat TT_07'!$C$4:$Q$152,12,FALSE))","v":0},{"$f":"IF(ISNA(VLOOKUP($C70,'Sat TT_08'!$C$4:$Q$152,12,FALSE)=$C70),0,VLOOKUP($C70,'Sat TT_08'!$C$4:$Q$152,12,FALSE))","v":0},0]
[{"$f":"VLOOKUP(C71,'Sheet 1'!C$1:D$96,2,FALSE)","v":1261},62,{"$f":"+'[1]Racing numbers file'!$B135","v":"Leonard Carrigan"},{"$f":"VLOOKUP(C71,'[1]Racing numbers file'!$B$4:$F$290,2,FALSE)","v":1967},{"$f":"VLOOKUP(C71,'[1]Racing numbers file'!$B$4:$F$290,4,FALSE)","v":49},0,{"$f":"IF(ISNA(VLOOKUP($C71,'Sat TT_01'!$C$4:$Q$152,12,FALSE)=$C71),0,VLOOKUP($C71,'Sat TT_01'!$C$4:$Q$152,12,FALSE))","v":0},{"$f":"IF(ISNA(VLOOKUP($C71,'Sat TT_02'!$C$4:$Q$152,12,FALSE)=$C71),0,VLOOKUP($C71,'Sat TT_02'!$C$4:$Q$152,12,FALSE))","v":0},{"$f":"IF(ISNA(VLOOKUP($C71,'Sat TT_03'!$C$4:$Q$152,12,FALSE)=$C71),0,VLOOKUP($C71,'Sat TT_03'!$C$4:$Q$152,12,FALSE))","v":0},{"$f":"IF(ISNA(VLOOKUP($C71,'Sat TT_04'!$C$4:$Q$152,12,FALSE)=$C71),0,VLOOKUP($C71,'Sat TT_04'!$C$4:$Q$152,12,FALSE))","v":0},{"$f":"IF(ISNA(VLOOKUP($C71,'Sat TT_05'!$C$4:$Q$152,12,FALSE)=$C71),0,VLOOKUP($C71,'Sat TT_05'!$C$4:$Q$152,12,FALSE))","v":0},{"$f":"IF(ISNA(VLOOKUP($C71,'Sat TT_06'!$C$4:$Q$152,12,FALSE)=$C71),0,VLOOKUP($C71,'Sat TT_06'!$C$4:$Q$152,12,FALSE))","v":0},{"$f":"IF(ISNA(VLOOKUP($C71,'Sat TT_07'!$C$4:$Q$152,12,FALSE)=$C71),0,VLOOKUP($C71,'Sat TT_07'!$C$4:$Q$152,12,FALSE))","v":0},{"$f":"IF(ISNA(VLOOKUP($C71,'Sat TT_08'!$C$4:$Q$152,12,FALSE)=$C71),0,VLOOKUP($C71,'Sat TT_08'!$C$4:$Q$152,12,FALSE))","v":0},0]
[{"$f":"VLOOKUP(C72,'Sheet 1'!C$1:D$96,2,FALSE)","v":{"$error":"#N/A"}},63,{"$f":"+'[1]Racing numbers file'!$B247","v":"Ken O'Neill"},{"$f":"VLOOKUP(C72,'[1]Racing numbers file'!$B$4:$F$290,2,FALSE)","v":1971},{"$f":"VLOOKUP(C72,'[1]Racing numbers file'!$B$4:$F$290,4,FALSE)","v":45},0,{"$f":"IF(ISNA(VLOOKUP($C72,'Sat TT_01'!$C$4:$Q$152,12,FALSE)=$C72),0,VLOOKUP($C72,'Sat TT_01'!$C$4:$Q$152,12,FALSE))","v":0},{"$f":"IF(ISNA(VLOOKUP($C72,'Sat TT_02'!$C$4:$Q$152,12,FALSE)=$C72),0,VLOOKUP($C72,'Sat TT_02'!$C$4:$Q$152,12,FALSE))","v":0},{"$f":"IF(ISNA(VLOOKUP($C72,'Sat TT_03'!$C$4:$Q$152,12,FALSE)=$C72),0,VLOOKUP($C72,'Sat TT_03'!$C$4:$Q$152,12,FALSE))","v":0},{"$f":"IF(ISNA(VLOOKUP($C72,'Sat TT_04'!$C$4:$Q$152,12,FALSE)=$C72),0,VLOOKUP($C72,'Sat TT_04'!$C$4:$Q$152,12,FALSE))","v":0},{"$f":"IF(ISNA(VLOOKUP($C72,'Sat TT_05'!$C$4:$Q$152,12,FALSE)=$C72),0,VLOOKUP($C72,'Sat TT_05'!$C$4:$Q$152,12,FALSE))","v":0},{"$f":"IF(ISNA(VLOOKUP($C72,'Sat TT_06'!$C$4:$Q$152,12,FALSE)=$C72),0,VLOOKUP($C72,'Sat TT_06'!$C$4:$Q$152,12,FALSE))","v":0},{"$f":"IF(ISNA(VLOOKUP($C72,'Sat TT_07'!$C$4:$Q$152,12,FALSE)=$C72),0,VLOOKUP($C72,'Sat TT_07'!$C$4:$Q$152,12,FALSE))","v":0},{"$f":"IF(ISNA(VLOOKUP($C72,'Sat TT_08'!$C$4:$Q$152,12,FALSE)=$C72),0,VLOOKUP($C72,'Sat TT_08'!$C$4:$Q$152,12,FALSE))","v":0},0]
[{"$f":"VLOOKUP(C73,'Sheet 1'!C$1:D$96,2,FALSE)","v":{"$error":"#N/A"}},64,{"$f":"+'[1]Racing numbers file'!$B54","v":"Paul Deans"},{"$f":"VLOOKUP(C73,'[1]Racing numbers file'!$B$4:$F$290,2,FALSE)","v":1956},{"$f":"VLOOKUP(C73,'[1]Racing numbers file'!$B$4:$F$290,4,FALSE)","v":60},0,{"$f":"IF(ISNA(VLOOKUP($C73,'Sat TT_01'!$C$4:$Q$152,12,FALSE)=$C73),0,VLOOKUP($C73,'Sat TT_01'!$C$4:$Q$152,12,FALSE))","v":0},{"$f":"IF(ISNA(VLOOKUP($C73,'Sat TT_02'!$C$4:$Q$152,12,FALSE)=$C73),0,VLOOKUP($C73,'Sat TT_02'!$C$4:$Q$152,12,FALSE))","v":0},{"$f":"IF(ISNA(VLOOKUP($C73,'Sat TT_03'!$C$4:$Q$152,12,FALSE)=$C73),0,VLOOKUP($C73,'Sat TT_03'!$C$4:$Q$152,12,FALSE))","v":0},{"$f":"IF(ISNA(VLOOKUP($C73,'Sat TT_04'!$C$4:$Q$152,12,FALSE)=$C73),0,VLOOKUP($C73,'Sat TT_04'!$C$4:$Q$152,12,FALSE))","v":0},{"$f":"IF(ISNA(VLOOKUP($C73,'Sat TT_05'!$C$4:$Q$152,12,FALSE)=$C73),0,VLOOKUP($C73,'Sat TT_05'!$C$4:$Q$152,12,FALSE))","v":0},{"$f":"IF(ISNA(VLOOKUP($C73,'Sat TT_06'!$C$4:$Q$152,12,FALSE)=$C73),0,VLOOKUP($C73,'Sat TT_06'!$C$4:$Q$152,12,FALSE))","v":0},{"$f":"IF(ISNA(VLOOKUP($C73,'Sat TT_07'!$C$4:$Q$152,12,FALSE)=$C73),0,VLOOKUP($C73,'Sat TT_07'!$C$4:$Q$152,12,FALSE))","v":0},{"$f":"IF(ISNA(VLOOKUP($C73,'Sat TT_08'!$C$4:$Q$152,12,FALSE)=$C73),0,VLOOKUP($C73,'Sat TT_08'!$C$4:$Q$152,12,FALSE))","v":0},0]
[{"$f":"VLOOKUP(C74,'Sheet 1'!C$1:D$96,2,FALSE)","v":1213},65,{"$f":"+'[1]Racing numbers file'!$B107","v":"Lloyd Berry"},{"$f":"VLOOKUP(C74,'[1]Racing numbers file'!$B$4:$F$290,2,FALSE)","v":1964},{"$f":"VLOOKUP(C74,'[1]Racing numbers file'!$B$4:$F$290,4,FALSE)","v":52},{"$f":"+O74","v":0},{"$f":"IF(ISNA(VLOOKUP($C74,'Sat TT_01'!$C$4:$Q$152,12,FALSE)=$C74),0,VLOOKUP($C74,'Sat TT_01'!$C$4:$Q$152,12,FALSE))","v":0},{"$f":"IF(ISNA(VLOOKUP($C74,'Sat TT_02'!$C$4:$Q$152,12,FALSE)=$C74),0,VLOOKUP($C74,'Sat TT_02'!$C$4:$Q$152,12,FALSE))","v":0},{"$f":"IF(ISNA(VLOOKUP($C74,'Sat TT_03'!$C$4:$Q$152,12,FALSE)=$C74),0,VLOOKUP($C74,'Sat TT_03'!$C$4:$Q$152,12,FALSE))","v":0},{"$f":"IF(ISNA(VLOOKUP($C74,'Sat TT_04'!$C$4:$Q$152,12,FALSE)=$C74),0,VLOOKUP($C74,'Sat TT_04'!$C$4:$Q$152,12,FALSE))","v":0},{"$f":"IF(ISNA(VLOOKUP($C74,'Sat TT_05'!$C$4:$Q$152,12,FALSE)=$C74),0,VLOOKUP($C74,'Sat TT_05'!$C$4:$Q$152,12,FALSE))","v":0},{"$f":"IF(ISNA(VLOOKUP($C74,'Sat TT_06'!$C$4:$Q$152,12,FALSE)=$C74),0,VLOOKUP($C74,'Sat TT_06'!$C$4:$Q$152,12,FALSE))","v":0},{"$f":"IF(ISNA(VLOOKUP($C74,'Sat TT_07'!$C$4:$Q$152,12,FALSE)=$C74),0,VLOOKUP($C74,'Sat TT_07'!$C$4:$Q$152,12,FALSE))","v":0},{"$f":"IF(ISNA(VLOOKUP($C74,'Sat TT_08'!$C$4:$Q$152,12,FALSE)=$C74),0,VLOOKUP($C74,'Sat TT_08'!$C$4:$Q$152,12,FALSE))","v":0},{"$f":"SUM(G74:N74)","v":0}]
[{"$f":"VLOOKUP(C75,'Sheet 1'!C$1:D$96,2,FALSE)","v":{"$error":"#N/A"}},66,{"$f":"+'[1]Racing numbers file'!$B210","v":"Enda McKeown"},{"$f":"VLOOKUP(C75,'[1]Racing numbers file'!$B$4:$F$290,2,FALSE)","v":1972},{"$f":"VLOOKUP(C75,'[1]Racing numbers file'!$B$4:$F$290,4,FALSE)","v":44},0,{"$f":"IF(ISNA(VLOOKUP($C75,'Sat TT_01'!$C$4:$Q$152,12,FALSE)=$C75),0,VLOOKUP($C75,'Sat TT_01'!$C$4:$Q$152,12,FALSE))","v":0},{"$f":"IF(ISNA(VLOOKUP($C75,'Sat TT_02'!$C$4:$Q$152,12,FALSE)=$C75),0,VLOOKUP($C75,'Sat TT_02'!$C$4:$Q$152,12,FALSE))","v":0},{"$f":"IF(ISNA(VLOOKUP($C75,'Sat TT_03'!$C$4:$Q$152,12,FALSE)=$C75),0,VLOOKUP($C75,'Sat TT_03'!$C$4:$Q$152,12,FALSE))","v":0},{"$f":"IF(ISNA(VLOOKUP($C75,'Sat TT_04'!$C$4:$Q$152,12,FALSE)=$C75),0,VLOOKUP($C75,'Sat TT_04'!$C$4:$Q$152,12,FALSE))","v":0},{"$f":"IF(ISNA(VLOOKUP($C75,'Sat TT_05'!$C$4:$Q$152,12,FALSE)=$C75),0,VLOOKUP($C75,'Sat TT_05'!$C$4:$Q$152,12,FALSE))","v":0},{"$f":"IF(ISNA(VLOOKUP($C75,'Sat TT_06'!$C$4:$Q$152,12,FALSE)=$C75),0,VLOOKUP($C75,'Sat TT_06'!$C$4:$Q$152,12,FALSE))","v":0},{"$f":"IF(ISNA(VLOOKUP($C75,'Sat TT_07'!$C$4:$Q$152,12,FALSE)=$C75),0,VLOOKUP($C75,'Sat TT_07'!$C$4:$Q$152,12,FALSE))","v":0},{"$f":"IF(ISNA(VLOOKUP($C75,'Sat TT_08'!$C$4:$Q$152,12,FALSE)=$C75),0,VLOOKUP($C75,'Sat TT_08'!$C$4:$Q$152,12,FALSE))","v":0},0]
[{"$f":"VLOOKUP(C76,'Sheet 1'!C$1:D$96,2,FALSE)","v":{"$error":"#N/A"}},67,{"$f":"+'[1]Racing numbers file'!$B235","v":"Elaine Clarke"},{"$f":"VLOOKUP(C76,'[1]Racing numbers file'!$B$4:$F$290,2,FALSE)","v":1979},{"$f":"VLOOKUP(C76,'[1]Racing numbers file'!$B$4:$F$290,4,FALSE)","v":37},0,{"$f":"IF(ISNA(VLOOKUP($C76,'Sat TT_01'!$C$4:$Q$152,12,FALSE)=$C76),0,VLOOKUP($C76,'Sat TT_01'!$C$4:$Q$152,12,FALSE))","v":0},{"$f":"IF(ISNA(VLOOKUP($C76,'Sat TT_02'!$C$4:$Q$152,12,FALSE)=$C76),0,VLOOKUP($C76,'Sat TT_02'!$C$4:$Q$152,12,FALSE))","v":0},{"$f":"IF(ISNA(VLOOKUP($C76,'Sat TT_03'!$C$4:$Q$152,12,FALSE)=$C76),0,VLOOKUP($C76,'Sat TT_03'!$C$4:$Q$152,12,FALSE))","v":0},{"$f":"IF(ISNA(VLOOKUP($C76,'Sat TT_04'!$C$4:$Q$152,12,FALSE)=$C76),0,VLOOKUP($C76,'Sat TT_04'!$C$4:$Q$152,12,FALSE))","v":0},{"$f":"IF(ISNA(VLOOKUP($C76,'Sat TT_05'!$C$4:$Q$152,12,FALSE)=$C76),0,VLOOKUP($C76,'Sat TT_05'!$C$4:$Q$152,12,FALSE))","v":0},{"$f":"IF(ISNA(VLOOKUP($C76,'Sat TT_06'!$C$4:$Q$152,12,FALSE)=$C76),0,VLOOKUP($C76,'Sat TT_06'!$C$4:$Q$152,12,FALSE))","v":0},{"$f":"IF(ISNA(VLOOKUP($C76,'Sat TT_07'!$C$4:$Q$152,12,FALSE)=$C76),0,VLOOKUP($C76,'Sat TT_07'!$C$4:$Q$152,12,FALSE))","v":0},{"$f":"IF(ISNA(VLOOKUP($C76,'Sat TT_08'!$C$4:$Q$152,12,FALSE)=$C76),0,VLOOKUP($C76,'Sat TT_08'!$C$4:$Q$152,12,FALSE))","v":0},0]
[{"$f":"VLOOKUP(C77,'Sheet 1'!C$1:D$96,2,FALSE)","v":{"$error":"#N/A"}},68,{"$f":"+'[1]Racing numbers file'!$B24","v":"Paddy FitzSimons"},{"$f":"VLOOKUP(C77,'[1]Racing numbers file'!$B$4:$F$290,2,FALSE)","v":1946},{"$f":"VLOOKUP(C77,'[1]Racing numbers file'!$B$4:$F$290,4,FALSE)","v":70},0,{"$f":"IF(ISNA(VLOOKUP($C77,'Sat TT_01'!$C$4:$Q$152,12,FALSE)=$C77),0,VLOOKUP($C77,'Sat TT_01'!$C$4:$Q$152,12,FALSE))","v":0},{"$f":"IF(ISNA(VLOOKUP($C77,'Sat TT_02'!$C$4:$Q$152,12,FALSE)=$C77),0,VLOOKUP($C77,'Sat TT_02'!$C$4:$Q$152,12,FALSE))","v":0},{"$f":"IF(ISNA(VLOOKUP($C77,'Sat TT_03'!$C$4:$Q$152,12,FALSE)=$C77),0,VLOOKUP($C77,'Sat TT_03'!$C$4:$Q$152,12,FALSE))","v":0},{"$f":"IF(ISNA(VLOOKUP($C77,'Sat TT_04'!$C$4:$Q$152,12,FALSE)=$C77),0,VLOOKUP($C77,'Sat TT_04'!$C$4:$Q$152,12,FALSE))","v":0},{"$f":"IF(ISNA(VLOOKUP($C77,'Sat TT_05'!$C$4:$Q$152,12,FALSE)=$C77),0,VLOOKUP($C77,'Sat TT_05'!$C$4:$Q$152,12,FALSE))","v":0},{"$f":"IF(ISNA(VLOOKUP($C77,'Sat TT_06'!$C$4:$Q$152,12,FALSE)=$C77),0,VLOOKUP($C77,'Sat TT_06'!$C$4:$Q$152,12,FALSE))","v":0},{"$f":"IF(ISNA(VLOOKUP($C77,'Sat TT_07'!$C$4:$Q$152,12,FALSE)=$C77),0,VLOOKUP($C77,'Sat TT_07'!$C$4:$Q$152,12,FALSE))","v":0},{"$f":"IF(ISNA(VLOOKUP($C77,'Sat TT_08'!$C$4:$Q$152,12,FALSE)=$C77),0,VLOOKUP($C77,'Sat TT_08'!$C$4:$Q$152,12,FALSE))","v":0},0]
[{"$f":"VLOOKUP(C78,'Sheet 1'!C$1:D$96,2,FALSE)","v":{"$error":"#N/A"}},69,{"$f":"+'[1]Racing numbers file'!$B4","v":"Column2"},{"$f":"VLOOKUP(C78,'[1]Racing numbers file'!$B$4:$F$290,2,FALSE)","v":"Column3"},{"$f":"VLOOKUP(C78,'[1]Racing numbers file'!$B$4:$F$290,4,FALSE)","v":"Column5"},0,{"$f":"IF(ISNA(VLOOKUP($C78,'Sat TT_01'!$C$4:$Q$152,12,FALSE)=$C78),0,VLOOKUP($C78,'Sat TT_01'!$C$4:$Q$152,12,FALSE))","v":0},{"$f":"IF(ISNA(VLOOKUP($C78,'Sat TT_02'!$C$4:$Q$152,12,FALSE)=$C78),0,VLOOKUP($C78,'Sat TT_02'!$C$4:$Q$152,12,FALSE))","v":0},{"$f":"IF(ISNA(VLOOKUP($C78,'Sat TT_03'!$C$4:$Q$152,12,FALSE)=$C78),0,VLOOKUP($C78,'Sat TT_03'!$C$4:$Q$152,12,FALSE))","v":0},{"$f":"IF(ISNA(VLOOKUP($C78,'Sat TT_04'!$C$4:$Q$152,12,FALSE)=$C78),0,VLOOKUP($C78,'Sat TT_04'!$C$4:$Q$152,12,FALSE))","v":0},{"$f":"IF(ISNA(VLOOKUP($C78,'Sat TT_05'!$C$4:$Q$152,12,FALSE)=$C78),0,VLOOKUP($C78,'Sat TT_05'!$C$4:$Q$152,12,FALSE))","v":0},{"$f":"IF(ISNA(VLOOKUP($C78,'Sat TT_06'!$C$4:$Q$152,12,FALSE)=$C78),0,VLOOKUP($C78,'Sat TT_06'!$C$4:$Q$152,12,FALSE))","v":0},{"$f":"IF(ISNA(VLOOKUP($C78,'Sat TT_07'!$C$4:$Q$152,12,FALSE)=$C78),0,VLOOKUP($C78,'Sat TT_07'!$C$4:$Q$152,12,FALSE))","v":0},{"$f":"IF(ISNA(VLOOKUP($C78,'Sat TT_08'!$C$4:$Q$152,12,FALSE)=$C78),0,VLOOKUP($C78,'Sat TT_08'!$C$4:$Q$152,12,FALSE))","v":0},0]
[{"$f":"VLOOKUP(C79,'Sheet 1'!C$1:D$96,2,FALSE)","v":{"$error":"#N/A"}},70,{"$f":"+'[1]Racing numbers file'!$B88","v":{"$error":"#N/A"}},{"$f":"VLOOKUP(C79,'[1]Racing numbers file'!$B$4:$F$290,2,FALSE)","v":{"$error":"#N/A"}},{"$f":"VLOOKUP(C79,'[1]Racing numbers file'!$B$4:$F$290,4,FALSE)","v":{"$error":"#N/A"}},0,{"$f":"IF(ISNA(VLOOKUP($C79,'Sat TT_01'!$C$4:$Q$152,12,FALSE)=$C79),0,VLOOKUP($C79,'Sat TT_01'!$C$4:$Q$152,12,FALSE))","v":0},{"$f":"IF(ISNA(VLOOKUP($C79,'Sat TT_02'!$C$4:$Q$152,12,FALSE)=$C79),0,VLOOKUP($C79,'Sat TT_02'!$C$4:$Q$152,12,FALSE))","v":0},{"$f":"IF(ISNA(VLOOKUP($C79,'Sat TT_03'!$C$4:$Q$152,12,FALSE)=$C79),0,VLOOKUP($C79,'Sat TT_03'!$C$4:$Q$152,12,FALSE))","v":0},{"$f":"IF(ISNA(VLOOKUP($C79,'Sat TT_04'!$C$4:$Q$152,12,FALSE)=$C79),0,VLOOKUP($C79,'Sat TT_04'!$C$4:$Q$152,12,FALSE))","v":0},{"$f":"IF(ISNA(VLOOKUP($C79,'Sat TT_05'!$C$4:$Q$152,12,FALSE)=$C79),0,VLOOKUP($C79,'Sat TT_05'!$C$4:$Q$152,12,FALSE))","v":0},{"$f":"IF(ISNA(VLOOKUP($C79,'Sat TT_06'!$C$4:$Q$152,12,FALSE)=$C79),0,VLOOKUP($C79,'Sat TT_06'!$C$4:$Q$152,12,FALSE))","v":0},{"$f":"IF(ISNA(VLOOKUP($C79,'Sat TT_07'!$C$4:$Q$152,12,FALSE)=$C79),0,VLOOKUP($C79,'Sat TT_07'!$C$4:$Q$152,12,FALSE))","v":0},{"$f":"IF(ISNA(VLOOKUP($C79,'Sat TT_08'!$C$4:$Q$152,12,FALSE)=$C79),0,VLOOKUP($C79,'Sat TT_08'!$C$4:$Q$152,12,FALSE))","v":0},0]
[{"$f":"VLOOKUP(C80,'Sheet 1'!C$1:D$96,2,FALSE)","v":{"$error":"#N/A"}},71,{"$f":"+'[1]Racing numbers file'!$B26","v":"Derek McCullagh"},{"$f":"VLOOKUP(C80,'[1]Racing numbers file'!$B$4:$F$290,2,FALSE)","v":1946},{"$f":"VLOOKUP(C80,'[1]Racing numbers file'!$B$4:$F$290,4,FALSE)","v":70},0,{"$f":"IF(ISNA(VLOOKUP($C80,'Sat TT_01'!$C$4:$Q$152,12,FALSE)=$C80),0,VLOOKUP($C80,'Sat TT_01'!$C$4:$Q$152,12,FALSE))","v":0},{"$f":"IF(ISNA(VLOOKUP($C80,'Sat TT_02'!$C$4:$Q$152,12,FALSE)=$C80),0,VLOOKUP($C80,'Sat TT_02'!$C$4:$Q$152,12,FALSE))","v":0},{"$f":"IF(ISNA(VLOOKUP($C80,'Sat TT_03'!$C$4:$Q$152,12,FALSE)=$C80),0,VLOOKUP($C80,'Sat TT_03'!$C$4:$Q$152,12,FALSE))","v":0},{"$f":"IF(ISNA(VLOOKUP($C80,'Sat TT_04'!$C$4:$Q$152,12,FALSE)=$C80),0,VLOOKUP($C80,'Sat TT_04'!$C$4:$Q$152,12,FALSE))","v":0},{"$f":"IF(ISNA(VLOOKUP($C80,'Sat TT_05'!$C$4:$Q$152,12,FALSE)=$C80),0,VLOOKUP($C80,'Sat TT_05'!$C$4:$Q$152,12,FALSE))","v":0},{"$f":"IF(ISNA(VLOOKUP($C80,'Sat TT_06'!$C$4:$Q$152,12,FALSE)=$C80),0,VLOOKUP($C80,'Sat TT_06'!$C$4:$Q$152,12,FALSE))","v":0},{"$f":"IF(ISNA(VLOOKUP($C80,'Sat TT_07'!$C$4:$Q$152,12,FALSE)=$C80),0,VLOOKUP($C80,'Sat TT_07'!$C$4:$Q$152,12,FALSE))","v":0},{"$f":"IF(ISNA(VLOOKUP($C80,'Sat TT_08'!$C$4:$Q$152,12,FALSE)=$C80),0,VLOOKUP($C80,'Sat TT_08'!$C$4:$Q$152,12,FALSE))","v":0},0]
[{"$f":"VLOOKUP(C81,'Sheet 1'!C$1:D$96,2,FALSE)","v":1402},72,{"$f":"+'[1]Racing numbers file'!$B205","v":"Stephen Walsh"},{"$f":"VLOOKUP(C81,'[1]Racing numbers file'!$B$4:$F$290,2,FALSE)","v":1969},{"$f":"VLOOKUP(C81,'[1]Racing numbers file'!$B$4:$F$290,4,FALSE)","v":47},0,{"$f":"IF(ISNA(VLOOKUP($C81,'Sat TT_01'!$C$4:$Q$152,12,FALSE)=$C81),0,VLOOKUP($C81,'Sat TT_01'!$C$4:$Q$152,12,FALSE))","v":0},{"$f":"IF(ISNA(VLOOKUP($C81,'Sat TT_02'!$C$4:$Q$152,12,FALSE)=$C81),0,VLOOKUP($C81,'Sat TT_02'!$C$4:$Q$152,12,FALSE))","v":0},{"$f":"IF(ISNA(VLOOKUP($C81,'Sat TT_03'!$C$4:$Q$152,12,FALSE)=$C81),0,VLOOKUP($C81,'Sat TT_03'!$C$4:$Q$152,12,FALSE))","v":0},{"$f":"IF(ISNA(VLOOKUP($C81,'Sat TT_04'!$C$4:$Q$152,12,FALSE)=$C81),0,VLOOKUP($C81,'Sat TT_04'!$C$4:$Q$152,12,FALSE))","v":0},{"$f":"IF(ISNA(VLOOKUP($C81,'Sat TT_05'!$C$4:$Q$152,12,FALSE)=$C81),0,VLOOKUP($C81,'Sat TT_05'!$C$4:$Q$152,12,FALSE))","v":0},{"$f":"IF(ISNA(VLOOKUP($C81,'Sat TT_06'!$C$4:$Q$152,12,FALSE)=$C81),0,VLOOKUP($C81,'Sat TT_06'!$C$4:$Q$152,12,FALSE))","v":0},{"$f":"IF(ISNA(VLOOKUP($C81,'Sat TT_07'!$C$4:$Q$152,12,FALSE)=$C81),0,VLOOKUP($C81,'Sat TT_07'!$C$4:$Q$152,12,FALSE))","v":0},{"$f":"IF(ISNA(VLOOKUP($C81,'Sat TT_08'!$C$4:$Q$152,12,FALSE)=$C81),0,VLOOKUP($C81,'Sat TT_08'!$C$4:$Q$152,12,FALSE))","v":0},0]
[{"$f":"VLOOKUP(C82,'Sheet 1'!C$1:D$96,2,FALSE)","v":{"$error":"#N/A"}},73,{"$f":"+'[1]Racing numbers file'!$B250","v":"Declan Weldon"},{"$f":"VLOOKUP(C82,'[1]Racing numbers file'!$B$4:$F$290,2,FALSE)","v":1968},{"$f":"VLOOKUP(C82,'[1]Racing numbers file'!$B$4:$F$290,4,FALSE)","v":48},0,{"$f":"IF(ISNA(VLOOKUP($C82,'Sat TT_01'!$C$4:$Q$152,12,FALSE)=$C82),0,VLOOKUP($C82,'Sat TT_01'!$C$4:$Q$152,12,FALSE))","v":0},{"$f":"IF(ISNA(VLOOKUP($C82,'Sat TT_02'!$C$4:$Q$152,12,FALSE)=$C82),0,VLOOKUP($C82,'Sat TT_02'!$C$4:$Q$152,12,FALSE))","v":0},{"$f":"IF(ISNA(VLOOKUP($C82,'Sat TT_03'!$C$4:$Q$152,12,FALSE)=$C82),0,VLOOKUP($C82,'Sat TT_03'!$C$4:$Q$152,12,FALSE))","v":0},{"$f":"IF(ISNA(VLOOKUP($C82,'Sat TT_04'!$C$4:$Q$152,12,FALSE)=$C82),0,VLOOKUP($C82,'Sat TT_04'!$C$4:$Q$152,12,FALSE))","v":0},{"$f":"IF(ISNA(VLOOKUP($C82,'Sat TT_05'!$C$4:$Q$152,12,FALSE)=$C82),0,VLOOKUP($C82,'Sat TT_05'!$C$4:$Q$152,12,FALSE))","v":0},{"$f":"IF(ISNA(VLOOKUP($C82,'Sat TT_06'!$C$4:$Q$152,12,FALSE)=$C82),0,VLOOKUP($C82,'Sat TT_06'!$C$4:$Q$152,12,FALSE))","v":0},{"$f":"IF(ISNA(VLOOKUP($C82,'Sat TT_07'!$C$4:$Q$152,12,FALSE)=$C82),0,VLOOKUP($C82,'Sat TT_07'!$C$4:$Q$152,12,FALSE))","v":0},{"$f":"IF(ISNA(VLOOKUP($C82,'Sat TT_08'!$C$4:$Q$152,12,FALSE)=$C82),0,VLOOKUP($C82,'Sat TT_08'!$C$4:$Q$152,12,FALSE))","v":0},0]
[{"$f":"VLOOKUP(C83,'Sheet 1'!C$1:D$96,2,FALSE)","v":1231},74,{"$f":"+'[1]Racing numbers file'!$B118","v":"Billy Bourke"},{"$f":"VLOOKUP(C83,'[1]Racing numbers file'!$B$4:$F$290,2,FALSE)","v":1965},{"$f":"VLOOKUP(C83,'[1]Racing numbers file'!$B$4:$F$290,4,FALSE)","v":51},0,{"$f":"IF(ISNA(VLOOKUP($C83,'Sat TT_01'!$C$4:$Q$152,12,FALSE)=$C83),0,VLOOKUP($C83,'Sat TT_01'!$C$4:$Q$152,12,FALSE))","v":0},{"$f":"IF(ISNA(VLOOKUP($C83,'Sat TT_02'!$C$4:$Q$152,12,FALSE)=$C83),0,VLOOKUP($C83,'Sat TT_02'!$C$4:$Q$152,12,FALSE))","v":0},{"$f":"IF(ISNA(VLOOKUP($C83,'Sat TT_03'!$C$4:$Q$152,12,FALSE)=$C83),0,VLOOKUP($C83,'Sat TT_03'!$C$4:$Q$152,12,FALSE))","v":0},{"$f":"IF(ISNA(VLOOKUP($C83,'Sat TT_04'!$C$4:$Q$152,12,FALSE)=$C83),0,VLOOKUP($C83,'Sat TT_04'!$C$4:$Q$152,12,FALSE))","v":0},{"$f":"IF(ISNA(VLOOKUP($C83,'Sat TT_05'!$C$4:$Q$152,12,FALSE)=$C83),0,VLOOKUP($C83,'Sat TT_05'!$C$4:$Q$152,12,FALSE))","v":0},{"$f":"IF(ISNA(VLOOKUP($C83,'Sat TT_06'!$C$4:$Q$152,12,FALSE)=$C83),0,VLOOKUP($C83,'Sat TT_06'!$C$4:$Q$152,12,FALSE))","v":0},{"$f":"IF(ISNA(VLOOKUP($C83,'Sat TT_07'!$C$4:$Q$152,12,FALSE)=$C83),0,VLOOKUP($C83,'Sat TT_07'!$C$4:$Q$152,12,FALSE))","v":0},{"$f":"IF(ISNA(VLOOKUP($C83,'Sat TT_08'!$C$4:$Q$152,12,FALSE)=$C83),0,VLOOKUP($C83,'Sat TT_08'!$C$4:$Q$152,12,FALSE))","v":0},0]
[{"$f":"VLOOKUP(C84,'Sheet 1'!C$1:D$96,2,FALSE)","v":{"$error":"#N/A"}},75,{"$f":"+'[1]Racing numbers file'!$B193","v":"Dale Copas"},{"$f":"VLOOKUP(C84,'[1]Racing numbers file'!$B$4:$F$290,2,FALSE)","v":1968},{"$f":"VLOOKUP(C84,'[1]Racing numbers file'!$B$4:$F$290,4,FALSE)","v":48},0,{"$f":"IF(ISNA(VLOOKUP($C84,'Sat TT_01'!$C$4:$Q$152,12,FALSE)=$C84),0,VLOOKUP($C84,'Sat TT_01'!$C$4:$Q$152,12,FALSE))","v":0},{"$f":"IF(ISNA(VLOOKUP($C84,'Sat TT_02'!$C$4:$Q$152,12,FALSE)=$C84),0,VLOOKUP($C84,'Sat TT_02'!$C$4:$Q$152,12,FALSE))","v":0},{"$f":"IF(ISNA(VLOOKUP($C84,'Sat TT_03'!$C$4:$Q$152,12,FALSE)=$C84),0,VLOOKUP($C84,'Sat TT_03'!$C$4:$Q$152,12,FALSE))","v":0},{"$f":"IF(ISNA(VLOOKUP($C84,'Sat TT_04'!$C$4:$Q$152,12,FALSE)=$C84),0,VLOOKUP($C84,'Sat TT_04'!$C$4:$Q$152,12,FALSE))","v":0},{"$f":"IF(ISNA(VLOOKUP($C84,'Sat TT_05'!$C$4:$Q$152,12,FALSE)=$C84),0,VLOOKUP($C84,'Sat TT_05'!$C$4:$Q$152,12,FALSE))","v":0},{"$f":"IF(ISNA(VLOOKUP($C84,'Sat TT_06'!$C$4:$Q$152,12,FALSE)=$C84),0,VLOOKUP($C84,'Sat TT_06'!$C$4:$Q$152,12,FALSE))","v":0},{"$f":"IF(ISNA(VLOOKUP($C84,'Sat TT_07'!$C$4:$Q$152,12,FALSE)=$C84),0,VLOOKUP($C84,'Sat TT_07'!$C$4:$Q$152,12,FALSE))","v":0},{"$f":"IF(ISNA(VLOOKUP($C84,'Sat TT_08'!$C$4:$Q$152,12,FALSE)=$C84),0,VLOOKUP($C84,'Sat TT_08'!$C$4:$Q$152,12,FALSE))","v":0},0]
[{"$f":"VLOOKUP(C85,'Sheet 1'!C$1:D$96,2,FALSE)","v":{"$error":"#N/A"}},76,{"$f":"+'[1]Racing numbers file'!$B172","v":"Mark McCabe"},{"$f":"VLOOKUP(C85,'[1]Racing numbers file'!$B$4:$F$290,2,FALSE)","v":1971},{"$f":"VLOOKUP(C85,'[1]Racing numbers file'!$B$4:$F$290,4,FALSE)","v":45},0,{"$f":"IF(ISNA(VLOOKUP($C85,'Sat TT_01'!$C$4:$Q$152,12,FALSE)=$C85),0,VLOOKUP($C85,'Sat TT_01'!$C$4:$Q$152,12,FALSE))","v":0},{"$f":"IF(ISNA(VLOOKUP($C85,'Sat TT_02'!$C$4:$Q$152,12,FALSE)=$C85),0,VLOOKUP($C85,'Sat TT_02'!$C$4:$Q$152,12,FALSE))","v":0},{"$f":"IF(ISNA(VLOOKUP($C85,'Sat TT_03'!$C$4:$Q$152,12,FALSE)=$C85),0,VLOOKUP($C85,'Sat TT_03'!$C$4:$Q$152,12,FALSE))","v":0},{"$f":"IF(ISNA(VLOOKUP($C85,'Sat TT_04'!$C$4:$Q$152,12,FALSE)=$C85),0,VLOOKUP($C85,'Sat TT_04'!$C$4:$Q$152,12,FALSE))","v":0},{"$f":"IF(ISNA(VLOOKUP($C85,'Sat TT_05'!$C$4:$Q$152,12,FALSE)=$C85),0,VLOOKUP($C85,'Sat TT_05'!$C$4:$Q$152,12,FALSE))","v":0},{"$f":"IF(ISNA(VLOOKUP($C85,'Sat TT_06'!$C$4:$Q$152,12,FALSE)=$C85),0,VLOOKUP($C85,'Sat TT_06'!$C$4:$Q$152,12,FALSE))","v":0},{"$f":"IF(ISNA(VLOOKUP($C85,'Sat TT_07'!$C$4:$Q$152,12,FALSE)=$C85),0,VLOOKUP($C85,'Sat TT_07'!$C$4:$Q$152,12,FALSE))","v":0},{"$f":"IF(ISNA(VLOOKUP($C85,'Sat TT_08'!$C$4:$Q$152,12,FALSE)=$C85),0,VLOOKUP($C85,'Sat TT_08'!$C$4:$Q$152,12,FALSE))","v":0},0]
[{"$f":"VLOOKUP(C86,'Sheet 1'!C$1:D$96,2,FALSE)","v":{"$error":"#N/A"}},77,{"$f":"+'[1]Racing numbers file'!$B49","v":"Francis Coates"},{"$f":"VLOOKUP(C86,'[1]Racing numbers file'!$B$4:$F$290,2,FALSE)","v":1954},{"$f":"VLOOKUP(C86,'[1]Racing numbers file'!$B$4:$F$290,4,FALSE)","v":62},0,{"$f":"IF(ISNA(VLOOKUP($C86,'Sat TT_01'!$C$4:$Q$152,12,FALSE)=$C86),0,VLOOKUP($C86,'Sat TT_01'!$C$4:$Q$152,12,FALSE))","v":0},{"$f":"IF(ISNA(VLOOKUP($C86,'Sat TT_02'!$C$4:$Q$152,12,FALSE)=$C86),0,VLOOKUP($C86,'Sat TT_02'!$C$4:$Q$152,12,FALSE))","v":0},{"$f":"IF(ISNA(VLOOKUP($C86,'Sat TT_03'!$C$4:$Q$152,12,FALSE)=$C86),0,VLOOKUP($C86,'Sat TT_03'!$C$4:$Q$152,12,FALSE))","v":0},{"$f":"IF(ISNA(VLOOKUP($C86,'Sat TT_04'!$C$4:$Q$152,12,FALSE)=$C86),0,VLOOKUP($C86,'Sat TT_04'!$C$4:$Q$152,12,FALSE))","v":0},{"$f":"IF(ISNA(VLOOKUP($C86,'Sat TT_05'!$C$4:$Q$152,12,FALSE)=$C86),0,VLOOKUP($C86,'Sat TT_05'!$C$4:$Q$152,12,FALSE))","v":0},{"$f":"IF(ISNA(VLOOKUP($C86,'Sat TT_06'!$C$4:$Q$152,12,FALSE)=$C86),0,VLOOKUP($C86,'Sat TT_06'!$C$4:$Q$152,12,FALSE))","v":0},{"$f":"IF(ISNA(VLOOKUP($C86,'Sat TT_07'!$C$4:$Q$152,12,FALSE)=$C86),0,VLOOKUP($C86,'Sat TT_07'!$C$4:$Q$152,12,FALSE))","v":0},{"$f":"IF(ISNA(VLOOKUP($C86,'Sat TT_08'!$C$4:$Q$152,12,FALSE)=$C86),0,VLOOKUP($C86,'Sat TT_08'!$C$4:$Q$152,12,FALSE))","v":0},0]
[{"$f":"VLOOKUP(C87,'Sheet 1'!C$1:D$96,2,FALSE)","v":{"$error":"#N/A"}},78,{"$f":"+'[1]Racing numbers file'!$B231","v":"Daniel Conroy"},{"$f":"VLOOKUP(C87,'[1]Racing numbers file'!$B$4:$F$290,2,FALSE)","v":1967},{"$f":"VLOOKUP(C87,'[1]Racing numbers file'!$B$4:$F$290,4,FALSE)","v":49},0,{"$f":"IF(ISNA(VLOOKUP($C87,'Sat TT_01'!$C$4:$Q$152,12,FALSE)=$C87),0,VLOOKUP($C87,'Sat TT_01'!$C$4:$Q$152,12,FALSE))","v":0},{"$f":"IF(ISNA(VLOOKUP($C87,'Sat TT_02'!$C$4:$Q$152,12,FALSE)=$C87),0,VLOOKUP($C87,'Sat TT_02'!$C$4:$Q$152,12,FALSE))","v":0},{"$f":"IF(ISNA(VLOOKUP($C87,'Sat TT_03'!$C$4:$Q$152,12,FALSE)=$C87),0,VLOOKUP($C87,'Sat TT_03'!$C$4:$Q$152,12,FALSE))","v":0},{"$f":"IF(ISNA(VLOOKUP($C87,'Sat TT_04'!$C$4:$Q$152,12,FALSE)=$C87),0,VLOOKUP($C87,'Sat TT_04'!$C$4:$Q$152,12,FALSE))","v":0},{"$f":"IF(ISNA(VLOOKUP($C87,'Sat TT_05'!$C$4:$Q$152,12,FALSE)=$C87),0,VLOOKUP($C87,'Sat TT_05'!$C$4:$Q$152,12,FALSE))","v":0},{"$f":"IF(ISNA(VLOOKUP($C87,'Sat TT_06'!$C$4:$Q$152,12,FALSE)=$C87),0,VLOOKUP($C87,'Sat TT_06'!$C$4:$Q$152,12,FALSE))","v":0},{"$f":"IF(ISNA(VLOOKUP($C87,'Sat TT_07'!$C$4:$Q$152,12,FALSE)=$C87),0,VLOOKUP($C87,'Sat TT_07'!$C$4:$Q$152,12,FALSE))","v":0},{"$f":"IF(ISNA(VLOOKUP($C87,'Sat TT_08'!$C$4:$Q$152,12,FALSE)=$C87),0,VLOOKUP($C87,'Sat TT_08'!$C$4:$Q$152,12,FALSE))","v":0},0]
[{"$f":"VLOOKUP(C88,'Sheet 1'!C$1:D$96,2,FALSE)","v":{"$error":"#N/A"}},79,{"$f":"+'[1]Racing numbers file'!$B57","v":"John Shortt"},{"$f":"VLOOKUP(C88,'[1]Racing numbers file'!$B$4:$F$290,2,FALSE)","v":1957},{"$f":"VLOOKUP(C88,'[1]Racing numbers file'!$B$4:$F$290,4,FALSE)","v":59},0,{"$f":"IF(ISNA(VLOOKUP($C88,'Sat TT_01'!$C$4:$Q$152,12,FALSE)=$C88),0,VLOOKUP($C88,'Sat TT_01'!$C$4:$Q$152,12,FALSE))","v":0},{"$f":"IF(ISNA(VLOOKUP($C88,'Sat TT_02'!$C$4:$Q$152,12,FALSE)=$C88),0,VLOOKUP($C88,'Sat TT_02'!$C$4:$Q$152,12,FALSE))","v":0},{"$f":"IF(ISNA(VLOOKUP($C88,'Sat TT_03'!$C$4:$Q$152,12,FALSE)=$C88),0,VLOOKUP($C88,'Sat TT_03'!$C$4:$Q$152,12,FALSE))","v":0},{"$f":"IF(ISNA(VLOOKUP($C88,'Sat TT_04'!$C$4:$Q$152,12,FALSE)=$C88),0,VLOOKUP($C88,'Sat TT_04'!$C$4:$Q$152,12,FALSE))","v":0},{"$f":"IF(ISNA(VLOOKUP($C88,'Sat TT_05'!$C$4:$Q$152,12,FALSE)=$C88),0,VLOOKUP($C88,'Sat TT_05'!$C$4:$Q$152,12,FALSE))","v":0},{"$f":"IF(ISNA(VLOOKUP($C88,'Sat TT_06'!$C$4:$Q$152,12,FALSE)=$C88),0,VLOOKUP($C88,'Sat TT_06'!$C$4:$Q$152,12,FALSE))","v":0},{"$f":"IF(ISNA(VLOOKUP($C88,'Sat TT_07'!$C$4:$Q$152,12,FALSE)=$C88),0,VLOOKUP($C88,'Sat TT_07'!$C$4:$Q$152,12,FALSE))","v":0},{"$f":"IF(ISNA(VLOOKUP($C88,'Sat TT_08'!$C$4:$Q$152,12,FALSE)=$C88),0,VLOOKUP($C88,'Sat TT_08'!$C$4:$Q$152,12,FALSE))","v":0},0]
[{"$f":"VLOOKUP(C89,'Sheet 1'!C$1:D$96,2,FALSE)","v":1077},80,{"$f":"+'[1]Racing numbers file'!$B33","v":"Brendan Byrne"},{"$f":"VLOOKUP(C89,'[1]Racing numbers file'!$B$4:$F$290,2,FALSE)","v":1950},{"$f":"VLOOKUP(C89,'[1]Racing numbers file'!$B$4:$F$290,4,FALSE)","v":66},0,{"$f":"IF(ISNA(VLOOKUP($C89,'Sat TT_01'!$C$4:$Q$152,12,FALSE)=$C89),0,VLOOKUP($C89,'Sat TT_01'!$C$4:$Q$152,12,FALSE))","v":0},{"$f":"IF(ISNA(VLOOKUP($C89,'Sat TT_02'!$C$4:$Q$152,12,FALSE)=$C89),0,VLOOKUP($C89,'Sat TT_02'!$C$4:$Q$152,12,FALSE))","v":0},{"$f":"IF(ISNA(VLOOKUP($C89,'Sat TT_03'!$C$4:$Q$152,12,FALSE)=$C89),0,VLOOKUP($C89,'Sat TT_03'!$C$4:$Q$152,12,FALSE))","v":0},{"$f":"IF(ISNA(VLOOKUP($C89,'Sat TT_04'!$C$4:$Q$152,12,FALSE)=$C89),0,VLOOKUP($C89,'Sat TT_04'!$C$4:$Q$152,12,FALSE))","v":0},{"$f":"IF(ISNA(VLOOKUP($C89,'Sat TT_05'!$C$4:$Q$152,12,FALSE)=$C89),0,VLOOKUP($C89,'Sat TT_05'!$C$4:$Q$152,12,FALSE))","v":0},{"$f":"IF(ISNA(VLOOKUP($C89,'Sat TT_06'!$C$4:$Q$152,12,FALSE)=$C89),0,VLOOKUP($C89,'Sat TT_06'!$C$4:$Q$152,12,FALSE))","v":0},{"$f":"IF(ISNA(VLOOKUP($C89,'Sat TT_07'!$C$4:$Q$152,12,FALSE)=$C89),0,VLOOKUP($C89,'Sat TT_07'!$C$4:$Q$152,12,FALSE))","v":0},{"$f":"IF(ISNA(VLOOKUP($C89,'Sat TT_08'!$C$4:$Q$152,12,FALSE)=$C89),0,VLOOKUP($C89,'Sat TT_08'!$C$4:$Q$152,12,FALSE))","v":0},0]
[{"$f":"VLOOKUP(C90,'Sheet 1'!C$1:D$96,2,FALSE)","v":{"$error":"#N/A"}},81,{"$f":"+'[1]Racing numbers file'!$B167","v":"Quentin Jansen"},{"$f":"VLOOKUP(C90,'[1]Racing numbers file'!$B$4:$F$290,2,FALSE)","v":1971},{"$f":"VLOOKUP(C90,'[1]Racing numbers file'!$B$4:$F$290,4,FALSE)","v":45},0,{"$f":"IF(ISNA(VLOOKUP($C90,'Sat TT_01'!$C$4:$Q$152,12,FALSE)=$C90),0,VLOOKUP($C90,'Sat TT_01'!$C$4:$Q$152,12,FALSE))","v":0},{"$f":"IF(ISNA(VLOOKUP($C90,'Sat TT_02'!$C$4:$Q$152,12,FALSE)=$C90),0,VLOOKUP($C90,'Sat TT_02'!$C$4:$Q$152,12,FALSE))","v":0},{"$f":"IF(ISNA(VLOOKUP($C90,'Sat TT_03'!$C$4:$Q$152,12,FALSE)=$C90),0,VLOOKUP($C90,'Sat TT_03'!$C$4:$Q$152,12,FALSE))","v":0},{"$f":"IF(ISNA(VLOOKUP($C90,'Sat TT_04'!$C$4:$Q$152,12,FALSE)=$C90),0,VLOOKUP($C90,'Sat TT_04'!$C$4:$Q$152,12,FALSE))","v":0},{"$f":"IF(ISNA(VLOOKUP($C90,'Sat TT_05'!$C$4:$Q$152,12,FALSE)=$C90),0,VLOOKUP($C90,'Sat TT_05'!$C$4:$Q$152,12,FALSE))","v":0},{"$f":"IF(ISNA(VLOOKUP($C90,'Sat TT_06'!$C$4:$Q$152,12,FALSE)=$C90),0,VLOOKUP($C90,'Sat TT_06'!$C$4:$Q$152,12,FALSE))","v":0},{"$f":"IF(ISNA(VLOOKUP($C90,'Sat TT_07'!$C$4:$Q$152,12,FALSE)=$C90),0,VLOOKUP($C90,'Sat TT_07'!$C$4:$Q$152,12,FALSE))","v":0},{"$f":"IF(ISNA(VLOOKUP($C90,'Sat TT_08'!$C$4:$Q$152,12,FALSE)=$C90),0,VLOOKUP($C90,'Sat TT_08'!$C$4:$Q$152,12,FALSE))","v":0},0]
[{"$f":"VLOOKUP(C91,'Sheet 1'!C$1:D$96,2,FALSE)","v":{"$error":"#N/A"}},82,{"$f":"+'[1]Racing numbers file'!$B200","v":"Stephen Murphy"},{"$f":"VLOOKUP(C91,'[1]Racing numbers file'!$B$4:$F$290,2,FALSE)","v":1966},{"$f":"VLOOKUP(C91,'[1]Racing numbers file'!$B$4:$F$290,4,FALSE)","v":50},0,{"$f":"IF(ISNA(VLOOKUP($C91,'Sat TT_01'!$C$4:$Q$152,12,FALSE)=$C91),0,VLOOKUP($C91,'Sat TT_01'!$C$4:$Q$152,12,FALSE))","v":0},{"$f":"IF(ISNA(VLOOKUP($C91,'Sat TT_02'!$C$4:$Q$152,12,FALSE)=$C91),0,VLOOKUP($C91,'Sat TT_02'!$C$4:$Q$152,12,FALSE))","v":0},{"$f":"IF(ISNA(VLOOKUP($C91,'Sat TT_03'!$C$4:$Q$152,12,FALSE)=$C91),0,VLOOKUP($C91,'Sat TT_03'!$C$4:$Q$152,12,FALSE))","v":0},{"$f":"IF(ISNA(VLOOKUP($C91,'Sat TT_04'!$C$4:$Q$152,12,FALSE)=$C91),0,VLOOKUP($C91,'Sat TT_04'!$C$4:$Q$152,12,FALSE))","v":0},{"$f":"IF(ISNA(VLOOKUP($C91,'Sat TT_05'!$C$4:$Q$152,12,FALSE)=$C91),0,VLOOKUP($C91,'Sat TT_05'!$C$4:$Q$152,12,FALSE))","v":0},{"$f":"IF(ISNA(VLOOKUP($C91,'Sat TT_06'!$C$4:$Q$152,12,FALSE)=$C91),0,VLOOKUP($C91,'Sat TT_06'!$C$4:$Q$152,12,FALSE))","v":0},{"$f":"IF(ISNA(VLOOKUP($C91,'Sat TT_07'!$C$4:$Q$152,12,FALSE)=$C91),0,VLOOKUP($C91,'Sat TT_07'!$C$4:$Q$152,12,FALSE))","v":0},{"$f":"IF(ISNA(VLOOKUP($C91,'Sat TT_08'!$C$4:$Q$152,12,FALSE)=$C91),0,VLOOKUP($C91,'Sat TT_08'!$C$4:$Q$152,12,FALSE))","v":0},0]
[{"$f":"VLOOKUP(C92,'Sheet 1'!C$1:D$96,2,FALSE)","v":{"$error":"#N/A"}},83,{"$f":"+'[1]Racing numbers file'!$B8","v":"Albert Murtagh"},{"$f":"VLOOKUP(C92,'[1]Racing numbers file'!$B$4:$F$290,2,FALSE)","v":1936},{"$f":"VLOOKUP(C92,'[1]Racing numbers file'!$B$4:$F$290,4,FALSE)","v":80},0,{"$f":"IF(ISNA(VLOOKUP($C92,'Sat TT_01'!$C$4:$Q$152,12,FALSE)=$C92),0,VLOOKUP($C92,'Sat TT_01'!$C$4:$Q$152,12,FALSE))","v":0},{"$f":"IF(ISNA(VLOOKUP($C92,'Sat TT_02'!$C$4:$Q$152,12,FALSE)=$C92),0,VLOOKUP($C92,'Sat TT_02'!$C$4:$Q$152,12,FALSE))","v":0},{"$f":"IF(ISNA(VLOOKUP($C92,'Sat TT_03'!$C$4:$Q$152,12,FALSE)=$C92),0,VLOOKUP($C92,'Sat TT_03'!$C$4:$Q$152,12,FALSE))","v":0},{"$f":"IF(ISNA(VLOOKUP($C92,'Sat TT_04'!$C$4:$Q$152,12,FALSE)=$C92),0,VLOOKUP($C92,'Sat TT_04'!$C$4:$Q$152,12,FALSE))","v":0},{"$f":"IF(ISNA(VLOOKUP($C92,'Sat TT_05'!$C$4:$Q$152,12,FALSE)=$C92),0,VLOOKUP($C92,'Sat TT_05'!$C$4:$Q$152,12,FALSE))","v":0},{"$f":"IF(ISNA(VLOOKUP($C92,'Sat TT_06'!$C$4:$Q$152,12,FALSE)=$C92),0,VLOOKUP($C92,'Sat TT_06'!$C$4:$Q$152,12,FALSE))","v":0},{"$f":"IF(ISNA(VLOOKUP($C92,'Sat TT_07'!$C$4:$Q$152,12,FALSE)=$C92),0,VLOOKUP($C92,'Sat TT_07'!$C$4:$Q$152,12,FALSE))","v":0},{"$f":"IF(ISNA(VLOOKUP($C92,'Sat TT_08'!$C$4:$Q$152,12,FALSE)=$C92),0,VLOOKUP($C92,'Sat TT_08'!$C$4:$Q$152,12,FALSE))","v":0},0]
[{"$f":"VLOOKUP(C93,'Sheet 1'!C$1:D$96,2,FALSE)","v":1083},84,{"$f":"+'[1]Racing numbers file'!$B35","v":"Seán Darragh"},{"$f":"VLOOKUP(C93,'[1]Racing numbers file'!$B$4:$F$290,2,FALSE)","v":1951},{"$f":"VLOOKUP(C93,'[1]Racing numbers file'!$B$4:$F$290,4,FALSE)","v":65},0,{"$f":"IF(ISNA(VLOOKUP($C93,'Sat TT_01'!$C$4:$Q$152,12,FALSE)=$C93),0,VLOOKUP($C93,'Sat TT_01'!$C$4:$Q$152,12,FALSE))","v":0},{"$f":"IF(ISNA(VLOOKUP($C93,'Sat TT_02'!$C$4:$Q$152,12,FALSE)=$C93),0,VLOOKUP($C93,'Sat TT_02'!$C$4:$Q$152,12,FALSE))","v":0},{"$f":"IF(ISNA(VLOOKUP($C93,'Sat TT_03'!$C$4:$Q$152,12,FALSE)=$C93),0,VLOOKUP($C93,'Sat TT_03'!$C$4:$Q$152,12,FALSE))","v":0},{"$f":"IF(ISNA(VLOOKUP($C93,'Sat TT_04'!$C$4:$Q$152,12,FALSE)=$C93),0,VLOOKUP($C93,'Sat TT_04'!$C$4:$Q$152,12,FALSE))","v":0},{"$f":"IF(ISNA(VLOOKUP($C93,'Sat TT_05'!$C$4:$Q$152,12,FALSE)=$C93),0,VLOOKUP($C93,'Sat TT_05'!$C$4:$Q$152,12,FALSE))","v":0},{"$f":"IF(ISNA(VLOOKUP($C93,'Sat TT_06'!$C$4:$Q$152,12,FALSE)=$C93),0,VLOOKUP($C93,'Sat TT_06'!$C$4:$Q$152,12,FALSE))","v":0},{"$f":"IF(ISNA(VLOOKUP($C93,'Sat TT_07'!$C$4:$Q$152,12,FALSE)=$C93),0,VLOOKUP($C93,'Sat TT_07'!$C$4:$Q$152,12,FALSE))","v":0},{"$f":"IF(ISNA(VLOOKUP($C93,'Sat TT_08'!$C$4:$Q$152,12,FALSE)=$C93),0,VLOOKUP($C93,'Sat TT_08'!$C$4:$Q$152,12,FALSE))","v":0},0]
[{"$f":"VLOOKUP(C94,'Sheet 1'!C$1:D$96,2,FALSE)","v":{"$error":"#N/A"}},85,{"$f":"+'[1]Racing numbers file'!$B39","v":"Romano Morelli"},{"$f":"VLOOKUP(C94,'[1]Racing numbers file'!$B$4:$F$290,2,FALSE)","v":1952},{"$f":"VLOOKUP(C94,'[1]Racing numbers file'!$B$4:$F$290,4,FALSE)","v":64},0,{"$f":"IF(ISNA(VLOOKUP($C94,'Sat TT_01'!$C$4:$Q$152,12,FALSE)=$C94),0,VLOOKUP($C94,'Sat TT_01'!$C$4:$Q$152,12,FALSE))","v":0},{"$f":"IF(ISNA(VLOOKUP($C94,'Sat TT_02'!$C$4:$Q$152,12,FALSE)=$C94),0,VLOOKUP($C94,'Sat TT_02'!$C$4:$Q$152,12,FALSE))","v":0},{"$f":"IF(ISNA(VLOOKUP($C94,'Sat TT_03'!$C$4:$Q$152,12,FALSE)=$C94),0,VLOOKUP($C94,'Sat TT_03'!$C$4:$Q$152,12,FALSE))","v":0},{"$f":"IF(ISNA(VLOOKUP($C94,'Sat TT_04'!$C$4:$Q$152,12,FALSE)=$C94),0,VLOOKUP($C94,'Sat TT_04'!$C$4:$Q$152,12,FALSE))","v":0},{"$f":"IF(ISNA(VLOOKUP($C94,'Sat TT_05'!$C$4:$Q$152,12,FALSE)=$C94),0,VLOOKUP($C94,'Sat TT_05'!$C$4:$Q$152,12,FALSE))","v":0},{"$f":"IF(ISNA(VLOOKUP($C94,'Sat TT_06'!$C$4:$Q$152,12,FALSE)=$C94),0,VLOOKUP($C94,'Sat TT_06'!$C$4:$Q$152,12,FALSE))","v":0},{"$f":"IF(ISNA(VLOOKUP($C94,'Sat TT_07'!$C$4:$Q$152,12,FALSE)=$C94),0,VLOOKUP($C94,'Sat TT_07'!$C$4:$Q$152,12,FALSE))","v":0},{"$f":"IF(ISNA(VLOOKUP($C94,'Sat TT_08'!$C$4:$Q$152,12,FALSE)=$C94),0,VLOOKUP($C94,'Sat TT_08'!$C$4:$Q$152,12,FALSE))","v":0},0]
[{"$f":"VLOOKUP(C95,'Sheet 1'!C$1:D$96,2,FALSE)","v":{"$error":"#N/A"}},86,{"$f":"+'[1]Racing numbers file'!$B178","v":"Gavin Kelly"},{"$f":"VLOOKUP(C95,'[1]Racing numbers file'!$B$4:$F$290,2,FALSE)","v":1973},{"$f":"VLOOKUP(C95,'[1]Racing numbers file'!$B$4:$F$290,4,FALSE)","v":43},0,{"$f":"IF(ISNA(VLOOKUP($C95,'Sat TT_01'!$C$4:$Q$152,12,FALSE)=$C95),0,VLOOKUP($C95,'Sat TT_01'!$C$4:$Q$152,12,FALSE))","v":0},{"$f":"IF(ISNA(VLOOKUP($C95,'Sat TT_02'!$C$4:$Q$152,12,FALSE)=$C95),0,VLOOKUP($C95,'Sat TT_02'!$C$4:$Q$152,12,FALSE))","v":0},{"$f":"IF(ISNA(VLOOKUP($C95,'Sat TT_03'!$C$4:$Q$152,12,FALSE)=$C95),0,VLOOKUP($C95,'Sat TT_03'!$C$4:$Q$152,12,FALSE))","v":0},{"$f":"IF(ISNA(VLOOKUP($C95,'Sat TT_04'!$C$4:$Q$152,12,FALSE)=$C95),0,VLOOKUP($C95,'Sat TT_04'!$C$4:$Q$152,12,FALSE))","v":0},{"$f":"IF(ISNA(VLOOKUP($C95,'Sat TT_05'!$C$4:$Q$152,12,FALSE)=$C95),0,VLOOKUP($C95,'Sat TT_05'!$C$4:$Q$152,12,FALSE))","v":0},{"$f":"IF(ISNA(VLOOKUP($C95,'Sat TT_06'!$C$4:$Q$152,12,FALSE)=$C95),0,VLOOKUP($C95,'Sat TT_06'!$C$4:$Q$152,12,FALSE))","v":0},{"$f":"IF(ISNA(VLOOKUP($C95,'Sat TT_07'!$C$4:$Q$152,12,FALSE)=$C95),0,VLOOKUP($C95,'Sat TT_07'!$C$4:$Q$152,12,FALSE))","v":0},{"$f":"IF(ISNA(VLOOKUP($C95,'Sat TT_08'!$C$4:$Q$152,12,FALSE)=$C95),0,VLOOKUP($C95,'Sat TT_08'!$C$4:$Q$152,12,FALSE))","v":0},0]
[{"$f":"VLOOKUP(C96,'Sheet 1'!C$1:D$96,2,FALSE)","v":1123},87,{"$f":"+'[1]Racing numbers file'!$B59","v":"Colm Cassidy"},{"$f":"VLOOKUP(C96,'[1]Racing numbers file'!$B$4:$F$290,2,FALSE)","v":1957},{"$f":"VLOOKUP(C96,'[1]Racing numbers file'!$B$4:$F$290,4,FALSE)","v":59},0,{"$f":"IF(ISNA(VLOOKUP($C96,'Sat TT_01'!$C$4:$Q$152,12,FALSE)=$C96),0,VLOOKUP($C96,'Sat TT_01'!$C$4:$Q$152,12,FALSE))","v":0},{"$f":"IF(ISNA(VLOOKUP($C96,'Sat TT_02'!$C$4:$Q$152,12,FALSE)=$C96),0,VLOOKUP($C96,'Sat TT_02'!$C$4:$Q$152,12,FALSE))","v":0},{"$f":"IF(ISNA(VLOOKUP($C96,'Sat TT_03'!$C$4:$Q$152,12,FALSE)=$C96),0,VLOOKUP($C96,'Sat TT_03'!$C$4:$Q$152,12,FALSE))","v":0},{"$f":"IF(ISNA(VLOOKUP($C96,'Sat TT_04'!$C$4:$Q$152,12,FALSE)=$C96),0,VLOOKUP($C96,'Sat TT_04'!$C$4:$Q$152,12,FALSE))","v":0},{"$f":"IF(ISNA(VLOOKUP($C96,'Sat TT_05'!$C$4:$Q$152,12,FALSE)=$C96),0,VLOOKUP($C96,'Sat TT_05'!$C$4:$Q$152,12,FALSE))","v":0},{"$f":"IF(ISNA(VLOOKUP($C96,'Sat TT_06'!$C$4:$Q$152,12,FALSE)=$C96),0,VLOOKUP($C96,'Sat TT_06'!$C$4:$Q$152,12,FALSE))","v":0},{"$f":"IF(ISNA(VLOOKUP($C96,'Sat TT_07'!$C$4:$Q$152,12,FALSE)=$C96),0,VLOOKUP($C96,'Sat TT_07'!$C$4:$Q$152,12,FALSE))","v":0},{"$f":"IF(ISNA(VLOOKUP($C96,'Sat TT_08'!$C$4:$Q$152,12,FALSE)=$C96),0,VLOOKUP($C96,'Sat TT_08'!$C$4:$Q$152,12,FALSE))","v":0},0]
[{"$f":"VLOOKUP(C97,'Sheet 1'!C$1:D$96,2,FALSE)","v":1103},88,{"$f":"+'[1]Racing numbers file'!$B46","v":"Gerry Gaston"},{"$f":"VLOOKUP(C97,'[1]Racing numbers file'!$B$4:$F$290,2,FALSE)","v":1954},{"$f":"VLOOKUP(C97,'[1]Racing numbers file'!$B$4:$F$290,4,FALSE)","v":62},0,{"$f":"IF(ISNA(VLOOKUP($C97,'Sat TT_01'!$C$4:$Q$152,12,FALSE)=$C97),0,VLOOKUP($C97,'Sat TT_01'!$C$4:$Q$152,12,FALSE))","v":0},{"$f":"IF(ISNA(VLOOKUP($C97,'Sat TT_02'!$C$4:$Q$152,12,FALSE)=$C97),0,VLOOKUP($C97,'Sat TT_02'!$C$4:$Q$152,12,FALSE))","v":0},{"$f":"IF(ISNA(VLOOKUP($C97,'Sat TT_03'!$C$4:$Q$152,12,FALSE)=$C97),0,VLOOKUP($C97,'Sat TT_03'!$C$4:$Q$152,12,FALSE))","v":0},{"$f":"IF(ISNA(VLOOKUP($C97,'Sat TT_04'!$C$4:$Q$152,12,FALSE)=$C97),0,VLOOKUP($C97,'Sat TT_04'!$C$4:$Q$152,12,FALSE))","v":0},{"$f":"IF(ISNA(VLOOKUP($C97,'Sat TT_05'!$C$4:$Q$152,12,FALSE)=$C97),0,VLOOKUP($C97,'Sat TT_05'!$C$4:$Q$152,12,FALSE))","v":0},{"$f":"IF(ISNA(VLOOKUP($C97,'Sat TT_06'!$C$4:$Q$152,12,FALSE)=$C97),0,VLOOKUP($C97,'Sat TT_06'!$C$4:$Q$152,12,FALSE))","v":0},{"$f":"IF(ISNA(VLOOKUP($C97,'Sat TT_07'!$C$4:$Q$152,12,FALSE)=$C97),0,VLOOKUP($C97,'Sat TT_07'!$C$4:$Q$152,12,FALSE))","v":0},{"$f":"IF(ISNA(VLOOKUP($C97,'Sat TT_08'!$C$4:$Q$152,12,FALSE)=$C97),0,VLOOKUP($C97,'Sat TT_08'!$C$4:$Q$152,12,FALSE))","v":0},0]
[{"$f":"VLOOKUP(C98,'Sheet 1'!C$1:D$96,2,FALSE)","v":1050},89,{"$f":"+'[1]Racing numbers file'!$B23","v":"Mick Davis"},{"$f":"VLOOKUP(C98,'[1]Racing numbers file'!$B$4:$F$290,2,FALSE)","v":1945},{"$f":"VLOOKUP(C98,'[1]Racing numbers file'!$B$4:$F$290,4,FALSE)","v":71},0,{"$f":"IF(ISNA(VLOOKUP($C98,'Sat TT_01'!$C$4:$Q$152,12,FALSE)=$C98),0,VLOOKUP($C98,'Sat TT_01'!$C$4:$Q$152,12,FALSE))","v":0},{"$f":"IF(ISNA(VLOOKUP($C98,'Sat TT_02'!$C$4:$Q$152,12,FALSE)=$C98),0,VLOOKUP($C98,'Sat TT_02'!$C$4:$Q$152,12,FALSE))","v":0},{"$f":"IF(ISNA(VLOOKUP($C98,'Sat TT_03'!$C$4:$Q$152,12,FALSE)=$C98),0,VLOOKUP($C98,'Sat TT_03'!$C$4:$Q$152,12,FALSE))","v":0},{"$f":"IF(ISNA(VLOOKUP($C98,'Sat TT_04'!$C$4:$Q$152,12,FALSE)=$C98),0,VLOOKUP($C98,'Sat TT_04'!$C$4:$Q$152,12,FALSE))","v":0},{"$f":"IF(ISNA(VLOOKUP($C98,'Sat TT_05'!$C$4:$Q$152,12,FALSE)=$C98),0,VLOOKUP($C98,'Sat TT_05'!$C$4:$Q$152,12,FALSE))","v":0},{"$f":"IF(ISNA(VLOOKUP($C98,'Sat TT_06'!$C$4:$Q$152,12,FALSE)=$C98),0,VLOOKUP($C98,'Sat TT_06'!$C$4:$Q$152,12,FALSE))","v":0},{"$f":"IF(ISNA(VLOOKUP($C98,'Sat TT_07'!$C$4:$Q$152,12,FALSE)=$C98),0,VLOOKUP($C98,'Sat TT_07'!$C$4:$Q$152,12,FALSE))","v":0},{"$f":"IF(ISNA(VLOOKUP($C98,'Sat TT_08'!$C$4:$Q$152,12,FALSE)=$C98),0,VLOOKUP($C98,'Sat TT_08'!$C$4:$Q$152,12,FALSE))","v":0},0]
[{"$f":"VLOOKUP(C99,'Sheet 1'!C$1:D$96,2,FALSE)","v":{"$error":"#N/A"}},90,{"$f":"+'[1]Racing numbers file'!$B38","v":"Damien Lyle-Stirling"},{"$f":"VLOOKUP(C99,'[1]Racing numbers file'!$B$4:$F$290,2,FALSE)","v":1952},{"$f":"VLOOKUP(C99,'[1]Racing numbers file'!$B$4:$F$290,4,FALSE)","v":64},0,{"$f":"IF(ISNA(VLOOKUP($C99,'Sat TT_01'!$C$4:$Q$152,12,FALSE)=$C99),0,VLOOKUP($C99,'Sat TT_01'!$C$4:$Q$152,12,FALSE))","v":0},{"$f":"IF(ISNA(VLOOKUP($C99,'Sat TT_02'!$C$4:$Q$152,12,FALSE)=$C99),0,VLOOKUP($C99,'Sat TT_02'!$C$4:$Q$152,12,FALSE))","v":0},{"$f":"IF(ISNA(VLOOKUP($C99,'Sat TT_03'!$C$4:$Q$152,12,FALSE)=$C99),0,VLOOKUP($C99,'Sat TT_03'!$C$4:$Q$152,12,FALSE))","v":0},{"$f":"IF(ISNA(VLOOKUP($C99,'Sat TT_04'!$C$4:$Q$152,12,FALSE)=$C99),0,VLOOKUP($C99,'Sat TT_04'!$C$4:$Q$152,12,FALSE))","v":0},{"$f":"IF(ISNA(VLOOKUP($C99,'Sat TT_05'!$C$4:$Q$152,12,FALSE)=$C99),0,VLOOKUP($C99,'Sat TT_05'!$C$4:$Q$152,12,FALSE))","v":0},{"$f":"IF(ISNA(VLOOKUP($C99,'Sat TT_06'!$C$4:$Q$152,12,FALSE)=$C99),0,VLOOKUP($C99,'Sat TT_06'!$C$4:$Q$152,12,FALSE))","v":0},{"$f":"IF(ISNA(VLOOKUP($C99,'Sat TT_07'!$C$4:$Q$152,12,FALSE)=$C99),0,VLOOKUP($C99,'Sat TT_07'!$C$4:$Q$152,12,FALSE))","v":0},{"$f":"IF(ISNA(VLOOKUP($C99,'Sat TT_08'!$C$4:$Q$152,12,FALSE)=$C99),0,VLOOKUP($C99,'Sat TT_08'!$C$4:$Q$152,12,FALSE))","v":0},0]
[{"$f":"VLOOKUP(C100,'Sheet 1'!C$1:D$96,2,FALSE)","v":{"$error":"#N/A"}},91,{"$f":"+'[1]Racing numbers file'!$B30","v":"George O'Rorke"},{"$f":"VLOOKUP(C100,'[1]Racing numbers file'!$B$4:$F$290,2,FALSE)","v":1948},{"$f":"VLOOKUP(C100,'[1]Racing numbers file'!$B$4:$F$290,4,FALSE)","v":68},0,{"$f":"IF(ISNA(VLOOKUP($C100,'Sat TT_01'!$C$4:$Q$152,12,FALSE)=$C100),0,VLOOKUP($C100,'Sat TT_01'!$C$4:$Q$152,12,FALSE))","v":0},{"$f":"IF(ISNA(VLOOKUP($C100,'Sat TT_02'!$C$4:$Q$152,12,FALSE)=$C100),0,VLOOKUP($C100,'Sat TT_02'!$C$4:$Q$152,12,FALSE))","v":0},{"$f":"IF(ISNA(VLOOKUP($C100,'Sat TT_03'!$C$4:$Q$152,12,FALSE)=$C100),0,VLOOKUP($C100,'Sat TT_03'!$C$4:$Q$152,12,FALSE))","v":0},{"$f":"IF(ISNA(VLOOKUP($C100,'Sat TT_04'!$C$4:$Q$152,12,FALSE)=$C100),0,VLOOKUP($C100,'Sat TT_04'!$C$4:$Q$152,12,FALSE))","v":0},{"$f":"IF(ISNA(VLOOKUP($C100,'Sat TT_05'!$C$4:$Q$152,12,FALSE)=$C100),0,VLOOKUP($C100,'Sat TT_05'!$C$4:$Q$152,12,FALSE))","v":0},{"$f":"IF(ISNA(VLOOKUP($C100,'Sat TT_06'!$C$4:$Q$152,12,FALSE)=$C100),0,VLOOKUP($C100,'Sat TT_06'!$C$4:$Q$152,12,FALSE))","v":0},{"$f":"IF(ISNA(VLOOKUP($C100,'Sat TT_07'!$C$4:$Q$152,12,FALSE)=$C100),0,VLOOKUP($C100,'Sat TT_07'!$C$4:$Q$152,12,FALSE))","v":0},{"$f":"IF(ISNA(VLOOKUP($C100,'Sat TT_08'!$C$4:$Q$152,12,FALSE)=$C100),0,VLOOKUP($C100,'Sat TT_08'!$C$4:$Q$152,12,FALSE))","v":0},0]
[{"$f":"VLOOKUP(C101,'Sheet 1'!C$1:D$96,2,FALSE)","v":{"$error":"#N/A"}},92,{"$f":"+'[1]Racing numbers file'!$B62","v":"Tom Lucas"},{"$f":"VLOOKUP(C101,'[1]Racing numbers file'!$B$4:$F$290,2,FALSE)","v":1958},{"$f":"VLOOKUP(C101,'[1]Racing numbers file'!$B$4:$F$290,4,FALSE)","v":58},0,{"$f":"IF(ISNA(VLOOKUP($C101,'Sat TT_01'!$C$4:$Q$152,12,FALSE)=$C101),0,VLOOKUP($C101,'Sat TT_01'!$C$4:$Q$152,12,FALSE))","v":0},{"$f":"IF(ISNA(VLOOKUP($C101,'Sat TT_02'!$C$4:$Q$152,12,FALSE)=$C101),0,VLOOKUP($C101,'Sat TT_02'!$C$4:$Q$152,12,FALSE))","v":0},{"$f":"IF(ISNA(VLOOKUP($C101,'Sat TT_03'!$C$4:$Q$152,12,FALSE)=$C101),0,VLOOKUP($C101,'Sat TT_03'!$C$4:$Q$152,12,FALSE))","v":0},{"$f":"IF(ISNA(VLOOKUP($C101,'Sat TT_04'!$C$4:$Q$152,12,FALSE)=$C101),0,VLOOKUP($C101,'Sat TT_04'!$C$4:$Q$152,12,FALSE))","v":0},{"$f":"IF(ISNA(VLOOKUP($C101,'Sat TT_05'!$C$4:$Q$152,12,FALSE)=$C101),0,VLOOKUP($C101,'Sat TT_05'!$C$4:$Q$152,12,FALSE))","v":0},{"$f":"IF(ISNA(VLOOKUP($C101,'Sat TT_06'!$C$4:$Q$152,12,FALSE)=$C101),0,VLOOKUP($C101,'Sat TT_06'!$C$4:$Q$152,12,FALSE))","v":0},{"$f":"IF(ISNA(VLOOKUP($C101,'Sat TT_07'!$C$4:$Q$152,12,FALSE)=$C101),0,VLOOKUP($C101,'Sat TT_07'!$C$4:$Q$152,12,FALSE))","v":0},{"$f":"IF(ISNA(VLOOKUP($C101,'Sat TT_08'!$C$4:$Q$152,12,FALSE)=$C101),0,VLOOKUP($C101,'Sat TT_08'!$C$4:$Q$152,12,FALSE))","v":0},0]
[{"$f":"VLOOKUP(C102,'Sheet 1'!C$1:D$96,2,FALSE)","v":{"$error":"#N/A"}},93,{"$f":"+'[1]Racing numbers file'!$B47","v":"Patrick Troy"},{"$f":"VLOOKUP(C102,'[1]Racing numbers file'!$B$4:$F$290,2,FALSE)","v":1954},{"$f":"VLOOKUP(C102,'[1]Racing numbers file'!$B$4:$F$290,4,FALSE)","v":62},0,{"$f":"IF(ISNA(VLOOKUP($C102,'Sat TT_01'!$C$4:$Q$152,12,FALSE)=$C102),0,VLOOKUP($C102,'Sat TT_01'!$C$4:$Q$152,12,FALSE))","v":0},{"$f":"IF(ISNA(VLOOKUP($C102,'Sat TT_02'!$C$4:$Q$152,12,FALSE)=$C102),0,VLOOKUP($C102,'Sat TT_02'!$C$4:$Q$152,12,FALSE))","v":0},{"$f":"IF(ISNA(VLOOKUP($C102,'Sat TT_03'!$C$4:$Q$152,12,FALSE)=$C102),0,VLOOKUP($C102,'Sat TT_03'!$C$4:$Q$152,12,FALSE))","v":0},{"$f":"IF(ISNA(VLOOKUP($C102,'Sat TT_04'!$C$4:$Q$152,12,FALSE)=$C102),0,VLOOKUP($C102,'Sat TT_04'!$C$4:$Q$152,12,FALSE))","v":0},{"$f":"IF(ISNA(VLOOKUP($C102,'Sat TT_05'!$C$4:$Q$152,12,FALSE)=$C102),0,VLOOKUP($C102,'Sat TT_05'!$C$4:$Q$152,12,FALSE))","v":0},{"$f":"IF(ISNA(VLOOKUP($C102,'Sat TT_06'!$C$4:$Q$152,12,FALSE)=$C102),0,VLOOKUP($C102,'Sat TT_06'!$C$4:$Q$152,12,FALSE))","v":0},{"$f":"IF(ISNA(VLOOKUP($C102,'Sat TT_07'!$C$4:$Q$152,12,FALSE)=$C102),0,VLOOKUP($C102,'Sat TT_07'!$C$4:$Q$152,12,FALSE))","v":0},{"$f":"IF(ISNA(VLOOKUP($C102,'Sat TT_08'!$C$4:$Q$152,12,FALSE)=$C102),0,VLOOKUP($C102,'Sat TT_08'!$C$4:$Q$152,12,FALSE))","v":0},0]
[{"$f":"VLOOKUP(C103,'Sheet 1'!C$1:D$96,2,FALSE)","v":1062},94,{"$f":"+'[1]Racing numbers file'!$B29","v":"Mick Mullen"},{"$f":"VLOOKUP(C103,'[1]Racing numbers file'!$B$4:$F$290,2,FALSE)","v":1948},{"$f":"VLOOKUP(C103,'[1]Racing numbers file'!$B$4:$F$290,4,FALSE)","v":68},0,{"$f":"IF(ISNA(VLOOKUP($C103,'Sat TT_01'!$C$4:$Q$152,12,FALSE)=$C103),0,VLOOKUP($C103,'Sat TT_01'!$C$4:$Q$152,12,FALSE))","v":0},{"$f":"IF(ISNA(VLOOKUP($C103,'Sat TT_02'!$C$4:$Q$152,12,FALSE)=$C103),0,VLOOKUP($C103,'Sat TT_02'!$C$4:$Q$152,12,FALSE))","v":0},{"$f":"IF(ISNA(VLOOKUP($C103,'Sat TT_03'!$C$4:$Q$152,12,FALSE)=$C103),0,VLOOKUP($C103,'Sat TT_03'!$C$4:$Q$152,12,FALSE))","v":0},{"$f":"IF(ISNA(VLOOKUP($C103,'Sat TT_04'!$C$4:$Q$152,12,FALSE)=$C103),0,VLOOKUP($C103,'Sat TT_04'!$C$4:$Q$152,12,FALSE))","v":0},{"$f":"IF(ISNA(VLOOKUP($C103,'Sat TT_05'!$C$4:$Q$152,12,FALSE)=$C103),0,VLOOKUP($C103,'Sat TT_05'!$C$4:$Q$152,12,FALSE))","v":0},{"$f":"IF(ISNA(VLOOKUP($C103,'Sat TT_06'!$C$4:$Q$152,12,FALSE)=$C103),0,VLOOKUP($C103,'Sat TT_06'!$C$4:$Q$152,12,FALSE))","v":0},{"$f":"IF(ISNA(VLOOKUP($C103,'Sat TT_07'!$C$4:$Q$152,12,FALSE)=$C103),0,VLOOKUP($C103,'Sat TT_07'!$C$4:$Q$152,12,FALSE))","v":0},{"$f":"IF(ISNA(VLOOKUP($C103,'Sat TT_08'!$C$4:$Q$152,12,FALSE)=$C103),0,VLOOKUP($C103,'Sat TT_08'!$C$4:$Q$152,12,FALSE))","v":0},0]
[{"$f":"VLOOKUP(C104,'Sheet 1'!C$1:D$96,2,FALSE)","v":1045},95,{"$f":"+'[1]Racing numbers file'!$B22","v":"Oliver Bright"},{"$f":"VLOOKUP(C104,'[1]Racing numbers file'!$B$4:$F$290,2,FALSE)","v":1944},{"$f":"VLOOKUP(C104,'[1]Racing numbers file'!$B$4:$F$290,4,FALSE)","v":72},0,{"$f":"IF(ISNA(VLOOKUP($C104,'Sat TT_01'!$C$4:$Q$152,12,FALSE)=$C104),0,VLOOKUP($C104,'Sat TT_01'!$C$4:$Q$152,12,FALSE))","v":0},{"$f":"IF(ISNA(VLOOKUP($C104,'Sat TT_02'!$C$4:$Q$152,12,FALSE)=$C104),0,VLOOKUP($C104,'Sat TT_02'!$C$4:$Q$152,12,FALSE))","v":0},{"$f":"IF(ISNA(VLOOKUP($C104,'Sat TT_03'!$C$4:$Q$152,12,FALSE)=$C104),0,VLOOKUP($C104,'Sat TT_03'!$C$4:$Q$152,12,FALSE))","v":0},{"$f":"IF(ISNA(VLOOKUP($C104,'Sat TT_04'!$C$4:$Q$152,12,FALSE)=$C104),0,VLOOKUP($C104,'Sat TT_04'!$C$4:$Q$152,12,FALSE))","v":0},{"$f":"IF(ISNA(VLOOKUP($C104,'Sat TT_05'!$C$4:$Q$152,12,FALSE)=$C104),0,VLOOKUP($C104,'Sat TT_05'!$C$4:$Q$152,12,FALSE))","v":0},{"$f":"IF(ISNA(VLOOKUP($C104,'Sat TT_06'!$C$4:$Q$152,12,FALSE)=$C104),0,VLOOKUP($C104,'Sat TT_06'!$C$4:$Q$152,12,FALSE))","v":0},{"$f":"IF(ISNA(VLOOKUP($C104,'Sat TT_07'!$C$4:$Q$152,12,FALSE)=$C104),0,VLOOKUP($C104,'Sat TT_07'!$C$4:$Q$152,12,FALSE))","v":0},{"$f":"IF(ISNA(VLOOKUP($C104,'Sat TT_08'!$C$4:$Q$152,12,FALSE)=$C104),0,VLOOKUP($C104,'Sat TT_08'!$C$4:$Q$152,12,FALSE))","v":0},0]
[{"$f":"VLOOKUP(C105,'Sheet 1'!C$1:D$96,2,FALSE)","v":{"$error":"#N/A"}},96,{"$f":"+'[1]Racing numbers file'!$B60","v":"Paul Tansey"},{"$f":"VLOOKUP(C105,'[1]Racing numbers file'!$B$4:$F$290,2,FALSE)","v":1957},{"$f":"VLOOKUP(C105,'[1]Racing numbers file'!$B$4:$F$290,4,FALSE)","v":59},0,{"$f":"IF(ISNA(VLOOKUP($C105,'Sat TT_01'!$C$4:$Q$152,12,FALSE)=$C105),0,VLOOKUP($C105,'Sat TT_01'!$C$4:$Q$152,12,FALSE))","v":0},{"$f":"IF(ISNA(VLOOKUP($C105,'Sat TT_02'!$C$4:$Q$152,12,FALSE)=$C105),0,VLOOKUP($C105,'Sat TT_02'!$C$4:$Q$152,12,FALSE))","v":0},{"$f":"IF(ISNA(VLOOKUP($C105,'Sat TT_03'!$C$4:$Q$152,12,FALSE)=$C105),0,VLOOKUP($C105,'Sat TT_03'!$C$4:$Q$152,12,FALSE))","v":0},{"$f":"IF(ISNA(VLOOKUP($C105,'Sat TT_04'!$C$4:$Q$152,12,FALSE)=$C105),0,VLOOKUP($C105,'Sat TT_04'!$C$4:$Q$152,12,FALSE))","v":0},{"$f":"IF(ISNA(VLOOKUP($C105,'Sat TT_05'!$C$4:$Q$152,12,FALSE)=$C105),0,VLOOKUP($C105,'Sat TT_05'!$C$4:$Q$152,12,FALSE))","v":0},{"$f":"IF(ISNA(VLOOKUP($C105,'Sat TT_06'!$C$4:$Q$152,12,FALSE)=$C105),0,VLOOKUP($C105,'Sat TT_06'!$C$4:$Q$152,12,FALSE))","v":0},{"$f":"IF(ISNA(VLOOKUP($C105,'Sat TT_07'!$C$4:$Q$152,12,FALSE)=$C105),0,VLOOKUP($C105,'Sat TT_07'!$C$4:$Q$152,12,FALSE))","v":0},{"$f":"IF(ISNA(VLOOKUP($C105,'Sat TT_08'!$C$4:$Q$152,12,FALSE)=$C105),0,VLOOKUP($C105,'Sat TT_08'!$C$4:$Q$152,12,FALSE))","v":0},0]
[{"$f":"VLOOKUP(C106,'Sheet 1'!C$1:D$96,2,FALSE)","v":{"$error":"#N/A"}},97,{"$f":"+'[1]Racing numbers file'!$B15","v":"Mick Payne"},{"$f":"VLOOKUP(C106,'[1]Racing numbers file'!$B$4:$F$290,2,FALSE)","v":1942},{"$f":"VLOOKUP(C106,'[1]Racing numbers file'!$B$4:$F$290,4,FALSE)","v":74},0,{"$f":"IF(ISNA(VLOOKUP($C106,'Sat TT_01'!$C$4:$Q$152,12,FALSE)=$C106),0,VLOOKUP($C106,'Sat TT_01'!$C$4:$Q$152,12,FALSE))","v":0},{"$f":"IF(ISNA(VLOOKUP($C106,'Sat TT_02'!$C$4:$Q$152,12,FALSE)=$C106),0,VLOOKUP($C106,'Sat TT_02'!$C$4:$Q$152,12,FALSE))","v":0},{"$f":"IF(ISNA(VLOOKUP($C106,'Sat TT_03'!$C$4:$Q$152,12,FALSE)=$C106),0,VLOOKUP($C106,'Sat TT_03'!$C$4:$Q$152,12,FALSE))","v":0},{"$f":"IF(ISNA(VLOOKUP($C106,'Sat TT_04'!$C$4:$Q$152,12,FALSE)=$C106),0,VLOOKUP($C106,'Sat TT_04'!$C$4:$Q$152,12,FALSE))","v":0},{"$f":"IF(ISNA(VLOOKUP($C106,'Sat TT_05'!$C$4:$Q$152,12,FALSE)=$C106),0,VLOOKUP($C106,'Sat TT_05'!$C$4:$Q$152,12,FALSE))","v":0},{"$f":"IF(ISNA(VLOOKUP($C106,'Sat TT_06'!$C$4:$Q$152,12,FALSE)=$C106),0,VLOOKUP($C106,'Sat TT_06'!$C$4:$Q$152,12,FALSE))","v":0},{"$f":"IF(ISNA(VLOOKUP($C106,'Sat TT_07'!$C$4:$Q$152,12,FALSE)=$C106),0,VLOOKUP($C106,'Sat TT_07'!$C$4:$Q$152,12,FALSE))","v":0},{"$f":"IF(ISNA(VLOOKUP($C106,'Sat TT_08'!$C$4:$Q$152,12,FALSE)=$C106),0,VLOOKUP($C106,'Sat TT_08'!$C$4:$Q$152,12,FALSE))","v":0},0]
[{"$f":"VLOOKUP(C107,'Sheet 1'!C$1:D$96,2,FALSE)","v":1026},98,{"$f":"+'[1]Racing numbers file'!$B14","v":"Seán Lally"},{"$f":"VLOOKUP(C107,'[1]Racing numbers file'!$B$4:$F$290,2,FALSE)","v":1941},{"$f":"VLOOKUP(C107,'[1]Racing numbers file'!$B$4:$F$290,4,FALSE)","v":75},0,{"$f":"IF(ISNA(VLOOKUP($C107,'Sat TT_01'!$C$4:$Q$152,12,FALSE)=$C107),0,VLOOKUP($C107,'Sat TT_01'!$C$4:$Q$152,12,FALSE))","v":0},{"$f":"IF(ISNA(VLOOKUP($C107,'Sat TT_02'!$C$4:$Q$152,12,FALSE)=$C107),0,VLOOKUP($C107,'Sat TT_02'!$C$4:$Q$152,12,FALSE))","v":0},{"$f":"IF(ISNA(VLOOKUP($C107,'Sat TT_03'!$C$4:$Q$152,12,FALSE)=$C107),0,VLOOKUP($C107,'Sat TT_03'!$C$4:$Q$152,12,FALSE))","v":0},{"$f":"IF(ISNA(VLOOKUP($C107,'Sat TT_04'!$C$4:$Q$152,12,FALSE)=$C107),0,VLOOKUP($C107,'Sat TT_04'!$C$4:$Q$152,12,FALSE))","v":0},{"$f":"IF(ISNA(VLOOKUP($C107,'Sat TT_05'!$C$4:$Q$152,12,FALSE)=$C107),0,VLOOKUP($C107,'Sat TT_05'!$C$4:$Q$152,12,FALSE))","v":0},{"$f":"IF(ISNA(VLOOKUP($C107,'Sat TT_06'!$C$4:$Q$152,12,FALSE)=$C107),0,VLOOKUP($C107,'Sat TT_06'!$C$4:$Q$152,12,FALSE))","v":0},{"$f":"IF(ISNA(VLOOKUP($C107,'Sat TT_07'!$C$4:$Q$152,12,FALSE)=$C107),0,VLOOKUP($C107,'Sat TT_07'!$C$4:$Q$152,12,FALSE))","v":0},{"$f":"IF(ISNA(VLOOKUP($C107,'Sat TT_08'!$C$4:$Q$152,12,FALSE)=$C107),0,VLOOKUP($C107,'Sat TT_08'!$C$4:$Q$152,12,FALSE))","v":0},0]
[{"$f":"VLOOKUP(C108,'Sheet 1'!C$1:D$96,2,FALSE)","v":{"$error":"#N/A"}},99,{"$f":"+'[1]Racing numbers file'!$B7","v":"Jim Ludden"},{"$f":"VLOOKUP(C108,'[1]Racing numbers file'!$B$4:$F$290,2,FALSE)","v":1935},{"$f":"VLOOKUP(C108,'[1]Racing numbers file'!$B$4:$F$290,4,FALSE)","v":81},0,{"$f":"IF(ISNA(VLOOKUP($C108,'Sat TT_01'!$C$4:$Q$152,12,FALSE)=$C108),0,VLOOKUP($C108,'Sat TT_01'!$C$4:$Q$152,12,FALSE))","v":0},{"$f":"IF(ISNA(VLOOKUP($C108,'Sat TT_02'!$C$4:$Q$152,12,FALSE)=$C108),0,VLOOKUP($C108,'Sat TT_02'!$C$4:$Q$152,12,FALSE))","v":0},{"$f":"IF(ISNA(VLOOKUP($C108,'Sat TT_03'!$C$4:$Q$152,12,FALSE)=$C108),0,VLOOKUP($C108,'Sat TT_03'!$C$4:$Q$152,12,FALSE))","v":0},{"$f":"IF(ISNA(VLOOKUP($C108,'Sat TT_04'!$C$4:$Q$152,12,FALSE)=$C108),0,VLOOKUP($C108,'Sat TT_04'!$C$4:$Q$152,12,FALSE))","v":0},{"$f":"IF(ISNA(VLOOKUP($C108,'Sat TT_05'!$C$4:$Q$152,12,FALSE)=$C108),0,VLOOKUP($C108,'Sat TT_05'!$C$4:$Q$152,12,FALSE))","v":0},{"$f":"IF(ISNA(VLOOKUP($C108,'Sat TT_06'!$C$4:$Q$152,12,FALSE)=$C108),0,VLOOKUP($C108,'Sat TT_06'!$C$4:$Q$152,12,FALSE))","v":0},{"$f":"IF(ISNA(VLOOKUP($C108,'Sat TT_07'!$C$4:$Q$152,12,FALSE)=$C108),0,VLOOKUP($C108,'Sat TT_07'!$C$4:$Q$152,12,FALSE))","v":0},{"$f":"IF(ISNA(VLOOKUP($C108,'Sat TT_08'!$C$4:$Q$152,12,FALSE)=$C108),0,VLOOKUP($C108,'Sat TT_08'!$C$4:$Q$152,12,FALSE))","v":0},0]
[{"$f":"VLOOKUP(C109,'Sheet 1'!C$1:D$96,2,FALSE)","v":1014},100,{"$f":"+'[1]Racing numbers file'!$B10","v":"Peter Schweppe"},{"$f":"VLOOKUP(C109,'[1]Racing numbers file'!$B$4:$F$290,2,FALSE)","v":1938},{"$f":"VLOOKUP(C109,'[1]Racing numbers file'!$B$4:$F$290,4,FALSE)","v":78},0,{"$f":"IF(ISNA(VLOOKUP($C109,'Sat TT_01'!$C$4:$Q$152,12,FALSE)=$C109),0,VLOOKUP($C109,'Sat TT_01'!$C$4:$Q$152,12,FALSE))","v":0},{"$f":"IF(ISNA(VLOOKUP($C109,'Sat TT_02'!$C$4:$Q$152,12,FALSE)=$C109),0,VLOOKUP($C109,'Sat TT_02'!$C$4:$Q$152,12,FALSE))","v":0},{"$f":"IF(ISNA(VLOOKUP($C109,'Sat TT_03'!$C$4:$Q$152,12,FALSE)=$C109),0,VLOOKUP($C109,'Sat TT_03'!$C$4:$Q$152,12,FALSE))","v":0},{"$f":"IF(ISNA(VLOOKUP($C109,'Sat TT_04'!$C$4:$Q$152,12,FALSE)=$C109),0,VLOOKUP($C109,'Sat TT_04'!$C$4:$Q$152,12,FALSE))","v":0},{"$f":"IF(ISNA(VLOOKUP($C109,'Sat TT_05'!$C$4:$Q$152,12,FALSE)=$C109),0,VLOOKUP($C109,'Sat TT_05'!$C$4:$Q$152,12,FALSE))","v":0},{"$f":"IF(ISNA(VLOOKUP($C109,'Sat TT_06'!$C$4:$Q$152,12,FALSE)=$C109),0,VLOOKUP($C109,'Sat TT_06'!$C$4:$Q$152,12,FALSE))","v":0},{"$f":"IF(ISNA(VLOOKUP($C109,'Sat TT_07'!$C$4:$Q$152,12,FALSE)=$C109),0,VLOOKUP($C109,'Sat TT_07'!$C$4:$Q$152,12,FALSE))","v":0},{"$f":"IF(ISNA(VLOOKUP($C109,'Sat TT_08'!$C$4:$Q$152,12,FALSE)=$C109),0,VLOOKUP($C109,'Sat TT_08'!$C$4:$Q$152,12,FALSE))","v":0},0]
[{"$f":"VLOOKUP(C110,'Sheet 1'!C$1:D$96,2,FALSE)","v":1034},101,{"$f":"+'[1]Racing numbers file'!$B17","v":"Paddy Davis"},{"$f":"VLOOKUP(C110,'[1]Racing numbers file'!$B$4:$F$290,2,FALSE)","v":1943},{"$f":"VLOOKUP(C110,'[1]Racing numbers file'!$B$4:$F$290,4,FALSE)","v":73},0,{"$f":"IF(ISNA(VLOOKUP($C110,'Sat TT_01'!$C$4:$Q$152,12,FALSE)=$C110),0,VLOOKUP($C110,'Sat TT_01'!$C$4:$Q$152,12,FALSE))","v":0},{"$f":"IF(ISNA(VLOOKUP($C110,'Sat TT_02'!$C$4:$Q$152,12,FALSE)=$C110),0,VLOOKUP($C110,'Sat TT_02'!$C$4:$Q$152,12,FALSE))","v":0},{"$f":"IF(ISNA(VLOOKUP($C110,'Sat TT_03'!$C$4:$Q$152,12,FALSE)=$C110),0,VLOOKUP($C110,'Sat TT_03'!$C$4:$Q$152,12,FALSE))","v":0},{"$f":"IF(ISNA(VLOOKUP($C110,'Sat TT_04'!$C$4:$Q$152,12,FALSE)=$C110),0,VLOOKUP($C110,'Sat TT_04'!$C$4:$Q$152,12,FALSE))","v":0},{"$f":"IF(ISNA(VLOOKUP($C110,'Sat TT_05'!$C$4:$Q$152,12,FALSE)=$C110),0,VLOOKUP($C110,'Sat TT_05'!$C$4:$Q$152,12,FALSE))","v":0},{"$f":"IF(ISNA(VLOOKUP($C110,'Sat TT_06'!$C$4:$Q$152,12,FALSE)=$C110),0,VLOOKUP($C110,'Sat TT_06'!$C$4:$Q$152,12,FALSE))","v":0},{"$f":"IF(ISNA(VLOOKUP($C110,'Sat TT_07'!$C$4:$Q$152,12,FALSE)=$C110),0,VLOOKUP($C110,'Sat TT_07'!$C$4:$Q$152,12,FALSE))","v":0},{"$f":"IF(ISNA(VLOOKUP($C110,'Sat TT_08'!$C$4:$Q$152,12,FALSE)=$C110),0,VLOOKUP($C110,'Sat TT_08'!$C$4:$Q$152,12,FALSE))","v":0},0]
[{"$f":"VLOOKUP(C111,'Sheet 1'!C$1:D$96,2,FALSE)","v":{"$error":"#N/A"}},102,{"$f":"+'[1]Racing numbers file'!$B70","v":"Jimmy Stagg"},{"$f":"VLOOKUP(C111,'[1]Racing numbers file'!$B$4:$F$290,2,FALSE)","v":1959},{"$f":"VLOOKUP(C111,'[1]Racing numbers file'!$B$4:$F$290,4,FALSE)","v":57},0,{"$f":"IF(ISNA(VLOOKUP($C111,'Sat TT_01'!$C$4:$Q$152,12,FALSE)=$C111),0,VLOOKUP($C111,'Sat TT_01'!$C$4:$Q$152,12,FALSE))","v":0},{"$f":"IF(ISNA(VLOOKUP($C111,'Sat TT_02'!$C$4:$Q$152,12,FALSE)=$C111),0,VLOOKUP($C111,'Sat TT_02'!$C$4:$Q$152,12,FALSE))","v":0},{"$f":"IF(ISNA(VLOOKUP($C111,'Sat TT_03'!$C$4:$Q$152,12,FALSE)=$C111),0,VLOOKUP($C111,'Sat TT_03'!$C$4:$Q$152,12,FALSE))","v":0},{"$f":"IF(ISNA(VLOOKUP($C111,'Sat TT_04'!$C$4:$Q$152,12,FALSE)=$C111),0,VLOOKUP($C111,'Sat TT_04'!$C$4:$Q$152,12,FALSE))","v":0},{"$f":"IF(ISNA(VLOOKUP($C111,'Sat TT_05'!$C$4:$Q$152,12,FALSE)=$C111),0,VLOOKUP($C111,'Sat TT_05'!$C$4:$Q$152,12,FALSE))","v":0},{"$f":"IF(ISNA(VLOOKUP($C111,'Sat TT_06'!$C$4:$Q$152,12,FALSE)=$C111),0,VLOOKUP($C111,'Sat TT_06'!$C$4:$Q$152,12,FALSE))","v":0},{"$f":"IF(ISNA(VLOOKUP($C111,'Sat TT_07'!$C$4:$Q$152,12,FALSE)=$C111),0,VLOOKUP($C111,'Sat TT_07'!$C$4:$Q$152,12,FALSE))","v":0},{"$f":"IF(ISNA(VLOOKUP($C111,'Sat TT_08'!$C$4:$Q$152,12,FALSE)=$C111),0,VLOOKUP($C111,'Sat TT_08'!$C$4:$Q$152,12,FALSE))","v":0},0]
[{"$f":"VLOOKUP(C112,'Sheet 1'!C$1:D$96,2,FALSE)","v":1023},103,{"$f":"+'[1]Racing numbers file'!$B12","v":"Robert Norgrove"},{"$f":"VLOOKUP(C112,'[1]Racing numbers file'!$B$4:$F$290,2,FALSE)","v":1940},{"$f":"VLOOKUP(C112,'[1]Racing numbers file'!$B$4:$F$290,4,FALSE)","v":76},0,{"$f":"IF(ISNA(VLOOKUP($C112,'Sat TT_01'!$C$4:$Q$152,12,FALSE)=$C112),0,VLOOKUP($C112,'Sat TT_01'!$C$4:$Q$152,12,FALSE))","v":0},{"$f":"IF(ISNA(VLOOKUP($C112,'Sat TT_02'!$C$4:$Q$152,12,FALSE)=$C112),0,VLOOKUP($C112,'Sat TT_02'!$C$4:$Q$152,12,FALSE))","v":0},{"$f":"IF(ISNA(VLOOKUP($C112,'Sat TT_03'!$C$4:$Q$152,12,FALSE)=$C112),0,VLOOKUP($C112,'Sat TT_03'!$C$4:$Q$152,12,FALSE))","v":0},{"$f":"IF(ISNA(VLOOKUP($C112,'Sat TT_04'!$C$4:$Q$152,12,FALSE)=$C112),0,VLOOKUP($C112,'Sat TT_04'!$C$4:$Q$152,12,FALSE))","v":0},{"$f":"IF(ISNA(VLOOKUP($C112,'Sat TT_05'!$C$4:$Q$152,12,FALSE)=$C112),0,VLOOKUP($C112,'Sat TT_05'!$C$4:$Q$152,12,FALSE))","v":0},{"$f":"IF(ISNA(VLOOKUP($C112,'Sat TT_06'!$C$4:$Q$152,12,FALSE)=$C112),0,VLOOKUP($C112,'Sat TT_06'!$C$4:$Q$152,12,FALSE))","v":0},{"$f":"IF(ISNA(VLOOKUP($C112,'Sat TT_07'!$C$4:$Q$152,12,FALSE)=$C112),0,VLOOKUP($C112,'Sat TT_07'!$C$4:$Q$152,12,FALSE))","v":0},{"$f":"IF(ISNA(VLOOKUP($C112,'Sat TT_08'!$C$4:$Q$152,12,FALSE)=$C112),0,VLOOKUP($C112,'Sat TT_08'!$C$4:$Q$152,12,FALSE))","v":0},0]
[{"$f":"VLOOKUP(C113,'Sheet 1'!C$1:D$96,2,FALSE)","v":{"$error":"#N/A"}},104,{"$f":"+'[1]Racing numbers file'!$B68","v":"Hugh Byrne"},{"$f":"VLOOKUP(C113,'[1]Racing numbers file'!$B$4:$F$290,2,FALSE)","v":1959},{"$f":"VLOOKUP(C113,'[1]Racing numbers file'!$B$4:$F$290,4,FALSE)","v":57},0,{"$f":"IF(ISNA(VLOOKUP($C113,'Sat TT_01'!$C$4:$Q$152,12,FALSE)=$C113),0,VLOOKUP($C113,'Sat TT_01'!$C$4:$Q$152,12,FALSE))","v":0},{"$f":"IF(ISNA(VLOOKUP($C113,'Sat TT_02'!$C$4:$Q$152,12,FALSE)=$C113),0,VLOOKUP($C113,'Sat TT_02'!$C$4:$Q$152,12,FALSE))","v":0},{"$f":"IF(ISNA(VLOOKUP($C113,'Sat TT_03'!$C$4:$Q$152,12,FALSE)=$C113),0,VLOOKUP($C113,'Sat TT_03'!$C$4:$Q$152,12,FALSE))","v":0},{"$f":"IF(ISNA(VLOOKUP($C113,'Sat TT_04'!$C$4:$Q$152,12,FALSE)=$C113),0,VLOOKUP($C113,'Sat TT_04'!$C$4:$Q$152,12,FALSE))","v":0},{"$f":"IF(ISNA(VLOOKUP($C113,'Sat TT_05'!$C$4:$Q$152,12,FALSE)=$C113),0,VLOOKUP($C113,'Sat TT_05'!$C$4:$Q$152,12,FALSE))","v":0},{"$f":"IF(ISNA(VLOOKUP($C113,'Sat TT_06'!$C$4:$Q$152,12,FALSE)=$C113),0,VLOOKUP($C113,'Sat TT_06'!$C$4:$Q$152,12,FALSE))","v":0},{"$f":"IF(ISNA(VLOOKUP($C113,'Sat TT_07'!$C$4:$Q$152,12,FALSE)=$C113),0,VLOOKUP($C113,'Sat TT_07'!$C$4:$Q$152,12,FALSE))","v":0},{"$f":"IF(ISNA(VLOOKUP($C113,'Sat TT_08'!$C$4:$Q$152,12,FALSE)=$C113),0,VLOOKUP($C113,'Sat TT_08'!$C$4:$Q$152,12,FALSE))","v":0},0]
[{"$f":"VLOOKUP(C114,'Sheet 1'!C$1:D$96,2,FALSE)","v":{"$error":"#N/A"}},105,{"$f":"+'[1]Racing numbers file'!$B67","v":"Jim O'Shea"},{"$f":"VLOOKUP(C114,'[1]Racing numbers file'!$B$4:$F$290,2,FALSE)","v":1959},{"$f":"VLOOKUP(C114,'[1]Racing numbers file'!$B$4:$F$290,4,FALSE)","v":57},0,{"$f":"IF(ISNA(VLOOKUP($C114,'Sat TT_01'!$C$4:$Q$152,12,FALSE)=$C114),0,VLOOKUP($C114,'Sat TT_01'!$C$4:$Q$152,12,FALSE))","v":0},{"$f":"IF(ISNA(VLOOKUP($C114,'Sat TT_02'!$C$4:$Q$152,12,FALSE)=$C114),0,VLOOKUP($C114,'Sat TT_02'!$C$4:$Q$152,12,FALSE))","v":0},{"$f":"IF(ISNA(VLOOKUP($C114,'Sat TT_03'!$C$4:$Q$152,12,FALSE)=$C114),0,VLOOKUP($C114,'Sat TT_03'!$C$4:$Q$152,12,FALSE))","v":0},{"$f":"IF(ISNA(VLOOKUP($C114,'Sat TT_04'!$C$4:$Q$152,12,FALSE)=$C114),0,VLOOKUP($C114,'Sat TT_04'!$C$4:$Q$152,12,FALSE))","v":0},{"$f":"IF(ISNA(VLOOKUP($C114,'Sat TT_05'!$C$4:$Q$152,12,FALSE)=$C114),0,VLOOKUP($C114,'Sat TT_05'!$C$4:$Q$152,12,FALSE))","v":0},{"$f":"IF(ISNA(VLOOKUP($C114,'Sat TT_06'!$C$4:$Q$152,12,FALSE)=$C114),0,VLOOKUP($C114,'Sat TT_06'!$C$4:$Q$152,12,FALSE))","v":0},{"$f":"IF(ISNA(VLOOKUP($C114,'Sat TT_07'!$C$4:$Q$152,12,FALSE)=$C114),0,VLOOKUP($C114,'Sat TT_07'!$C$4:$Q$152,12,FALSE))","v":0},{"$f":"IF(ISNA(VLOOKUP($C114,'Sat TT_08'!$C$4:$Q$152,12,FALSE)=$C114),0,VLOOKUP($C114,'Sat TT_08'!$C$4:$Q$152,12,FALSE))","v":0},0]
[{"$f":"VLOOKUP(C115,'Sheet 1'!C$1:D$96,2,FALSE)","v":{"$error":"#N/A"}},106,{"$f":"+'[1]Racing numbers file'!$B71","v":"Karl Naylor"},{"$f":"VLOOKUP(C115,'[1]Racing numbers file'!$B$4:$F$290,2,FALSE)","v":1959},{"$f":"VLOOKUP(C115,'[1]Racing numbers file'!$B$4:$F$290,4,FALSE)","v":57},0,{"$f":"IF(ISNA(VLOOKUP($C115,'Sat TT_01'!$C$4:$Q$152,12,FALSE)=$C115),0,VLOOKUP($C115,'Sat TT_01'!$C$4:$Q$152,12,FALSE))","v":0},{"$f":"IF(ISNA(VLOOKUP($C115,'Sat TT_02'!$C$4:$Q$152,12,FALSE)=$C115),0,VLOOKUP($C115,'Sat TT_02'!$C$4:$Q$152,12,FALSE))","v":0},{"$f":"IF(ISNA(VLOOKUP($C115,'Sat TT_03'!$C$4:$Q$152,12,FALSE)=$C115),0,VLOOKUP($C115,'Sat TT_03'!$C$4:$Q$152,12,FALSE))","v":0},{"$f":"IF(ISNA(VLOOKUP($C115,'Sat TT_04'!$C$4:$Q$152,12,FALSE)=$C115),0,VLOOKUP($C115,'Sat TT_04'!$C$4:$Q$152,12,FALSE))","v":0},{"$f":"IF(ISNA(VLOOKUP($C115,'Sat TT_05'!$C$4:$Q$152,12,FALSE)=$C115),0,VLOOKUP($C115,'Sat TT_05'!$C$4:$Q$152,12,FALSE))","v":0},{"$f":"IF(ISNA(VLOOKUP($C115,'Sat TT_06'!$C$4:$Q$152,12,FALSE)=$C115),0,VLOOKUP($C115,'Sat TT_06'!$C$4:$Q$152,12,FALSE))","v":0},{"$f":"IF(ISNA(VLOOKUP($C115,'Sat TT_07'!$C$4:$Q$152,12,FALSE)=$C115),0,VLOOKUP($C115,'Sat TT_07'!$C$4:$Q$152,12,FALSE))","v":0},{"$f":"IF(ISNA(VLOOKUP($C115,'Sat TT_08'!$C$4:$Q$152,12,FALSE)=$C115),0,VLOOKUP($C115,'Sat TT_08'!$C$4:$Q$152,12,FALSE))","v":0},0]
[{"$f":"VLOOKUP(C116,'Sheet 1'!C$1:D$96,2,FALSE)","v":1131},107,{"$f":"+'[1]Racing numbers file'!$B61","v":"Ed Hogan"},{"$f":"VLOOKUP(C116,'[1]Racing numbers file'!$B$4:$F$290,2,FALSE)","v":1958},{"$f":"VLOOKUP(C116,'[1]Racing numbers file'!$B$4:$F$290,4,FALSE)","v":58},0,{"$f":"IF(ISNA(VLOOKUP($C116,'Sat TT_01'!$C$4:$Q$152,12,FALSE)=$C116),0,VLOOKUP($C116,'Sat TT_01'!$C$4:$Q$152,12,FALSE))","v":0},{"$f":"IF(ISNA(VLOOKUP($C116,'Sat TT_02'!$C$4:$Q$152,12,FALSE)=$C116),0,VLOOKUP($C116,'Sat TT_02'!$C$4:$Q$152,12,FALSE))","v":0},{"$f":"IF(ISNA(VLOOKUP($C116,'Sat TT_03'!$C$4:$Q$152,12,FALSE)=$C116),0,VLOOKUP($C116,'Sat TT_03'!$C$4:$Q$152,12,FALSE))","v":0},{"$f":"IF(ISNA(VLOOKUP($C116,'Sat TT_04'!$C$4:$Q$152,12,FALSE)=$C116),0,VLOOKUP($C116,'Sat TT_04'!$C$4:$Q$152,12,FALSE))","v":0},{"$f":"IF(ISNA(VLOOKUP($C116,'Sat TT_05'!$C$4:$Q$152,12,FALSE)=$C116),0,VLOOKUP($C116,'Sat TT_05'!$C$4:$Q$152,12,FALSE))","v":0},{"$f":"IF(ISNA(VLOOKUP($C116,'Sat TT_06'!$C$4:$Q$152,12,FALSE)=$C116),0,VLOOKUP($C116,'Sat TT_06'!$C$4:$Q$152,12,FALSE))","v":0},{"$f":"IF(ISNA(VLOOKUP($C116,'Sat TT_07'!$C$4:$Q$152,12,FALSE)=$C116),0,VLOOKUP($C116,'Sat TT_07'!$C$4:$Q$152,12,FALSE))","v":0},{"$f":"IF(ISNA(VLOOKUP($C116,'Sat TT_08'!$C$4:$Q$152,12,FALSE)=$C116),0,VLOOKUP($C116,'Sat TT_08'!$C$4:$Q$152,12,FALSE))","v":0},0]
[{"$f":"VLOOKUP(C117,'Sheet 1'!C$1:D$96,2,FALSE)","v":{"$error":"#N/A"}},108,{"$f":"+'[1]Racing numbers file'!$B16","v":"Jim Morahan"},{"$f":"VLOOKUP(C117,'[1]Racing numbers file'!$B$4:$F$290,2,FALSE)","v":1943},{"$f":"VLOOKUP(C117,'[1]Racing numbers file'!$B$4:$F$290,4,FALSE)","v":73},0,{"$f":"IF(ISNA(VLOOKUP($C117,'Sat TT_01'!$C$4:$Q$152,12,FALSE)=$C117),0,VLOOKUP($C117,'Sat TT_01'!$C$4:$Q$152,12,FALSE))","v":0},{"$f":"IF(ISNA(VLOOKUP($C117,'Sat TT_02'!$C$4:$Q$152,12,FALSE)=$C117),0,VLOOKUP($C117,'Sat TT_02'!$C$4:$Q$152,12,FALSE))","v":0},{"$f":"IF(ISNA(VLOOKUP($C117,'Sat TT_03'!$C$4:$Q$152,12,FALSE)=$C117),0,VLOOKUP($C117,'Sat TT_03'!$C$4:$Q$152,12,FALSE))","v":0},{"$f":"IF(ISNA(VLOOKUP($C117,'Sat TT_04'!$C$4:$Q$152,12,FALSE)=$C117),0,VLOOKUP($C117,'Sat TT_04'!$C$4:$Q$152,12,FALSE))","v":0},{"$f":"IF(ISNA(VLOOKUP($C117,'Sat TT_05'!$C$4:$Q$152,12,FALSE)=$C117),0,VLOOKUP($C117,'Sat TT_05'!$C$4:$Q$152,12,FALSE))","v":0},{"$f":"IF(ISNA(VLOOKUP($C117,'Sat TT_06'!$C$4:$Q$152,12,FALSE)=$C117),0,VLOOKUP($C117,'Sat TT_06'!$C$4:$Q$152,12,FALSE))","v":0},{"$f":"IF(ISNA(VLOOKUP($C117,'Sat TT_07'!$C$4:$Q$152,12,FALSE)=$C117),0,VLOOKUP($C117,'Sat TT_07'!$C$4:$Q$152,12,FALSE))","v":0},{"$f":"IF(ISNA(VLOOKUP($C117,'Sat TT_08'!$C$4:$Q$152,12,FALSE)=$C117),0,VLOOKUP($C117,'Sat TT_08'!$C$4:$Q$152,12,FALSE))","v":0},0]
[{"$f":"VLOOKUP(C118,'Sheet 1'!C$1:D$96,2,FALSE)","v":1114},109,{"$f":"+'[1]Racing numbers file'!$B51","v":"Jimmy Murphy"},{"$f":"VLOOKUP(C118,'[1]Racing numbers file'!$B$4:$F$290,2,FALSE)","v":1956},{"$f":"VLOOKUP(C118,'[1]Racing numbers file'!$B$4:$F$290,4,FALSE)","v":60},0,{"$f":"IF(ISNA(VLOOKUP($C118,'Sat TT_01'!$C$4:$Q$152,12,FALSE)=$C118),0,VLOOKUP($C118,'Sat TT_01'!$C$4:$Q$152,12,FALSE))","v":0},{"$f":"IF(ISNA(VLOOKUP($C118,'Sat TT_02'!$C$4:$Q$152,12,FALSE)=$C118),0,VLOOKUP($C118,'Sat TT_02'!$C$4:$Q$152,12,FALSE))","v":0},{"$f":"IF(ISNA(VLOOKUP($C118,'Sat TT_03'!$C$4:$Q$152,12,FALSE)=$C118),0,VLOOKUP($C118,'Sat TT_03'!$C$4:$Q$152,12,FALSE))","v":0},{"$f":"IF(ISNA(VLOOKUP($C118,'Sat TT_04'!$C$4:$Q$152,12,FALSE)=$C118),0,VLOOKUP($C118,'Sat TT_04'!$C$4:$Q$152,12,FALSE))","v":0},{"$f":"IF(ISNA(VLOOKUP($C118,'Sat TT_05'!$C$4:$Q$152,12,FALSE)=$C118),0,VLOOKUP($C118,'Sat TT_05'!$C$4:$Q$152,12,FALSE))","v":0},{"$f":"IF(ISNA(VLOOKUP($C118,'Sat TT_06'!$C$4:$Q$152,12,FALSE)=$C118),0,VLOOKUP($C118,'Sat TT_06'!$C$4:$Q$152,12,FALSE))","v":0},{"$f":"IF(ISNA(VLOOKUP($C118,'Sat TT_07'!$C$4:$Q$152,12,FALSE)=$C118),0,VLOOKUP($C118,'Sat TT_07'!$C$4:$Q$152,12,FALSE))","v":0},{"$f":"IF(ISNA(VLOOKUP($C118,'Sat TT_08'!$C$4:$Q$152,12,FALSE)=$C118),0,VLOOKUP($C118,'Sat TT_08'!$C$4:$Q$152,12,FALSE))","v":0},0]
[{"$f":"VLOOKUP(C119,'Sheet 1'!C$1:D$96,2,FALSE)","v":1024},110,{"$f":"+'[1]Racing numbers file'!$B13","v":"Eddie Scully"},{"$f":"VLOOKUP(C119,'[1]Racing numbers file'!$B$4:$F$290,2,FALSE)","v":1941},{"$f":"VLOOKUP(C119,'[1]Racing numbers file'!$B$4:$F$290,4,FALSE)","v":75},0,{"$f":"IF(ISNA(VLOOKUP($C119,'Sat TT_01'!$C$4:$Q$152,12,FALSE)=$C119),0,VLOOKUP($C119,'Sat TT_01'!$C$4:$Q$152,12,FALSE))","v":0},{"$f":"IF(ISNA(VLOOKUP($C119,'Sat TT_02'!$C$4:$Q$152,12,FALSE)=$C119),0,VLOOKUP($C119,'Sat TT_02'!$C$4:$Q$152,12,FALSE))","v":0},{"$f":"IF(ISNA(VLOOKUP($C119,'Sat TT_03'!$C$4:$Q$152,12,FALSE)=$C119),0,VLOOKUP($C119,'Sat TT_03'!$C$4:$Q$152,12,FALSE))","v":0},{"$f":"IF(ISNA(VLOOKUP($C119,'Sat TT_04'!$C$4:$Q$152,12,FALSE)=$C119),0,VLOOKUP($C119,'Sat TT_04'!$C$4:$Q$152,12,FALSE))","v":0},{"$f":"IF(ISNA(VLOOKUP($C119,'Sat TT_05'!$C$4:$Q$152,12,FALSE)=$C119),0,VLOOKUP($C119,'Sat TT_05'!$C$4:$Q$152,12,FALSE))","v":0},{"$f":"IF(ISNA(VLOOKUP($C119,'Sat TT_06'!$C$4:$Q$152,12,FALSE)=$C119),0,VLOOKUP($C119,'Sat TT_06'!$C$4:$Q$152,12,FALSE))","v":0},{"$f":"IF(ISNA(VLOOKUP($C119,'Sat TT_07'!$C$4:$Q$152,12,FALSE)=$C119),0,VLOOKUP($C119,'Sat TT_07'!$C$4:$Q$152,12,FALSE))","v":0},{"$f":"IF(ISNA(VLOOKUP($C119,'Sat TT_08'!$C$4:$Q$152,12,FALSE)=$C119),0,VLOOKUP($C119,'Sat TT_08'!$C$4:$Q$152,12,FALSE))","v":0},0]
[{"$f":"VLOOKUP(C120,'Sheet 1'!C$1:D$96,2,FALSE)","v":1096},111,{"$f":"+'[1]Racing numbers file'!$B41","v":"Peter Raftery"},{"$f":"VLOOKUP(C120,'[1]Racing numbers file'!$B$4:$F$290,2,FALSE)","v":1953},{"$f":"VLOOKUP(C120,'[1]Racing numbers file'!$B$4:$F$290,4,FALSE)","v":63},0,{"$f":"IF(ISNA(VLOOKUP($C120,'Sat TT_01'!$C$4:$Q$152,12,FALSE)=$C120),0,VLOOKUP($C120,'Sat TT_01'!$C$4:$Q$152,12,FALSE))","v":0},{"$f":"IF(ISNA(VLOOKUP($C120,'Sat TT_02'!$C$4:$Q$152,12,FALSE)=$C120),0,VLOOKUP($C120,'Sat TT_02'!$C$4:$Q$152,12,FALSE))","v":0},{"$f":"IF(ISNA(VLOOKUP($C120,'Sat TT_03'!$C$4:$Q$152,12,FALSE)=$C120),0,VLOOKUP($C120,'Sat TT_03'!$C$4:$Q$152,12,FALSE))","v":0},{"$f":"IF(ISNA(VLOOKUP($C120,'Sat TT_04'!$C$4:$Q$152,12,FALSE)=$C120),0,VLOOKUP($C120,'Sat TT_04'!$C$4:$Q$152,12,FALSE))","v":0},{"$f":"IF(ISNA(VLOOKUP($C120,'Sat TT_05'!$C$4:$Q$152,12,FALSE)=$C120),0,VLOOKUP($C120,'Sat TT_05'!$C$4:$Q$152,12,FALSE))","v":0},{"$f":"IF(ISNA(VLOOKUP($C120,'Sat TT_06'!$C$4:$Q$152,12,FALSE)=$C120),0,VLOOKUP($C120,'Sat TT_06'!$C$4:$Q$152,12,FALSE))","v":0},{"$f":"IF(ISNA(VLOOKUP($C120,'Sat TT_07'!$C$4:$Q$152,12,FALSE)=$C120),0,VLOOKUP($C120,'Sat TT_07'!$C$4:$Q$152,12,FALSE))","v":0},{"$f":"IF(ISNA(VLOOKUP($C120,'Sat TT_08'!$C$4:$Q$152,12,FALSE)=$C120),0,VLOOKUP($C120,'Sat TT_08'!$C$4:$Q$152,12,FALSE))","v":0},0]
[{"$f":"VLOOKUP(C121,'Sheet 1'!C$1:D$96,2,FALSE)","v":{"$error":"#N/A"}},112,{"$f":"+'[1]Racing numbers file'!$B52","v":"Jimmy Flynn"},{"$f":"VLOOKUP(C121,'[1]Racing numbers file'!$B$4:$F$290,2,FALSE)","v":1956},{"$f":"VLOOKUP(C121,'[1]Racing numbers file'!$B$4:$F$290,4,FALSE)","v":60},0,{"$f":"IF(ISNA(VLOOKUP($C121,'Sat TT_01'!$C$4:$Q$152,12,FALSE)=$C121),0,VLOOKUP($C121,'Sat TT_01'!$C$4:$Q$152,12,FALSE))","v":0},{"$f":"IF(ISNA(VLOOKUP($C121,'Sat TT_02'!$C$4:$Q$152,12,FALSE)=$C121),0,VLOOKUP($C121,'Sat TT_02'!$C$4:$Q$152,12,FALSE))","v":0},{"$f":"IF(ISNA(VLOOKUP($C121,'Sat TT_03'!$C$4:$Q$152,12,FALSE)=$C121),0,VLOOKUP($C121,'Sat TT_03'!$C$4:$Q$152,12,FALSE))","v":0},{"$f":"IF(ISNA(VLOOKUP($C121,'Sat TT_04'!$C$4:$Q$152,12,FALSE)=$C121),0,VLOOKUP($C121,'Sat TT_04'!$C$4:$Q$152,12,FALSE))","v":0},{"$f":"IF(ISNA(VLOOKUP($C121,'Sat TT_05'!$C$4:$Q$152,12,FALSE)=$C121),0,VLOOKUP($C121,'Sat TT_05'!$C$4:$Q$152,12,FALSE))","v":0},{"$f":"IF(ISNA(VLOOKUP($C121,'Sat TT_06'!$C$4:$Q$152,12,FALSE)=$C121),0,VLOOKUP($C121,'Sat TT_06'!$C$4:$Q$152,12,FALSE))","v":0},{"$f":"IF(ISNA(VLOOKUP($C121,'Sat TT_07'!$C$4:$Q$152,12,FALSE)=$C121),0,VLOOKUP($C121,'Sat TT_07'!$C$4:$Q$152,12,FALSE))","v":0},{"$f":"IF(ISNA(VLOOKUP($C121,'Sat TT_08'!$C$4:$Q$152,12,FALSE)=$C121),0,VLOOKUP($C121,'Sat TT_08'!$C$4:$Q$152,12,FALSE))","v":0},0]
[{"$f":"VLOOKUP(C122,'Sheet 1'!C$1:D$96,2,FALSE)","v":{"$error":"#N/A"}},113,{"$f":"+'[1]Racing numbers file'!$B53","v":"Terry Ferris"},{"$f":"VLOOKUP(C122,'[1]Racing numbers file'!$B$4:$F$290,2,FALSE)","v":1956},{"$f":"VLOOKUP(C122,'[1]Racing numbers file'!$B$4:$F$290,4,FALSE)","v":60},0,{"$f":"IF(ISNA(VLOOKUP($C122,'Sat TT_01'!$C$4:$Q$152,12,FALSE)=$C122),0,VLOOKUP($C122,'Sat TT_01'!$C$4:$Q$152,12,FALSE))","v":0},{"$f":"IF(ISNA(VLOOKUP($C122,'Sat TT_02'!$C$4:$Q$152,12,FALSE)=$C122),0,VLOOKUP($C122,'Sat TT_02'!$C$4:$Q$152,12,FALSE))","v":0},{"$f":"IF(ISNA(VLOOKUP($C122,'Sat TT_03'!$C$4:$Q$152,12,FALSE)=$C122),0,VLOOKUP($C122,'Sat TT_03'!$C$4:$Q$152,12,FALSE))","v":0},{"$f":"IF(ISNA(VLOOKUP($C122,'Sat TT_04'!$C$4:$Q$152,12,FALSE)=$C122),0,VLOOKUP($C122,'Sat TT_04'!$C$4:$Q$152,12,FALSE))","v":0},{"$f":"IF(ISNA(VLOOKUP($C122,'Sat TT_05'!$C$4:$Q$152,12,FALSE)=$C122),0,VLOOKUP($C122,'Sat TT_05'!$C$4:$Q$152,12,FALSE))","v":0},{"$f":"IF(ISNA(VLOOKUP($C122,'Sat TT_06'!$C$4:$Q$152,12,FALSE)=$C122),0,VLOOKUP($C122,'Sat TT_06'!$C$4:$Q$152,12,FALSE))","v":0},{"$f":"IF(ISNA(VLOOKUP($C122,'Sat TT_07'!$C$4:$Q$152,12,FALSE)=$C122),0,VLOOKUP($C122,'Sat TT_07'!$C$4:$Q$152,12,FALSE))","v":0},{"$f":"IF(ISNA(VLOOKUP($C122,'Sat TT_08'!$C$4:$Q$152,12,FALSE)=$C122),0,VLOOKUP($C122,'Sat TT_08'!$C$4:$Q$152,12,FALSE))","v":0},0]
[{"$f":"VLOOKUP(C123,'Sheet 1'!C$1:D$96,2,FALSE)","v":{"$error":"#N/A"}},114,"Murray ch",{"$f":"VLOOKUP(C123,'[1]Racing numbers file'!$B$4:$F$290,2,FALSE)","v":{"$error":"#N/A"}},{"$f":"VLOOKUP(C123,'[1]Racing numbers file'!$B$4:$F$290,4,FALSE)","v":{"$error":"#N/A"}},0,{"$f":"IF(ISNA(VLOOKUP($C123,'Sat TT_01'!$C$4:$Q$152,12,FALSE)=$C123),0,VLOOKUP($C123,'Sat TT_01'!$C$4:$Q$152,12,FALSE))","v":0},{"$f":"IF(ISNA(VLOOKUP($C123,'Sat TT_02'!$C$4:$Q$152,12,FALSE)=$C123),0,VLOOKUP($C123,'Sat TT_02'!$C$4:$Q$152,12,FALSE))","v":0},{"$f":"IF(ISNA(VLOOKUP($C123,'Sat TT_03'!$C$4:$Q$152,12,FALSE)=$C123),0,VLOOKUP($C123,'Sat TT_03'!$C$4:$Q$152,12,FALSE))","v":0},{"$f":"IF(ISNA(VLOOKUP($C123,'Sat TT_04'!$C$4:$Q$152,12,FALSE)=$C123),0,VLOOKUP($C123,'Sat TT_04'!$C$4:$Q$152,12,FALSE))","v":0},{"$f":"IF(ISNA(VLOOKUP($C123,'Sat TT_05'!$C$4:$Q$152,12,FALSE)=$C123),0,VLOOKUP($C123,'Sat TT_05'!$C$4:$Q$152,12,FALSE))","v":0},{"$f":"IF(ISNA(VLOOKUP($C123,'Sat TT_06'!$C$4:$Q$152,12,FALSE)=$C123),0,VLOOKUP($C123,'Sat TT_06'!$C$4:$Q$152,12,FALSE))","v":0},{"$f":"IF(ISNA(VLOOKUP($C123,'Sat TT_07'!$C$4:$Q$152,12,FALSE)=$C123),0,VLOOKUP($C123,'Sat TT_07'!$C$4:$Q$152,12,FALSE))","v":0},{"$f":"IF(ISNA(VLOOKUP($C123,'Sat TT_08'!$C$4:$Q$152,12,FALSE)=$C123),0,VLOOKUP($C123,'Sat TT_08'!$C$4:$Q$152,12,FALSE))","v":0},0]
[{"$f":"VLOOKUP(C124,'Sheet 1'!C$1:D$96,2,FALSE)","v":{"$error":"#N/A"}},115,{"$f":"+'[1]Racing numbers file'!$B63","v":"Dermot Naughton"},{"$f":"VLOOKUP(C124,'[1]Racing numbers file'!$B$4:$F$290,2,FALSE)","v":1958},{"$f":"VLOOKUP(C124,'[1]Racing numbers file'!$B$4:$F$290,4,FALSE)","v":58},0,{"$f":"IF(ISNA(VLOOKUP($C124,'Sat TT_01'!$C$4:$Q$152,12,FALSE)=$C124),0,VLOOKUP($C124,'Sat TT_01'!$C$4:$Q$152,12,FALSE))","v":0},{"$f":"IF(ISNA(VLOOKUP($C124,'Sat TT_02'!$C$4:$Q$152,12,FALSE)=$C124),0,VLOOKUP($C124,'Sat TT_02'!$C$4:$Q$152,12,FALSE))","v":0},{"$f":"IF(ISNA(VLOOKUP($C124,'Sat TT_03'!$C$4:$Q$152,12,FALSE)=$C124),0,VLOOKUP($C124,'Sat TT_03'!$C$4:$Q$152,12,FALSE))","v":0},{"$f":"IF(ISNA(VLOOKUP($C124,'Sat TT_04'!$C$4:$Q$152,12,FALSE)=$C124),0,VLOOKUP($C124,'Sat TT_04'!$C$4:$Q$152,12,FALSE))","v":0},{"$f":"IF(ISNA(VLOOKUP($C124,'Sat TT_05'!$C$4:$Q$152,12,FALSE)=$C124),0,VLOOKUP($C124,'Sat TT_05'!$C$4:$Q$152,12,FALSE))","v":0},{"$f":"IF(ISNA(VLOOKUP($C124,'Sat TT_06'!$C$4:$Q$152,12,FALSE)=$C124),0,VLOOKUP($C124,'Sat TT_06'!$C$4:$Q$152,12,FALSE))","v":0},{"$f":"IF(ISNA(VLOOKUP($C124,'Sat TT_07'!$C$4:$Q$152,12,FALSE)=$C124),0,VLOOKUP($C124,'Sat TT_07'!$C$4:$Q$152,12,FALSE))","v":0},{"$f":"IF(ISNA(VLOOKUP($C124,'Sat TT_08'!$C$4:$Q$152,12,FALSE)=$C124),0,VLOOKUP($C124,'Sat TT_08'!$C$4:$Q$152,12,FALSE))","v":0},0]
[{"$f":"VLOOKUP(C125,'Sheet 1'!C$1:D$96,2,FALSE)","v":1141},116,{"$f":"+'[1]Racing numbers file'!$B66","v":"Tom Malone"},{"$f":"VLOOKUP(C125,'[1]Racing numbers file'!$B$4:$F$290,2,FALSE)","v":1958},{"$f":"VLOOKUP(C125,'[1]Racing numbers file'!$B$4:$F$290,4,FALSE)","v":58},0,{"$f":"IF(ISNA(VLOOKUP($C125,'Sat TT_01'!$C$4:$Q$152,12,FALSE)=$C125),0,VLOOKUP($C125,'Sat TT_01'!$C$4:$Q$152,12,FALSE))","v":0},{"$f":"IF(ISNA(VLOOKUP($C125,'Sat TT_02'!$C$4:$Q$152,12,FALSE)=$C125),0,VLOOKUP($C125,'Sat TT_02'!$C$4:$Q$152,12,FALSE))","v":0},{"$f":"IF(ISNA(VLOOKUP($C125,'Sat TT_03'!$C$4:$Q$152,12,FALSE)=$C125),0,VLOOKUP($C125,'Sat TT_03'!$C$4:$Q$152,12,FALSE))","v":0},{"$f":"IF(ISNA(VLOOKUP($C125,'Sat TT_04'!$C$4:$Q$152,12,FALSE)=$C125),0,VLOOKUP($C125,'Sat TT_04'!$C$4:$Q$152,12,FALSE))","v":0},{"$f":"IF(ISNA(VLOOKUP($C125,'Sat TT_05'!$C$4:$Q$152,12,FALSE)=$C125),0,VLOOKUP($C125,'Sat TT_05'!$C$4:$Q$152,12,FALSE))","v":0},{"$f":"IF(ISNA(VLOOKUP($C125,'Sat TT_06'!$C$4:$Q$152,12,FALSE)=$C125),0,VLOOKUP($C125,'Sat TT_06'!$C$4:$Q$152,12,FALSE))","v":0},{"$f":"IF(ISNA(VLOOKUP($C125,'Sat TT_07'!$C$4:$Q$152,12,FALSE)=$C125),0,VLOOKUP($C125,'Sat TT_07'!$C$4:$Q$152,12,FALSE))","v":0},{"$f":"IF(ISNA(VLOOKUP($C125,'Sat TT_08'!$C$4:$Q$152,12,FALSE)=$C125),0,VLOOKUP($C125,'Sat TT_08'!$C$4:$Q$152,12,FALSE))","v":0},0]
[{"$f":"VLOOKUP(C126,'Sheet 1'!C$1:D$96,2,FALSE)","v":{"$error":"#N/A"}},117,{"$f":"+'[1]Racing numbers file'!$B76","v":"Martin Kennedy"},{"$f":"VLOOKUP(C126,'[1]Racing numbers file'!$B$4:$F$290,2,FALSE)","v":1960},{"$f":"VLOOKUP(C126,'[1]Racing numbers file'!$B$4:$F$290,4,FALSE)","v":56},0,{"$f":"IF(ISNA(VLOOKUP($C126,'Sat TT_01'!$C$4:$Q$152,12,FALSE)=$C126),0,VLOOKUP($C126,'Sat TT_01'!$C$4:$Q$152,12,FALSE))","v":0},{"$f":"IF(ISNA(VLOOKUP($C126,'Sat TT_02'!$C$4:$Q$152,12,FALSE)=$C126),0,VLOOKUP($C126,'Sat TT_02'!$C$4:$Q$152,12,FALSE))","v":0},{"$f":"IF(ISNA(VLOOKUP($C126,'Sat TT_03'!$C$4:$Q$152,12,FALSE)=$C126),0,VLOOKUP($C126,'Sat TT_03'!$C$4:$Q$152,12,FALSE))","v":0},{"$f":"IF(ISNA(VLOOKUP($C126,'Sat TT_04'!$C$4:$Q$152,12,FALSE)=$C126),0,VLOOKUP($C126,'Sat TT_04'!$C$4:$Q$152,12,FALSE))","v":0},{"$f":"IF(ISNA(VLOOKUP($C126,'Sat TT_05'!$C$4:$Q$152,12,FALSE)=$C126),0,VLOOKUP($C126,'Sat TT_05'!$C$4:$Q$152,12,FALSE))","v":0},{"$f":"IF(ISNA(VLOOKUP($C126,'Sat TT_06'!$C$4:$Q$152,12,FALSE)=$C126),0,VLOOKUP($C126,'Sat TT_06'!$C$4:$Q$152,12,FALSE))","v":0},{"$f":"IF(ISNA(VLOOKUP($C126,'Sat TT_07'!$C$4:$Q$152,12,FALSE)=$C126),0,VLOOKUP($C126,'Sat TT_07'!$C$4:$Q$152,12,FALSE))","v":0},{"$f":"IF(ISNA(VLOOKUP($C126,'Sat TT_08'!$C$4:$Q$152,12,FALSE)=$C126),0,VLOOKUP($C126,'Sat TT_08'!$C$4:$Q$152,12,FALSE))","v":0},0]
[{"$f":"VLOOKUP(C127,'Sheet 1'!C$1:D$96,2,FALSE)","v":{"$error":"#N/A"}},118,{"$f":"+'[1]Racing numbers file'!$B48","v":"Michael McEntee"},{"$f":"VLOOKUP(C127,'[1]Racing numbers file'!$B$4:$F$290,2,FALSE)","v":1954},{"$f":"VLOOKUP(C127,'[1]Racing numbers file'!$B$4:$F$290,4,FALSE)","v":62},0,{"$f":"IF(ISNA(VLOOKUP($C127,'Sat TT_01'!$C$4:$Q$152,12,FALSE)=$C127),0,VLOOKUP($C127,'Sat TT_01'!$C$4:$Q$152,12,FALSE))","v":0},{"$f":"IF(ISNA(VLOOKUP($C127,'Sat TT_02'!$C$4:$Q$152,12,FALSE)=$C127),0,VLOOKUP($C127,'Sat TT_02'!$C$4:$Q$152,12,FALSE))","v":0},{"$f":"IF(ISNA(VLOOKUP($C127,'Sat TT_03'!$C$4:$Q$152,12,FALSE)=$C127),0,VLOOKUP($C127,'Sat TT_03'!$C$4:$Q$152,12,FALSE))","v":0},{"$f":"IF(ISNA(VLOOKUP($C127,'Sat TT_04'!$C$4:$Q$152,12,FALSE)=$C127),0,VLOOKUP($C127,'Sat TT_04'!$C$4:$Q$152,12,FALSE))","v":0},{"$f":"IF(ISNA(VLOOKUP($C127,'Sat TT_05'!$C$4:$Q$152,12,FALSE)=$C127),0,VLOOKUP($C127,'Sat TT_05'!$C$4:$Q$152,12,FALSE))","v":0},{"$f":"IF(ISNA(VLOOKUP($C127,'Sat TT_06'!$C$4:$Q$152,12,FALSE)=$C127),0,VLOOKUP($C127,'Sat TT_06'!$C$4:$Q$152,12,FALSE))","v":0},{"$f":"IF(ISNA(VLOOKUP($C127,'Sat TT_07'!$C$4:$Q$152,12,FALSE)=$C127),0,VLOOKUP($C127,'Sat TT_07'!$C$4:$Q$152,12,FALSE))","v":0},{"$f":"IF(ISNA(VLOOKUP($C127,'Sat TT_08'!$C$4:$Q$152,12,FALSE)=$C127),0,VLOOKUP($C127,'Sat TT_08'!$C$4:$Q$152,12,FALSE))","v":0},0]
[{"$f":"VLOOKUP(C128,'Sheet 1'!C$1:D$96,2,FALSE)","v":1015},119,{"$f":"+'[1]Racing numbers file'!$B11","v":"Paddy Byrne"},{"$f":"VLOOKUP(C128,'[1]Racing numbers file'!$B$4:$F$290,2,FALSE)","v":1938},{"$f":"VLOOKUP(C128,'[1]Racing numbers file'!$B$4:$F$290,4,FALSE)","v":78},0,{"$f":"IF(ISNA(VLOOKUP($C128,'Sat TT_01'!$C$4:$Q$152,12,FALSE)=$C128),0,VLOOKUP($C128,'Sat TT_01'!$C$4:$Q$152,12,FALSE))","v":0},{"$f":"IF(ISNA(VLOOKUP($C128,'Sat TT_02'!$C$4:$Q$152,12,FALSE)=$C128),0,VLOOKUP($C128,'Sat TT_02'!$C$4:$Q$152,12,FALSE))","v":0},{"$f":"IF(ISNA(VLOOKUP($C128,'Sat TT_03'!$C$4:$Q$152,12,FALSE)=$C128),0,VLOOKUP($C128,'Sat TT_03'!$C$4:$Q$152,12,FALSE))","v":0},{"$f":"IF(ISNA(VLOOKUP($C128,'Sat TT_04'!$C$4:$Q$152,12,FALSE)=$C128),0,VLOOKUP($C128,'Sat TT_04'!$C$4:$Q$152,12,FALSE))","v":0},{"$f":"IF(ISNA(VLOOKUP($C128,'Sat TT_05'!$C$4:$Q$152,12,FALSE)=$C128),0,VLOOKUP($C128,'Sat TT_05'!$C$4:$Q$152,12,FALSE))","v":0},{"$f":"IF(ISNA(VLOOKUP($C128,'Sat TT_06'!$C$4:$Q$152,12,FALSE)=$C128),0,VLOOKUP($C128,'Sat TT_06'!$C$4:$Q$152,12,FALSE))","v":0},{"$f":"IF(ISNA(VLOOKUP($C128,'Sat TT_07'!$C$4:$Q$152,12,FALSE)=$C128),0,VLOOKUP($C128,'Sat TT_07'!$C$4:$Q$152,12,FALSE))","v":0},{"$f":"IF(ISNA(VLOOKUP($C128,'Sat TT_08'!$C$4:$Q$152,12,FALSE)=$C128),0,VLOOKUP($C128,'Sat TT_08'!$C$4:$Q$152,12,FALSE))","v":0},0]
[{"$f":"VLOOKUP(C129,'Sheet 1'!C$1:D$96,2,FALSE)","v":{"$error":"#N/A"}},120,{"$f":"+'[1]Racing numbers file'!$B42","v":"Ronnie Howe"},{"$f":"VLOOKUP(C129,'[1]Racing numbers file'!$B$4:$F$290,2,FALSE)","v":1953},{"$f":"VLOOKUP(C129,'[1]Racing numbers file'!$B$4:$F$290,4,FALSE)","v":63},0,{"$f":"IF(ISNA(VLOOKUP($C129,'Sat TT_01'!$C$4:$Q$152,12,FALSE)=$C129),0,VLOOKUP($C129,'Sat TT_01'!$C$4:$Q$152,12,FALSE))","v":0},{"$f":"IF(ISNA(VLOOKUP($C129,'Sat TT_02'!$C$4:$Q$152,12,FALSE)=$C129),0,VLOOKUP($C129,'Sat TT_02'!$C$4:$Q$152,12,FALSE))","v":0},{"$f":"IF(ISNA(VLOOKUP($C129,'Sat TT_03'!$C$4:$Q$152,12,FALSE)=$C129),0,VLOOKUP($C129,'Sat TT_03'!$C$4:$Q$152,12,FALSE))","v":0},{"$f":"IF(ISNA(VLOOKUP($C129,'Sat TT_04'!$C$4:$Q$152,12,FALSE)=$C129),0,VLOOKUP($C129,'Sat TT_04'!$C$4:$Q$152,12,FALSE))","v":0},{"$f":"IF(ISNA(VLOOKUP($C129,'Sat TT_05'!$C$4:$Q$152,12,FALSE)=$C129),0,VLOOKUP($C129,'Sat TT_05'!$C$4:$Q$152,12,FALSE))","v":0},{"$f":"IF(ISNA(VLOOKUP($C129,'Sat TT_06'!$C$4:$Q$152,12,FALSE)=$C129),0,VLOOKUP($C129,'Sat TT_06'!$C$4:$Q$152,12,FALSE))","v":0},{"$f":"IF(ISNA(VLOOKUP($C129,'Sat TT_07'!$C$4:$Q$152,12,FALSE)=$C129),0,VLOOKUP($C129,'Sat TT_07'!$C$4:$Q$152,12,FALSE))","v":0},{"$f":"IF(ISNA(VLOOKUP($C129,'Sat TT_08'!$C$4:$Q$152,12,FALSE)=$C129),0,VLOOKUP($C129,'Sat TT_08'!$C$4:$Q$152,12,FALSE))","v":0},0]
[{"$f":"VLOOKUP(C130,'Sheet 1'!C$1:D$96,2,FALSE)","v":1120},121,{"$f":"+'[1]Racing numbers file'!$B56","v":"Dermot O'Gorman"},{"$f":"VLOOKUP(C130,'[1]Racing numbers file'!$B$4:$F$290,2,FALSE)","v":1956},{"$f":"VLOOKUP(C130,'[1]Racing numbers file'!$B$4:$F$290,4,FALSE)","v":60},0,{"$f":"IF(ISNA(VLOOKUP($C130,'Sat TT_01'!$C$4:$Q$152,12,FALSE)=$C130),0,VLOOKUP($C130,'Sat TT_01'!$C$4:$Q$152,12,FALSE))","v":0},{"$f":"IF(ISNA(VLOOKUP($C130,'Sat TT_02'!$C$4:$Q$152,12,FALSE)=$C130),0,VLOOKUP($C130,'Sat TT_02'!$C$4:$Q$152,12,FALSE))","v":0},{"$f":"IF(ISNA(VLOOKUP($C130,'Sat TT_03'!$C$4:$Q$152,12,FALSE)=$C130),0,VLOOKUP($C130,'Sat TT_03'!$C$4:$Q$152,12,FALSE))","v":0},{"$f":"IF(ISNA(VLOOKUP($C130,'Sat TT_04'!$C$4:$Q$152,12,FALSE)=$C130),0,VLOOKUP($C130,'Sat TT_04'!$C$4:$Q$152,12,FALSE))","v":0},{"$f":"IF(ISNA(VLOOKUP($C130,'Sat TT_05'!$C$4:$Q$152,12,FALSE)=$C130),0,VLOOKUP($C130,'Sat TT_05'!$C$4:$Q$152,12,FALSE))","v":0},{"$f":"IF(ISNA(VLOOKUP($C130,'Sat TT_06'!$C$4:$Q$152,12,FALSE)=$C130),0,VLOOKUP($C130,'Sat TT_06'!$C$4:$Q$152,12,FALSE))","v":0},{"$f":"IF(ISNA(VLOOKUP($C130,'Sat TT_07'!$C$4:$Q$152,12,FALSE)=$C130),0,VLOOKUP($C130,'Sat TT_07'!$C$4:$Q$152,12,FALSE))","v":0},{"$f":"IF(ISNA(VLOOKUP($C130,'Sat TT_08'!$C$4:$Q$152,12,FALSE)=$C130),0,VLOOKUP($C130,'Sat TT_08'!$C$4:$Q$152,12,FALSE))","v":0},0]
[{"$f":"VLOOKUP(C131,'Sheet 1'!C$1:D$96,2,FALSE)","v":1044},122,{"$f":"+'[1]Racing numbers file'!$B21","v":"Eddie Dunne"},{"$f":"VLOOKUP(C131,'[1]Racing numbers file'!$B$4:$F$290,2,FALSE)","v":1944},{"$f":"VLOOKUP(C131,'[1]Racing numbers file'!$B$4:$F$290,4,FALSE)","v":72},0,{"$f":"IF(ISNA(VLOOKUP($C131,'Sat TT_01'!$C$4:$Q$152,12,FALSE)=$C131),0,VLOOKUP($C131,'Sat TT_01'!$C$4:$Q$152,12,FALSE))","v":0},{"$f":"IF(ISNA(VLOOKUP($C131,'Sat TT_02'!$C$4:$Q$152,12,FALSE)=$C131),0,VLOOKUP($C131,'Sat TT_02'!$C$4:$Q$152,12,FALSE))","v":0},{"$f":"IF(ISNA(VLOOKUP($C131,'Sat TT_03'!$C$4:$Q$152,12,FALSE)=$C131),0,VLOOKUP($C131,'Sat TT_03'!$C$4:$Q$152,12,FALSE))","v":0},{"$f":"IF(ISNA(VLOOKUP($C131,'Sat TT_04'!$C$4:$Q$152,12,FALSE)=$C131),0,VLOOKUP($C131,'Sat TT_04'!$C$4:$Q$152,12,FALSE))","v":0},{"$f":"IF(ISNA(VLOOKUP($C131,'Sat TT_05'!$C$4:$Q$152,12,FALSE)=$C131),0,VLOOKUP($C131,'Sat TT_05'!$C$4:$Q$152,12,FALSE))","v":0},{"$f":"IF(ISNA(VLOOKUP($C131,'Sat TT_06'!$C$4:$Q$152,12,FALSE)=$C131),0,VLOOKUP($C131,'Sat TT_06'!$C$4:$Q$152,12,FALSE))","v":0},{"$f":"IF(ISNA(VLOOKUP($C131,'Sat TT_07'!$C$4:$Q$152,12,FALSE)=$C131),0,VLOOKUP($C131,'Sat TT_07'!$C$4:$Q$152,12,FALSE))","v":0},{"$f":"IF(ISNA(VLOOKUP($C131,'Sat TT_08'!$C$4:$Q$152,12,FALSE)=$C131),0,VLOOKUP($C131,'Sat TT_08'!$C$4:$Q$152,12,FALSE))","v":0},0]
[{"$f":"VLOOKUP(C132,'Sheet 1'!C$1:D$96,2,FALSE)","v":{"$error":"#N/A"}},123,{"$f":"+'[1]Racing numbers file'!$B69","v":"Arthur Ebbs"},{"$f":"VLOOKUP(C132,'[1]Racing numbers file'!$B$4:$F$290,2,FALSE)","v":1959},{"$f":"VLOOKUP(C132,'[1]Racing numbers file'!$B$4:$F$290,4,FALSE)","v":57},0,{"$f":"IF(ISNA(VLOOKUP($C132,'Sat TT_01'!$C$4:$Q$152,12,FALSE)=$C132),0,VLOOKUP($C132,'Sat TT_01'!$C$4:$Q$152,12,FALSE))","v":0},{"$f":"IF(ISNA(VLOOKUP($C132,'Sat TT_02'!$C$4:$Q$152,12,FALSE)=$C132),0,VLOOKUP($C132,'Sat TT_02'!$C$4:$Q$152,12,FALSE))","v":0},{"$f":"IF(ISNA(VLOOKUP($C132,'Sat TT_03'!$C$4:$Q$152,12,FALSE)=$C132),0,VLOOKUP($C132,'Sat TT_03'!$C$4:$Q$152,12,FALSE))","v":0},{"$f":"IF(ISNA(VLOOKUP($C132,'Sat TT_04'!$C$4:$Q$152,12,FALSE)=$C132),0,VLOOKUP($C132,'Sat TT_04'!$C$4:$Q$152,12,FALSE))","v":0},{"$f":"IF(ISNA(VLOOKUP($C132,'Sat TT_05'!$C$4:$Q$152,12,FALSE)=$C132),0,VLOOKUP($C132,'Sat TT_05'!$C$4:$Q$152,12,FALSE))","v":0},{"$f":"IF(ISNA(VLOOKUP($C132,'Sat TT_06'!$C$4:$Q$152,12,FALSE)=$C132),0,VLOOKUP($C132,'Sat TT_06'!$C$4:$Q$152,12,FALSE))","v":0},{"$f":"IF(ISNA(VLOOKUP($C132,'Sat TT_07'!$C$4:$Q$152,12,FALSE)=$C132),0,VLOOKUP($C132,'Sat TT_07'!$C$4:$Q$152,12,FALSE))","v":0},{"$f":"IF(ISNA(VLOOKUP($C132,'Sat TT_08'!$C$4:$Q$152,12,FALSE)=$C132),0,VLOOKUP($C132,'Sat TT_08'!$C$4:$Q$152,12,FALSE))","v":0},0]
[{"$f":"VLOOKUP(C133,'Sheet 1'!C$1:D$96,2,FALSE)","v":1090},124,{"$f":"+'[1]Racing numbers file'!$B37","v":"Colm Conway"},{"$f":"VLOOKUP(C133,'[1]Racing numbers file'!$B$4:$F$290,2,FALSE)","v":1952},{"$f":"VLOOKUP(C133,'[1]Racing numbers file'!$B$4:$F$290,4,FALSE)","v":64},0,{"$f":"IF(ISNA(VLOOKUP($C133,'Sat TT_01'!$C$4:$Q$152,12,FALSE)=$C133),0,VLOOKUP($C133,'Sat TT_01'!$C$4:$Q$152,12,FALSE))","v":0},{"$f":"IF(ISNA(VLOOKUP($C133,'Sat TT_02'!$C$4:$Q$152,12,FALSE)=$C133),0,VLOOKUP($C133,'Sat TT_02'!$C$4:$Q$152,12,FALSE))","v":0},{"$f":"IF(ISNA(VLOOKUP($C133,'Sat TT_03'!$C$4:$Q$152,12,FALSE)=$C133),0,VLOOKUP($C133,'Sat TT_03'!$C$4:$Q$152,12,FALSE))","v":0},{"$f":"IF(ISNA(VLOOKUP($C133,'Sat TT_04'!$C$4:$Q$152,12,FALSE)=$C133),0,VLOOKUP($C133,'Sat TT_04'!$C$4:$Q$152,12,FALSE))","v":0},{"$f":"IF(ISNA(VLOOKUP($C133,'Sat TT_05'!$C$4:$Q$152,12,FALSE)=$C133),0,VLOOKUP($C133,'Sat TT_05'!$C$4:$Q$152,12,FALSE))","v":0},{"$f":"IF(ISNA(VLOOKUP($C133,'Sat TT_06'!$C$4:$Q$152,12,FALSE)=$C133),0,VLOOKUP($C133,'Sat TT_06'!$C$4:$Q$152,12,FALSE))","v":0},{"$f":"IF(ISNA(VLOOKUP($C133,'Sat TT_07'!$C$4:$Q$152,12,FALSE)=$C133),0,VLOOKUP($C133,'Sat TT_07'!$C$4:$Q$152,12,FALSE))","v":0},{"$f":"IF(ISNA(VLOOKUP($C133,'Sat TT_08'!$C$4:$Q$152,12,FALSE)=$C133),0,VLOOKUP($C133,'Sat TT_08'!$C$4:$Q$152,12,FALSE))","v":0},0]
[{"$f":"VLOOKUP(C134,'Sheet 1'!C$1:D$96,2,FALSE)","v":{"$error":"#N/A"}},125,{"$f":"+'[1]Racing numbers file'!$B72","v":"Gerry Martin"},{"$f":"VLOOKUP(C134,'[1]Racing numbers file'!$B$4:$F$290,2,FALSE)","v":1959},{"$f":"VLOOKUP(C134,'[1]Racing numbers file'!$B$4:$F$290,4,FALSE)","v":57},0,{"$f":"IF(ISNA(VLOOKUP($C134,'Sat TT_01'!$C$4:$Q$152,12,FALSE)=$C134),0,VLOOKUP($C134,'Sat TT_01'!$C$4:$Q$152,12,FALSE))","v":0},{"$f":"IF(ISNA(VLOOKUP($C134,'Sat TT_02'!$C$4:$Q$152,12,FALSE)=$C134),0,VLOOKUP($C134,'Sat TT_02'!$C$4:$Q$152,12,FALSE))","v":0},{"$f":"IF(ISNA(VLOOKUP($C134,'Sat TT_03'!$C$4:$Q$152,12,FALSE)=$C134),0,VLOOKUP($C134,'Sat TT_03'!$C$4:$Q$152,12,FALSE))","v":0},{"$f":"IF(ISNA(VLOOKUP($C134,'Sat TT_04'!$C$4:$Q$152,12,FALSE)=$C134),0,VLOOKUP($C134,'Sat TT_04'!$C$4:$Q$152,12,FALSE))","v":0},{"$f":"IF(ISNA(VLOOKUP($C134,'Sat TT_05'!$C$4:$Q$152,12,FALSE)=$C134),0,VLOOKUP($C134,'Sat TT_05'!$C$4:$Q$152,12,FALSE))","v":0},{"$f":"IF(ISNA(VLOOKUP($C134,'Sat TT_06'!$C$4:$Q$152,12,FALSE)=$C134),0,VLOOKUP($C134,'Sat TT_06'!$C$4:$Q$152,12,FALSE))","v":0},{"$f":"IF(ISNA(VLOOKUP($C134,'Sat TT_07'!$C$4:$Q$152,12,FALSE)=$C134),0,VLOOKUP($C134,'Sat TT_07'!$C$4:$Q$152,12,FALSE))","v":0},{"$f":"IF(ISNA(VLOOKUP($C134,'Sat TT_08'!$C$4:$Q$152,12,FALSE)=$C134),0,VLOOKUP($C134,'Sat TT_08'!$C$4:$Q$152,12,FALSE))","v":0},0]
[{"$f":"VLOOKUP(C135,'Sheet 1'!C$1:D$96,2,FALSE)","v":{"$error":"#N/A"}},126,{"$f":"+'[1]Racing numbers file'!$B73","v":"Peter McDunphy"},{"$f":"VLOOKUP(C135,'[1]Racing numbers file'!$B$4:$F$290,2,FALSE)","v":1959},{"$f":"VLOOKUP(C135,'[1]Racing numbers file'!$B$4:$F$290,4,FALSE)","v":57},0,{"$f":"IF(ISNA(VLOOKUP($C135,'Sat TT_01'!$C$4:$Q$152,12,FALSE)=$C135),0,VLOOKUP($C135,'Sat TT_01'!$C$4:$Q$152,12,FALSE))","v":0},{"$f":"IF(ISNA(VLOOKUP($C135,'Sat TT_02'!$C$4:$Q$152,12,FALSE)=$C135),0,VLOOKUP($C135,'Sat TT_02'!$C$4:$Q$152,12,FALSE))","v":0},{"$f":"IF(ISNA(VLOOKUP($C135,'Sat TT_03'!$C$4:$Q$152,12,FALSE)=$C135),0,VLOOKUP($C135,'Sat TT_03'!$C$4:$Q$152,12,FALSE))","v":0},{"$f":"IF(ISNA(VLOOKUP($C135,'Sat TT_04'!$C$4:$Q$152,12,FALSE)=$C135),0,VLOOKUP($C135,'Sat TT_04'!$C$4:$Q$152,12,FALSE))","v":0},{"$f":"IF(ISNA(VLOOKUP($C135,'Sat TT_05'!$C$4:$Q$152,12,FALSE)=$C135),0,VLOOKUP($C135,'Sat TT_05'!$C$4:$Q$152,12,FALSE))","v":0},{"$f":"IF(ISNA(VLOOKUP($C135,'Sat TT_06'!$C$4:$Q$152,12,FALSE)=$C135),0,VLOOKUP($C135,'Sat TT_06'!$C$4:$Q$152,12,FALSE))","v":0},{"$f":"IF(ISNA(VLOOKUP($C135,'Sat TT_07'!$C$4:$Q$152,12,FALSE)=$C135),0,VLOOKUP($C135,'Sat TT_07'!$C$4:$Q$152,12,FALSE))","v":0},{"$f":"IF(ISNA(VLOOKUP($C135,'Sat TT_08'!$C$4:$Q$152,12,FALSE)=$C135),0,VLOOKUP($C135,'Sat TT_08'!$C$4:$Q$152,12,FALSE))","v":0},0]
[{"$f":"VLOOKUP(C136,'Sheet 1'!C$1:D$96,2,FALSE)","v":{"$error":"#N/A"}},127,{"$f":"+'[1]Racing numbers file'!$B75","v":"Noel Kelly"},{"$f":"VLOOKUP(C136,'[1]Racing numbers file'!$B$4:$F$290,2,FALSE)","v":1959},{"$f":"VLOOKUP(C136,'[1]Racing numbers file'!$B$4:$F$290,4,FALSE)","v":57},0,{"$f":"IF(ISNA(VLOOKUP($C136,'Sat TT_01'!$C$4:$Q$152,12,FALSE)=$C136),0,VLOOKUP($C136,'Sat TT_01'!$C$4:$Q$152,12,FALSE))","v":0},{"$f":"IF(ISNA(VLOOKUP($C136,'Sat TT_02'!$C$4:$Q$152,12,FALSE)=$C136),0,VLOOKUP($C136,'Sat TT_02'!$C$4:$Q$152,12,FALSE))","v":0},{"$f":"IF(ISNA(VLOOKUP($C136,'Sat TT_03'!$C$4:$Q$152,12,FALSE)=$C136),0,VLOOKUP($C136,'Sat TT_03'!$C$4:$Q$152,12,FALSE))","v":0},{"$f":"IF(ISNA(VLOOKUP($C136,'Sat TT_04'!$C$4:$Q$152,12,FALSE)=$C136),0,VLOOKUP($C136,'Sat TT_04'!$C$4:$Q$152,12,FALSE))","v":0},{"$f":"IF(ISNA(VLOOKUP($C136,'Sat TT_05'!$C$4:$Q$152,12,FALSE)=$C136),0,VLOOKUP($C136,'Sat TT_05'!$C$4:$Q$152,12,FALSE))","v":0},{"$f":"IF(ISNA(VLOOKUP($C136,'Sat TT_06'!$C$4:$Q$152,12,FALSE)=$C136),0,VLOOKUP($C136,'Sat TT_06'!$C$4:$Q$152,12,FALSE))","v":0},{"$f":"IF(ISNA(VLOOKUP($C136,'Sat TT_07'!$C$4:$Q$152,12,FALSE)=$C136),0,VLOOKUP($C136,'Sat TT_07'!$C$4:$Q$152,12,FALSE))","v":0},{"$f":"IF(ISNA(VLOOKUP($C136,'Sat TT_08'!$C$4:$Q$152,12,FALSE)=$C136),0,VLOOKUP($C136,'Sat TT_08'!$C$4:$Q$152,12,FALSE))","v":0},0]
[{"$f":"VLOOKUP(C137,'Sheet 1'!C$1:D$96,2,FALSE)","v":{"$error":"#N/A"}},128,{"$f":"+'[1]Racing numbers file'!$B77","v":"John Hogan"},{"$f":"VLOOKUP(C137,'[1]Racing numbers file'!$B$4:$F$290,2,FALSE)","v":1960},{"$f":"VLOOKUP(C137,'[1]Racing numbers file'!$B$4:$F$290,4,FALSE)","v":56},0,{"$f":"IF(ISNA(VLOOKUP($C137,'Sat TT_01'!$C$4:$Q$152,12,FALSE)=$C137),0,VLOOKUP($C137,'Sat TT_01'!$C$4:$Q$152,12,FALSE))","v":0},{"$f":"IF(ISNA(VLOOKUP($C137,'Sat TT_02'!$C$4:$Q$152,12,FALSE)=$C137),0,VLOOKUP($C137,'Sat TT_02'!$C$4:$Q$152,12,FALSE))","v":0},{"$f":"IF(ISNA(VLOOKUP($C137,'Sat TT_03'!$C$4:$Q$152,12,FALSE)=$C137),0,VLOOKUP($C137,'Sat TT_03'!$C$4:$Q$152,12,FALSE))","v":0},{"$f":"IF(ISNA(VLOOKUP($C137,'Sat TT_04'!$C$4:$Q$152,12,FALSE)=$C137),0,VLOOKUP($C137,'Sat TT_04'!$C$4:$Q$152,12,FALSE))","v":0},{"$f":"IF(ISNA(VLOOKUP($C137,'Sat TT_05'!$C$4:$Q$152,12,FALSE)=$C137),0,VLOOKUP($C137,'Sat TT_05'!$C$4:$Q$152,12,FALSE))","v":0},{"$f":"IF(ISNA(VLOOKUP($C137,'Sat TT_06'!$C$4:$Q$152,12,FALSE)=$C137),0,VLOOKUP($C137,'Sat TT_06'!$C$4:$Q$152,12,FALSE))","v":0},{"$f":"IF(ISNA(VLOOKUP($C137,'Sat TT_07'!$C$4:$Q$152,12,FALSE)=$C137),0,VLOOKUP($C137,'Sat TT_07'!$C$4:$Q$152,12,FALSE))","v":0},{"$f":"IF(ISNA(VLOOKUP($C137,'Sat TT_08'!$C$4:$Q$152,12,FALSE)=$C137),0,VLOOKUP($C137,'Sat TT_08'!$C$4:$Q$152,12,FALSE))","v":0},0]
[{"$f":"VLOOKUP(C138,'Sheet 1'!C$1:D$96,2,FALSE)","v":{"$error":"#N/A"}},129,{"$f":"+'[1]Racing numbers file'!$B78","v":"William Parnell"},{"$f":"VLOOKUP(C138,'[1]Racing numbers file'!$B$4:$F$290,2,FALSE)","v":1960},{"$f":"VLOOKUP(C138,'[1]Racing numbers file'!$B$4:$F$290,4,FALSE)","v":56},{"$f":"+O138","v":0},{"$f":"IF(ISNA(VLOOKUP($C138,'Sat TT_01'!$C$4:$Q$152,12,FALSE)=$C138),0,VLOOKUP($C138,'Sat TT_01'!$C$4:$Q$152,12,FALSE))","v":0},{"$f":"IF(ISNA(VLOOKUP($C138,'Sat TT_02'!$C$4:$Q$152,12,FALSE)=$C138),0,VLOOKUP($C138,'Sat TT_02'!$C$4:$Q$152,12,FALSE))","v":0},{"$f":"IF(ISNA(VLOOKUP($C138,'Sat TT_03'!$C$4:$Q$152,12,FALSE)=$C138),0,VLOOKUP($C138,'Sat TT_03'!$C$4:$Q$152,12,FALSE))","v":0},{"$f":"IF(ISNA(VLOOKUP($C138,'Sat TT_04'!$C$4:$Q$152,12,FALSE)=$C138),0,VLOOKUP($C138,'Sat TT_04'!$C$4:$Q$152,12,FALSE))","v":0},{"$f":"IF(ISNA(VLOOKUP($C138,'Sat TT_05'!$C$4:$Q$152,12,FALSE)=$C138),0,VLOOKUP($C138,'Sat TT_05'!$C$4:$Q$152,12,FALSE))","v":0},{"$f":"IF(ISNA(VLOOKUP($C138,'Sat TT_06'!$C$4:$Q$152,12,FALSE)=$C138),0,VLOOKUP($C138,'Sat TT_06'!$C$4:$Q$152,12,FALSE))","v":0},{"$f":"IF(ISNA(VLOOKUP($C138,'Sat TT_07'!$C$4:$Q$152,12,FALSE)=$C138),0,VLOOKUP($C138,'Sat TT_07'!$C$4:$Q$152,12,FALSE))","v":0},{"$f":"IF(ISNA(VLOOKUP($C138,'Sat TT_08'!$C$4:$Q$152,12,FALSE)=$C138),0,VLOOKUP($C138,'Sat TT_08'!$C$4:$Q$152,12,FALSE))","v":0},{"$f":"SUM(G138:N138)","v":0}]
[{"$f":"VLOOKUP(C139,'Sheet 1'!C$1:D$96,2,FALSE)","v":{"$error":"#N/A"}},130,{"$f":"+'[1]Racing numbers file'!$B87","v":"John Lawless"},{"$f":"VLOOKUP(C139,'[1]Racing numbers file'!$B$4:$F$290,2,FALSE)","v":1961},{"$f":"VLOOKUP(C139,'[1]Racing numbers file'!$B$4:$F$290,4,FALSE)","v":55},0,{"$f":"IF(ISNA(VLOOKUP($C139,'Sat TT_01'!$C$4:$Q$152,12,FALSE)=$C139),0,VLOOKUP($C139,'Sat TT_01'!$C$4:$Q$152,12,FALSE))","v":0},{"$f":"IF(ISNA(VLOOKUP($C139,'Sat TT_02'!$C$4:$Q$152,12,FALSE)=$C139),0,VLOOKUP($C139,'Sat TT_02'!$C$4:$Q$152,12,FALSE))","v":0},{"$f":"IF(ISNA(VLOOKUP($C139,'Sat TT_03'!$C$4:$Q$152,12,FALSE)=$C139),0,VLOOKUP($C139,'Sat TT_03'!$C$4:$Q$152,12,FALSE))","v":0},{"$f":"IF(ISNA(VLOOKUP($C139,'Sat TT_04'!$C$4:$Q$152,12,FALSE)=$C139),0,VLOOKUP($C139,'Sat TT_04'!$C$4:$Q$152,12,FALSE))","v":0},{"$f":"IF(ISNA(VLOOKUP($C139,'Sat TT_05'!$C$4:$Q$152,12,FALSE)=$C139),0,VLOOKUP($C139,'Sat TT_05'!$C$4:$Q$152,12,FALSE))","v":0},{"$f":"IF(ISNA(VLOOKUP($C139,'Sat TT_06'!$C$4:$Q$152,12,FALSE)=$C139),0,VLOOKUP($C139,'Sat TT_06'!$C$4:$Q$152,12,FALSE))","v":0},{"$f":"IF(ISNA(VLOOKUP($C139,'Sat TT_07'!$C$4:$Q$152,12,FALSE)=$C139),0,VLOOKUP($C139,'Sat TT_07'!$C$4:$Q$152,12,FALSE))","v":0},{"$f":"IF(ISNA(VLOOKUP($C139,'Sat TT_08'!$C$4:$Q$152,12,FALSE)=$C139),0,VLOOKUP($C139,'Sat TT_08'!$C$4:$Q$152,12,FALSE))","v":0},0]
[{"$f":"VLOOKUP(C140,'Sheet 1'!C$1:D$96,2,FALSE)","v":{"$error":"#N/A"}},131,{"$f":"+'[1]Racing numbers file'!$B161","v":"Brian Kinsella"},{"$f":"VLOOKUP(C140,'[1]Racing numbers file'!$B$4:$F$290,2,FALSE)","v":1970},{"$f":"VLOOKUP(C140,'[1]Racing numbers file'!$B$4:$F$290,4,FALSE)","v":46},0,{"$f":"IF(ISNA(VLOOKUP($C140,'Sat TT_01'!$C$4:$Q$152,12,FALSE)=$C140),0,VLOOKUP($C140,'Sat TT_01'!$C$4:$Q$152,12,FALSE))","v":0},{"$f":"IF(ISNA(VLOOKUP($C140,'Sat TT_02'!$C$4:$Q$152,12,FALSE)=$C140),0,VLOOKUP($C140,'Sat TT_02'!$C$4:$Q$152,12,FALSE))","v":0},{"$f":"IF(ISNA(VLOOKUP($C140,'Sat TT_03'!$C$4:$Q$152,12,FALSE)=$C140),0,VLOOKUP($C140,'Sat TT_03'!$C$4:$Q$152,12,FALSE))","v":0},{"$f":"IF(ISNA(VLOOKUP($C140,'Sat TT_04'!$C$4:$Q$152,12,FALSE)=$C140),0,VLOOKUP($C140,'Sat TT_04'!$C$4:$Q$152,12,FALSE))","v":0},{"$f":"IF(ISNA(VLOOKUP($C140,'Sat TT_05'!$C$4:$Q$152,12,FALSE)=$C140),0,VLOOKUP($C140,'Sat TT_05'!$C$4:$Q$152,12,FALSE))","v":0},{"$f":"IF(ISNA(VLOOKUP($C140,'Sat TT_06'!$C$4:$Q$152,12,FALSE)=$C140),0,VLOOKUP($C140,'Sat TT_06'!$C$4:$Q$152,12,FALSE))","v":0},{"$f":"IF(ISNA(VLOOKUP($C140,'Sat TT_07'!$C$4:$Q$152,12,FALSE)=$C140),0,VLOOKUP($C140,'Sat TT_07'!$C$4:$Q$152,12,FALSE))","v":0},{"$f":"IF(ISNA(VLOOKUP($C140,'Sat TT_08'!$C$4:$Q$152,12,FALSE)=$C140),0,VLOOKUP($C140,'Sat TT_08'!$C$4:$Q$152,12,FALSE))","v":0},0]
[{"$f":"VLOOKUP(C141,'Sheet 1'!C$1:D$96,2,FALSE)","v":{"$error":"#N/A"}},132,{"$f":"+'[1]Racing numbers file'!$B144","v":"Mike Claffey"},{"$f":"VLOOKUP(C141,'[1]Racing numbers file'!$B$4:$F$290,2,FALSE)","v":1968},{"$f":"VLOOKUP(C141,'[1]Racing numbers file'!$B$4:$F$290,4,FALSE)","v":48},0,{"$f":"IF(ISNA(VLOOKUP($C141,'Sat TT_01'!$C$4:$Q$152,12,FALSE)=$C141),0,VLOOKUP($C141,'Sat TT_01'!$C$4:$Q$152,12,FALSE))","v":0},{"$f":"IF(ISNA(VLOOKUP($C141,'Sat TT_02'!$C$4:$Q$152,12,FALSE)=$C141),0,VLOOKUP($C141,'Sat TT_02'!$C$4:$Q$152,12,FALSE))","v":0},{"$f":"IF(ISNA(VLOOKUP($C141,'Sat TT_03'!$C$4:$Q$152,12,FALSE)=$C141),0,VLOOKUP($C141,'Sat TT_03'!$C$4:$Q$152,12,FALSE))","v":0},{"$f":"IF(ISNA(VLOOKUP($C141,'Sat TT_04'!$C$4:$Q$152,12,FALSE)=$C141),0,VLOOKUP($C141,'Sat TT_04'!$C$4:$Q$152,12,FALSE))","v":0},{"$f":"IF(ISNA(VLOOKUP($C141,'Sat TT_05'!$C$4:$Q$152,12,FALSE)=$C141),0,VLOOKUP($C141,'Sat TT_05'!$C$4:$Q$152,12,FALSE))","v":0},{"$f":"IF(ISNA(VLOOKUP($C141,'Sat TT_06'!$C$4:$Q$152,12,FALSE)=$C141),0,VLOOKUP($C141,'Sat TT_06'!$C$4:$Q$152,12,FALSE))","v":0},{"$f":"IF(ISNA(VLOOKUP($C141,'Sat TT_07'!$C$4:$Q$152,12,FALSE)=$C141),0,VLOOKUP($C141,'Sat TT_07'!$C$4:$Q$152,12,FALSE))","v":0},{"$f":"IF(ISNA(VLOOKUP($C141,'Sat TT_08'!$C$4:$Q$152,12,FALSE)=$C141),0,VLOOKUP($C141,'Sat TT_08'!$C$4:$Q$152,12,FALSE))","v":0},0]
[{"$f":"VLOOKUP(C142,'Sheet 1'!C$1:D$96,2,FALSE)","v":{"$error":"#N/A"}},133,{"$f":"+'[1]Racing numbers file'!$B162","v":"Conor McGrane"},{"$f":"VLOOKUP(C142,'[1]Racing numbers file'!$B$4:$F$290,2,FALSE)","v":1970},{"$f":"VLOOKUP(C142,'[1]Racing numbers file'!$B$4:$F$290,4,FALSE)","v":46},0,{"$f":"IF(ISNA(VLOOKUP($C142,'Sat TT_01'!$C$4:$Q$152,12,FALSE)=$C142),0,VLOOKUP($C142,'Sat TT_01'!$C$4:$Q$152,12,FALSE))","v":0},{"$f":"IF(ISNA(VLOOKUP($C142,'Sat TT_02'!$C$4:$Q$152,12,FALSE)=$C142),0,VLOOKUP($C142,'Sat TT_02'!$C$4:$Q$152,12,FALSE))","v":0},{"$f":"IF(ISNA(VLOOKUP($C142,'Sat TT_03'!$C$4:$Q$152,12,FALSE)=$C142),0,VLOOKUP($C142,'Sat TT_03'!$C$4:$Q$152,12,FALSE))","v":0},{"$f":"IF(ISNA(VLOOKUP($C142,'Sat TT_04'!$C$4:$Q$152,12,FALSE)=$C142),0,VLOOKUP($C142,'Sat TT_04'!$C$4:$Q$152,12,FALSE))","v":0},{"$f":"IF(ISNA(VLOOKUP($C142,'Sat TT_05'!$C$4:$Q$152,12,FALSE)=$C142),0,VLOOKUP($C142,'Sat TT_05'!$C$4:$Q$152,12,FALSE))","v":0},{"$f":"IF(ISNA(VLOOKUP($C142,'Sat TT_06'!$C$4:$Q$152,12,FALSE)=$C142),0,VLOOKUP($C142,'Sat TT_06'!$C$4:$Q$152,12,FALSE))","v":0},{"$f":"IF(ISNA(VLOOKUP($C142,'Sat TT_07'!$C$4:$Q$152,12,FALSE)=$C142),0,VLOOKUP($C142,'Sat TT_07'!$C$4:$Q$152,12,FALSE))","v":0},{"$f":"IF(ISNA(VLOOKUP($C142,'Sat TT_08'!$C$4:$Q$152,12,FALSE)=$C142),0,VLOOKUP($C142,'Sat TT_08'!$C$4:$Q$152,12,FALSE))","v":0},0]
[{"$f":"VLOOKUP(C143,'Sheet 1'!C$1:D$96,2,FALSE)","v":{"$error":"#N/A"}},134,{"$f":"+'[1]Racing numbers file'!$B128","v":"John Lanigan"},{"$f":"VLOOKUP(C143,'[1]Racing numbers file'!$B$4:$F$290,2,FALSE)","v":1967},{"$f":"VLOOKUP(C143,'[1]Racing numbers file'!$B$4:$F$290,4,FALSE)","v":49},0,{"$f":"IF(ISNA(VLOOKUP($C143,'Sat TT_01'!$C$4:$Q$152,12,FALSE)=$C143),0,VLOOKUP($C143,'Sat TT_01'!$C$4:$Q$152,12,FALSE))","v":0},{"$f":"IF(ISNA(VLOOKUP($C143,'Sat TT_02'!$C$4:$Q$152,12,FALSE)=$C143),0,VLOOKUP($C143,'Sat TT_02'!$C$4:$Q$152,12,FALSE))","v":0},{"$f":"IF(ISNA(VLOOKUP($C143,'Sat TT_03'!$C$4:$Q$152,12,FALSE)=$C143),0,VLOOKUP($C143,'Sat TT_03'!$C$4:$Q$152,12,FALSE))","v":0},{"$f":"IF(ISNA(VLOOKUP($C143,'Sat TT_04'!$C$4:$Q$152,12,FALSE)=$C143),0,VLOOKUP($C143,'Sat TT_04'!$C$4:$Q$152,12,FALSE))","v":0},{"$f":"IF(ISNA(VLOOKUP($C143,'Sat TT_05'!$C$4:$Q$152,12,FALSE)=$C143),0,VLOOKUP($C143,'Sat TT_05'!$C$4:$Q$152,12,FALSE))","v":0},{"$f":"IF(ISNA(VLOOKUP($C143,'Sat TT_06'!$C$4:$Q$152,12,FALSE)=$C143),0,VLOOKUP($C143,'Sat TT_06'!$C$4:$Q$152,12,FALSE))","v":0},{"$f":"IF(ISNA(VLOOKUP($C143,'Sat TT_07'!$C$4:$Q$152,12,FALSE)=$C143),0,VLOOKUP($C143,'Sat TT_07'!$C$4:$Q$152,12,FALSE))","v":0},{"$f":"IF(ISNA(VLOOKUP($C143,'Sat TT_08'!$C$4:$Q$152,12,FALSE)=$C143),0,VLOOKUP($C143,'Sat TT_08'!$C$4:$Q$152,12,FALSE))","v":0},0]
[{"$f":"VLOOKUP(C144,'Sheet 1'!C$1:D$96,2,FALSE)","v":{"$error":"#N/A"}},135,{"$f":"+'[1]Racing numbers file'!$B221","v":"Norman Shine"},{"$f":"VLOOKUP(C144,'[1]Racing numbers file'!$B$4:$F$290,2,FALSE)","v":1975},{"$f":"VLOOKUP(C144,'[1]Racing numbers file'!$B$4:$F$290,4,FALSE)","v":41},0,{"$f":"IF(ISNA(VLOOKUP($C144,'Sat TT_01'!$C$4:$Q$152,12,FALSE)=$C144),0,VLOOKUP($C144,'Sat TT_01'!$C$4:$Q$152,12,FALSE))","v":0},{"$f":"IF(ISNA(VLOOKUP($C144,'Sat TT_02'!$C$4:$Q$152,12,FALSE)=$C144),0,VLOOKUP($C144,'Sat TT_02'!$C$4:$Q$152,12,FALSE))","v":0},{"$f":"IF(ISNA(VLOOKUP($C144,'Sat TT_03'!$C$4:$Q$152,12,FALSE)=$C144),0,VLOOKUP($C144,'Sat TT_03'!$C$4:$Q$152,12,FALSE))","v":0},{"$f":"IF(ISNA(VLOOKUP($C144,'Sat TT_04'!$C$4:$Q$152,12,FALSE)=$C144),0,VLOOKUP($C144,'Sat TT_04'!$C$4:$Q$152,12,FALSE))","v":0},{"$f":"IF(ISNA(VLOOKUP($C144,'Sat TT_05'!$C$4:$Q$152,12,FALSE)=$C144),0,VLOOKUP($C144,'Sat TT_05'!$C$4:$Q$152,12,FALSE))","v":0},{"$f":"IF(ISNA(VLOOKUP($C144,'Sat TT_06'!$C$4:$Q$152,12,FALSE)=$C144),0,VLOOKUP($C144,'Sat TT_06'!$C$4:$Q$152,12,FALSE))","v":0},{"$f":"IF(ISNA(VLOOKUP($C144,'Sat TT_07'!$C$4:$Q$152,12,FALSE)=$C144),0,VLOOKUP($C144,'Sat TT_07'!$C$4:$Q$152,12,FALSE))","v":0},{"$f":"IF(ISNA(VLOOKUP($C144,'Sat TT_08'!$C$4:$Q$152,12,FALSE)=$C144),0,VLOOKUP($C144,'Sat TT_08'!$C$4:$Q$152,12,FALSE))","v":0},0]
[{"$f":"VLOOKUP(C145,'Sheet 1'!C$1:D$96,2,FALSE)","v":{"$error":"#N/A"}},136,{"$f":"+'[1]Racing numbers file'!$B226","v":"Denis Gleeson"},{"$f":"VLOOKUP(C145,'[1]Racing numbers file'!$B$4:$F$290,2,FALSE)","v":1953},{"$f":"VLOOKUP(C145,'[1]Racing numbers file'!$B$4:$F$290,4,FALSE)","v":63},0,{"$f":"IF(ISNA(VLOOKUP($C145,'Sat TT_01'!$C$4:$Q$152,12,FALSE)=$C145),0,VLOOKUP($C145,'Sat TT_01'!$C$4:$Q$152,12,FALSE))","v":0},{"$f":"IF(ISNA(VLOOKUP($C145,'Sat TT_02'!$C$4:$Q$152,12,FALSE)=$C145),0,VLOOKUP($C145,'Sat TT_02'!$C$4:$Q$152,12,FALSE))","v":0},{"$f":"IF(ISNA(VLOOKUP($C145,'Sat TT_03'!$C$4:$Q$152,12,FALSE)=$C145),0,VLOOKUP($C145,'Sat TT_03'!$C$4:$Q$152,12,FALSE))","v":0},{"$f":"IF(ISNA(VLOOKUP($C145,'Sat TT_04'!$C$4:$Q$152,12,FALSE)=$C145),0,VLOOKUP($C145,'Sat TT_04'!$C$4:$Q$152,12,FALSE))","v":0},{"$f":"IF(ISNA(VLOOKUP($C145,'Sat TT_05'!$C$4:$Q$152,12,FALSE)=$C145),0,VLOOKUP($C145,'Sat TT_05'!$C$4:$Q$152,12,FALSE))","v":0},{"$f":"IF(ISNA(VLOOKUP($C145,'Sat TT_06'!$C$4:$Q$152,12,FALSE)=$C145),0,VLOOKUP($C145,'Sat TT_06'!$C$4:$Q$152,12,FALSE))","v":0},{"$f":"IF(ISNA(VLOOKUP($C145,'Sat TT_07'!$C$4:$Q$152,12,FALSE)=$C145),0,VLOOKUP($C145,'Sat TT_07'!$C$4:$Q$152,12,FALSE))","v":0},{"$f":"IF(ISNA(VLOOKUP($C145,'Sat TT_08'!$C$4:$Q$152,12,FALSE)=$C145),0,VLOOKUP($C145,'Sat TT_08'!$C$4:$Q$152,12,FALSE))","v":0},0]
[{"$f":"VLOOKUP(C146,'Sheet 1'!C$1:D$96,2,FALSE)","v":{"$error":"#N/A"}},137,{"$f":"+'[1]Racing numbers file'!$B215","v":"John Brady"},{"$f":"VLOOKUP(C146,'[1]Racing numbers file'!$B$4:$F$290,2,FALSE)","v":1964},{"$f":"VLOOKUP(C146,'[1]Racing numbers file'!$B$4:$F$290,4,FALSE)","v":52},0,{"$f":"IF(ISNA(VLOOKUP($C146,'Sat TT_01'!$C$4:$Q$152,12,FALSE)=$C146),0,VLOOKUP($C146,'Sat TT_01'!$C$4:$Q$152,12,FALSE))","v":0},{"$f":"IF(ISNA(VLOOKUP($C146,'Sat TT_02'!$C$4:$Q$152,12,FALSE)=$C146),0,VLOOKUP($C146,'Sat TT_02'!$C$4:$Q$152,12,FALSE))","v":0},{"$f":"IF(ISNA(VLOOKUP($C146,'Sat TT_03'!$C$4:$Q$152,12,FALSE)=$C146),0,VLOOKUP($C146,'Sat TT_03'!$C$4:$Q$152,12,FALSE))","v":0},{"$f":"IF(ISNA(VLOOKUP($C146,'Sat TT_04'!$C$4:$Q$152,12,FALSE)=$C146),0,VLOOKUP($C146,'Sat TT_04'!$C$4:$Q$152,12,FALSE))","v":0},{"$f":"IF(ISNA(VLOOKUP($C146,'Sat TT_05'!$C$4:$Q$152,12,FALSE)=$C146),0,VLOOKUP($C146,'Sat TT_05'!$C$4:$Q$152,12,FALSE))","v":0},{"$f":"IF(ISNA(VLOOKUP($C146,'Sat TT_06'!$C$4:$Q$152,12,FALSE)=$C146),0,VLOOKUP($C146,'Sat TT_06'!$C$4:$Q$152,12,FALSE))","v":0},{"$f":"IF(ISNA(VLOOKUP($C146,'Sat TT_07'!$C$4:$Q$152,12,FALSE)=$C146),0,VLOOKUP($C146,'Sat TT_07'!$C$4:$Q$152,12,FALSE))","v":0},{"$f":"IF(ISNA(VLOOKUP($C146,'Sat TT_08'!$C$4:$Q$152,12,FALSE)=$C146),0,VLOOKUP($C146,'Sat TT_08'!$C$4:$Q$152,12,FALSE))","v":0},0]
[{"$f":"VLOOKUP(C147,'Sheet 1'!C$1:D$96,2,FALSE)","v":{"$error":"#N/A"}},138,{"$f":"+'[1]Racing numbers file'!$B84","v":"Dave Cormack"},{"$f":"VLOOKUP(C147,'[1]Racing numbers file'!$B$4:$F$290,2,FALSE)","v":1961},{"$f":"VLOOKUP(C147,'[1]Racing numbers file'!$B$4:$F$290,4,FALSE)","v":55},0,{"$f":"IF(ISNA(VLOOKUP($C147,'Sat TT_01'!$C$4:$Q$152,12,FALSE)=$C147),0,VLOOKUP($C147,'Sat TT_01'!$C$4:$Q$152,12,FALSE))","v":0},{"$f":"IF(ISNA(VLOOKUP($C147,'Sat TT_02'!$C$4:$Q$152,12,FALSE)=$C147),0,VLOOKUP($C147,'Sat TT_02'!$C$4:$Q$152,12,FALSE))","v":0},{"$f":"IF(ISNA(VLOOKUP($C147,'Sat TT_03'!$C$4:$Q$152,12,FALSE)=$C147),0,VLOOKUP($C147,'Sat TT_03'!$C$4:$Q$152,12,FALSE))","v":0},{"$f":"IF(ISNA(VLOOKUP($C147,'Sat TT_04'!$C$4:$Q$152,12,FALSE)=$C147),0,VLOOKUP($C147,'Sat TT_04'!$C$4:$Q$152,12,FALSE))","v":0},{"$f":"IF(ISNA(VLOOKUP($C147,'Sat TT_05'!$C$4:$Q$152,12,FALSE)=$C147),0,VLOOKUP($C147,'Sat TT_05'!$C$4:$Q$152,12,FALSE))","v":0},{"$f":"IF(ISNA(VLOOKUP($C147,'Sat TT_06'!$C$4:$Q$152,12,FALSE)=$C147),0,VLOOKUP($C147,'Sat TT_06'!$C$4:$Q$152,12,FALSE))","v":0},{"$f":"IF(ISNA(VLOOKUP($C147,'Sat TT_07'!$C$4:$Q$152,12,FALSE)=$C147),0,VLOOKUP($C147,'Sat TT_07'!$C$4:$Q$152,12,FALSE))","v":0},{"$f":"IF(ISNA(VLOOKUP($C147,'Sat TT_08'!$C$4:$Q$152,12,FALSE)=$C147),0,VLOOKUP($C147,'Sat TT_08'!$C$4:$Q$152,12,FALSE))","v":0},0]
[{"$f":"VLOOKUP(C148,'Sheet 1'!C$1:D$96,2,FALSE)","v":{"$error":"#N/A"}},139,{"$f":"+'[1]Racing numbers file'!$B243","v":"Stephen McNally"},{"$f":"VLOOKUP(C148,'[1]Racing numbers file'!$B$4:$F$290,2,FALSE)","v":1966},{"$f":"VLOOKUP(C148,'[1]Racing numbers file'!$B$4:$F$290,4,FALSE)","v":50},0,{"$f":"IF(ISNA(VLOOKUP($C148,'Sat TT_01'!$C$4:$Q$152,12,FALSE)=$C148),0,VLOOKUP($C148,'Sat TT_01'!$C$4:$Q$152,12,FALSE))","v":0},{"$f":"IF(ISNA(VLOOKUP($C148,'Sat TT_02'!$C$4:$Q$152,12,FALSE)=$C148),0,VLOOKUP($C148,'Sat TT_02'!$C$4:$Q$152,12,FALSE))","v":0},{"$f":"IF(ISNA(VLOOKUP($C148,'Sat TT_03'!$C$4:$Q$152,12,FALSE)=$C148),0,VLOOKUP($C148,'Sat TT_03'!$C$4:$Q$152,12,FALSE))","v":0},{"$f":"IF(ISNA(VLOOKUP($C148,'Sat TT_04'!$C$4:$Q$152,12,FALSE)=$C148),0,VLOOKUP($C148,'Sat TT_04'!$C$4:$Q$152,12,FALSE))","v":0},{"$f":"IF(ISNA(VLOOKUP($C148,'Sat TT_05'!$C$4:$Q$152,12,FALSE)=$C148),0,VLOOKUP($C148,'Sat TT_05'!$C$4:$Q$152,12,FALSE))","v":0},{"$f":"IF(ISNA(VLOOKUP($C148,'Sat TT_06'!$C$4:$Q$152,12,FALSE)=$C148),0,VLOOKUP($C148,'Sat TT_06'!$C$4:$Q$152,12,FALSE))","v":0},{"$f":"IF(ISNA(VLOOKUP($C148,'Sat TT_07'!$C$4:$Q$152,12,FALSE)=$C148),0,VLOOKUP($C148,'Sat TT_07'!$C$4:$Q$152,12,FALSE))","v":0},{"$f":"IF(ISNA(VLOOKUP($C148,'Sat TT_08'!$C$4:$Q$152,12,FALSE)=$C148),0,VLOOKUP($C148,'Sat TT_08'!$C$4:$Q$152,12,FALSE))","v":0},0]
[{"$f":"VLOOKUP(C149,'Sheet 1'!C$1:D$96,2,FALSE)","v":{"$error":"#N/A"}},140,{"$f":"+'[1]Racing numbers file'!$B100","v":"Mark Burns"},{"$f":"VLOOKUP(C149,'[1]Racing numbers file'!$B$4:$F$290,2,FALSE)","v":1962},{"$f":"VLOOKUP(C149,'[1]Racing numbers file'!$B$4:$F$290,4,FALSE)","v":54},0,{"$f":"IF(ISNA(VLOOKUP($C149,'Sat TT_01'!$C$4:$Q$152,12,FALSE)=$C149),0,VLOOKUP($C149,'Sat TT_01'!$C$4:$Q$152,12,FALSE))","v":0},{"$f":"IF(ISNA(VLOOKUP($C149,'Sat TT_02'!$C$4:$Q$152,12,FALSE)=$C149),0,VLOOKUP($C149,'Sat TT_02'!$C$4:$Q$152,12,FALSE))","v":0},{"$f":"IF(ISNA(VLOOKUP($C149,'Sat TT_03'!$C$4:$Q$152,12,FALSE)=$C149),0,VLOOKUP($C149,'Sat TT_03'!$C$4:$Q$152,12,FALSE))","v":0},{"$f":"IF(ISNA(VLOOKUP($C149,'Sat TT_04'!$C$4:$Q$152,12,FALSE)=$C149),0,VLOOKUP($C149,'Sat TT_04'!$C$4:$Q$152,12,FALSE))","v":0},{"$f":"IF(ISNA(VLOOKUP($C149,'Sat TT_05'!$C$4:$Q$152,12,FALSE)=$C149),0,VLOOKUP($C149,'Sat TT_05'!$C$4:$Q$152,12,FALSE))","v":0},{"$f":"IF(ISNA(VLOOKUP($C149,'Sat TT_06'!$C$4:$Q$152,12,FALSE)=$C149),0,VLOOKUP($C149,'Sat TT_06'!$C$4:$Q$152,12,FALSE))","v":0},{"$f":"IF(ISNA(VLOOKUP($C149,'Sat TT_07'!$C$4:$Q$152,12,FALSE)=$C149),0,VLOOKUP($C149,'Sat TT_07'!$C$4:$Q$152,12,FALSE))","v":0},{"$f":"IF(ISNA(VLOOKUP($C149,'Sat TT_08'!$C$4:$Q$152,12,FALSE)=$C149),0,VLOOKUP($C149,'Sat TT_08'!$C$4:$Q$152,12,FALSE))","v":0},0]
[{"$f":"VLOOKUP(C150,'Sheet 1'!C$1:D$96,2,FALSE)","v":{"$error":"#N/A"}},141,{"$f":"+'[1]Racing numbers file'!$B196","v":"John Tracey"},{"$f":"VLOOKUP(C150,'[1]Racing numbers file'!$B$4:$F$290,2,FALSE)","v":1957},{"$f":"VLOOKUP(C150,'[1]Racing numbers file'!$B$4:$F$290,4,FALSE)","v":59},0,{"$f":"IF(ISNA(VLOOKUP($C150,'Sat TT_01'!$C$4:$Q$152,12,FALSE)=$C150),0,VLOOKUP($C150,'Sat TT_01'!$C$4:$Q$152,12,FALSE))","v":0},{"$f":"IF(ISNA(VLOOKUP($C150,'Sat TT_02'!$C$4:$Q$152,12,FALSE)=$C150),0,VLOOKUP($C150,'Sat TT_02'!$C$4:$Q$152,12,FALSE))","v":0},{"$f":"IF(ISNA(VLOOKUP($C150,'Sat TT_03'!$C$4:$Q$152,12,FALSE)=$C150),0,VLOOKUP($C150,'Sat TT_03'!$C$4:$Q$152,12,FALSE))","v":0},{"$f":"IF(ISNA(VLOOKUP($C150,'Sat TT_04'!$C$4:$Q$152,12,FALSE)=$C150),0,VLOOKUP($C150,'Sat TT_04'!$C$4:$Q$152,12,FALSE))","v":0},{"$f":"IF(ISNA(VLOOKUP($C150,'Sat TT_05'!$C$4:$Q$152,12,FALSE)=$C150),0,VLOOKUP($C150,'Sat TT_05'!$C$4:$Q$152,12,FALSE))","v":0},{"$f":"IF(ISNA(VLOOKUP($C150,'Sat TT_06'!$C$4:$Q$152,12,FALSE)=$C150),0,VLOOKUP($C150,'Sat TT_06'!$C$4:$Q$152,12,FALSE))","v":0},{"$f":"IF(ISNA(VLOOKUP($C150,'Sat TT_07'!$C$4:$Q$152,12,FALSE)=$C150),0,VLOOKUP($C150,'Sat TT_07'!$C$4:$Q$152,12,FALSE))","v":0},{"$f":"IF(ISNA(VLOOKUP($C150,'Sat TT_08'!$C$4:$Q$152,12,FALSE)=$C150),0,VLOOKUP($C150,'Sat TT_08'!$C$4:$Q$152,12,FALSE))","v":0},0]
[{"$f":"VLOOKUP(C151,'Sheet 1'!C$1:D$96,2,FALSE)","v":{"$error":"#N/A"}},142,{"$f":"+'[1]Racing numbers file'!$B166","v":"Jonathan Grimes"},{"$f":"VLOOKUP(C151,'[1]Racing numbers file'!$B$4:$F$290,2,FALSE)","v":1971},{"$f":"VLOOKUP(C151,'[1]Racing numbers file'!$B$4:$F$290,4,FALSE)","v":45},0,{"$f":"IF(ISNA(VLOOKUP($C151,'Sat TT_01'!$C$4:$Q$152,12,FALSE)=$C151),0,VLOOKUP($C151,'Sat TT_01'!$C$4:$Q$152,12,FALSE))","v":0},{"$f":"IF(ISNA(VLOOKUP($C151,'Sat TT_02'!$C$4:$Q$152,12,FALSE)=$C151),0,VLOOKUP($C151,'Sat TT_02'!$C$4:$Q$152,12,FALSE))","v":0},{"$f":"IF(ISNA(VLOOKUP($C151,'Sat TT_03'!$C$4:$Q$152,12,FALSE)=$C151),0,VLOOKUP($C151,'Sat TT_03'!$C$4:$Q$152,12,FALSE))","v":0},{"$f":"IF(ISNA(VLOOKUP($C151,'Sat TT_04'!$C$4:$Q$152,12,FALSE)=$C151),0,VLOOKUP($C151,'Sat TT_04'!$C$4:$Q$152,12,FALSE))","v":0},{"$f":"IF(ISNA(VLOOKUP($C151,'Sat TT_05'!$C$4:$Q$152,12,FALSE)=$C151),0,VLOOKUP($C151,'Sat TT_05'!$C$4:$Q$152,12,FALSE))","v":0},{"$f":"IF(ISNA(VLOOKUP($C151,'Sat TT_06'!$C$4:$Q$152,12,FALSE)=$C151),0,VLOOKUP($C151,'Sat TT_06'!$C$4:$Q$152,12,FALSE))","v":0},{"$f":"IF(ISNA(VLOOKUP($C151,'Sat TT_07'!$C$4:$Q$152,12,FALSE)=$C151),0,VLOOKUP($C151,'Sat TT_07'!$C$4:$Q$152,12,FALSE))","v":0},{"$f":"IF(ISNA(VLOOKUP($C151,'Sat TT_08'!$C$4:$Q$152,12,FALSE)=$C151),0,VLOOKUP($C151,'Sat TT_08'!$C$4:$Q$152,12,FALSE))","v":0},0]
[{"$f":"VLOOKUP(C152,'Sheet 1'!C$1:D$96,2,FALSE)","v":1258},143,{"$f":"+'[1]Racing numbers file'!$B132","v":"Rodney Joyce"},{"$f":"VLOOKUP(C152,'[1]Racing numbers file'!$B$4:$F$290,2,FALSE)","v":1967},{"$f":"VLOOKUP(C152,'[1]Racing numbers file'!$B$4:$F$290,4,FALSE)","v":49},0,{"$f":"IF(ISNA(VLOOKUP($C152,'Sat TT_01'!$C$4:$Q$152,12,FALSE)=$C152),0,VLOOKUP($C152,'Sat TT_01'!$C$4:$Q$152,12,FALSE))","v":0},{"$f":"IF(ISNA(VLOOKUP($C152,'Sat TT_02'!$C$4:$Q$152,12,FALSE)=$C152),0,VLOOKUP($C152,'Sat TT_02'!$C$4:$Q$152,12,FALSE))","v":0},{"$f":"IF(ISNA(VLOOKUP($C152,'Sat TT_03'!$C$4:$Q$152,12,FALSE)=$C152),0,VLOOKUP($C152,'Sat TT_03'!$C$4:$Q$152,12,FALSE))","v":0},{"$f":"IF(ISNA(VLOOKUP($C152,'Sat TT_04'!$C$4:$Q$152,12,FALSE)=$C152),0,VLOOKUP($C152,'Sat TT_04'!$C$4:$Q$152,12,FALSE))","v":0},{"$f":"IF(ISNA(VLOOKUP($C152,'Sat TT_05'!$C$4:$Q$152,12,FALSE)=$C152),0,VLOOKUP($C152,'Sat TT_05'!$C$4:$Q$152,12,FALSE))","v":0},{"$f":"IF(ISNA(VLOOKUP($C152,'Sat TT_06'!$C$4:$Q$152,12,FALSE)=$C152),0,VLOOKUP($C152,'Sat TT_06'!$C$4:$Q$152,12,FALSE))","v":0},{"$f":"IF(ISNA(VLOOKUP($C152,'Sat TT_07'!$C$4:$Q$152,12,FALSE)=$C152),0,VLOOKUP($C152,'Sat TT_07'!$C$4:$Q$152,12,FALSE))","v":0},{"$f":"IF(ISNA(VLOOKUP($C152,'Sat TT_08'!$C$4:$Q$152,12,FALSE)=$C152),0,VLOOKUP($C152,'Sat TT_08'!$C$4:$Q$152,12,FALSE))","v":0},0]
[{"$f":"VLOOKUP(C153,'Sheet 1'!C$1:D$96,2,FALSE)","v":1387},144,{"$f":"+'[1]Racing numbers file'!$B197","v":"Tony O'Malley"},{"$f":"VLOOKUP(C153,'[1]Racing numbers file'!$B$4:$F$290,2,FALSE)","v":1972},{"$f":"VLOOKUP(C153,'[1]Racing numbers file'!$B$4:$F$290,4,FALSE)","v":44},0,{"$f":"IF(ISNA(VLOOKUP($C153,'Sat TT_01'!$C$4:$Q$152,12,FALSE)=$C153),0,VLOOKUP($C153,'Sat TT_01'!$C$4:$Q$152,12,FALSE))","v":0},{"$f":"IF(ISNA(VLOOKUP($C153,'Sat TT_02'!$C$4:$Q$152,12,FALSE)=$C153),0,VLOOKUP($C153,'Sat TT_02'!$C$4:$Q$152,12,FALSE))","v":0},{"$f":"IF(ISNA(VLOOKUP($C153,'Sat TT_03'!$C$4:$Q$152,12,FALSE)=$C153),0,VLOOKUP($C153,'Sat TT_03'!$C$4:$Q$152,12,FALSE))","v":0},{"$f":"IF(ISNA(VLOOKUP($C153,'Sat TT_04'!$C$4:$Q$152,12,FALSE)=$C153),0,VLOOKUP($C153,'Sat TT_04'!$C$4:$Q$152,12,FALSE))","v":0},{"$f":"IF(ISNA(VLOOKUP($C153,'Sat TT_05'!$C$4:$Q$152,12,FALSE)=$C153),0,VLOOKUP($C153,'Sat TT_05'!$C$4:$Q$152,12,FALSE))","v":0},{"$f":"IF(ISNA(VLOOKUP($C153,'Sat TT_06'!$C$4:$Q$152,12,FALSE)=$C153),0,VLOOKUP($C153,'Sat TT_06'!$C$4:$Q$152,12,FALSE))","v":0},{"$f":"IF(ISNA(VLOOKUP($C153,'Sat TT_07'!$C$4:$Q$152,12,FALSE)=$C153),0,VLOOKUP($C153,'Sat TT_07'!$C$4:$Q$152,12,FALSE))","v":0},{"$f":"IF(ISNA(VLOOKUP($C153,'Sat TT_08'!$C$4:$Q$152,12,FALSE)=$C153),0,VLOOKUP($C153,'Sat TT_08'!$C$4:$Q$152,12,FALSE))","v":0},0]
[{"$f":"VLOOKUP(C154,'Sheet 1'!C$1:D$96,2,FALSE)","v":{"$error":"#N/A"}},145,{"$f":"+'[1]Racing numbers file'!$B92","v":"Tony Brady"},{"$f":"VLOOKUP(C154,'[1]Racing numbers file'!$B$4:$F$290,2,FALSE)","v":1962},{"$f":"VLOOKUP(C154,'[1]Racing numbers file'!$B$4:$F$290,4,FALSE)","v":54},0,{"$f":"IF(ISNA(VLOOKUP($C154,'Sat TT_01'!$C$4:$Q$152,12,FALSE)=$C154),0,VLOOKUP($C154,'Sat TT_01'!$C$4:$Q$152,12,FALSE))","v":0},{"$f":"IF(ISNA(VLOOKUP($C154,'Sat TT_02'!$C$4:$Q$152,12,FALSE)=$C154),0,VLOOKUP($C154,'Sat TT_02'!$C$4:$Q$152,12,FALSE))","v":0},{"$f":"IF(ISNA(VLOOKUP($C154,'Sat TT_03'!$C$4:$Q$152,12,FALSE)=$C154),0,VLOOKUP($C154,'Sat TT_03'!$C$4:$Q$152,12,FALSE))","v":0},{"$f":"IF(ISNA(VLOOKUP($C154,'Sat TT_04'!$C$4:$Q$152,12,FALSE)=$C154),0,VLOOKUP($C154,'Sat TT_04'!$C$4:$Q$152,12,FALSE))","v":0},{"$f":"IF(ISNA(VLOOKUP($C154,'Sat TT_05'!$C$4:$Q$152,12,FALSE)=$C154),0,VLOOKUP($C154,'Sat TT_05'!$C$4:$Q$152,12,FALSE))","v":0},{"$f":"IF(ISNA(VLOOKUP($C154,'Sat TT_06'!$C$4:$Q$152,12,FALSE)=$C154),0,VLOOKUP($C154,'Sat TT_06'!$C$4:$Q$152,12,FALSE))","v":0},{"$f":"IF(ISNA(VLOOKUP($C154,'Sat TT_07'!$C$4:$Q$152,12,FALSE)=$C154),0,VLOOKUP($C154,'Sat TT_07'!$C$4:$Q$152,12,FALSE))","v":0},{"$f":"IF(ISNA(VLOOKUP($C154,'Sat TT_08'!$C$4:$Q$152,12,FALSE)=$C154),0,VLOOKUP($C154,'Sat TT_08'!$C$4:$Q$152,12,FALSE))","v":0},0]
[{"$f":"VLOOKUP(C155,'Sheet 1'!C$1:D$96,2,FALSE)","v":1169},146,{"$f":"+'[1]Racing numbers file'!$B82","v":"Paul Atkinson"},{"$f":"VLOOKUP(C155,'[1]Racing numbers file'!$B$4:$F$290,2,FALSE)","v":1960},{"$f":"VLOOKUP(C155,'[1]Racing numbers file'!$B$4:$F$290,4,FALSE)","v":56},0,{"$f":"IF(ISNA(VLOOKUP($C155,'Sat TT_01'!$C$4:$Q$152,12,FALSE)=$C155),0,VLOOKUP($C155,'Sat TT_01'!$C$4:$Q$152,12,FALSE))","v":0},{"$f":"IF(ISNA(VLOOKUP($C155,'Sat TT_02'!$C$4:$Q$152,12,FALSE)=$C155),0,VLOOKUP($C155,'Sat TT_02'!$C$4:$Q$152,12,FALSE))","v":0},{"$f":"IF(ISNA(VLOOKUP($C155,'Sat TT_03'!$C$4:$Q$152,12,FALSE)=$C155),0,VLOOKUP($C155,'Sat TT_03'!$C$4:$Q$152,12,FALSE))","v":0},{"$f":"IF(ISNA(VLOOKUP($C155,'Sat TT_04'!$C$4:$Q$152,12,FALSE)=$C155),0,VLOOKUP($C155,'Sat TT_04'!$C$4:$Q$152,12,FALSE))","v":0},{"$f":"IF(ISNA(VLOOKUP($C155,'Sat TT_05'!$C$4:$Q$152,12,FALSE)=$C155),0,VLOOKUP($C155,'Sat TT_05'!$C$4:$Q$152,12,FALSE))","v":0},{"$f":"IF(ISNA(VLOOKUP($C155,'Sat TT_06'!$C$4:$Q$152,12,FALSE)=$C155),0,VLOOKUP($C155,'Sat TT_06'!$C$4:$Q$152,12,FALSE))","v":0},{"$f":"IF(ISNA(VLOOKUP($C155,'Sat TT_07'!$C$4:$Q$152,12,FALSE)=$C155),0,VLOOKUP($C155,'Sat TT_07'!$C$4:$Q$152,12,FALSE))","v":0},{"$f":"IF(ISNA(VLOOKUP($C155,'Sat TT_08'!$C$4:$Q$152,12,FALSE)=$C155),0,VLOOKUP($C155,'Sat TT_08'!$C$4:$Q$152,12,FALSE))","v":0},0]
[{"$f":"VLOOKUP(C156,'Sheet 1'!C$1:D$96,2,FALSE)","v":{"$error":"#N/A"}},147,{"$f":"+'[1]Racing numbers file'!$B86","v":"Ned Costello"},{"$f":"VLOOKUP(C156,'[1]Racing numbers file'!$B$4:$F$290,2,FALSE)","v":1961},{"$f":"VLOOKUP(C156,'[1]Racing numbers file'!$B$4:$F$290,4,FALSE)","v":55},0,{"$f":"IF(ISNA(VLOOKUP($C156,'Sat TT_01'!$C$4:$Q$152,12,FALSE)=$C156),0,VLOOKUP($C156,'Sat TT_01'!$C$4:$Q$152,12,FALSE))","v":0},{"$f":"IF(ISNA(VLOOKUP($C156,'Sat TT_02'!$C$4:$Q$152,12,FALSE)=$C156),0,VLOOKUP($C156,'Sat TT_02'!$C$4:$Q$152,12,FALSE))","v":0},{"$f":"IF(ISNA(VLOOKUP($C156,'Sat TT_03'!$C$4:$Q$152,12,FALSE)=$C156),0,VLOOKUP($C156,'Sat TT_03'!$C$4:$Q$152,12,FALSE))","v":0},{"$f":"IF(ISNA(VLOOKUP($C156,'Sat TT_04'!$C$4:$Q$152,12,FALSE)=$C156),0,VLOOKUP($C156,'Sat TT_04'!$C$4:$Q$152,12,FALSE))","v":0},{"$f":"IF(ISNA(VLOOKUP($C156,'Sat TT_05'!$C$4:$Q$152,12,FALSE)=$C156),0,VLOOKUP($C156,'Sat TT_05'!$C$4:$Q$152,12,FALSE))","v":0},{"$f":"IF(ISNA(VLOOKUP($C156,'Sat TT_06'!$C$4:$Q$152,12,FALSE)=$C156),0,VLOOKUP($C156,'Sat TT_06'!$C$4:$Q$152,12,FALSE))","v":0},{"$f":"IF(ISNA(VLOOKUP($C156,'Sat TT_07'!$C$4:$Q$152,12,FALSE)=$C156),0,VLOOKUP($C156,'Sat TT_07'!$C$4:$Q$152,12,FALSE))","v":0},{"$f":"IF(ISNA(VLOOKUP($C156,'Sat TT_08'!$C$4:$Q$152,12,FALSE)=$C156),0,VLOOKUP($C156,'Sat TT_08'!$C$4:$Q$152,12,FALSE))","v":0},0]
[{"$f":"VLOOKUP(C157,'Sheet 1'!C$1:D$96,2,FALSE)","v":1224},148,{"$f":"+'[1]Racing numbers file'!$B112","v":"Pat Byrne"},{"$f":"VLOOKUP(C157,'[1]Racing numbers file'!$B$4:$F$290,2,FALSE)","v":1964},{"$f":"VLOOKUP(C157,'[1]Racing numbers file'!$B$4:$F$290,4,FALSE)","v":52},0,{"$f":"IF(ISNA(VLOOKUP($C157,'Sat TT_01'!$C$4:$Q$152,12,FALSE)=$C157),0,VLOOKUP($C157,'Sat TT_01'!$C$4:$Q$152,12,FALSE))","v":0},{"$f":"IF(ISNA(VLOOKUP($C157,'Sat TT_02'!$C$4:$Q$152,12,FALSE)=$C157),0,VLOOKUP($C157,'Sat TT_02'!$C$4:$Q$152,12,FALSE))","v":0},{"$f":"IF(ISNA(VLOOKUP($C157,'Sat TT_03'!$C$4:$Q$152,12,FALSE)=$C157),0,VLOOKUP($C157,'Sat TT_03'!$C$4:$Q$152,12,FALSE))","v":0},{"$f":"IF(ISNA(VLOOKUP($C157,'Sat TT_04'!$C$4:$Q$152,12,FALSE)=$C157),0,VLOOKUP($C157,'Sat TT_04'!$C$4:$Q$152,12,FALSE))","v":0},{"$f":"IF(ISNA(VLOOKUP($C157,'Sat TT_05'!$C$4:$Q$152,12,FALSE)=$C157),0,VLOOKUP($C157,'Sat TT_05'!$C$4:$Q$152,12,FALSE))","v":0},{"$f":"IF(ISNA(VLOOKUP($C157,'Sat TT_06'!$C$4:$Q$152,12,FALSE)=$C157),0,VLOOKUP($C157,'Sat TT_06'!$C$4:$Q$152,12,FALSE))","v":0},{"$f":"IF(ISNA(VLOOKUP($C157,'Sat TT_07'!$C$4:$Q$152,12,FALSE)=$C157),0,VLOOKUP($C157,'Sat TT_07'!$C$4:$Q$152,12,FALSE))","v":0},{"$f":"IF(ISNA(VLOOKUP($C157,'Sat TT_08'!$C$4:$Q$152,12,FALSE)=$C157),0,VLOOKUP($C157,'Sat TT_08'!$C$4:$Q$152,12,FALSE))","v":0},0]
[{"$f":"VLOOKUP(C158,'Sheet 1'!C$1:D$96,2,FALSE)","v":{"$error":"#N/A"}},149,{"$f":"+'[1]Racing numbers file'!$B153","v":"Valerie Considine"},{"$f":"VLOOKUP(C158,'[1]Racing numbers file'!$B$4:$F$290,2,FALSE)","v":1969},{"$f":"VLOOKUP(C158,'[1]Racing numbers file'!$B$4:$F$290,4,FALSE)","v":47},0,{"$f":"IF(ISNA(VLOOKUP($C158,'Sat TT_01'!$C$4:$Q$152,12,FALSE)=$C158),0,VLOOKUP($C158,'Sat TT_01'!$C$4:$Q$152,12,FALSE))","v":0},{"$f":"IF(ISNA(VLOOKUP($C158,'Sat TT_02'!$C$4:$Q$152,12,FALSE)=$C158),0,VLOOKUP($C158,'Sat TT_02'!$C$4:$Q$152,12,FALSE))","v":0},{"$f":"IF(ISNA(VLOOKUP($C158,'Sat TT_03'!$C$4:$Q$152,12,FALSE)=$C158),0,VLOOKUP($C158,'Sat TT_03'!$C$4:$Q$152,12,FALSE))","v":0},{"$f":"IF(ISNA(VLOOKUP($C158,'Sat TT_04'!$C$4:$Q$152,12,FALSE)=$C158),0,VLOOKUP($C158,'Sat TT_04'!$C$4:$Q$152,12,FALSE))","v":0},{"$f":"IF(ISNA(VLOOKUP($C158,'Sat TT_05'!$C$4:$Q$152,12,FALSE)=$C158),0,VLOOKUP($C158,'Sat TT_05'!$C$4:$Q$152,12,FALSE))","v":0},{"$f":"IF(ISNA(VLOOKUP($C158,'Sat TT_06'!$C$4:$Q$152,12,FALSE)=$C158),0,VLOOKUP($C158,'Sat TT_06'!$C$4:$Q$152,12,FALSE))","v":0},{"$f":"IF(ISNA(VLOOKUP($C158,'Sat TT_07'!$C$4:$Q$152,12,FALSE)=$C158),0,VLOOKUP($C158,'Sat TT_07'!$C$4:$Q$152,12,FALSE))","v":0},{"$f":"IF(ISNA(VLOOKUP($C158,'Sat TT_08'!$C$4:$Q$152,12,FALSE)=$C158),0,VLOOKUP($C158,'Sat TT_08'!$C$4:$Q$152,12,FALSE))","v":0},0]
[{"$f":"VLOOKUP(C159,'Sheet 1'!C$1:D$96,2,FALSE)","v":{"$error":"#N/A"}},150,{"$f":"+'[1]Racing numbers file'!$B177","v":"Anthony Crean"},{"$f":"VLOOKUP(C159,'[1]Racing numbers file'!$B$4:$F$290,2,FALSE)","v":1972},{"$f":"VLOOKUP(C159,'[1]Racing numbers file'!$B$4:$F$290,4,FALSE)","v":44},0,{"$f":"IF(ISNA(VLOOKUP($C159,'Sat TT_01'!$C$4:$Q$152,12,FALSE)=$C159),0,VLOOKUP($C159,'Sat TT_01'!$C$4:$Q$152,12,FALSE))","v":0},{"$f":"IF(ISNA(VLOOKUP($C159,'Sat TT_02'!$C$4:$Q$152,12,FALSE)=$C159),0,VLOOKUP($C159,'Sat TT_02'!$C$4:$Q$152,12,FALSE))","v":0},{"$f":"IF(ISNA(VLOOKUP($C159,'Sat TT_03'!$C$4:$Q$152,12,FALSE)=$C159),0,VLOOKUP($C159,'Sat TT_03'!$C$4:$Q$152,12,FALSE))","v":0},{"$f":"IF(ISNA(VLOOKUP($C159,'Sat TT_04'!$C$4:$Q$152,12,FALSE)=$C159),0,VLOOKUP($C159,'Sat TT_04'!$C$4:$Q$152,12,FALSE))","v":0},{"$f":"IF(ISNA(VLOOKUP($C159,'Sat TT_05'!$C$4:$Q$152,12,FALSE)=$C159),0,VLOOKUP($C159,'Sat TT_05'!$C$4:$Q$152,12,FALSE))","v":0},{"$f":"IF(ISNA(VLOOKUP($C159,'Sat TT_06'!$C$4:$Q$152,12,FALSE)=$C159),0,VLOOKUP($C159,'Sat TT_06'!$C$4:$Q$152,12,FALSE))","v":0},{"$f":"IF(ISNA(VLOOKUP($C159,'Sat TT_07'!$C$4:$Q$152,12,FALSE)=$C159),0,VLOOKUP($C159,'Sat TT_07'!$C$4:$Q$152,12,FALSE))","v":0},{"$f":"IF(ISNA(VLOOKUP($C159,'Sat TT_08'!$C$4:$Q$152,12,FALSE)=$C159),0,VLOOKUP($C159,'Sat TT_08'!$C$4:$Q$152,12,FALSE))","v":0},0]
[{"$f":"VLOOKUP(C160,'Sheet 1'!C$1:D$96,2,FALSE)","v":{"$error":"#N/A"}},151,{"$f":"+'[1]Racing numbers file'!$B152","v":"Pat Beere"},{"$f":"VLOOKUP(C160,'[1]Racing numbers file'!$B$4:$F$290,2,FALSE)","v":1969},{"$f":"VLOOKUP(C160,'[1]Racing numbers file'!$B$4:$F$290,4,FALSE)","v":47},0,{"$f":"IF(ISNA(VLOOKUP($C160,'Sat TT_01'!$C$4:$Q$152,12,FALSE)=$C160),0,VLOOKUP($C160,'Sat TT_01'!$C$4:$Q$152,12,FALSE))","v":0},{"$f":"IF(ISNA(VLOOKUP($C160,'Sat TT_02'!$C$4:$Q$152,12,FALSE)=$C160),0,VLOOKUP($C160,'Sat TT_02'!$C$4:$Q$152,12,FALSE))","v":0},{"$f":"IF(ISNA(VLOOKUP($C160,'Sat TT_03'!$C$4:$Q$152,12,FALSE)=$C160),0,VLOOKUP($C160,'Sat TT_03'!$C$4:$Q$152,12,FALSE))","v":0},{"$f":"IF(ISNA(VLOOKUP($C160,'Sat TT_04'!$C$4:$Q$152,12,FALSE)=$C160),0,VLOOKUP($C160,'Sat TT_04'!$C$4:$Q$152,12,FALSE))","v":0},{"$f":"IF(ISNA(VLOOKUP($C160,'Sat TT_05'!$C$4:$Q$152,12,FALSE)=$C160),0,VLOOKUP($C160,'Sat TT_05'!$C$4:$Q$152,12,FALSE))","v":0},{"$f":"IF(ISNA(VLOOKUP($C160,'Sat TT_06'!$C$4:$Q$152,12,FALSE)=$C160),0,VLOOKUP($C160,'Sat TT_06'!$C$4:$Q$152,12,FALSE))","v":0},{"$f":"IF(ISNA(VLOOKUP($C160,'Sat TT_07'!$C$4:$Q$152,12,FALSE)=$C160),0,VLOOKUP($C160,'Sat TT_07'!$C$4:$Q$152,12,FALSE))","v":0},{"$f":"IF(ISNA(VLOOKUP($C160,'Sat TT_08'!$C$4:$Q$152,12,FALSE)=$C160),0,VLOOKUP($C160,'Sat TT_08'!$C$4:$Q$152,12,FALSE))","v":0},0]
[{"$f":"VLOOKUP(C161,'Sheet 1'!C$1:D$96,2,FALSE)","v":1326},152,{"$f":"+'[1]Racing numbers file'!$B171","v":"Andrew Kavanagh"},{"$f":"VLOOKUP(C161,'[1]Racing numbers file'!$B$4:$F$290,2,FALSE)","v":1971},{"$f":"VLOOKUP(C161,'[1]Racing numbers file'!$B$4:$F$290,4,FALSE)","v":45},0,{"$f":"IF(ISNA(VLOOKUP($C161,'Sat TT_01'!$C$4:$Q$152,12,FALSE)=$C161),0,VLOOKUP($C161,'Sat TT_01'!$C$4:$Q$152,12,FALSE))","v":0},{"$f":"IF(ISNA(VLOOKUP($C161,'Sat TT_02'!$C$4:$Q$152,12,FALSE)=$C161),0,VLOOKUP($C161,'Sat TT_02'!$C$4:$Q$152,12,FALSE))","v":0},{"$f":"IF(ISNA(VLOOKUP($C161,'Sat TT_03'!$C$4:$Q$152,12,FALSE)=$C161),0,VLOOKUP($C161,'Sat TT_03'!$C$4:$Q$152,12,FALSE))","v":0},{"$f":"IF(ISNA(VLOOKUP($C161,'Sat TT_04'!$C$4:$Q$152,12,FALSE)=$C161),0,VLOOKUP($C161,'Sat TT_04'!$C$4:$Q$152,12,FALSE))","v":0},{"$f":"IF(ISNA(VLOOKUP($C161,'Sat TT_05'!$C$4:$Q$152,12,FALSE)=$C161),0,VLOOKUP($C161,'Sat TT_05'!$C$4:$Q$152,12,FALSE))","v":0},{"$f":"IF(ISNA(VLOOKUP($C161,'Sat TT_06'!$C$4:$Q$152,12,FALSE)=$C161),0,VLOOKUP($C161,'Sat TT_06'!$C$4:$Q$152,12,FALSE))","v":0},{"$f":"IF(ISNA(VLOOKUP($C161,'Sat TT_07'!$C$4:$Q$152,12,FALSE)=$C161),0,VLOOKUP($C161,'Sat TT_07'!$C$4:$Q$152,12,FALSE))","v":0},{"$f":"IF(ISNA(VLOOKUP($C161,'Sat TT_08'!$C$4:$Q$152,12,FALSE)=$C161),0,VLOOKUP($C161,'Sat TT_08'!$C$4:$Q$152,12,FALSE))","v":0},0]
[{"$f":"VLOOKUP(C162,'Sheet 1'!C$1:D$96,2,FALSE)","v":{"$error":"#N/A"}},153,{"$f":"+'[1]Racing numbers file'!$B105","v":"Seán Gaine"},{"$f":"VLOOKUP(C162,'[1]Racing numbers file'!$B$4:$F$290,2,FALSE)","v":1964},{"$f":"VLOOKUP(C162,'[1]Racing numbers file'!$B$4:$F$290,4,FALSE)","v":52},0,{"$f":"IF(ISNA(VLOOKUP($C162,'Sat TT_01'!$C$4:$Q$152,12,FALSE)=$C162),0,VLOOKUP($C162,'Sat TT_01'!$C$4:$Q$152,12,FALSE))","v":0},{"$f":"IF(ISNA(VLOOKUP($C162,'Sat TT_02'!$C$4:$Q$152,12,FALSE)=$C162),0,VLOOKUP($C162,'Sat TT_02'!$C$4:$Q$152,12,FALSE))","v":0},{"$f":"IF(ISNA(VLOOKUP($C162,'Sat TT_03'!$C$4:$Q$152,12,FALSE)=$C162),0,VLOOKUP($C162,'Sat TT_03'!$C$4:$Q$152,12,FALSE))","v":0},{"$f":"IF(ISNA(VLOOKUP($C162,'Sat TT_04'!$C$4:$Q$152,12,FALSE)=$C162),0,VLOOKUP($C162,'Sat TT_04'!$C$4:$Q$152,12,FALSE))","v":0},{"$f":"IF(ISNA(VLOOKUP($C162,'Sat TT_05'!$C$4:$Q$152,12,FALSE)=$C162),0,VLOOKUP($C162,'Sat TT_05'!$C$4:$Q$152,12,FALSE))","v":0},{"$f":"IF(ISNA(VLOOKUP($C162,'Sat TT_06'!$C$4:$Q$152,12,FALSE)=$C162),0,VLOOKUP($C162,'Sat TT_06'!$C$4:$Q$152,12,FALSE))","v":0},{"$f":"IF(ISNA(VLOOKUP($C162,'Sat TT_07'!$C$4:$Q$152,12,FALSE)=$C162),0,VLOOKUP($C162,'Sat TT_07'!$C$4:$Q$152,12,FALSE))","v":0},{"$f":"IF(ISNA(VLOOKUP($C162,'Sat TT_08'!$C$4:$Q$152,12,FALSE)=$C162),0,VLOOKUP($C162,'Sat TT_08'!$C$4:$Q$152,12,FALSE))","v":0},0]
[{"$f":"VLOOKUP(C163,'Sheet 1'!C$1:D$96,2,FALSE)","v":{"$error":"#N/A"}},154,{"$f":"+'[1]Racing numbers file'!$B234","v":"Mark Colbert"},{"$f":"VLOOKUP(C163,'[1]Racing numbers file'!$B$4:$F$290,2,FALSE)","v":1971},{"$f":"VLOOKUP(C163,'[1]Racing numbers file'!$B$4:$F$290,4,FALSE)","v":45},0,{"$f":"IF(ISNA(VLOOKUP($C163,'Sat TT_01'!$C$4:$Q$152,12,FALSE)=$C163),0,VLOOKUP($C163,'Sat TT_01'!$C$4:$Q$152,12,FALSE))","v":0},{"$f":"IF(ISNA(VLOOKUP($C163,'Sat TT_02'!$C$4:$Q$152,12,FALSE)=$C163),0,VLOOKUP($C163,'Sat TT_02'!$C$4:$Q$152,12,FALSE))","v":0},{"$f":"IF(ISNA(VLOOKUP($C163,'Sat TT_03'!$C$4:$Q$152,12,FALSE)=$C163),0,VLOOKUP($C163,'Sat TT_03'!$C$4:$Q$152,12,FALSE))","v":0},{"$f":"IF(ISNA(VLOOKUP($C163,'Sat TT_04'!$C$4:$Q$152,12,FALSE)=$C163),0,VLOOKUP($C163,'Sat TT_04'!$C$4:$Q$152,12,FALSE))","v":0},{"$f":"IF(ISNA(VLOOKUP($C163,'Sat TT_05'!$C$4:$Q$152,12,FALSE)=$C163),0,VLOOKUP($C163,'Sat TT_05'!$C$4:$Q$152,12,FALSE))","v":0},{"$f":"IF(ISNA(VLOOKUP($C163,'Sat TT_06'!$C$4:$Q$152,12,FALSE)=$C163),0,VLOOKUP($C163,'Sat TT_06'!$C$4:$Q$152,12,FALSE))","v":0},{"$f":"IF(ISNA(VLOOKUP($C163,'Sat TT_07'!$C$4:$Q$152,12,FALSE)=$C163),0,VLOOKUP($C163,'Sat TT_07'!$C$4:$Q$152,12,FALSE))","v":0},{"$f":"IF(ISNA(VLOOKUP($C163,'Sat TT_08'!$C$4:$Q$152,12,FALSE)=$C163),0,VLOOKUP($C163,'Sat TT_08'!$C$4:$Q$152,12,FALSE))","v":0},0]
[{"$f":"VLOOKUP(C164,'Sheet 1'!C$1:D$96,2,FALSE)","v":{"$error":"#N/A"}},155,{"$f":"+'[1]Racing numbers file'!$B101","v":"Eamonn Newton"},{"$f":"VLOOKUP(C164,'[1]Racing numbers file'!$B$4:$F$290,2,FALSE)","v":1963},{"$f":"VLOOKUP(C164,'[1]Racing numbers file'!$B$4:$F$290,4,FALSE)","v":53},0,{"$f":"IF(ISNA(VLOOKUP($C164,'Sat TT_01'!$C$4:$Q$152,12,FALSE)=$C164),0,VLOOKUP($C164,'Sat TT_01'!$C$4:$Q$152,12,FALSE))","v":0},{"$f":"IF(ISNA(VLOOKUP($C164,'Sat TT_02'!$C$4:$Q$152,12,FALSE)=$C164),0,VLOOKUP($C164,'Sat TT_02'!$C$4:$Q$152,12,FALSE))","v":0},{"$f":"IF(ISNA(VLOOKUP($C164,'Sat TT_03'!$C$4:$Q$152,12,FALSE)=$C164),0,VLOOKUP($C164,'Sat TT_03'!$C$4:$Q$152,12,FALSE))","v":0},{"$f":"IF(ISNA(VLOOKUP($C164,'Sat TT_04'!$C$4:$Q$152,12,FALSE)=$C164),0,VLOOKUP($C164,'Sat TT_04'!$C$4:$Q$152,12,FALSE))","v":0},{"$f":"IF(ISNA(VLOOKUP($C164,'Sat TT_05'!$C$4:$Q$152,12,FALSE)=$C164),0,VLOOKUP($C164,'Sat TT_05'!$C$4:$Q$152,12,FALSE))","v":0},{"$f":"IF(ISNA(VLOOKUP($C164,'Sat TT_06'!$C$4:$Q$152,12,FALSE)=$C164),0,VLOOKUP($C164,'Sat TT_06'!$C$4:$Q$152,12,FALSE))","v":0},{"$f":"IF(ISNA(VLOOKUP($C164,'Sat TT_07'!$C$4:$Q$152,12,FALSE)=$C164),0,VLOOKUP($C164,'Sat TT_07'!$C$4:$Q$152,12,FALSE))","v":0},{"$f":"IF(ISNA(VLOOKUP($C164,'Sat TT_08'!$C$4:$Q$152,12,FALSE)=$C164),0,VLOOKUP($C164,'Sat TT_08'!$C$4:$Q$152,12,FALSE))","v":0},0]
[{"$f":"VLOOKUP(C165,'Sheet 1'!C$1:D$96,2,FALSE)","v":1311},156,{"$f":"+'[1]Racing numbers file'!$B164","v":"Deanne Sanders"},{"$f":"VLOOKUP(C165,'[1]Racing numbers file'!$B$4:$F$290,2,FALSE)","v":1971},{"$f":"VLOOKUP(C165,'[1]Racing numbers file'!$B$4:$F$290,4,FALSE)","v":45},0,{"$f":"IF(ISNA(VLOOKUP($C165,'Sat TT_01'!$C$4:$Q$152,12,FALSE)=$C165),0,VLOOKUP($C165,'Sat TT_01'!$C$4:$Q$152,12,FALSE))","v":0},{"$f":"IF(ISNA(VLOOKUP($C165,'Sat TT_02'!$C$4:$Q$152,12,FALSE)=$C165),0,VLOOKUP($C165,'Sat TT_02'!$C$4:$Q$152,12,FALSE))","v":0},{"$f":"IF(ISNA(VLOOKUP($C165,'Sat TT_03'!$C$4:$Q$152,12,FALSE)=$C165),0,VLOOKUP($C165,'Sat TT_03'!$C$4:$Q$152,12,FALSE))","v":0},{"$f":"IF(ISNA(VLOOKUP($C165,'Sat TT_04'!$C$4:$Q$152,12,FALSE)=$C165),0,VLOOKUP($C165,'Sat TT_04'!$C$4:$Q$152,12,FALSE))","v":0},{"$f":"IF(ISNA(VLOOKUP($C165,'Sat TT_05'!$C$4:$Q$152,12,FALSE)=$C165),0,VLOOKUP($C165,'Sat TT_05'!$C$4:$Q$152,12,FALSE))","v":0},{"$f":"IF(ISNA(VLOOKUP($C165,'Sat TT_06'!$C$4:$Q$152,12,FALSE)=$C165),0,VLOOKUP($C165,'Sat TT_06'!$C$4:$Q$152,12,FALSE))","v":0},{"$f":"IF(ISNA(VLOOKUP($C165,'Sat TT_07'!$C$4:$Q$152,12,FALSE)=$C165),0,VLOOKUP($C165,'Sat TT_07'!$C$4:$Q$152,12,FALSE))","v":0},{"$f":"IF(ISNA(VLOOKUP($C165,'Sat TT_08'!$C$4:$Q$152,12,FALSE)=$C165),0,VLOOKUP($C165,'Sat TT_08'!$C$4:$Q$152,12,FALSE))","v":0},0]
[{"$f":"VLOOKUP(C166,'Sheet 1'!C$1:D$96,2,FALSE)","v":{"$error":"#N/A"}},157,{"$f":"+'[1]Racing numbers file'!$B110","v":"Thomas Coleman"},{"$f":"VLOOKUP(C166,'[1]Racing numbers file'!$B$4:$F$290,2,FALSE)","v":1964},{"$f":"VLOOKUP(C166,'[1]Racing numbers file'!$B$4:$F$290,4,FALSE)","v":52},0,{"$f":"IF(ISNA(VLOOKUP($C166,'Sat TT_01'!$C$4:$Q$152,12,FALSE)=$C166),0,VLOOKUP($C166,'Sat TT_01'!$C$4:$Q$152,12,FALSE))","v":0},{"$f":"IF(ISNA(VLOOKUP($C166,'Sat TT_02'!$C$4:$Q$152,12,FALSE)=$C166),0,VLOOKUP($C166,'Sat TT_02'!$C$4:$Q$152,12,FALSE))","v":0},{"$f":"IF(ISNA(VLOOKUP($C166,'Sat TT_03'!$C$4:$Q$152,12,FALSE)=$C166),0,VLOOKUP($C166,'Sat TT_03'!$C$4:$Q$152,12,FALSE))","v":0},{"$f":"IF(ISNA(VLOOKUP($C166,'Sat TT_04'!$C$4:$Q$152,12,FALSE)=$C166),0,VLOOKUP($C166,'Sat TT_04'!$C$4:$Q$152,12,FALSE))","v":0},{"$f":"IF(ISNA(VLOOKUP($C166,'Sat TT_05'!$C$4:$Q$152,12,FALSE)=$C166),0,VLOOKUP($C166,'Sat TT_05'!$C$4:$Q$152,12,FALSE))","v":0},{"$f":"IF(ISNA(VLOOKUP($C166,'Sat TT_06'!$C$4:$Q$152,12,FALSE)=$C166),0,VLOOKUP($C166,'Sat TT_06'!$C$4:$Q$152,12,FALSE))","v":0},{"$f":"IF(ISNA(VLOOKUP($C166,'Sat TT_07'!$C$4:$Q$152,12,FALSE)=$C166),0,VLOOKUP($C166,'Sat TT_07'!$C$4:$Q$152,12,FALSE))","v":0},{"$f":"IF(ISNA(VLOOKUP($C166,'Sat TT_08'!$C$4:$Q$152,12,FALSE)=$C166),0,VLOOKUP($C166,'Sat TT_08'!$C$4:$Q$152,12,FALSE))","v":0},0]
[{"$f":"VLOOKUP(C167,'Sheet 1'!C$1:D$96,2,FALSE)","v":1398},158,{"$f":"+'[1]Racing numbers file'!$B203","v":"Aidan Yates"},{"$f":"VLOOKUP(C167,'[1]Racing numbers file'!$B$4:$F$290,2,FALSE)","v":1974},{"$f":"VLOOKUP(C167,'[1]Racing numbers file'!$B$4:$F$290,4,FALSE)","v":42},0,{"$f":"IF(ISNA(VLOOKUP($C167,'Sat TT_01'!$C$4:$Q$152,12,FALSE)=$C167),0,VLOOKUP($C167,'Sat TT_01'!$C$4:$Q$152,12,FALSE))","v":0},{"$f":"IF(ISNA(VLOOKUP($C167,'Sat TT_02'!$C$4:$Q$152,12,FALSE)=$C167),0,VLOOKUP($C167,'Sat TT_02'!$C$4:$Q$152,12,FALSE))","v":0},{"$f":"IF(ISNA(VLOOKUP($C167,'Sat TT_03'!$C$4:$Q$152,12,FALSE)=$C167),0,VLOOKUP($C167,'Sat TT_03'!$C$4:$Q$152,12,FALSE))","v":0},{"$f":"IF(ISNA(VLOOKUP($C167,'Sat TT_04'!$C$4:$Q$152,12,FALSE)=$C167),0,VLOOKUP($C167,'Sat TT_04'!$C$4:$Q$152,12,FALSE))","v":0},{"$f":"IF(ISNA(VLOOKUP($C167,'Sat TT_05'!$C$4:$Q$152,12,FALSE)=$C167),0,VLOOKUP($C167,'Sat TT_05'!$C$4:$Q$152,12,FALSE))","v":0},{"$f":"IF(ISNA(VLOOKUP($C167,'Sat TT_06'!$C$4:$Q$152,12,FALSE)=$C167),0,VLOOKUP($C167,'Sat TT_06'!$C$4:$Q$152,12,FALSE))","v":0},{"$f":"IF(ISNA(VLOOKUP($C167,'Sat TT_07'!$C$4:$Q$152,12,FALSE)=$C167),0,VLOOKUP($C167,'Sat TT_07'!$C$4:$Q$152,12,FALSE))","v":0},{"$f":"IF(ISNA(VLOOKUP($C167,'Sat TT_08'!$C$4:$Q$152,12,FALSE)=$C167),0,VLOOKUP($C167,'Sat TT_08'!$C$4:$Q$152,12,FALSE))","v":0},0]
[{"$f":"VLOOKUP(C168,'Sheet 1'!C$1:D$96,2,FALSE)","v":{"$error":"#N/A"}},159,{"$f":"+'[1]Racing numbers file'!$B212","v":"Derek Gormley"},{"$f":"VLOOKUP(C168,'[1]Racing numbers file'!$B$4:$F$290,2,FALSE)","v":1973},{"$f":"VLOOKUP(C168,'[1]Racing numbers file'!$B$4:$F$290,4,FALSE)","v":43},0,{"$f":"IF(ISNA(VLOOKUP($C168,'Sat TT_01'!$C$4:$Q$152,12,FALSE)=$C168),0,VLOOKUP($C168,'Sat TT_01'!$C$4:$Q$152,12,FALSE))","v":0},{"$f":"IF(ISNA(VLOOKUP($C168,'Sat TT_02'!$C$4:$Q$152,12,FALSE)=$C168),0,VLOOKUP($C168,'Sat TT_02'!$C$4:$Q$152,12,FALSE))","v":0},{"$f":"IF(ISNA(VLOOKUP($C168,'Sat TT_03'!$C$4:$Q$152,12,FALSE)=$C168),0,VLOOKUP($C168,'Sat TT_03'!$C$4:$Q$152,12,FALSE))","v":0},{"$f":"IF(ISNA(VLOOKUP($C168,'Sat TT_04'!$C$4:$Q$152,12,FALSE)=$C168),0,VLOOKUP($C168,'Sat TT_04'!$C$4:$Q$152,12,FALSE))","v":0},{"$f":"IF(ISNA(VLOOKUP($C168,'Sat TT_05'!$C$4:$Q$152,12,FALSE)=$C168),0,VLOOKUP($C168,'Sat TT_05'!$C$4:$Q$152,12,FALSE))","v":0},{"$f":"IF(ISNA(VLOOKUP($C168,'Sat TT_06'!$C$4:$Q$152,12,FALSE)=$C168),0,VLOOKUP($C168,'Sat TT_06'!$C$4:$Q$152,12,FALSE))","v":0},{"$f":"IF(ISNA(VLOOKUP($C168,'Sat TT_07'!$C$4:$Q$152,12,FALSE)=$C168),0,VLOOKUP($C168,'Sat TT_07'!$C$4:$Q$152,12,FALSE))","v":0},{"$f":"IF(ISNA(VLOOKUP($C168,'Sat TT_08'!$C$4:$Q$152,12,FALSE)=$C168),0,VLOOKUP($C168,'Sat TT_08'!$C$4:$Q$152,12,FALSE))","v":0},0]
[{"$f":"VLOOKUP(C169,'Sheet 1'!C$1:D$96,2,FALSE)","v":1446},160,{"$f":"+'[1]Racing numbers file'!$B227","v":"David McDonald"},{"$f":"VLOOKUP(C169,'[1]Racing numbers file'!$B$4:$F$290,2,FALSE)","v":1972},{"$f":"VLOOKUP(C169,'[1]Racing numbers file'!$B$4:$F$290,4,FALSE)","v":44},0,{"$f":"IF(ISNA(VLOOKUP($C169,'Sat TT_01'!$C$4:$Q$152,12,FALSE)=$C169),0,VLOOKUP($C169,'Sat TT_01'!$C$4:$Q$152,12,FALSE))","v":0},{"$f":"IF(ISNA(VLOOKUP($C169,'Sat TT_02'!$C$4:$Q$152,12,FALSE)=$C169),0,VLOOKUP($C169,'Sat TT_02'!$C$4:$Q$152,12,FALSE))","v":0},{"$f":"IF(ISNA(VLOOKUP($C169,'Sat TT_03'!$C$4:$Q$152,12,FALSE)=$C169),0,VLOOKUP($C169,'Sat TT_03'!$C$4:$Q$152,12,FALSE))","v":0},{"$f":"IF(ISNA(VLOOKUP($C169,'Sat TT_04'!$C$4:$Q$152,12,FALSE)=$C169),0,VLOOKUP($C169,'Sat TT_04'!$C$4:$Q$152,12,FALSE))","v":0},{"$f":"IF(ISNA(VLOOKUP($C169,'Sat TT_05'!$C$4:$Q$152,12,FALSE)=$C169),0,VLOOKUP($C169,'Sat TT_05'!$C$4:$Q$152,12,FALSE))","v":0},{"$f":"IF(ISNA(VLOOKUP($C169,'Sat TT_06'!$C$4:$Q$152,12,FALSE)=$C169),0,VLOOKUP($C169,'Sat TT_06'!$C$4:$Q$152,12,FALSE))","v":0},{"$f":"IF(ISNA(VLOOKUP($C169,'Sat TT_07'!$C$4:$Q$152,12,FALSE)=$C169),0,VLOOKUP($C169,'Sat TT_07'!$C$4:$Q$152,12,FALSE))","v":0},{"$f":"IF(ISNA(VLOOKUP($C169,'Sat TT_08'!$C$4:$Q$152,12,FALSE)=$C169),0,VLOOKUP($C169,'Sat TT_08'!$C$4:$Q$152,12,FALSE))","v":0},0]
[{"$f":"VLOOKUP(C170,'Sheet 1'!C$1:D$96,2,FALSE)","v":{"$error":"#N/A"}},161,{"$f":"+'[1]Racing numbers file'!$B238","v":"Gavin Keating"},{"$f":"VLOOKUP(C170,'[1]Racing numbers file'!$B$4:$F$290,2,FALSE)","v":1975},{"$f":"VLOOKUP(C170,'[1]Racing numbers file'!$B$4:$F$290,4,FALSE)","v":41},0,{"$f":"IF(ISNA(VLOOKUP($C170,'Sat TT_01'!$C$4:$Q$152,12,FALSE)=$C170),0,VLOOKUP($C170,'Sat TT_01'!$C$4:$Q$152,12,FALSE))","v":0},{"$f":"IF(ISNA(VLOOKUP($C170,'Sat TT_02'!$C$4:$Q$152,12,FALSE)=$C170),0,VLOOKUP($C170,'Sat TT_02'!$C$4:$Q$152,12,FALSE))","v":0},{"$f":"IF(ISNA(VLOOKUP($C170,'Sat TT_03'!$C$4:$Q$152,12,FALSE)=$C170),0,VLOOKUP($C170,'Sat TT_03'!$C$4:$Q$152,12,FALSE))","v":0},{"$f":"IF(ISNA(VLOOKUP($C170,'Sat TT_04'!$C$4:$Q$152,12,FALSE)=$C170),0,VLOOKUP($C170,'Sat TT_04'!$C$4:$Q$152,12,FALSE))","v":0},{"$f":"IF(ISNA(VLOOKUP($C170,'Sat TT_05'!$C$4:$Q$152,12,FALSE)=$C170),0,VLOOKUP($C170,'Sat TT_05'!$C$4:$Q$152,12,FALSE))","v":0},{"$f":"IF(ISNA(VLOOKUP($C170,'Sat TT_06'!$C$4:$Q$152,12,FALSE)=$C170),0,VLOOKUP($C170,'Sat TT_06'!$C$4:$Q$152,12,FALSE))","v":0},{"$f":"IF(ISNA(VLOOKUP($C170,'Sat TT_07'!$C$4:$Q$152,12,FALSE)=$C170),0,VLOOKUP($C170,'Sat TT_07'!$C$4:$Q$152,12,FALSE))","v":0},{"$f":"IF(ISNA(VLOOKUP($C170,'Sat TT_08'!$C$4:$Q$152,12,FALSE)=$C170),0,VLOOKUP($C170,'Sat TT_08'!$C$4:$Q$152,12,FALSE))","v":0},0]
[{"$f":"VLOOKUP(C171,'Sheet 1'!C$1:D$96,2,FALSE)","v":1339},162,{"$f":"+'[1]Racing numbers file'!$B176","v":"Noel Conway"},{"$f":"VLOOKUP(C171,'[1]Racing numbers file'!$B$4:$F$290,2,FALSE)","v":1972},{"$f":"VLOOKUP(C171,'[1]Racing numbers file'!$B$4:$F$290,4,FALSE)","v":44},0,{"$f":"IF(ISNA(VLOOKUP($C171,'Sat TT_01'!$C$4:$Q$152,12,FALSE)=$C171),0,VLOOKUP($C171,'Sat TT_01'!$C$4:$Q$152,12,FALSE))","v":0},{"$f":"IF(ISNA(VLOOKUP($C171,'Sat TT_02'!$C$4:$Q$152,12,FALSE)=$C171),0,VLOOKUP($C171,'Sat TT_02'!$C$4:$Q$152,12,FALSE))","v":0},{"$f":"IF(ISNA(VLOOKUP($C171,'Sat TT_03'!$C$4:$Q$152,12,FALSE)=$C171),0,VLOOKUP($C171,'Sat TT_03'!$C$4:$Q$152,12,FALSE))","v":0},{"$f":"IF(ISNA(VLOOKUP($C171,'Sat TT_04'!$C$4:$Q$152,12,FALSE)=$C171),0,VLOOKUP($C171,'Sat TT_04'!$C$4:$Q$152,12,FALSE))","v":0},{"$f":"IF(ISNA(VLOOKUP($C171,'Sat TT_05'!$C$4:$Q$152,12,FALSE)=$C171),0,VLOOKUP($C171,'Sat TT_05'!$C$4:$Q$152,12,FALSE))","v":0},{"$f":"IF(ISNA(VLOOKUP($C171,'Sat TT_06'!$C$4:$Q$152,12,FALSE)=$C171),0,VLOOKUP($C171,'Sat TT_06'!$C$4:$Q$152,12,FALSE))","v":0},{"$f":"IF(ISNA(VLOOKUP($C171,'Sat TT_07'!$C$4:$Q$152,12,FALSE)=$C171),0,VLOOKUP($C171,'Sat TT_07'!$C$4:$Q$152,12,FALSE))","v":0},{"$f":"IF(ISNA(VLOOKUP($C171,'Sat TT_08'!$C$4:$Q$152,12,FALSE)=$C171),0,VLOOKUP($C171,'Sat TT_08'!$C$4:$Q$152,12,FALSE))","v":0},0]
[{"$f":"VLOOKUP(C172,'Sheet 1'!C$1:D$96,2,FALSE)","v":{"$error":"#N/A"}},163,{"$f":"+'[1]Racing numbers file'!$B241","v":"Jason Ludgate"},{"$f":"VLOOKUP(C172,'[1]Racing numbers file'!$B$4:$F$290,2,FALSE)","v":1972},{"$f":"VLOOKUP(C172,'[1]Racing numbers file'!$B$4:$F$290,4,FALSE)","v":44},0,{"$f":"IF(ISNA(VLOOKUP($C172,'Sat TT_01'!$C$4:$Q$152,12,FALSE)=$C172),0,VLOOKUP($C172,'Sat TT_01'!$C$4:$Q$152,12,FALSE))","v":0},{"$f":"IF(ISNA(VLOOKUP($C172,'Sat TT_02'!$C$4:$Q$152,12,FALSE)=$C172),0,VLOOKUP($C172,'Sat TT_02'!$C$4:$Q$152,12,FALSE))","v":0},{"$f":"IF(ISNA(VLOOKUP($C172,'Sat TT_03'!$C$4:$Q$152,12,FALSE)=$C172),0,VLOOKUP($C172,'Sat TT_03'!$C$4:$Q$152,12,FALSE))","v":0},{"$f":"IF(ISNA(VLOOKUP($C172,'Sat TT_04'!$C$4:$Q$152,12,FALSE)=$C172),0,VLOOKUP($C172,'Sat TT_04'!$C$4:$Q$152,12,FALSE))","v":0},{"$f":"IF(ISNA(VLOOKUP($C172,'Sat TT_05'!$C$4:$Q$152,12,FALSE)=$C172),0,VLOOKUP($C172,'Sat TT_05'!$C$4:$Q$152,12,FALSE))","v":0},{"$f":"IF(ISNA(VLOOKUP($C172,'Sat TT_06'!$C$4:$Q$152,12,FALSE)=$C172),0,VLOOKUP($C172,'Sat TT_06'!$C$4:$Q$152,12,FALSE))","v":0},{"$f":"IF(ISNA(VLOOKUP($C172,'Sat TT_07'!$C$4:$Q$152,12,FALSE)=$C172),0,VLOOKUP($C172,'Sat TT_07'!$C$4:$Q$152,12,FALSE))","v":0},{"$f":"IF(ISNA(VLOOKUP($C172,'Sat TT_08'!$C$4:$Q$152,12,FALSE)=$C172),0,VLOOKUP($C172,'Sat TT_08'!$C$4:$Q$152,12,FALSE))","v":0},0]
[{"$f":"VLOOKUP(C173,'Sheet 1'!C$1:D$96,2,FALSE)","v":1374},164,{"$f":"+'[1]Racing numbers file'!$B189","v":"Martin McCaffrey"},{"$f":"VLOOKUP(C173,'[1]Racing numbers file'!$B$4:$F$290,2,FALSE)","v":1964},{"$f":"VLOOKUP(C173,'[1]Racing numbers file'!$B$4:$F$290,4,FALSE)","v":52},0,{"$f":"IF(ISNA(VLOOKUP($C173,'Sat TT_01'!$C$4:$Q$152,12,FALSE)=$C173),0,VLOOKUP($C173,'Sat TT_01'!$C$4:$Q$152,12,FALSE))","v":0},{"$f":"IF(ISNA(VLOOKUP($C173,'Sat TT_02'!$C$4:$Q$152,12,FALSE)=$C173),0,VLOOKUP($C173,'Sat TT_02'!$C$4:$Q$152,12,FALSE))","v":0},{"$f":"IF(ISNA(VLOOKUP($C173,'Sat TT_03'!$C$4:$Q$152,12,FALSE)=$C173),0,VLOOKUP($C173,'Sat TT_03'!$C$4:$Q$152,12,FALSE))","v":0},{"$f":"IF(ISNA(VLOOKUP($C173,'Sat TT_04'!$C$4:$Q$152,12,FALSE)=$C173),0,VLOOKUP($C173,'Sat TT_04'!$C$4:$Q$152,12,FALSE))","v":0},{"$f":"IF(ISNA(VLOOKUP($C173,'Sat TT_05'!$C$4:$Q$152,12,FALSE)=$C173),0,VLOOKUP($C173,'Sat TT_05'!$C$4:$Q$152,12,FALSE))","v":0},{"$f":"IF(ISNA(VLOOKUP($C173,'Sat TT_06'!$C$4:$Q$152,12,FALSE)=$C173),0,VLOOKUP($C173,'Sat TT_06'!$C$4:$Q$152,12,FALSE))","v":0},{"$f":"IF(ISNA(VLOOKUP($C173,'Sat TT_07'!$C$4:$Q$152,12,FALSE)=$C173),0,VLOOKUP($C173,'Sat TT_07'!$C$4:$Q$152,12,FALSE))","v":0},{"$f":"IF(ISNA(VLOOKUP($C173,'Sat TT_08'!$C$4:$Q$152,12,FALSE)=$C173),0,VLOOKUP($C173,'Sat TT_08'!$C$4:$Q$152,12,FALSE))","v":0},0]
[{"$f":"VLOOKUP(C174,'Sheet 1'!C$1:D$96,2,FALSE)","v":{"$error":"#N/A"}},165,{"$f":"+'[1]Racing numbers file'!$B111","v":"Michael Lee"},{"$f":"VLOOKUP(C174,'[1]Racing numbers file'!$B$4:$F$290,2,FALSE)","v":1964},{"$f":"VLOOKUP(C174,'[1]Racing numbers file'!$B$4:$F$290,4,FALSE)","v":52},0,{"$f":"IF(ISNA(VLOOKUP($C174,'Sat TT_01'!$C$4:$Q$152,12,FALSE)=$C174),0,VLOOKUP($C174,'Sat TT_01'!$C$4:$Q$152,12,FALSE))","v":0},{"$f":"IF(ISNA(VLOOKUP($C174,'Sat TT_02'!$C$4:$Q$152,12,FALSE)=$C174),0,VLOOKUP($C174,'Sat TT_02'!$C$4:$Q$152,12,FALSE))","v":0},{"$f":"IF(ISNA(VLOOKUP($C174,'Sat TT_03'!$C$4:$Q$152,12,FALSE)=$C174),0,VLOOKUP($C174,'Sat TT_03'!$C$4:$Q$152,12,FALSE))","v":0},{"$f":"IF(ISNA(VLOOKUP($C174,'Sat TT_04'!$C$4:$Q$152,12,FALSE)=$C174),0,VLOOKUP($C174,'Sat TT_04'!$C$4:$Q$152,12,FALSE))","v":0},{"$f":"IF(ISNA(VLOOKUP($C174,'Sat TT_05'!$C$4:$Q$152,12,FALSE)=$C174),0,VLOOKUP($C174,'Sat TT_05'!$C$4:$Q$152,12,FALSE))","v":0},{"$f":"IF(ISNA(VLOOKUP($C174,'Sat TT_06'!$C$4:$Q$152,12,FALSE)=$C174),0,VLOOKUP($C174,'Sat TT_06'!$C$4:$Q$152,12,FALSE))","v":0},{"$f":"IF(ISNA(VLOOKUP($C174,'Sat TT_07'!$C$4:$Q$152,12,FALSE)=$C174),0,VLOOKUP($C174,'Sat TT_07'!$C$4:$Q$152,12,FALSE))","v":0},{"$f":"IF(ISNA(VLOOKUP($C174,'Sat TT_08'!$C$4:$Q$152,12,FALSE)=$C174),0,VLOOKUP($C174,'Sat TT_08'!$C$4:$Q$152,12,FALSE))","v":0},0]
[{"$f":"VLOOKUP(C175,'Sheet 1'!C$1:D$96,2,FALSE)","v":{"$error":"#N/A"}},166,{"$f":"+'[1]Racing numbers file'!$B74","v":"Liam Hogan"},{"$f":"VLOOKUP(C175,'[1]Racing numbers file'!$B$4:$F$290,2,FALSE)","v":1959},{"$f":"VLOOKUP(C175,'[1]Racing numbers file'!$B$4:$F$290,4,FALSE)","v":57},0,{"$f":"IF(ISNA(VLOOKUP($C175,'Sat TT_01'!$C$4:$Q$152,12,FALSE)=$C175),0,VLOOKUP($C175,'Sat TT_01'!$C$4:$Q$152,12,FALSE))","v":0},{"$f":"IF(ISNA(VLOOKUP($C175,'Sat TT_02'!$C$4:$Q$152,12,FALSE)=$C175),0,VLOOKUP($C175,'Sat TT_02'!$C$4:$Q$152,12,FALSE))","v":0},{"$f":"IF(ISNA(VLOOKUP($C175,'Sat TT_03'!$C$4:$Q$152,12,FALSE)=$C175),0,VLOOKUP($C175,'Sat TT_03'!$C$4:$Q$152,12,FALSE))","v":0},{"$f":"IF(ISNA(VLOOKUP($C175,'Sat TT_04'!$C$4:$Q$152,12,FALSE)=$C175),0,VLOOKUP($C175,'Sat TT_04'!$C$4:$Q$152,12,FALSE))","v":0},{"$f":"IF(ISNA(VLOOKUP($C175,'Sat TT_05'!$C$4:$Q$152,12,FALSE)=$C175),0,VLOOKUP($C175,'Sat TT_05'!$C$4:$Q$152,12,FALSE))","v":0},{"$f":"IF(ISNA(VLOOKUP($C175,'Sat TT_06'!$C$4:$Q$152,12,FALSE)=$C175),0,VLOOKUP($C175,'Sat TT_06'!$C$4:$Q$152,12,FALSE))","v":0},{"$f":"IF(ISNA(VLOOKUP($C175,'Sat TT_07'!$C$4:$Q$152,12,FALSE)=$C175),0,VLOOKUP($C175,'Sat TT_07'!$C$4:$Q$152,12,FALSE))","v":0},{"$f":"IF(ISNA(VLOOKUP($C175,'Sat TT_08'!$C$4:$Q$152,12,FALSE)=$C175),0,VLOOKUP($C175,'Sat TT_08'!$C$4:$Q$152,12,FALSE))","v":0},0]
[{"$f":"VLOOKUP(C176,'Sheet 1'!C$1:D$96,2,FALSE)","v":{"$error":"#N/A"}},167,{"$f":"+'[1]Racing numbers file'!$B143","v":"Lochlann Walsh"},{"$f":"VLOOKUP(C176,'[1]Racing numbers file'!$B$4:$F$290,2,FALSE)","v":1968},{"$f":"VLOOKUP(C176,'[1]Racing numbers file'!$B$4:$F$290,4,FALSE)","v":48},0,{"$f":"IF(ISNA(VLOOKUP($C176,'Sat TT_01'!$C$4:$Q$152,12,FALSE)=$C176),0,VLOOKUP($C176,'Sat TT_01'!$C$4:$Q$152,12,FALSE))","v":0},{"$f":"IF(ISNA(VLOOKUP($C176,'Sat TT_02'!$C$4:$Q$152,12,FALSE)=$C176),0,VLOOKUP($C176,'Sat TT_02'!$C$4:$Q$152,12,FALSE))","v":0},{"$f":"IF(ISNA(VLOOKUP($C176,'Sat TT_03'!$C$4:$Q$152,12,FALSE)=$C176),0,VLOOKUP($C176,'Sat TT_03'!$C$4:$Q$152,12,FALSE))","v":0},{"$f":"IF(ISNA(VLOOKUP($C176,'Sat TT_04'!$C$4:$Q$152,12,FALSE)=$C176),0,VLOOKUP($C176,'Sat TT_04'!$C$4:$Q$152,12,FALSE))","v":0},{"$f":"IF(ISNA(VLOOKUP($C176,'Sat TT_05'!$C$4:$Q$152,12,FALSE)=$C176),0,VLOOKUP($C176,'Sat TT_05'!$C$4:$Q$152,12,FALSE))","v":0},{"$f":"IF(ISNA(VLOOKUP($C176,'Sat TT_06'!$C$4:$Q$152,12,FALSE)=$C176),0,VLOOKUP($C176,'Sat TT_06'!$C$4:$Q$152,12,FALSE))","v":0},{"$f":"IF(ISNA(VLOOKUP($C176,'Sat TT_07'!$C$4:$Q$152,12,FALSE)=$C176),0,VLOOKUP($C176,'Sat TT_07'!$C$4:$Q$152,12,FALSE))","v":0},{"$f":"IF(ISNA(VLOOKUP($C176,'Sat TT_08'!$C$4:$Q$152,12,FALSE)=$C176),0,VLOOKUP($C176,'Sat TT_08'!$C$4:$Q$152,12,FALSE))","v":0},0]
[{"$f":"VLOOKUP(C177,'Sheet 1'!C$1:D$96,2,FALSE)","v":{"$error":"#N/A"}},168,{"$f":"+'[1]Racing numbers file'!$B208","v":"Aidan Somerville"},{"$f":"VLOOKUP(C177,'[1]Racing numbers file'!$B$4:$F$290,2,FALSE)","v":1973},{"$f":"VLOOKUP(C177,'[1]Racing numbers file'!$B$4:$F$290,4,FALSE)","v":43},0,{"$f":"IF(ISNA(VLOOKUP($C177,'Sat TT_01'!$C$4:$Q$152,12,FALSE)=$C177),0,VLOOKUP($C177,'Sat TT_01'!$C$4:$Q$152,12,FALSE))","v":0},{"$f":"IF(ISNA(VLOOKUP($C177,'Sat TT_02'!$C$4:$Q$152,12,FALSE)=$C177),0,VLOOKUP($C177,'Sat TT_02'!$C$4:$Q$152,12,FALSE))","v":0},{"$f":"IF(ISNA(VLOOKUP($C177,'Sat TT_03'!$C$4:$Q$152,12,FALSE)=$C177),0,VLOOKUP($C177,'Sat TT_03'!$C$4:$Q$152,12,FALSE))","v":0},{"$f":"IF(ISNA(VLOOKUP($C177,'Sat TT_04'!$C$4:$Q$152,12,FALSE)=$C177),0,VLOOKUP($C177,'Sat TT_04'!$C$4:$Q$152,12,FALSE))","v":0},{"$f":"IF(ISNA(VLOOKUP($C177,'Sat TT_05'!$C$4:$Q$152,12,FALSE)=$C177),0,VLOOKUP($C177,'Sat TT_05'!$C$4:$Q$152,12,FALSE))","v":0},{"$f":"IF(ISNA(VLOOKUP($C177,'Sat TT_06'!$C$4:$Q$152,12,FALSE)=$C177),0,VLOOKUP($C177,'Sat TT_06'!$C$4:$Q$152,12,FALSE))","v":0},{"$f":"IF(ISNA(VLOOKUP($C177,'Sat TT_07'!$C$4:$Q$152,12,FALSE)=$C177),0,VLOOKUP($C177,'Sat TT_07'!$C$4:$Q$152,12,FALSE))","v":0},{"$f":"IF(ISNA(VLOOKUP($C177,'Sat TT_08'!$C$4:$Q$152,12,FALSE)=$C177),0,VLOOKUP($C177,'Sat TT_08'!$C$4:$Q$152,12,FALSE))","v":0},0]
[{"$f":"VLOOKUP(C178,'Sheet 1'!C$1:D$96,2,FALSE)","v":{"$error":"#N/A"}},169,{"$f":"+'[1]Racing numbers file'!$B245","v":"Mark Mearns"},{"$f":"VLOOKUP(C178,'[1]Racing numbers file'!$B$4:$F$290,2,FALSE)","v":1976},{"$f":"VLOOKUP(C178,'[1]Racing numbers file'!$B$4:$F$290,4,FALSE)","v":40},0,{"$f":"IF(ISNA(VLOOKUP($C178,'Sat TT_01'!$C$4:$Q$152,12,FALSE)=$C178),0,VLOOKUP($C178,'Sat TT_01'!$C$4:$Q$152,12,FALSE))","v":0},{"$f":"IF(ISNA(VLOOKUP($C178,'Sat TT_02'!$C$4:$Q$152,12,FALSE)=$C178),0,VLOOKUP($C178,'Sat TT_02'!$C$4:$Q$152,12,FALSE))","v":0},{"$f":"IF(ISNA(VLOOKUP($C178,'Sat TT_03'!$C$4:$Q$152,12,FALSE)=$C178),0,VLOOKUP($C178,'Sat TT_03'!$C$4:$Q$152,12,FALSE))","v":0},{"$f":"IF(ISNA(VLOOKUP($C178,'Sat TT_04'!$C$4:$Q$152,12,FALSE)=$C178),0,VLOOKUP($C178,'Sat TT_04'!$C$4:$Q$152,12,FALSE))","v":0},{"$f":"IF(ISNA(VLOOKUP($C178,'Sat TT_05'!$C$4:$Q$152,12,FALSE)=$C178),0,VLOOKUP($C178,'Sat TT_05'!$C$4:$Q$152,12,FALSE))","v":0},{"$f":"IF(ISNA(VLOOKUP($C178,'Sat TT_06'!$C$4:$Q$152,12,FALSE)=$C178),0,VLOOKUP($C178,'Sat TT_06'!$C$4:$Q$152,12,FALSE))","v":0},{"$f":"IF(ISNA(VLOOKUP($C178,'Sat TT_07'!$C$4:$Q$152,12,FALSE)=$C178),0,VLOOKUP($C178,'Sat TT_07'!$C$4:$Q$152,12,FALSE))","v":0},{"$f":"IF(ISNA(VLOOKUP($C178,'Sat TT_08'!$C$4:$Q$152,12,FALSE)=$C178),0,VLOOKUP($C178,'Sat TT_08'!$C$4:$Q$152,12,FALSE))","v":0},0]
[{"$f":"VLOOKUP(C179,'Sheet 1'!C$1:D$96,2,FALSE)","v":1360},170,{"$f":"+'[1]Racing numbers file'!$B182","v":"David Kelly"},{"$f":"VLOOKUP(C179,'[1]Racing numbers file'!$B$4:$F$290,2,FALSE)","v":1955},{"$f":"VLOOKUP(C179,'[1]Racing numbers file'!$B$4:$F$290,4,FALSE)","v":61},0,{"$f":"IF(ISNA(VLOOKUP($C179,'Sat TT_01'!$C$4:$Q$152,12,FALSE)=$C179),0,VLOOKUP($C179,'Sat TT_01'!$C$4:$Q$152,12,FALSE))","v":0},{"$f":"IF(ISNA(VLOOKUP($C179,'Sat TT_02'!$C$4:$Q$152,12,FALSE)=$C179),0,VLOOKUP($C179,'Sat TT_02'!$C$4:$Q$152,12,FALSE))","v":0},{"$f":"IF(ISNA(VLOOKUP($C179,'Sat TT_03'!$C$4:$Q$152,12,FALSE)=$C179),0,VLOOKUP($C179,'Sat TT_03'!$C$4:$Q$152,12,FALSE))","v":0},{"$f":"IF(ISNA(VLOOKUP($C179,'Sat TT_04'!$C$4:$Q$152,12,FALSE)=$C179),0,VLOOKUP($C179,'Sat TT_04'!$C$4:$Q$152,12,FALSE))","v":0},{"$f":"IF(ISNA(VLOOKUP($C179,'Sat TT_05'!$C$4:$Q$152,12,FALSE)=$C179),0,VLOOKUP($C179,'Sat TT_05'!$C$4:$Q$152,12,FALSE))","v":0},{"$f":"IF(ISNA(VLOOKUP($C179,'Sat TT_06'!$C$4:$Q$152,12,FALSE)=$C179),0,VLOOKUP($C179,'Sat TT_06'!$C$4:$Q$152,12,FALSE))","v":0},{"$f":"IF(ISNA(VLOOKUP($C179,'Sat TT_07'!$C$4:$Q$152,12,FALSE)=$C179),0,VLOOKUP($C179,'Sat TT_07'!$C$4:$Q$152,12,FALSE))","v":0},{"$f":"IF(ISNA(VLOOKUP($C179,'Sat TT_08'!$C$4:$Q$152,12,FALSE)=$C179),0,VLOOKUP($C179,'Sat TT_08'!$C$4:$Q$152,12,FALSE))","v":0},0]
[{"$f":"VLOOKUP(C180,'Sheet 1'!C$1:D$96,2,FALSE)","v":{"$error":"#N/A"}},171,{"$f":"+'[1]Racing numbers file'!$B209","v":"Seán Connolly"},{"$f":"VLOOKUP(C180,'[1]Racing numbers file'!$B$4:$F$290,2,FALSE)","v":1970},{"$f":"VLOOKUP(C180,'[1]Racing numbers file'!$B$4:$F$290,4,FALSE)","v":46},0,{"$f":"IF(ISNA(VLOOKUP($C180,'Sat TT_01'!$C$4:$Q$152,12,FALSE)=$C180),0,VLOOKUP($C180,'Sat TT_01'!$C$4:$Q$152,12,FALSE))","v":0},{"$f":"IF(ISNA(VLOOKUP($C180,'Sat TT_02'!$C$4:$Q$152,12,FALSE)=$C180),0,VLOOKUP($C180,'Sat TT_02'!$C$4:$Q$152,12,FALSE))","v":0},{"$f":"IF(ISNA(VLOOKUP($C180,'Sat TT_03'!$C$4:$Q$152,12,FALSE)=$C180),0,VLOOKUP($C180,'Sat TT_03'!$C$4:$Q$152,12,FALSE))","v":0},{"$f":"IF(ISNA(VLOOKUP($C180,'Sat TT_04'!$C$4:$Q$152,12,FALSE)=$C180),0,VLOOKUP($C180,'Sat TT_04'!$C$4:$Q$152,12,FALSE))","v":0},{"$f":"IF(ISNA(VLOOKUP($C180,'Sat TT_05'!$C$4:$Q$152,12,FALSE)=$C180),0,VLOOKUP($C180,'Sat TT_05'!$C$4:$Q$152,12,FALSE))","v":0},{"$f":"IF(ISNA(VLOOKUP($C180,'Sat TT_06'!$C$4:$Q$152,12,FALSE)=$C180),0,VLOOKUP($C180,'Sat TT_06'!$C$4:$Q$152,12,FALSE))","v":0},{"$f":"IF(ISNA(VLOOKUP($C180,'Sat TT_07'!$C$4:$Q$152,12,FALSE)=$C180),0,VLOOKUP($C180,'Sat TT_07'!$C$4:$Q$152,12,FALSE))","v":0},{"$f":"IF(ISNA(VLOOKUP($C180,'Sat TT_08'!$C$4:$Q$152,12,FALSE)=$C180),0,VLOOKUP($C180,'Sat TT_08'!$C$4:$Q$152,12,FALSE))","v":0},0]
[{"$f":"VLOOKUP(C181,'Sheet 1'!C$1:D$96,2,FALSE)","v":1303},172,{"$f":"+'[1]Racing numbers file'!$B160","v":"Richard Dufficy"},{"$f":"VLOOKUP(C181,'[1]Racing numbers file'!$B$4:$F$290,2,FALSE)","v":1970},{"$f":"VLOOKUP(C181,'[1]Racing numbers file'!$B$4:$F$290,4,FALSE)","v":46},0,{"$f":"IF(ISNA(VLOOKUP($C181,'Sat TT_01'!$C$4:$Q$152,12,FALSE)=$C181),0,VLOOKUP($C181,'Sat TT_01'!$C$4:$Q$152,12,FALSE))","v":0},{"$f":"IF(ISNA(VLOOKUP($C181,'Sat TT_02'!$C$4:$Q$152,12,FALSE)=$C181),0,VLOOKUP($C181,'Sat TT_02'!$C$4:$Q$152,12,FALSE))","v":0},{"$f":"IF(ISNA(VLOOKUP($C181,'Sat TT_03'!$C$4:$Q$152,12,FALSE)=$C181),0,VLOOKUP($C181,'Sat TT_03'!$C$4:$Q$152,12,FALSE))","v":0},{"$f":"IF(ISNA(VLOOKUP($C181,'Sat TT_04'!$C$4:$Q$152,12,FALSE)=$C181),0,VLOOKUP($C181,'Sat TT_04'!$C$4:$Q$152,12,FALSE))","v":0},{"$f":"IF(ISNA(VLOOKUP($C181,'Sat TT_05'!$C$4:$Q$152,12,FALSE)=$C181),0,VLOOKUP($C181,'Sat TT_05'!$C$4:$Q$152,12,FALSE))","v":0},{"$f":"IF(ISNA(VLOOKUP($C181,'Sat TT_06'!$C$4:$Q$152,12,FALSE)=$C181),0,VLOOKUP($C181,'Sat TT_06'!$C$4:$Q$152,12,FALSE))","v":0},{"$f":"IF(ISNA(VLOOKUP($C181,'Sat TT_07'!$C$4:$Q$152,12,FALSE)=$C181),0,VLOOKUP($C181,'Sat TT_07'!$C$4:$Q$152,12,FALSE))","v":0},{"$f":"IF(ISNA(VLOOKUP($C181,'Sat TT_08'!$C$4:$Q$152,12,FALSE)=$C181),0,VLOOKUP($C181,'Sat TT_08'!$C$4:$Q$152,12,FALSE))","v":0},0]
[{"$f":"VLOOKUP(C182,'Sheet 1'!C$1:D$96,2,FALSE)","v":1294},173,{"$f":"+'[1]Racing numbers file'!$B155","v":"Mark Kidd"},{"$f":"VLOOKUP(C182,'[1]Racing numbers file'!$B$4:$F$290,2,FALSE)","v":1969},{"$f":"VLOOKUP(C182,'[1]Racing numbers file'!$B$4:$F$290,4,FALSE)","v":47},0,{"$f":"IF(ISNA(VLOOKUP($C182,'Sat TT_01'!$C$4:$Q$152,12,FALSE)=$C182),0,VLOOKUP($C182,'Sat TT_01'!$C$4:$Q$152,12,FALSE))","v":0},{"$f":"IF(ISNA(VLOOKUP($C182,'Sat TT_02'!$C$4:$Q$152,12,FALSE)=$C182),0,VLOOKUP($C182,'Sat TT_02'!$C$4:$Q$152,12,FALSE))","v":0},{"$f":"IF(ISNA(VLOOKUP($C182,'Sat TT_03'!$C$4:$Q$152,12,FALSE)=$C182),0,VLOOKUP($C182,'Sat TT_03'!$C$4:$Q$152,12,FALSE))","v":0},{"$f":"IF(ISNA(VLOOKUP($C182,'Sat TT_04'!$C$4:$Q$152,12,FALSE)=$C182),0,VLOOKUP($C182,'Sat TT_04'!$C$4:$Q$152,12,FALSE))","v":0},{"$f":"IF(ISNA(VLOOKUP($C182,'Sat TT_05'!$C$4:$Q$152,12,FALSE)=$C182),0,VLOOKUP($C182,'Sat TT_05'!$C$4:$Q$152,12,FALSE))","v":0},{"$f":"IF(ISNA(VLOOKUP($C182,'Sat TT_06'!$C$4:$Q$152,12,FALSE)=$C182),0,VLOOKUP($C182,'Sat TT_06'!$C$4:$Q$152,12,FALSE))","v":0},{"$f":"IF(ISNA(VLOOKUP($C182,'Sat TT_07'!$C$4:$Q$152,12,FALSE)=$C182),0,VLOOKUP($C182,'Sat TT_07'!$C$4:$Q$152,12,FALSE))","v":0},{"$f":"IF(ISNA(VLOOKUP($C182,'Sat TT_08'!$C$4:$Q$152,12,FALSE)=$C182),0,VLOOKUP($C182,'Sat TT_08'!$C$4:$Q$152,12,FALSE))","v":0},0]
[{"$f":"VLOOKUP(C183,'Sheet 1'!C$1:D$96,2,FALSE)","v":{"$error":"#N/A"}},174,{"$f":"+'[1]Racing numbers file'!$B198","v":"Aidan Delaney"},{"$f":"VLOOKUP(C183,'[1]Racing numbers file'!$B$4:$F$290,2,FALSE)","v":1973},{"$f":"VLOOKUP(C183,'[1]Racing numbers file'!$B$4:$F$290,4,FALSE)","v":43},0,{"$f":"IF(ISNA(VLOOKUP($C183,'Sat TT_01'!$C$4:$Q$152,12,FALSE)=$C183),0,VLOOKUP($C183,'Sat TT_01'!$C$4:$Q$152,12,FALSE))","v":0},{"$f":"IF(ISNA(VLOOKUP($C183,'Sat TT_02'!$C$4:$Q$152,12,FALSE)=$C183),0,VLOOKUP($C183,'Sat TT_02'!$C$4:$Q$152,12,FALSE))","v":0},{"$f":"IF(ISNA(VLOOKUP($C183,'Sat TT_03'!$C$4:$Q$152,12,FALSE)=$C183),0,VLOOKUP($C183,'Sat TT_03'!$C$4:$Q$152,12,FALSE))","v":0},{"$f":"IF(ISNA(VLOOKUP($C183,'Sat TT_04'!$C$4:$Q$152,12,FALSE)=$C183),0,VLOOKUP($C183,'Sat TT_04'!$C$4:$Q$152,12,FALSE))","v":0},{"$f":"IF(ISNA(VLOOKUP($C183,'Sat TT_05'!$C$4:$Q$152,12,FALSE)=$C183),0,VLOOKUP($C183,'Sat TT_05'!$C$4:$Q$152,12,FALSE))","v":0},{"$f":"IF(ISNA(VLOOKUP($C183,'Sat TT_06'!$C$4:$Q$152,12,FALSE)=$C183),0,VLOOKUP($C183,'Sat TT_06'!$C$4:$Q$152,12,FALSE))","v":0},{"$f":"IF(ISNA(VLOOKUP($C183,'Sat TT_07'!$C$4:$Q$152,12,FALSE)=$C183),0,VLOOKUP($C183,'Sat TT_07'!$C$4:$Q$152,12,FALSE))","v":0},{"$f":"IF(ISNA(VLOOKUP($C183,'Sat TT_08'!$C$4:$Q$152,12,FALSE)=$C183),0,VLOOKUP($C183,'Sat TT_08'!$C$4:$Q$152,12,FALSE))","v":0},0]
[{"$f":"VLOOKUP(C184,'Sheet 1'!C$1:D$96,2,FALSE)","v":{"$error":"#N/A"}},175,{"$f":"+'[1]Racing numbers file'!$B214","v":"Paul O'Connell"},{"$f":"VLOOKUP(C184,'[1]Racing numbers file'!$B$4:$F$290,2,FALSE)","v":1945},{"$f":"VLOOKUP(C184,'[1]Racing numbers file'!$B$4:$F$290,4,FALSE)","v":71},0,{"$f":"IF(ISNA(VLOOKUP($C184,'Sat TT_01'!$C$4:$Q$152,12,FALSE)=$C184),0,VLOOKUP($C184,'Sat TT_01'!$C$4:$Q$152,12,FALSE))","v":0},{"$f":"IF(ISNA(VLOOKUP($C184,'Sat TT_02'!$C$4:$Q$152,12,FALSE)=$C184),0,VLOOKUP($C184,'Sat TT_02'!$C$4:$Q$152,12,FALSE))","v":0},{"$f":"IF(ISNA(VLOOKUP($C184,'Sat TT_03'!$C$4:$Q$152,12,FALSE)=$C184),0,VLOOKUP($C184,'Sat TT_03'!$C$4:$Q$152,12,FALSE))","v":0},{"$f":"IF(ISNA(VLOOKUP($C184,'Sat TT_04'!$C$4:$Q$152,12,FALSE)=$C184),0,VLOOKUP($C184,'Sat TT_04'!$C$4:$Q$152,12,FALSE))","v":0},{"$f":"IF(ISNA(VLOOKUP($C184,'Sat TT_05'!$C$4:$Q$152,12,FALSE)=$C184),0,VLOOKUP($C184,'Sat TT_05'!$C$4:$Q$152,12,FALSE))","v":0},{"$f":"IF(ISNA(VLOOKUP($C184,'Sat TT_06'!$C$4:$Q$152,12,FALSE)=$C184),0,VLOOKUP($C184,'Sat TT_06'!$C$4:$Q$152,12,FALSE))","v":0},{"$f":"IF(ISNA(VLOOKUP($C184,'Sat TT_07'!$C$4:$Q$152,12,FALSE)=$C184),0,VLOOKUP($C184,'Sat TT_07'!$C$4:$Q$152,12,FALSE))","v":0},{"$f":"IF(ISNA(VLOOKUP($C184,'Sat TT_08'!$C$4:$Q$152,12,FALSE)=$C184),0,VLOOKUP($C184,'Sat TT_08'!$C$4:$Q$152,12,FALSE))","v":0},0]
[{"$f":"VLOOKUP(C185,'Sheet 1'!C$1:D$96,2,FALSE)","v":1471},176,{"$f":"+'[1]Racing numbers file'!$B239","v":"Ed O'Brien"},{"$f":"VLOOKUP(C185,'[1]Racing numbers file'!$B$4:$F$290,2,FALSE)","v":1975},{"$f":"VLOOKUP(C185,'[1]Racing numbers file'!$B$4:$F$290,4,FALSE)","v":41},0,{"$f":"IF(ISNA(VLOOKUP($C185,'Sat TT_01'!$C$4:$Q$152,12,FALSE)=$C185),0,VLOOKUP($C185,'Sat TT_01'!$C$4:$Q$152,12,FALSE))","v":0},{"$f":"IF(ISNA(VLOOKUP($C185,'Sat TT_02'!$C$4:$Q$152,12,FALSE)=$C185),0,VLOOKUP($C185,'Sat TT_02'!$C$4:$Q$152,12,FALSE))","v":0},{"$f":"IF(ISNA(VLOOKUP($C185,'Sat TT_03'!$C$4:$Q$152,12,FALSE)=$C185),0,VLOOKUP($C185,'Sat TT_03'!$C$4:$Q$152,12,FALSE))","v":0},{"$f":"IF(ISNA(VLOOKUP($C185,'Sat TT_04'!$C$4:$Q$152,12,FALSE)=$C185),0,VLOOKUP($C185,'Sat TT_04'!$C$4:$Q$152,12,FALSE))","v":0},{"$f":"IF(ISNA(VLOOKUP($C185,'Sat TT_05'!$C$4:$Q$152,12,FALSE)=$C185),0,VLOOKUP($C185,'Sat TT_05'!$C$4:$Q$152,12,FALSE))","v":0},{"$f":"IF(ISNA(VLOOKUP($C185,'Sat TT_06'!$C$4:$Q$152,12,FALSE)=$C185),0,VLOOKUP($C185,'Sat TT_06'!$C$4:$Q$152,12,FALSE))","v":0},{"$f":"IF(ISNA(VLOOKUP($C185,'Sat TT_07'!$C$4:$Q$152,12,FALSE)=$C185),0,VLOOKUP($C185,'Sat TT_07'!$C$4:$Q$152,12,FALSE))","v":0},{"$f":"IF(ISNA(VLOOKUP($C185,'Sat TT_08'!$C$4:$Q$152,12,FALSE)=$C185),0,VLOOKUP($C185,'Sat TT_08'!$C$4:$Q$152,12,FALSE))","v":0},0]
[{"$f":"VLOOKUP(C186,'Sheet 1'!C$1:D$96,2,FALSE)","v":{"$error":"#N/A"}},177,{"$f":"+'[1]Racing numbers file'!$B109","v":"Padraic Hamrock"},{"$f":"VLOOKUP(C186,'[1]Racing numbers file'!$B$4:$F$290,2,FALSE)","v":1964},{"$f":"VLOOKUP(C186,'[1]Racing numbers file'!$B$4:$F$290,4,FALSE)","v":52},0,{"$f":"IF(ISNA(VLOOKUP($C186,'Sat TT_01'!$C$4:$Q$152,12,FALSE)=$C186),0,VLOOKUP($C186,'Sat TT_01'!$C$4:$Q$152,12,FALSE))","v":0},{"$f":"IF(ISNA(VLOOKUP($C186,'Sat TT_02'!$C$4:$Q$152,12,FALSE)=$C186),0,VLOOKUP($C186,'Sat TT_02'!$C$4:$Q$152,12,FALSE))","v":0},{"$f":"IF(ISNA(VLOOKUP($C186,'Sat TT_03'!$C$4:$Q$152,12,FALSE)=$C186),0,VLOOKUP($C186,'Sat TT_03'!$C$4:$Q$152,12,FALSE))","v":0},{"$f":"IF(ISNA(VLOOKUP($C186,'Sat TT_04'!$C$4:$Q$152,12,FALSE)=$C186),0,VLOOKUP($C186,'Sat TT_04'!$C$4:$Q$152,12,FALSE))","v":0},{"$f":"IF(ISNA(VLOOKUP($C186,'Sat TT_05'!$C$4:$Q$152,12,FALSE)=$C186),0,VLOOKUP($C186,'Sat TT_05'!$C$4:$Q$152,12,FALSE))","v":0},{"$f":"IF(ISNA(VLOOKUP($C186,'Sat TT_06'!$C$4:$Q$152,12,FALSE)=$C186),0,VLOOKUP($C186,'Sat TT_06'!$C$4:$Q$152,12,FALSE))","v":0},{"$f":"IF(ISNA(VLOOKUP($C186,'Sat TT_07'!$C$4:$Q$152,12,FALSE)=$C186),0,VLOOKUP($C186,'Sat TT_07'!$C$4:$Q$152,12,FALSE))","v":0},{"$f":"IF(ISNA(VLOOKUP($C186,'Sat TT_08'!$C$4:$Q$152,12,FALSE)=$C186),0,VLOOKUP($C186,'Sat TT_08'!$C$4:$Q$152,12,FALSE))","v":0},0]
[{"$f":"VLOOKUP(C187,'Sheet 1'!C$1:D$96,2,FALSE)","v":{"$error":"#N/A"}},178,{"$f":"+'[1]Racing numbers file'!$B191","v":"Seán G Lally"},{"$f":"VLOOKUP(C187,'[1]Racing numbers file'!$B$4:$F$290,2,FALSE)","v":1963},{"$f":"VLOOKUP(C187,'[1]Racing numbers file'!$B$4:$F$290,4,FALSE)","v":53},0,{"$f":"IF(ISNA(VLOOKUP($C187,'Sat TT_01'!$C$4:$Q$152,12,FALSE)=$C187),0,VLOOKUP($C187,'Sat TT_01'!$C$4:$Q$152,12,FALSE))","v":0},{"$f":"IF(ISNA(VLOOKUP($C187,'Sat TT_02'!$C$4:$Q$152,12,FALSE)=$C187),0,VLOOKUP($C187,'Sat TT_02'!$C$4:$Q$152,12,FALSE))","v":0},{"$f":"IF(ISNA(VLOOKUP($C187,'Sat TT_03'!$C$4:$Q$152,12,FALSE)=$C187),0,VLOOKUP($C187,'Sat TT_03'!$C$4:$Q$152,12,FALSE))","v":0},{"$f":"IF(ISNA(VLOOKUP($C187,'Sat TT_04'!$C$4:$Q$152,12,FALSE)=$C187),0,VLOOKUP($C187,'Sat TT_04'!$C$4:$Q$152,12,FALSE))","v":0},{"$f":"IF(ISNA(VLOOKUP($C187,'Sat TT_05'!$C$4:$Q$152,12,FALSE)=$C187),0,VLOOKUP($C187,'Sat TT_05'!$C$4:$Q$152,12,FALSE))","v":0},{"$f":"IF(ISNA(VLOOKUP($C187,'Sat TT_06'!$C$4:$Q$152,12,FALSE)=$C187),0,VLOOKUP($C187,'Sat TT_06'!$C$4:$Q$152,12,FALSE))","v":0},{"$f":"IF(ISNA(VLOOKUP($C187,'Sat TT_07'!$C$4:$Q$152,12,FALSE)=$C187),0,VLOOKUP($C187,'Sat TT_07'!$C$4:$Q$152,12,FALSE))","v":0},{"$f":"IF(ISNA(VLOOKUP($C187,'Sat TT_08'!$C$4:$Q$152,12,FALSE)=$C187),0,VLOOKUP($C187,'Sat TT_08'!$C$4:$Q$152,12,FALSE))","v":0},0]
[{"$f":"VLOOKUP(C188,'Sheet 1'!C$1:D$96,2,FALSE)","v":{"$error":"#N/A"}},179,{"$f":"+'[1]Racing numbers file'!$B233","v":"Conor Feeney"},{"$f":"VLOOKUP(C188,'[1]Racing numbers file'!$B$4:$F$290,2,FALSE)","v":1972},{"$f":"VLOOKUP(C188,'[1]Racing numbers file'!$B$4:$F$290,4,FALSE)","v":44},0,{"$f":"IF(ISNA(VLOOKUP($C188,'Sat TT_01'!$C$4:$Q$152,12,FALSE)=$C188),0,VLOOKUP($C188,'Sat TT_01'!$C$4:$Q$152,12,FALSE))","v":0},{"$f":"IF(ISNA(VLOOKUP($C188,'Sat TT_02'!$C$4:$Q$152,12,FALSE)=$C188),0,VLOOKUP($C188,'Sat TT_02'!$C$4:$Q$152,12,FALSE))","v":0},{"$f":"IF(ISNA(VLOOKUP($C188,'Sat TT_03'!$C$4:$Q$152,12,FALSE)=$C188),0,VLOOKUP($C188,'Sat TT_03'!$C$4:$Q$152,12,FALSE))","v":0},{"$f":"IF(ISNA(VLOOKUP($C188,'Sat TT_04'!$C$4:$Q$152,12,FALSE)=$C188),0,VLOOKUP($C188,'Sat TT_04'!$C$4:$Q$152,12,FALSE))","v":0},{"$f":"IF(ISNA(VLOOKUP($C188,'Sat TT_05'!$C$4:$Q$152,12,FALSE)=$C188),0,VLOOKUP($C188,'Sat TT_05'!$C$4:$Q$152,12,FALSE))","v":0},{"$f":"IF(ISNA(VLOOKUP($C188,'Sat TT_06'!$C$4:$Q$152,12,FALSE)=$C188),0,VLOOKUP($C188,'Sat TT_06'!$C$4:$Q$152,12,FALSE))","v":0},{"$f":"IF(ISNA(VLOOKUP($C188,'Sat TT_07'!$C$4:$Q$152,12,FALSE)=$C188),0,VLOOKUP($C188,'Sat TT_07'!$C$4:$Q$152,12,FALSE))","v":0},{"$f":"IF(ISNA(VLOOKUP($C188,'Sat TT_08'!$C$4:$Q$152,12,FALSE)=$C188),0,VLOOKUP($C188,'Sat TT_08'!$C$4:$Q$152,12,FALSE))","v":0},0]
[{"$f":"VLOOKUP(C189,'Sheet 1'!C$1:D$96,2,FALSE)","v":{"$error":"#N/A"}},180,{"$f":"+'[1]Racing numbers file'!$B102","v":"Mick Scully"},{"$f":"VLOOKUP(C189,'[1]Racing numbers file'!$B$4:$F$290,2,FALSE)","v":1963},{"$f":"VLOOKUP(C189,'[1]Racing numbers file'!$B$4:$F$290,4,FALSE)","v":53},0,{"$f":"IF(ISNA(VLOOKUP($C189,'Sat TT_01'!$C$4:$Q$152,12,FALSE)=$C189),0,VLOOKUP($C189,'Sat TT_01'!$C$4:$Q$152,12,FALSE))","v":0},{"$f":"IF(ISNA(VLOOKUP($C189,'Sat TT_02'!$C$4:$Q$152,12,FALSE)=$C189),0,VLOOKUP($C189,'Sat TT_02'!$C$4:$Q$152,12,FALSE))","v":0},{"$f":"IF(ISNA(VLOOKUP($C189,'Sat TT_03'!$C$4:$Q$152,12,FALSE)=$C189),0,VLOOKUP($C189,'Sat TT_03'!$C$4:$Q$152,12,FALSE))","v":0},{"$f":"IF(ISNA(VLOOKUP($C189,'Sat TT_04'!$C$4:$Q$152,12,FALSE)=$C189),0,VLOOKUP($C189,'Sat TT_04'!$C$4:$Q$152,12,FALSE))","v":0},{"$f":"IF(ISNA(VLOOKUP($C189,'Sat TT_05'!$C$4:$Q$152,12,FALSE)=$C189),0,VLOOKUP($C189,'Sat TT_05'!$C$4:$Q$152,12,FALSE))","v":0},{"$f":"IF(ISNA(VLOOKUP($C189,'Sat TT_06'!$C$4:$Q$152,12,FALSE)=$C189),0,VLOOKUP($C189,'Sat TT_06'!$C$4:$Q$152,12,FALSE))","v":0},{"$f":"IF(ISNA(VLOOKUP($C189,'Sat TT_07'!$C$4:$Q$152,12,FALSE)=$C189),0,VLOOKUP($C189,'Sat TT_07'!$C$4:$Q$152,12,FALSE))","v":0},{"$f":"IF(ISNA(VLOOKUP($C189,'Sat TT_08'!$C$4:$Q$152,12,FALSE)=$C189),0,VLOOKUP($C189,'Sat TT_08'!$C$4:$Q$152,12,FALSE))","v":0},0]
[{"$f":"VLOOKUP(C190,'Sheet 1'!C$1:D$96,2,FALSE)","v":1472},181,{"$f":"+'[1]Racing numbers file'!$B240","v":"Caroline Martinez"},{"$f":"VLOOKUP(C190,'[1]Racing numbers file'!$B$4:$F$290,2,FALSE)","v":1979},{"$f":"VLOOKUP(C190,'[1]Racing numbers file'!$B$4:$F$290,4,FALSE)","v":37},0,{"$f":"IF(ISNA(VLOOKUP($C190,'Sat TT_01'!$C$4:$Q$152,12,FALSE)=$C190),0,VLOOKUP($C190,'Sat TT_01'!$C$4:$Q$152,12,FALSE))","v":0},{"$f":"IF(ISNA(VLOOKUP($C190,'Sat TT_02'!$C$4:$Q$152,12,FALSE)=$C190),0,VLOOKUP($C190,'Sat TT_02'!$C$4:$Q$152,12,FALSE))","v":0},{"$f":"IF(ISNA(VLOOKUP($C190,'Sat TT_03'!$C$4:$Q$152,12,FALSE)=$C190),0,VLOOKUP($C190,'Sat TT_03'!$C$4:$Q$152,12,FALSE))","v":0},{"$f":"IF(ISNA(VLOOKUP($C190,'Sat TT_04'!$C$4:$Q$152,12,FALSE)=$C190),0,VLOOKUP($C190,'Sat TT_04'!$C$4:$Q$152,12,FALSE))","v":0},{"$f":"IF(ISNA(VLOOKUP($C190,'Sat TT_05'!$C$4:$Q$152,12,FALSE)=$C190),0,VLOOKUP($C190,'Sat TT_05'!$C$4:$Q$152,12,FALSE))","v":0},{"$f":"IF(ISNA(VLOOKUP($C190,'Sat TT_06'!$C$4:$Q$152,12,FALSE)=$C190),0,VLOOKUP($C190,'Sat TT_06'!$C$4:$Q$152,12,FALSE))","v":0},{"$f":"IF(ISNA(VLOOKUP($C190,'Sat TT_07'!$C$4:$Q$152,12,FALSE)=$C190),0,VLOOKUP($C190,'Sat TT_07'!$C$4:$Q$152,12,FALSE))","v":0},{"$f":"IF(ISNA(VLOOKUP($C190,'Sat TT_08'!$C$4:$Q$152,12,FALSE)=$C190),0,VLOOKUP($C190,'Sat TT_08'!$C$4:$Q$152,12,FALSE))","v":0},0]
[{"$f":"VLOOKUP(C191,'Sheet 1'!C$1:D$96,2,FALSE)","v":{"$error":"#N/A"}},182,{"$f":"+'[1]Racing numbers file'!$B103","v":"John Walsh"},{"$f":"VLOOKUP(C191,'[1]Racing numbers file'!$B$4:$F$290,2,FALSE)","v":1963},{"$f":"VLOOKUP(C191,'[1]Racing numbers file'!$B$4:$F$290,4,FALSE)","v":53},0,{"$f":"IF(ISNA(VLOOKUP($C191,'Sat TT_01'!$C$4:$Q$152,12,FALSE)=$C191),0,VLOOKUP($C191,'Sat TT_01'!$C$4:$Q$152,12,FALSE))","v":0},{"$f":"IF(ISNA(VLOOKUP($C191,'Sat TT_02'!$C$4:$Q$152,12,FALSE)=$C191),0,VLOOKUP($C191,'Sat TT_02'!$C$4:$Q$152,12,FALSE))","v":0},{"$f":"IF(ISNA(VLOOKUP($C191,'Sat TT_03'!$C$4:$Q$152,12,FALSE)=$C191),0,VLOOKUP($C191,'Sat TT_03'!$C$4:$Q$152,12,FALSE))","v":0},{"$f":"IF(ISNA(VLOOKUP($C191,'Sat TT_04'!$C$4:$Q$152,12,FALSE)=$C191),0,VLOOKUP($C191,'Sat TT_04'!$C$4:$Q$152,12,FALSE))","v":0},{"$f":"IF(ISNA(VLOOKUP($C191,'Sat TT_05'!$C$4:$Q$152,12,FALSE)=$C191),0,VLOOKUP($C191,'Sat TT_05'!$C$4:$Q$152,12,FALSE))","v":0},{"$f":"IF(ISNA(VLOOKUP($C191,'Sat TT_06'!$C$4:$Q$152,12,FALSE)=$C191),0,VLOOKUP($C191,'Sat TT_06'!$C$4:$Q$152,12,FALSE))","v":0},{"$f":"IF(ISNA(VLOOKUP($C191,'Sat TT_07'!$C$4:$Q$152,12,FALSE)=$C191),0,VLOOKUP($C191,'Sat TT_07'!$C$4:$Q$152,12,FALSE))","v":0},{"$f":"IF(ISNA(VLOOKUP($C191,'Sat TT_08'!$C$4:$Q$152,12,FALSE)=$C191),0,VLOOKUP($C191,'Sat TT_08'!$C$4:$Q$152,12,FALSE))","v":0},0]
[{"$f":"VLOOKUP(C192,'Sheet 1'!C$1:D$96,2,FALSE)","v":{"$error":"#N/A"}},183,{"$f":"+'[1]Racing numbers file'!$B99","v":"Eamonn Walsh"},{"$f":"VLOOKUP(C192,'[1]Racing numbers file'!$B$4:$F$290,2,FALSE)","v":1962},{"$f":"VLOOKUP(C192,'[1]Racing numbers file'!$B$4:$F$290,4,FALSE)","v":54},0,{"$f":"IF(ISNA(VLOOKUP($C192,'Sat TT_01'!$C$4:$Q$152,12,FALSE)=$C192),0,VLOOKUP($C192,'Sat TT_01'!$C$4:$Q$152,12,FALSE))","v":0},{"$f":"IF(ISNA(VLOOKUP($C192,'Sat TT_02'!$C$4:$Q$152,12,FALSE)=$C192),0,VLOOKUP($C192,'Sat TT_02'!$C$4:$Q$152,12,FALSE))","v":0},{"$f":"IF(ISNA(VLOOKUP($C192,'Sat TT_03'!$C$4:$Q$152,12,FALSE)=$C192),0,VLOOKUP($C192,'Sat TT_03'!$C$4:$Q$152,12,FALSE))","v":0},{"$f":"IF(ISNA(VLOOKUP($C192,'Sat TT_04'!$C$4:$Q$152,12,FALSE)=$C192),0,VLOOKUP($C192,'Sat TT_04'!$C$4:$Q$152,12,FALSE))","v":0},{"$f":"IF(ISNA(VLOOKUP($C192,'Sat TT_05'!$C$4:$Q$152,12,FALSE)=$C192),0,VLOOKUP($C192,'Sat TT_05'!$C$4:$Q$152,12,FALSE))","v":0},{"$f":"IF(ISNA(VLOOKUP($C192,'Sat TT_06'!$C$4:$Q$152,12,FALSE)=$C192),0,VLOOKUP($C192,'Sat TT_06'!$C$4:$Q$152,12,FALSE))","v":0},{"$f":"IF(ISNA(VLOOKUP($C192,'Sat TT_07'!$C$4:$Q$152,12,FALSE)=$C192),0,VLOOKUP($C192,'Sat TT_07'!$C$4:$Q$152,12,FALSE))","v":0},{"$f":"IF(ISNA(VLOOKUP($C192,'Sat TT_08'!$C$4:$Q$152,12,FALSE)=$C192),0,VLOOKUP($C192,'Sat TT_08'!$C$4:$Q$152,12,FALSE))","v":0},0]
[{"$f":"VLOOKUP(C193,'Sheet 1'!C$1:D$96,2,FALSE)","v":1185},184,{"$f":"+'[1]Racing numbers file'!$B91","v":"Noel Thompson"},{"$f":"VLOOKUP(C193,'[1]Racing numbers file'!$B$4:$F$290,2,FALSE)","v":1961},{"$f":"VLOOKUP(C193,'[1]Racing numbers file'!$B$4:$F$290,4,FALSE)","v":55},0,{"$f":"IF(ISNA(VLOOKUP($C193,'Sat TT_01'!$C$4:$Q$152,12,FALSE)=$C193),0,VLOOKUP($C193,'Sat TT_01'!$C$4:$Q$152,12,FALSE))","v":0},{"$f":"IF(ISNA(VLOOKUP($C193,'Sat TT_02'!$C$4:$Q$152,12,FALSE)=$C193),0,VLOOKUP($C193,'Sat TT_02'!$C$4:$Q$152,12,FALSE))","v":0},{"$f":"IF(ISNA(VLOOKUP($C193,'Sat TT_03'!$C$4:$Q$152,12,FALSE)=$C193),0,VLOOKUP($C193,'Sat TT_03'!$C$4:$Q$152,12,FALSE))","v":0},{"$f":"IF(ISNA(VLOOKUP($C193,'Sat TT_04'!$C$4:$Q$152,12,FALSE)=$C193),0,VLOOKUP($C193,'Sat TT_04'!$C$4:$Q$152,12,FALSE))","v":0},{"$f":"IF(ISNA(VLOOKUP($C193,'Sat TT_05'!$C$4:$Q$152,12,FALSE)=$C193),0,VLOOKUP($C193,'Sat TT_05'!$C$4:$Q$152,12,FALSE))","v":0},{"$f":"IF(ISNA(VLOOKUP($C193,'Sat TT_06'!$C$4:$Q$152,12,FALSE)=$C193),0,VLOOKUP($C193,'Sat TT_06'!$C$4:$Q$152,12,FALSE))","v":0},{"$f":"IF(ISNA(VLOOKUP($C193,'Sat TT_07'!$C$4:$Q$152,12,FALSE)=$C193),0,VLOOKUP($C193,'Sat TT_07'!$C$4:$Q$152,12,FALSE))","v":0},{"$f":"IF(ISNA(VLOOKUP($C193,'Sat TT_08'!$C$4:$Q$152,12,FALSE)=$C193),0,VLOOKUP($C193,'Sat TT_08'!$C$4:$Q$152,12,FALSE))","v":0},0]
[{"$f":"VLOOKUP(C194,'Sheet 1'!C$1:D$96,2,FALSE)","v":1196},185,{"$f":"+'[1]Racing numbers file'!$B97","v":"Tom Barber"},{"$f":"VLOOKUP(C194,'[1]Racing numbers file'!$B$4:$F$290,2,FALSE)","v":1962},{"$f":"VLOOKUP(C194,'[1]Racing numbers file'!$B$4:$F$290,4,FALSE)","v":54},0,{"$f":"IF(ISNA(VLOOKUP($C194,'Sat TT_01'!$C$4:$Q$152,12,FALSE)=$C194),0,VLOOKUP($C194,'Sat TT_01'!$C$4:$Q$152,12,FALSE))","v":0},{"$f":"IF(ISNA(VLOOKUP($C194,'Sat TT_02'!$C$4:$Q$152,12,FALSE)=$C194),0,VLOOKUP($C194,'Sat TT_02'!$C$4:$Q$152,12,FALSE))","v":0},{"$f":"IF(ISNA(VLOOKUP($C194,'Sat TT_03'!$C$4:$Q$152,12,FALSE)=$C194),0,VLOOKUP($C194,'Sat TT_03'!$C$4:$Q$152,12,FALSE))","v":0},{"$f":"IF(ISNA(VLOOKUP($C194,'Sat TT_04'!$C$4:$Q$152,12,FALSE)=$C194),0,VLOOKUP($C194,'Sat TT_04'!$C$4:$Q$152,12,FALSE))","v":0},{"$f":"IF(ISNA(VLOOKUP($C194,'Sat TT_05'!$C$4:$Q$152,12,FALSE)=$C194),0,VLOOKUP($C194,'Sat TT_05'!$C$4:$Q$152,12,FALSE))","v":0},{"$f":"IF(ISNA(VLOOKUP($C194,'Sat TT_06'!$C$4:$Q$152,12,FALSE)=$C194),0,VLOOKUP($C194,'Sat TT_06'!$C$4:$Q$152,12,FALSE))","v":0},{"$f":"IF(ISNA(VLOOKUP($C194,'Sat TT_07'!$C$4:$Q$152,12,FALSE)=$C194),0,VLOOKUP($C194,'Sat TT_07'!$C$4:$Q$152,12,FALSE))","v":0},{"$f":"IF(ISNA(VLOOKUP($C194,'Sat TT_08'!$C$4:$Q$152,12,FALSE)=$C194),0,VLOOKUP($C194,'Sat TT_08'!$C$4:$Q$152,12,FALSE))","v":0},0]
[{"$f":"VLOOKUP(C195,'Sheet 1'!C$1:D$96,2,FALSE)","v":1263},186,{"$f":"+'[1]Racing numbers file'!$B137","v":"Shay Dalton"},{"$f":"VLOOKUP(C195,'[1]Racing numbers file'!$B$4:$F$290,2,FALSE)","v":1967},{"$f":"VLOOKUP(C195,'[1]Racing numbers file'!$B$4:$F$290,4,FALSE)","v":49},0,{"$f":"IF(ISNA(VLOOKUP($C195,'Sat TT_01'!$C$4:$Q$152,12,FALSE)=$C195),0,VLOOKUP($C195,'Sat TT_01'!$C$4:$Q$152,12,FALSE))","v":0},{"$f":"IF(ISNA(VLOOKUP($C195,'Sat TT_02'!$C$4:$Q$152,12,FALSE)=$C195),0,VLOOKUP($C195,'Sat TT_02'!$C$4:$Q$152,12,FALSE))","v":0},{"$f":"IF(ISNA(VLOOKUP($C195,'Sat TT_03'!$C$4:$Q$152,12,FALSE)=$C195),0,VLOOKUP($C195,'Sat TT_03'!$C$4:$Q$152,12,FALSE))","v":0},{"$f":"IF(ISNA(VLOOKUP($C195,'Sat TT_04'!$C$4:$Q$152,12,FALSE)=$C195),0,VLOOKUP($C195,'Sat TT_04'!$C$4:$Q$152,12,FALSE))","v":0},{"$f":"IF(ISNA(VLOOKUP($C195,'Sat TT_05'!$C$4:$Q$152,12,FALSE)=$C195),0,VLOOKUP($C195,'Sat TT_05'!$C$4:$Q$152,12,FALSE))","v":0},{"$f":"IF(ISNA(VLOOKUP($C195,'Sat TT_06'!$C$4:$Q$152,12,FALSE)=$C195),0,VLOOKUP($C195,'Sat TT_06'!$C$4:$Q$152,12,FALSE))","v":0},{"$f":"IF(ISNA(VLOOKUP($C195,'Sat TT_07'!$C$4:$Q$152,12,FALSE)=$C195),0,VLOOKUP($C195,'Sat TT_07'!$C$4:$Q$152,12,FALSE))","v":0},{"$f":"IF(ISNA(VLOOKUP($C195,'Sat TT_08'!$C$4:$Q$152,12,FALSE)=$C195),0,VLOOKUP($C195,'Sat TT_08'!$C$4:$Q$152,12,FALSE))","v":0},0]
[{"$f":"VLOOKUP(C196,'Sheet 1'!C$1:D$96,2,FALSE)","v":1190},187,{"$f":"+'[1]Racing numbers file'!$B93","v":"Lloyd Scott"},{"$f":"VLOOKUP(C196,'[1]Racing numbers file'!$B$4:$F$290,2,FALSE)","v":1062},{"$f":"VLOOKUP(C196,'[1]Racing numbers file'!$B$4:$F$290,4,FALSE)","v":954},0,{"$f":"IF(ISNA(VLOOKUP($C196,'Sat TT_01'!$C$4:$Q$152,12,FALSE)=$C196),0,VLOOKUP($C196,'Sat TT_01'!$C$4:$Q$152,12,FALSE))","v":0},{"$f":"IF(ISNA(VLOOKUP($C196,'Sat TT_02'!$C$4:$Q$152,12,FALSE)=$C196),0,VLOOKUP($C196,'Sat TT_02'!$C$4:$Q$152,12,FALSE))","v":0},{"$f":"IF(ISNA(VLOOKUP($C196,'Sat TT_03'!$C$4:$Q$152,12,FALSE)=$C196),0,VLOOKUP($C196,'Sat TT_03'!$C$4:$Q$152,12,FALSE))","v":0},{"$f":"IF(ISNA(VLOOKUP($C196,'Sat TT_04'!$C$4:$Q$152,12,FALSE)=$C196),0,VLOOKUP($C196,'Sat TT_04'!$C$4:$Q$152,12,FALSE))","v":0},{"$f":"IF(ISNA(VLOOKUP($C196,'Sat TT_05'!$C$4:$Q$152,12,FALSE)=$C196),0,VLOOKUP($C196,'Sat TT_05'!$C$4:$Q$152,12,FALSE))","v":0},{"$f":"IF(ISNA(VLOOKUP($C196,'Sat TT_06'!$C$4:$Q$152,12,FALSE)=$C196),0,VLOOKUP($C196,'Sat TT_06'!$C$4:$Q$152,12,FALSE))","v":0},{"$f":"IF(ISNA(VLOOKUP($C196,'Sat TT_07'!$C$4:$Q$152,12,FALSE)=$C196),0,VLOOKUP($C196,'Sat TT_07'!$C$4:$Q$152,12,FALSE))","v":0},{"$f":"IF(ISNA(VLOOKUP($C196,'Sat TT_08'!$C$4:$Q$152,12,FALSE)=$C196),0,VLOOKUP($C196,'Sat TT_08'!$C$4:$Q$152,12,FALSE))","v":0},0]
[{"$f":"VLOOKUP(C197,'Sheet 1'!C$1:D$96,2,FALSE)","v":{"$error":"#N/A"}},188,{"$f":"+'[1]Racing numbers file'!$B204","v":"Patrick Deegan"},{"$f":"VLOOKUP(C197,'[1]Racing numbers file'!$B$4:$F$290,2,FALSE)","v":1970},{"$f":"VLOOKUP(C197,'[1]Racing numbers file'!$B$4:$F$290,4,FALSE)","v":46},0,{"$f":"IF(ISNA(VLOOKUP($C197,'Sat TT_01'!$C$4:$Q$152,12,FALSE)=$C197),0,VLOOKUP($C197,'Sat TT_01'!$C$4:$Q$152,12,FALSE))","v":0},{"$f":"IF(ISNA(VLOOKUP($C197,'Sat TT_02'!$C$4:$Q$152,12,FALSE)=$C197),0,VLOOKUP($C197,'Sat TT_02'!$C$4:$Q$152,12,FALSE))","v":0},{"$f":"IF(ISNA(VLOOKUP($C197,'Sat TT_03'!$C$4:$Q$152,12,FALSE)=$C197),0,VLOOKUP($C197,'Sat TT_03'!$C$4:$Q$152,12,FALSE))","v":0},{"$f":"IF(ISNA(VLOOKUP($C197,'Sat TT_04'!$C$4:$Q$152,12,FALSE)=$C197),0,VLOOKUP($C197,'Sat TT_04'!$C$4:$Q$152,12,FALSE))","v":0},{"$f":"IF(ISNA(VLOOKUP($C197,'Sat TT_05'!$C$4:$Q$152,12,FALSE)=$C197),0,VLOOKUP($C197,'Sat TT_05'!$C$4:$Q$152,12,FALSE))","v":0},{"$f":"IF(ISNA(VLOOKUP($C197,'Sat TT_06'!$C$4:$Q$152,12,FALSE)=$C197),0,VLOOKUP($C197,'Sat TT_06'!$C$4:$Q$152,12,FALSE))","v":0},{"$f":"IF(ISNA(VLOOKUP($C197,'Sat TT_07'!$C$4:$Q$152,12,FALSE)=$C197),0,VLOOKUP($C197,'Sat TT_07'!$C$4:$Q$152,12,FALSE))","v":0},{"$f":"IF(ISNA(VLOOKUP($C197,'Sat TT_08'!$C$4:$Q$152,12,FALSE)=$C197),0,VLOOKUP($C197,'Sat TT_08'!$C$4:$Q$152,12,FALSE))","v":0},0]
[{"$f":"VLOOKUP(C198,'Sheet 1'!C$1:D$96,2,FALSE)","v":1451},189,{"$f":"+'[1]Racing numbers file'!$B230","v":"Andreas Voigt"},{"$f":"VLOOKUP(C198,'[1]Racing numbers file'!$B$4:$F$290,2,FALSE)","v":1972},{"$f":"VLOOKUP(C198,'[1]Racing numbers file'!$B$4:$F$290,4,FALSE)","v":44},0,{"$f":"IF(ISNA(VLOOKUP($C198,'Sat TT_01'!$C$4:$Q$152,12,FALSE)=$C198),0,VLOOKUP($C198,'Sat TT_01'!$C$4:$Q$152,12,FALSE))","v":0},{"$f":"IF(ISNA(VLOOKUP($C198,'Sat TT_02'!$C$4:$Q$152,12,FALSE)=$C198),0,VLOOKUP($C198,'Sat TT_02'!$C$4:$Q$152,12,FALSE))","v":0},{"$f":"IF(ISNA(VLOOKUP($C198,'Sat TT_03'!$C$4:$Q$152,12,FALSE)=$C198),0,VLOOKUP($C198,'Sat TT_03'!$C$4:$Q$152,12,FALSE))","v":0},{"$f":"IF(ISNA(VLOOKUP($C198,'Sat TT_04'!$C$4:$Q$152,12,FALSE)=$C198),0,VLOOKUP($C198,'Sat TT_04'!$C$4:$Q$152,12,FALSE))","v":0},{"$f":"IF(ISNA(VLOOKUP($C198,'Sat TT_05'!$C$4:$Q$152,12,FALSE)=$C198),0,VLOOKUP($C198,'Sat TT_05'!$C$4:$Q$152,12,FALSE))","v":0},{"$f":"IF(ISNA(VLOOKUP($C198,'Sat TT_06'!$C$4:$Q$152,12,FALSE)=$C198),0,VLOOKUP($C198,'Sat TT_06'!$C$4:$Q$152,12,FALSE))","v":0},{"$f":"IF(ISNA(VLOOKUP($C198,'Sat TT_07'!$C$4:$Q$152,12,FALSE)=$C198),0,VLOOKUP($C198,'Sat TT_07'!$C$4:$Q$152,12,FALSE))","v":0},{"$f":"IF(ISNA(VLOOKUP($C198,'Sat TT_08'!$C$4:$Q$152,12,FALSE)=$C198),0,VLOOKUP($C198,'Sat TT_08'!$C$4:$Q$152,12,FALSE))","v":0},0]
[{"$f":"VLOOKUP(C199,'Sheet 1'!C$1:D$96,2,FALSE)","v":{"$error":"#N/A"}},190,{"$f":"+'[1]Racing numbers file'!$B142","v":"Andy Brady"},{"$f":"VLOOKUP(C199,'[1]Racing numbers file'!$B$4:$F$290,2,FALSE)","v":1968},{"$f":"VLOOKUP(C199,'[1]Racing numbers file'!$B$4:$F$290,4,FALSE)","v":48},0,{"$f":"IF(ISNA(VLOOKUP($C199,'Sat TT_01'!$C$4:$Q$152,12,FALSE)=$C199),0,VLOOKUP($C199,'Sat TT_01'!$C$4:$Q$152,12,FALSE))","v":0},{"$f":"IF(ISNA(VLOOKUP($C199,'Sat TT_02'!$C$4:$Q$152,12,FALSE)=$C199),0,VLOOKUP($C199,'Sat TT_02'!$C$4:$Q$152,12,FALSE))","v":0},{"$f":"IF(ISNA(VLOOKUP($C199,'Sat TT_03'!$C$4:$Q$152,12,FALSE)=$C199),0,VLOOKUP($C199,'Sat TT_03'!$C$4:$Q$152,12,FALSE))","v":0},{"$f":"IF(ISNA(VLOOKUP($C199,'Sat TT_04'!$C$4:$Q$152,12,FALSE)=$C199),0,VLOOKUP($C199,'Sat TT_04'!$C$4:$Q$152,12,FALSE))","v":0},{"$f":"IF(ISNA(VLOOKUP($C199,'Sat TT_05'!$C$4:$Q$152,12,FALSE)=$C199),0,VLOOKUP($C199,'Sat TT_05'!$C$4:$Q$152,12,FALSE))","v":0},{"$f":"IF(ISNA(VLOOKUP($C199,'Sat TT_06'!$C$4:$Q$152,12,FALSE)=$C199),0,VLOOKUP($C199,'Sat TT_06'!$C$4:$Q$152,12,FALSE))","v":0},{"$f":"IF(ISNA(VLOOKUP($C199,'Sat TT_07'!$C$4:$Q$152,12,FALSE)=$C199),0,VLOOKUP($C199,'Sat TT_07'!$C$4:$Q$152,12,FALSE))","v":0},{"$f":"IF(ISNA(VLOOKUP($C199,'Sat TT_08'!$C$4:$Q$152,12,FALSE)=$C199),0,VLOOKUP($C199,'Sat TT_08'!$C$4:$Q$152,12,FALSE))","v":0},0]
[{"$f":"VLOOKUP(C200,'Sheet 1'!C$1:D$96,2,FALSE)","v":{"$error":"#N/A"}},191,{"$f":"+'[1]Racing numbers file'!$B175","v":"Ray Fedigan"},{"$f":"VLOOKUP(C200,'[1]Racing numbers file'!$B$4:$F$290,2,FALSE)","v":1972},{"$f":"VLOOKUP(C200,'[1]Racing numbers file'!$B$4:$F$290,4,FALSE)","v":44},0,{"$f":"IF(ISNA(VLOOKUP($C200,'Sat TT_01'!$C$4:$Q$152,12,FALSE)=$C200),0,VLOOKUP($C200,'Sat TT_01'!$C$4:$Q$152,12,FALSE))","v":0},{"$f":"IF(ISNA(VLOOKUP($C200,'Sat TT_02'!$C$4:$Q$152,12,FALSE)=$C200),0,VLOOKUP($C200,'Sat TT_02'!$C$4:$Q$152,12,FALSE))","v":0},{"$f":"IF(ISNA(VLOOKUP($C200,'Sat TT_03'!$C$4:$Q$152,12,FALSE)=$C200),0,VLOOKUP($C200,'Sat TT_03'!$C$4:$Q$152,12,FALSE))","v":0},{"$f":"IF(ISNA(VLOOKUP($C200,'Sat TT_04'!$C$4:$Q$152,12,FALSE)=$C200),0,VLOOKUP($C200,'Sat TT_04'!$C$4:$Q$152,12,FALSE))","v":0},{"$f":"IF(ISNA(VLOOKUP($C200,'Sat TT_05'!$C$4:$Q$152,12,FALSE)=$C200),0,VLOOKUP($C200,'Sat TT_05'!$C$4:$Q$152,12,FALSE))","v":0},{"$f":"IF(ISNA(VLOOKUP($C200,'Sat TT_06'!$C$4:$Q$152,12,FALSE)=$C200),0,VLOOKUP($C200,'Sat TT_06'!$C$4:$Q$152,12,FALSE))","v":0},{"$f":"IF(ISNA(VLOOKUP($C200,'Sat TT_07'!$C$4:$Q$152,12,FALSE)=$C200),0,VLOOKUP($C200,'Sat TT_07'!$C$4:$Q$152,12,FALSE))","v":0},{"$f":"IF(ISNA(VLOOKUP($C200,'Sat TT_08'!$C$4:$Q$152,12,FALSE)=$C200),0,VLOOKUP($C200,'Sat TT_08'!$C$4:$Q$152,12,FALSE))","v":0},0]
[{"$f":"VLOOKUP(C201,'Sheet 1'!C$1:D$96,2,FALSE)","v":{"$error":"#N/A"}},192,{"$f":"+'[1]Racing numbers file'!$B156","v":"Keith O'Rourke"},{"$f":"VLOOKUP(C201,'[1]Racing numbers file'!$B$4:$F$290,2,FALSE)","v":1969},{"$f":"VLOOKUP(C201,'[1]Racing numbers file'!$B$4:$F$290,4,FALSE)","v":47},0,{"$f":"IF(ISNA(VLOOKUP($C201,'Sat TT_01'!$C$4:$Q$152,12,FALSE)=$C201),0,VLOOKUP($C201,'Sat TT_01'!$C$4:$Q$152,12,FALSE))","v":0},{"$f":"IF(ISNA(VLOOKUP($C201,'Sat TT_02'!$C$4:$Q$152,12,FALSE)=$C201),0,VLOOKUP($C201,'Sat TT_02'!$C$4:$Q$152,12,FALSE))","v":0},{"$f":"IF(ISNA(VLOOKUP($C201,'Sat TT_03'!$C$4:$Q$152,12,FALSE)=$C201),0,VLOOKUP($C201,'Sat TT_03'!$C$4:$Q$152,12,FALSE))","v":0},{"$f":"IF(ISNA(VLOOKUP($C201,'Sat TT_04'!$C$4:$Q$152,12,FALSE)=$C201),0,VLOOKUP($C201,'Sat TT_04'!$C$4:$Q$152,12,FALSE))","v":0},{"$f":"IF(ISNA(VLOOKUP($C201,'Sat TT_05'!$C$4:$Q$152,12,FALSE)=$C201),0,VLOOKUP($C201,'Sat TT_05'!$C$4:$Q$152,12,FALSE))","v":0},{"$f":"IF(ISNA(VLOOKUP($C201,'Sat TT_06'!$C$4:$Q$152,12,FALSE)=$C201),0,VLOOKUP($C201,'Sat TT_06'!$C$4:$Q$152,12,FALSE))","v":0},{"$f":"IF(ISNA(VLOOKUP($C201,'Sat TT_07'!$C$4:$Q$152,12,FALSE)=$C201),0,VLOOKUP($C201,'Sat TT_07'!$C$4:$Q$152,12,FALSE))","v":0},{"$f":"IF(ISNA(VLOOKUP($C201,'Sat TT_08'!$C$4:$Q$152,12,FALSE)=$C201),0,VLOOKUP($C201,'Sat TT_08'!$C$4:$Q$152,12,FALSE))","v":0},0]
[{"$f":"VLOOKUP(C202,'Sheet 1'!C$1:D$96,2,FALSE)","v":{"$error":"#N/A"}},193,{"$f":"+'[1]Racing numbers file'!$B192","v":"Will Byrne"},{"$f":"VLOOKUP(C202,'[1]Racing numbers file'!$B$4:$F$290,2,FALSE)","v":1973},{"$f":"VLOOKUP(C202,'[1]Racing numbers file'!$B$4:$F$290,4,FALSE)","v":43},{"$f":"+O202","v":0},{"$f":"IF(ISNA(VLOOKUP($C202,'Sat TT_01'!$C$4:$Q$152,12,FALSE)=$C202),0,VLOOKUP($C202,'Sat TT_01'!$C$4:$Q$152,12,FALSE))","v":0},{"$f":"IF(ISNA(VLOOKUP($C202,'Sat TT_02'!$C$4:$Q$152,12,FALSE)=$C202),0,VLOOKUP($C202,'Sat TT_02'!$C$4:$Q$152,12,FALSE))","v":0},{"$f":"IF(ISNA(VLOOKUP($C202,'Sat TT_03'!$C$4:$Q$152,12,FALSE)=$C202),0,VLOOKUP($C202,'Sat TT_03'!$C$4:$Q$152,12,FALSE))","v":0},{"$f":"IF(ISNA(VLOOKUP($C202,'Sat TT_04'!$C$4:$Q$152,12,FALSE)=$C202),0,VLOOKUP($C202,'Sat TT_04'!$C$4:$Q$152,12,FALSE))","v":0},{"$f":"IF(ISNA(VLOOKUP($C202,'Sat TT_05'!$C$4:$Q$152,12,FALSE)=$C202),0,VLOOKUP($C202,'Sat TT_05'!$C$4:$Q$152,12,FALSE))","v":0},{"$f":"IF(ISNA(VLOOKUP($C202,'Sat TT_06'!$C$4:$Q$152,12,FALSE)=$C202),0,VLOOKUP($C202,'Sat TT_06'!$C$4:$Q$152,12,FALSE))","v":0},{"$f":"IF(ISNA(VLOOKUP($C202,'Sat TT_07'!$C$4:$Q$152,12,FALSE)=$C202),0,VLOOKUP($C202,'Sat TT_07'!$C$4:$Q$152,12,FALSE))","v":0},{"$f":"IF(ISNA(VLOOKUP($C202,'Sat TT_08'!$C$4:$Q$152,12,FALSE)=$C202),0,VLOOKUP($C202,'Sat TT_08'!$C$4:$Q$152,12,FALSE))","v":0},{"$f":"SUM(G202:N202)","v":0}]
[{"$f":"VLOOKUP(C203,'Sheet 1'!C$1:D$96,2,FALSE)","v":{"$error":"#N/A"}},194,{"$f":"+'[1]Racing numbers file'!$B174","v":"Noel Murphy"},{"$f":"VLOOKUP(C203,'[1]Racing numbers file'!$B$4:$F$290,2,FALSE)","v":1972},{"$f":"VLOOKUP(C203,'[1]Racing numbers file'!$B$4:$F$290,4,FALSE)","v":44},0,{"$f":"IF(ISNA(VLOOKUP($C203,'Sat TT_01'!$C$4:$Q$152,12,FALSE)=$C203),0,VLOOKUP($C203,'Sat TT_01'!$C$4:$Q$152,12,FALSE))","v":0},{"$f":"IF(ISNA(VLOOKUP($C203,'Sat TT_02'!$C$4:$Q$152,12,FALSE)=$C203),0,VLOOKUP($C203,'Sat TT_02'!$C$4:$Q$152,12,FALSE))","v":0},{"$f":"IF(ISNA(VLOOKUP($C203,'Sat TT_03'!$C$4:$Q$152,12,FALSE)=$C203),0,VLOOKUP($C203,'Sat TT_03'!$C$4:$Q$152,12,FALSE))","v":0},{"$f":"IF(ISNA(VLOOKUP($C203,'Sat TT_04'!$C$4:$Q$152,12,FALSE)=$C203),0,VLOOKUP($C203,'Sat TT_04'!$C$4:$Q$152,12,FALSE))","v":0},{"$f":"IF(ISNA(VLOOKUP($C203,'Sat TT_05'!$C$4:$Q$152,12,FALSE)=$C203),0,VLOOKUP($C203,'Sat TT_05'!$C$4:$Q$152,12,FALSE))","v":0},{"$f":"IF(ISNA(VLOOKUP($C203,'Sat TT_06'!$C$4:$Q$152,12,FALSE)=$C203),0,VLOOKUP($C203,'Sat TT_06'!$C$4:$Q$152,12,FALSE))","v":0},{"$f":"IF(ISNA(VLOOKUP($C203,'Sat TT_07'!$C$4:$Q$152,12,FALSE)=$C203),0,VLOOKUP($C203,'Sat TT_07'!$C$4:$Q$152,12,FALSE))","v":0},{"$f":"IF(ISNA(VLOOKUP($C203,'Sat TT_08'!$C$4:$Q$152,12,FALSE)=$C203),0,VLOOKUP($C203,'Sat TT_08'!$C$4:$Q$152,12,FALSE))","v":0},0]
[{"$f":"VLOOKUP(C204,'Sheet 1'!C$1:D$96,2,FALSE)","v":{"$error":"#N/A"}},195,{"$f":"+'[1]Racing numbers file'!$B225","v":"Colin Bell"},{"$f":"VLOOKUP(C204,'[1]Racing numbers file'!$B$4:$F$290,2,FALSE)","v":1971},{"$f":"VLOOKUP(C204,'[1]Racing numbers file'!$B$4:$F$290,4,FALSE)","v":45},0,{"$f":"IF(ISNA(VLOOKUP($C204,'Sat TT_01'!$C$4:$Q$152,12,FALSE)=$C204),0,VLOOKUP($C204,'Sat TT_01'!$C$4:$Q$152,12,FALSE))","v":0},{"$f":"IF(ISNA(VLOOKUP($C204,'Sat TT_02'!$C$4:$Q$152,12,FALSE)=$C204),0,VLOOKUP($C204,'Sat TT_02'!$C$4:$Q$152,12,FALSE))","v":0},{"$f":"IF(ISNA(VLOOKUP($C204,'Sat TT_03'!$C$4:$Q$152,12,FALSE)=$C204),0,VLOOKUP($C204,'Sat TT_03'!$C$4:$Q$152,12,FALSE))","v":0},{"$f":"IF(ISNA(VLOOKUP($C204,'Sat TT_04'!$C$4:$Q$152,12,FALSE)=$C204),0,VLOOKUP($C204,'Sat TT_04'!$C$4:$Q$152,12,FALSE))","v":0},{"$f":"IF(ISNA(VLOOKUP($C204,'Sat TT_05'!$C$4:$Q$152,12,FALSE)=$C204),0,VLOOKUP($C204,'Sat TT_05'!$C$4:$Q$152,12,FALSE))","v":0},{"$f":"IF(ISNA(VLOOKUP($C204,'Sat TT_06'!$C$4:$Q$152,12,FALSE)=$C204),0,VLOOKUP($C204,'Sat TT_06'!$C$4:$Q$152,12,FALSE))","v":0},{"$f":"IF(ISNA(VLOOKUP($C204,'Sat TT_07'!$C$4:$Q$152,12,FALSE)=$C204),0,VLOOKUP($C204,'Sat TT_07'!$C$4:$Q$152,12,FALSE))","v":0},{"$f":"IF(ISNA(VLOOKUP($C204,'Sat TT_08'!$C$4:$Q$152,12,FALSE)=$C204),0,VLOOKUP($C204,'Sat TT_08'!$C$4:$Q$152,12,FALSE))","v":0},0]
[{"$f":"VLOOKUP(C205,'Sheet 1'!C$1:D$96,2,FALSE)","v":{"$error":"#N/A"}},196,{"$f":"+'[1]Racing numbers file'!$B219","v":"Barry Roden"},{"$f":"VLOOKUP(C205,'[1]Racing numbers file'!$B$4:$F$290,2,FALSE)","v":1970},{"$f":"VLOOKUP(C205,'[1]Racing numbers file'!$B$4:$F$290,4,FALSE)","v":46},0,{"$f":"IF(ISNA(VLOOKUP($C205,'Sat TT_01'!$C$4:$Q$152,12,FALSE)=$C205),0,VLOOKUP($C205,'Sat TT_01'!$C$4:$Q$152,12,FALSE))","v":0},{"$f":"IF(ISNA(VLOOKUP($C205,'Sat TT_02'!$C$4:$Q$152,12,FALSE)=$C205),0,VLOOKUP($C205,'Sat TT_02'!$C$4:$Q$152,12,FALSE))","v":0},{"$f":"IF(ISNA(VLOOKUP($C205,'Sat TT_03'!$C$4:$Q$152,12,FALSE)=$C205),0,VLOOKUP($C205,'Sat TT_03'!$C$4:$Q$152,12,FALSE))","v":0},{"$f":"IF(ISNA(VLOOKUP($C205,'Sat TT_04'!$C$4:$Q$152,12,FALSE)=$C205),0,VLOOKUP($C205,'Sat TT_04'!$C$4:$Q$152,12,FALSE))","v":0},{"$f":"IF(ISNA(VLOOKUP($C205,'Sat TT_05'!$C$4:$Q$152,12,FALSE)=$C205),0,VLOOKUP($C205,'Sat TT_05'!$C$4:$Q$152,12,FALSE))","v":0},{"$f":"IF(ISNA(VLOOKUP($C205,'Sat TT_06'!$C$4:$Q$152,12,FALSE)=$C205),0,VLOOKUP($C205,'Sat TT_06'!$C$4:$Q$152,12,FALSE))","v":0},{"$f":"IF(ISNA(VLOOKUP($C205,'Sat TT_07'!$C$4:$Q$152,12,FALSE)=$C205),0,VLOOKUP($C205,'Sat TT_07'!$C$4:$Q$152,12,FALSE))","v":0},{"$f":"IF(ISNA(VLOOKUP($C205,'Sat TT_08'!$C$4:$Q$152,12,FALSE)=$C205),0,VLOOKUP($C205,'Sat TT_08'!$C$4:$Q$152,12,FALSE))","v":0},0]
[{"$f":"VLOOKUP(C206,'Sheet 1'!C$1:D$96,2,FALSE)","v":{"$error":"#N/A"}},197,{"$f":"+'[1]Racing numbers file'!$B224","v":"Charlie Sheridan"},{"$f":"VLOOKUP(C206,'[1]Racing numbers file'!$B$4:$F$290,2,FALSE)","v":1971},{"$f":"VLOOKUP(C206,'[1]Racing numbers file'!$B$4:$F$290,4,FALSE)","v":45},0,{"$f":"IF(ISNA(VLOOKUP($C206,'Sat TT_01'!$C$4:$Q$152,12,FALSE)=$C206),0,VLOOKUP($C206,'Sat TT_01'!$C$4:$Q$152,12,FALSE))","v":0},{"$f":"IF(ISNA(VLOOKUP($C206,'Sat TT_02'!$C$4:$Q$152,12,FALSE)=$C206),0,VLOOKUP($C206,'Sat TT_02'!$C$4:$Q$152,12,FALSE))","v":0},{"$f":"IF(ISNA(VLOOKUP($C206,'Sat TT_03'!$C$4:$Q$152,12,FALSE)=$C206),0,VLOOKUP($C206,'Sat TT_03'!$C$4:$Q$152,12,FALSE))","v":0},{"$f":"IF(ISNA(VLOOKUP($C206,'Sat TT_04'!$C$4:$Q$152,12,FALSE)=$C206),0,VLOOKUP($C206,'Sat TT_04'!$C$4:$Q$152,12,FALSE))","v":0},{"$f":"IF(ISNA(VLOOKUP($C206,'Sat TT_05'!$C$4:$Q$152,12,FALSE)=$C206),0,VLOOKUP($C206,'Sat TT_05'!$C$4:$Q$152,12,FALSE))","v":0},{"$f":"IF(ISNA(VLOOKUP($C206,'Sat TT_06'!$C$4:$Q$152,12,FALSE)=$C206),0,VLOOKUP($C206,'Sat TT_06'!$C$4:$Q$152,12,FALSE))","v":0},{"$f":"IF(ISNA(VLOOKUP($C206,'Sat TT_07'!$C$4:$Q$152,12,FALSE)=$C206),0,VLOOKUP($C206,'Sat TT_07'!$C$4:$Q$152,12,FALSE))","v":0},{"$f":"IF(ISNA(VLOOKUP($C206,'Sat TT_08'!$C$4:$Q$152,12,FALSE)=$C206),0,VLOOKUP($C206,'Sat TT_08'!$C$4:$Q$152,12,FALSE))","v":0},0]
[{"$f":"VLOOKUP(C207,'Sheet 1'!C$1:D$96,2,FALSE)","v":{"$error":"#N/A"}},198,{"$f":"+'[1]Racing numbers file'!$B123","v":"Greg Burke"},{"$f":"VLOOKUP(C207,'[1]Racing numbers file'!$B$4:$F$290,2,FALSE)","v":1966},{"$f":"VLOOKUP(C207,'[1]Racing numbers file'!$B$4:$F$290,4,FALSE)","v":50},0,{"$f":"IF(ISNA(VLOOKUP($C207,'Sat TT_01'!$C$4:$Q$152,12,FALSE)=$C207),0,VLOOKUP($C207,'Sat TT_01'!$C$4:$Q$152,12,FALSE))","v":0},{"$f":"IF(ISNA(VLOOKUP($C207,'Sat TT_02'!$C$4:$Q$152,12,FALSE)=$C207),0,VLOOKUP($C207,'Sat TT_02'!$C$4:$Q$152,12,FALSE))","v":0},{"$f":"IF(ISNA(VLOOKUP($C207,'Sat TT_03'!$C$4:$Q$152,12,FALSE)=$C207),0,VLOOKUP($C207,'Sat TT_03'!$C$4:$Q$152,12,FALSE))","v":0},{"$f":"IF(ISNA(VLOOKUP($C207,'Sat TT_04'!$C$4:$Q$152,12,FALSE)=$C207),0,VLOOKUP($C207,'Sat TT_04'!$C$4:$Q$152,12,FALSE))","v":0},{"$f":"IF(ISNA(VLOOKUP($C207,'Sat TT_05'!$C$4:$Q$152,12,FALSE)=$C207),0,VLOOKUP($C207,'Sat TT_05'!$C$4:$Q$152,12,FALSE))","v":0},{"$f":"IF(ISNA(VLOOKUP($C207,'Sat TT_06'!$C$4:$Q$152,12,FALSE)=$C207),0,VLOOKUP($C207,'Sat TT_06'!$C$4:$Q$152,12,FALSE))","v":0},{"$f":"IF(ISNA(VLOOKUP($C207,'Sat TT_07'!$C$4:$Q$152,12,FALSE)=$C207),0,VLOOKUP($C207,'Sat TT_07'!$C$4:$Q$152,12,FALSE))","v":0},{"$f":"IF(ISNA(VLOOKUP($C207,'Sat TT_08'!$C$4:$Q$152,12,FALSE)=$C207),0,VLOOKUP($C207,'Sat TT_08'!$C$4:$Q$152,12,FALSE))","v":0},0]
[{"$f":"VLOOKUP(C208,'Sheet 1'!C$1:D$96,2,FALSE)","v":{"$error":"#N/A"}},199,{"$f":"+'[1]Racing numbers file'!$B126","v":"Alan Sheppard"},{"$f":"VLOOKUP(C208,'[1]Racing numbers file'!$B$4:$F$290,2,FALSE)","v":1966},{"$f":"VLOOKUP(C208,'[1]Racing numbers file'!$B$4:$F$290,4,FALSE)","v":50},0,{"$f":"IF(ISNA(VLOOKUP($C208,'Sat TT_01'!$C$4:$Q$152,12,FALSE)=$C208),0,VLOOKUP($C208,'Sat TT_01'!$C$4:$Q$152,12,FALSE))","v":0},{"$f":"IF(ISNA(VLOOKUP($C208,'Sat TT_02'!$C$4:$Q$152,12,FALSE)=$C208),0,VLOOKUP($C208,'Sat TT_02'!$C$4:$Q$152,12,FALSE))","v":0},{"$f":"IF(ISNA(VLOOKUP($C208,'Sat TT_03'!$C$4:$Q$152,12,FALSE)=$C208),0,VLOOKUP($C208,'Sat TT_03'!$C$4:$Q$152,12,FALSE))","v":0},{"$f":"IF(ISNA(VLOOKUP($C208,'Sat TT_04'!$C$4:$Q$152,12,FALSE)=$C208),0,VLOOKUP($C208,'Sat TT_04'!$C$4:$Q$152,12,FALSE))","v":0},{"$f":"IF(ISNA(VLOOKUP($C208,'Sat TT_05'!$C$4:$Q$152,12,FALSE)=$C208),0,VLOOKUP($C208,'Sat TT_05'!$C$4:$Q$152,12,FALSE))","v":0},{"$f":"IF(ISNA(VLOOKUP($C208,'Sat TT_06'!$C$4:$Q$152,12,FALSE)=$C208),0,VLOOKUP($C208,'Sat TT_06'!$C$4:$Q$152,12,FALSE))","v":0},{"$f":"IF(ISNA(VLOOKUP($C208,'Sat TT_07'!$C$4:$Q$152,12,FALSE)=$C208),0,VLOOKUP($C208,'Sat TT_07'!$C$4:$Q$152,12,FALSE))","v":0},{"$f":"IF(ISNA(VLOOKUP($C208,'Sat TT_08'!$C$4:$Q$152,12,FALSE)=$C208),0,VLOOKUP($C208,'Sat TT_08'!$C$4:$Q$152,12,FALSE))","v":0},0]
[{"$f":"VLOOKUP(C209,'Sheet 1'!C$1:D$96,2,FALSE)","v":{"$error":"#N/A"}},200,{"$f":"+'[1]Racing numbers file'!$B130","v":"Mark McGarry"},{"$f":"VLOOKUP(C209,'[1]Racing numbers file'!$B$4:$F$290,2,FALSE)","v":1967},{"$f":"VLOOKUP(C209,'[1]Racing numbers file'!$B$4:$F$290,4,FALSE)","v":49},0,{"$f":"IF(ISNA(VLOOKUP($C209,'Sat TT_01'!$C$4:$Q$152,12,FALSE)=$C209),0,VLOOKUP($C209,'Sat TT_01'!$C$4:$Q$152,12,FALSE))","v":0},{"$f":"IF(ISNA(VLOOKUP($C209,'Sat TT_02'!$C$4:$Q$152,12,FALSE)=$C209),0,VLOOKUP($C209,'Sat TT_02'!$C$4:$Q$152,12,FALSE))","v":0},{"$f":"IF(ISNA(VLOOKUP($C209,'Sat TT_03'!$C$4:$Q$152,12,FALSE)=$C209),0,VLOOKUP($C209,'Sat TT_03'!$C$4:$Q$152,12,FALSE))","v":0},{"$f":"IF(ISNA(VLOOKUP($C209,'Sat TT_04'!$C$4:$Q$152,12,FALSE)=$C209),0,VLOOKUP($C209,'Sat TT_04'!$C$4:$Q$152,12,FALSE))","v":0},{"$f":"IF(ISNA(VLOOKUP($C209,'Sat TT_05'!$C$4:$Q$152,12,FALSE)=$C209),0,VLOOKUP($C209,'Sat TT_05'!$C$4:$Q$152,12,FALSE))","v":0},{"$f":"IF(ISNA(VLOOKUP($C209,'Sat TT_06'!$C$4:$Q$152,12,FALSE)=$C209),0,VLOOKUP($C209,'Sat TT_06'!$C$4:$Q$152,12,FALSE))","v":0},{"$f":"IF(ISNA(VLOOKUP($C209,'Sat TT_07'!$C$4:$Q$152,12,FALSE)=$C209),0,VLOOKUP($C209,'Sat TT_07'!$C$4:$Q$152,12,FALSE))","v":0},{"$f":"IF(ISNA(VLOOKUP($C209,'Sat TT_08'!$C$4:$Q$152,12,FALSE)=$C209),0,VLOOKUP($C209,'Sat TT_08'!$C$4:$Q$152,12,FALSE))","v":0},0]
[{"$f":"VLOOKUP(C210,'Sheet 1'!C$1:D$96,2,FALSE)","v":{"$error":"#N/A"}},201,{"$f":"+'[1]Racing numbers file'!$B140","v":"Darragh Murphy"},{"$f":"VLOOKUP(C210,'[1]Racing numbers file'!$B$4:$F$290,2,FALSE)","v":1968},{"$f":"VLOOKUP(C210,'[1]Racing numbers file'!$B$4:$F$290,4,FALSE)","v":48},0,{"$f":"IF(ISNA(VLOOKUP($C210,'Sat TT_01'!$C$4:$Q$152,12,FALSE)=$C210),0,VLOOKUP($C210,'Sat TT_01'!$C$4:$Q$152,12,FALSE))","v":0},{"$f":"IF(ISNA(VLOOKUP($C210,'Sat TT_02'!$C$4:$Q$152,12,FALSE)=$C210),0,VLOOKUP($C210,'Sat TT_02'!$C$4:$Q$152,12,FALSE))","v":0},{"$f":"IF(ISNA(VLOOKUP($C210,'Sat TT_03'!$C$4:$Q$152,12,FALSE)=$C210),0,VLOOKUP($C210,'Sat TT_03'!$C$4:$Q$152,12,FALSE))","v":0},{"$f":"IF(ISNA(VLOOKUP($C210,'Sat TT_04'!$C$4:$Q$152,12,FALSE)=$C210),0,VLOOKUP($C210,'Sat TT_04'!$C$4:$Q$152,12,FALSE))","v":0},{"$f":"IF(ISNA(VLOOKUP($C210,'Sat TT_05'!$C$4:$Q$152,12,FALSE)=$C210),0,VLOOKUP($C210,'Sat TT_05'!$C$4:$Q$152,12,FALSE))","v":0},{"$f":"IF(ISNA(VLOOKUP($C210,'Sat TT_06'!$C$4:$Q$152,12,FALSE)=$C210),0,VLOOKUP($C210,'Sat TT_06'!$C$4:$Q$152,12,FALSE))","v":0},{"$f":"IF(ISNA(VLOOKUP($C210,'Sat TT_07'!$C$4:$Q$152,12,FALSE)=$C210),0,VLOOKUP($C210,'Sat TT_07'!$C$4:$Q$152,12,FALSE))","v":0},{"$f":"IF(ISNA(VLOOKUP($C210,'Sat TT_08'!$C$4:$Q$152,12,FALSE)=$C210),0,VLOOKUP($C210,'Sat TT_08'!$C$4:$Q$152,12,FALSE))","v":0},0]
[{"$f":"VLOOKUP(C211,'Sheet 1'!C$1:D$96,2,FALSE)","v":1375},202,{"$f":"+'[1]Racing numbers file'!$B190","v":"Paul Fahy"},{"$f":"VLOOKUP(C211,'[1]Racing numbers file'!$B$4:$F$290,2,FALSE)","v":1965},{"$f":"VLOOKUP(C211,'[1]Racing numbers file'!$B$4:$F$290,4,FALSE)","v":51},0,{"$f":"IF(ISNA(VLOOKUP($C211,'Sat TT_01'!$C$4:$Q$152,12,FALSE)=$C211),0,VLOOKUP($C211,'Sat TT_01'!$C$4:$Q$152,12,FALSE))","v":0},{"$f":"IF(ISNA(VLOOKUP($C211,'Sat TT_02'!$C$4:$Q$152,12,FALSE)=$C211),0,VLOOKUP($C211,'Sat TT_02'!$C$4:$Q$152,12,FALSE))","v":0},{"$f":"IF(ISNA(VLOOKUP($C211,'Sat TT_03'!$C$4:$Q$152,12,FALSE)=$C211),0,VLOOKUP($C211,'Sat TT_03'!$C$4:$Q$152,12,FALSE))","v":0},{"$f":"IF(ISNA(VLOOKUP($C211,'Sat TT_04'!$C$4:$Q$152,12,FALSE)=$C211),0,VLOOKUP($C211,'Sat TT_04'!$C$4:$Q$152,12,FALSE))","v":0},{"$f":"IF(ISNA(VLOOKUP($C211,'Sat TT_05'!$C$4:$Q$152,12,FALSE)=$C211),0,VLOOKUP($C211,'Sat TT_05'!$C$4:$Q$152,12,FALSE))","v":0},{"$f":"IF(ISNA(VLOOKUP($C211,'Sat TT_06'!$C$4:$Q$152,12,FALSE)=$C211),0,VLOOKUP($C211,'Sat TT_06'!$C$4:$Q$152,12,FALSE))","v":0},{"$f":"IF(ISNA(VLOOKUP($C211,'Sat TT_07'!$C$4:$Q$152,12,FALSE)=$C211),0,VLOOKUP($C211,'Sat TT_07'!$C$4:$Q$152,12,FALSE))","v":0},{"$f":"IF(ISNA(VLOOKUP($C211,'Sat TT_08'!$C$4:$Q$152,12,FALSE)=$C211),0,VLOOKUP($C211,'Sat TT_08'!$C$4:$Q$152,12,FALSE))","v":0},0]
[{"$f":"VLOOKUP(C212,'Sheet 1'!C$1:D$96,2,FALSE)","v":{"$error":"#N/A"}},203,{"$f":"+'[1]Racing numbers file'!$B244","v":"Mark Kiernan"},{"$f":"VLOOKUP(C212,'[1]Racing numbers file'!$B$4:$F$290,2,FALSE)","v":1969},{"$f":"VLOOKUP(C212,'[1]Racing numbers file'!$B$4:$F$290,4,FALSE)","v":47},0,{"$f":"IF(ISNA(VLOOKUP($C212,'Sat TT_01'!$C$4:$Q$152,12,FALSE)=$C212),0,VLOOKUP($C212,'Sat TT_01'!$C$4:$Q$152,12,FALSE))","v":0},{"$f":"IF(ISNA(VLOOKUP($C212,'Sat TT_02'!$C$4:$Q$152,12,FALSE)=$C212),0,VLOOKUP($C212,'Sat TT_02'!$C$4:$Q$152,12,FALSE))","v":0},{"$f":"IF(ISNA(VLOOKUP($C212,'Sat TT_03'!$C$4:$Q$152,12,FALSE)=$C212),0,VLOOKUP($C212,'Sat TT_03'!$C$4:$Q$152,12,FALSE))","v":0},{"$f":"IF(ISNA(VLOOKUP($C212,'Sat TT_04'!$C$4:$Q$152,12,FALSE)=$C212),0,VLOOKUP($C212,'Sat TT_04'!$C$4:$Q$152,12,FALSE))","v":0},{"$f":"IF(ISNA(VLOOKUP($C212,'Sat TT_05'!$C$4:$Q$152,12,FALSE)=$C212),0,VLOOKUP($C212,'Sat TT_05'!$C$4:$Q$152,12,FALSE))","v":0},{"$f":"IF(ISNA(VLOOKUP($C212,'Sat TT_06'!$C$4:$Q$152,12,FALSE)=$C212),0,VLOOKUP($C212,'Sat TT_06'!$C$4:$Q$152,12,FALSE))","v":0},{"$f":"IF(ISNA(VLOOKUP($C212,'Sat TT_07'!$C$4:$Q$152,12,FALSE)=$C212),0,VLOOKUP($C212,'Sat TT_07'!$C$4:$Q$152,12,FALSE))","v":0},{"$f":"IF(ISNA(VLOOKUP($C212,'Sat TT_08'!$C$4:$Q$152,12,FALSE)=$C212),0,VLOOKUP($C212,'Sat TT_08'!$C$4:$Q$152,12,FALSE))","v":0},0]
[{"$f":"VLOOKUP(C213,'Sheet 1'!C$1:D$96,2,FALSE)","v":{"$error":"#N/A"}},204,{"$f":"+'[1]Racing numbers file'!$B154","v":"Brian Lenehan"},{"$f":"VLOOKUP(C213,'[1]Racing numbers file'!$B$4:$F$290,2,FALSE)","v":1969},{"$f":"VLOOKUP(C213,'[1]Racing numbers file'!$B$4:$F$290,4,FALSE)","v":47},0,{"$f":"IF(ISNA(VLOOKUP($C213,'Sat TT_01'!$C$4:$Q$152,12,FALSE)=$C213),0,VLOOKUP($C213,'Sat TT_01'!$C$4:$Q$152,12,FALSE))","v":0},{"$f":"IF(ISNA(VLOOKUP($C213,'Sat TT_02'!$C$4:$Q$152,12,FALSE)=$C213),0,VLOOKUP($C213,'Sat TT_02'!$C$4:$Q$152,12,FALSE))","v":0},{"$f":"IF(ISNA(VLOOKUP($C213,'Sat TT_03'!$C$4:$Q$152,12,FALSE)=$C213),0,VLOOKUP($C213,'Sat TT_03'!$C$4:$Q$152,12,FALSE))","v":0},{"$f":"IF(ISNA(VLOOKUP($C213,'Sat TT_04'!$C$4:$Q$152,12,FALSE)=$C213),0,VLOOKUP($C213,'Sat TT_04'!$C$4:$Q$152,12,FALSE))","v":0},{"$f":"IF(ISNA(VLOOKUP($C213,'Sat TT_05'!$C$4:$Q$152,12,FALSE)=$C213),0,VLOOKUP($C213,'Sat TT_05'!$C$4:$Q$152,12,FALSE))","v":0},{"$f":"IF(ISNA(VLOOKUP($C213,'Sat TT_06'!$C$4:$Q$152,12,FALSE)=$C213),0,VLOOKUP($C213,'Sat TT_06'!$C$4:$Q$152,12,FALSE))","v":0},{"$f":"IF(ISNA(VLOOKUP($C213,'Sat TT_07'!$C$4:$Q$152,12,FALSE)=$C213),0,VLOOKUP($C213,'Sat TT_07'!$C$4:$Q$152,12,FALSE))","v":0},{"$f":"IF(ISNA(VLOOKUP($C213,'Sat TT_08'!$C$4:$Q$152,12,FALSE)=$C213),0,VLOOKUP($C213,'Sat TT_08'!$C$4:$Q$152,12,FALSE))","v":0},0]
[{"$f":"VLOOKUP(C214,'Sheet 1'!C$1:D$96,2,FALSE)","v":{"$error":"#N/A"}},205,{"$f":"+'[1]Racing numbers file'!$B106","v":"Nathan Hannigan"},{"$f":"VLOOKUP(C214,'[1]Racing numbers file'!$B$4:$F$290,2,FALSE)","v":1964},{"$f":"VLOOKUP(C214,'[1]Racing numbers file'!$B$4:$F$290,4,FALSE)","v":52},0,{"$f":"IF(ISNA(VLOOKUP($C214,'Sat TT_01'!$C$4:$Q$152,12,FALSE)=$C214),0,VLOOKUP($C214,'Sat TT_01'!$C$4:$Q$152,12,FALSE))","v":0},{"$f":"IF(ISNA(VLOOKUP($C214,'Sat TT_02'!$C$4:$Q$152,12,FALSE)=$C214),0,VLOOKUP($C214,'Sat TT_02'!$C$4:$Q$152,12,FALSE))","v":0},{"$f":"IF(ISNA(VLOOKUP($C214,'Sat TT_03'!$C$4:$Q$152,12,FALSE)=$C214),0,VLOOKUP($C214,'Sat TT_03'!$C$4:$Q$152,12,FALSE))","v":0},{"$f":"IF(ISNA(VLOOKUP($C214,'Sat TT_04'!$C$4:$Q$152,12,FALSE)=$C214),0,VLOOKUP($C214,'Sat TT_04'!$C$4:$Q$152,12,FALSE))","v":0},{"$f":"IF(ISNA(VLOOKUP($C214,'Sat TT_05'!$C$4:$Q$152,12,FALSE)=$C214),0,VLOOKUP($C214,'Sat TT_05'!$C$4:$Q$152,12,FALSE))","v":0},{"$f":"IF(ISNA(VLOOKUP($C214,'Sat TT_06'!$C$4:$Q$152,12,FALSE)=$C214),0,VLOOKUP($C214,'Sat TT_06'!$C$4:$Q$152,12,FALSE))","v":0},{"$f":"IF(ISNA(VLOOKUP($C214,'Sat TT_07'!$C$4:$Q$152,12,FALSE)=$C214),0,VLOOKUP($C214,'Sat TT_07'!$C$4:$Q$152,12,FALSE))","v":0},{"$f":"IF(ISNA(VLOOKUP($C214,'Sat TT_08'!$C$4:$Q$152,12,FALSE)=$C214),0,VLOOKUP($C214,'Sat TT_08'!$C$4:$Q$152,12,FALSE))","v":0},0]
[{"$f":"VLOOKUP(C215,'Sheet 1'!C$1:D$96,2,FALSE)","v":1255},206,{"$f":"+'[1]Racing numbers file'!$B129","v":"Paul Dolan"},{"$f":"VLOOKUP(C215,'[1]Racing numbers file'!$B$4:$F$290,2,FALSE)","v":1967},{"$f":"VLOOKUP(C215,'[1]Racing numbers file'!$B$4:$F$290,4,FALSE)","v":49},0,{"$f":"IF(ISNA(VLOOKUP($C215,'Sat TT_01'!$C$4:$Q$152,12,FALSE)=$C215),0,VLOOKUP($C215,'Sat TT_01'!$C$4:$Q$152,12,FALSE))","v":0},{"$f":"IF(ISNA(VLOOKUP($C215,'Sat TT_02'!$C$4:$Q$152,12,FALSE)=$C215),0,VLOOKUP($C215,'Sat TT_02'!$C$4:$Q$152,12,FALSE))","v":0},{"$f":"IF(ISNA(VLOOKUP($C215,'Sat TT_03'!$C$4:$Q$152,12,FALSE)=$C215),0,VLOOKUP($C215,'Sat TT_03'!$C$4:$Q$152,12,FALSE))","v":0},{"$f":"IF(ISNA(VLOOKUP($C215,'Sat TT_04'!$C$4:$Q$152,12,FALSE)=$C215),0,VLOOKUP($C215,'Sat TT_04'!$C$4:$Q$152,12,FALSE))","v":0},{"$f":"IF(ISNA(VLOOKUP($C215,'Sat TT_05'!$C$4:$Q$152,12,FALSE)=$C215),0,VLOOKUP($C215,'Sat TT_05'!$C$4:$Q$152,12,FALSE))","v":0},{"$f":"IF(ISNA(VLOOKUP($C215,'Sat TT_06'!$C$4:$Q$152,12,FALSE)=$C215),0,VLOOKUP($C215,'Sat TT_06'!$C$4:$Q$152,12,FALSE))","v":0},{"$f":"IF(ISNA(VLOOKUP($C215,'Sat TT_07'!$C$4:$Q$152,12,FALSE)=$C215),0,VLOOKUP($C215,'Sat TT_07'!$C$4:$Q$152,12,FALSE))","v":0},{"$f":"IF(ISNA(VLOOKUP($C215,'Sat TT_08'!$C$4:$Q$152,12,FALSE)=$C215),0,VLOOKUP($C215,'Sat TT_08'!$C$4:$Q$152,12,FALSE))","v":0},0]
[{"$f":"VLOOKUP(C216,'Sheet 1'!C$1:D$96,2,FALSE)","v":{"$error":"#N/A"}},207,{"$f":"+'[1]Racing numbers file'!$B242","v":"Paul Reid"},{"$f":"VLOOKUP(C216,'[1]Racing numbers file'!$B$4:$F$290,2,FALSE)","v":1970},{"$f":"VLOOKUP(C216,'[1]Racing numbers file'!$B$4:$F$290,4,FALSE)","v":46},0,{"$f":"IF(ISNA(VLOOKUP($C216,'Sat TT_01'!$C$4:$Q$152,12,FALSE)=$C216),0,VLOOKUP($C216,'Sat TT_01'!$C$4:$Q$152,12,FALSE))","v":0},{"$f":"IF(ISNA(VLOOKUP($C216,'Sat TT_02'!$C$4:$Q$152,12,FALSE)=$C216),0,VLOOKUP($C216,'Sat TT_02'!$C$4:$Q$152,12,FALSE))","v":0},{"$f":"IF(ISNA(VLOOKUP($C216,'Sat TT_03'!$C$4:$Q$152,12,FALSE)=$C216),0,VLOOKUP($C216,'Sat TT_03'!$C$4:$Q$152,12,FALSE))","v":0},{"$f":"IF(ISNA(VLOOKUP($C216,'Sat TT_04'!$C$4:$Q$152,12,FALSE)=$C216),0,VLOOKUP($C216,'Sat TT_04'!$C$4:$Q$152,12,FALSE))","v":0},{"$f":"IF(ISNA(VLOOKUP($C216,'Sat TT_05'!$C$4:$Q$152,12,FALSE)=$C216),0,VLOOKUP($C216,'Sat TT_05'!$C$4:$Q$152,12,FALSE))","v":0},{"$f":"IF(ISNA(VLOOKUP($C216,'Sat TT_06'!$C$4:$Q$152,12,FALSE)=$C216),0,VLOOKUP($C216,'Sat TT_06'!$C$4:$Q$152,12,FALSE))","v":0},{"$f":"IF(ISNA(VLOOKUP($C216,'Sat TT_07'!$C$4:$Q$152,12,FALSE)=$C216),0,VLOOKUP($C216,'Sat TT_07'!$C$4:$Q$152,12,FALSE))","v":0},{"$f":"IF(ISNA(VLOOKUP($C216,'Sat TT_08'!$C$4:$Q$152,12,FALSE)=$C216),0,VLOOKUP($C216,'Sat TT_08'!$C$4:$Q$152,12,FALSE))","v":0},0]
[{"$f":"VLOOKUP(C217,'Sheet 1'!C$1:D$96,2,FALSE)","v":1390},208,{"$f":"+'[1]Racing numbers file'!$B199","v":"Donagh McArdle"},{"$f":"VLOOKUP(C217,'[1]Racing numbers file'!$B$4:$F$290,2,FALSE)","v":1968},{"$f":"VLOOKUP(C217,'[1]Racing numbers file'!$B$4:$F$290,4,FALSE)","v":48},0,{"$f":"IF(ISNA(VLOOKUP($C217,'Sat TT_01'!$C$4:$Q$152,12,FALSE)=$C217),0,VLOOKUP($C217,'Sat TT_01'!$C$4:$Q$152,12,FALSE))","v":0},{"$f":"IF(ISNA(VLOOKUP($C217,'Sat TT_02'!$C$4:$Q$152,12,FALSE)=$C217),0,VLOOKUP($C217,'Sat TT_02'!$C$4:$Q$152,12,FALSE))","v":0},{"$f":"IF(ISNA(VLOOKUP($C217,'Sat TT_03'!$C$4:$Q$152,12,FALSE)=$C217),0,VLOOKUP($C217,'Sat TT_03'!$C$4:$Q$152,12,FALSE))","v":0},{"$f":"IF(ISNA(VLOOKUP($C217,'Sat TT_04'!$C$4:$Q$152,12,FALSE)=$C217),0,VLOOKUP($C217,'Sat TT_04'!$C$4:$Q$152,12,FALSE))","v":0},{"$f":"IF(ISNA(VLOOKUP($C217,'Sat TT_05'!$C$4:$Q$152,12,FALSE)=$C217),0,VLOOKUP($C217,'Sat TT_05'!$C$4:$Q$152,12,FALSE))","v":0},{"$f":"IF(ISNA(VLOOKUP($C217,'Sat TT_06'!$C$4:$Q$152,12,FALSE)=$C217),0,VLOOKUP($C217,'Sat TT_06'!$C$4:$Q$152,12,FALSE))","v":0},{"$f":"IF(ISNA(VLOOKUP($C217,'Sat TT_07'!$C$4:$Q$152,12,FALSE)=$C217),0,VLOOKUP($C217,'Sat TT_07'!$C$4:$Q$152,12,FALSE))","v":0},{"$f":"IF(ISNA(VLOOKUP($C217,'Sat TT_08'!$C$4:$Q$152,12,FALSE)=$C217),0,VLOOKUP($C217,'Sat TT_08'!$C$4:$Q$152,12,FALSE))","v":0},0]
[{"$f":"VLOOKUP(C218,'Sheet 1'!C$1:D$96,2,FALSE)","v":{"$error":"#N/A"}},209,{"$f":"+'[1]Racing numbers file'!$B180","v":"Susie Mitchell"},{"$f":"VLOOKUP(C218,'[1]Racing numbers file'!$B$4:$F$290,2,FALSE)","v":1975},{"$f":"VLOOKUP(C218,'[1]Racing numbers file'!$B$4:$F$290,4,FALSE)","v":41},0,{"$f":"IF(ISNA(VLOOKUP($C218,'Sat TT_01'!$C$4:$Q$152,12,FALSE)=$C218),0,VLOOKUP($C218,'Sat TT_01'!$C$4:$Q$152,12,FALSE))","v":0},{"$f":"IF(ISNA(VLOOKUP($C218,'Sat TT_02'!$C$4:$Q$152,12,FALSE)=$C218),0,VLOOKUP($C218,'Sat TT_02'!$C$4:$Q$152,12,FALSE))","v":0},{"$f":"IF(ISNA(VLOOKUP($C218,'Sat TT_03'!$C$4:$Q$152,12,FALSE)=$C218),0,VLOOKUP($C218,'Sat TT_03'!$C$4:$Q$152,12,FALSE))","v":0},{"$f":"IF(ISNA(VLOOKUP($C218,'Sat TT_04'!$C$4:$Q$152,12,FALSE)=$C218),0,VLOOKUP($C218,'Sat TT_04'!$C$4:$Q$152,12,FALSE))","v":0},{"$f":"IF(ISNA(VLOOKUP($C218,'Sat TT_05'!$C$4:$Q$152,12,FALSE)=$C218),0,VLOOKUP($C218,'Sat TT_05'!$C$4:$Q$152,12,FALSE))","v":0},{"$f":"IF(ISNA(VLOOKUP($C218,'Sat TT_06'!$C$4:$Q$152,12,FALSE)=$C218),0,VLOOKUP($C218,'Sat TT_06'!$C$4:$Q$152,12,FALSE))","v":0},{"$f":"IF(ISNA(VLOOKUP($C218,'Sat TT_07'!$C$4:$Q$152,12,FALSE)=$C218),0,VLOOKUP($C218,'Sat TT_07'!$C$4:$Q$152,12,FALSE))","v":0},{"$f":"IF(ISNA(VLOOKUP($C218,'Sat TT_08'!$C$4:$Q$152,12,FALSE)=$C218),0,VLOOKUP($C218,'Sat TT_08'!$C$4:$Q$152,12,FALSE))","v":0},0]
[{"$f":"VLOOKUP(C219,'Sheet 1'!C$1:D$96,2,FALSE)","v":{"$error":"#N/A"}},210,{"$f":"+'[1]Racing numbers file'!$B246","v":"Giovanni Furlan"},{"$f":"VLOOKUP(C219,'[1]Racing numbers file'!$B$4:$F$290,2,FALSE)","v":1969},{"$f":"VLOOKUP(C219,'[1]Racing numbers file'!$B$4:$F$290,4,FALSE)","v":47},0,{"$f":"IF(ISNA(VLOOKUP($C219,'Sat TT_01'!$C$4:$Q$152,12,FALSE)=$C219),0,VLOOKUP($C219,'Sat TT_01'!$C$4:$Q$152,12,FALSE))","v":0},{"$f":"IF(ISNA(VLOOKUP($C219,'Sat TT_02'!$C$4:$Q$152,12,FALSE)=$C219),0,VLOOKUP($C219,'Sat TT_02'!$C$4:$Q$152,12,FALSE))","v":0},{"$f":"IF(ISNA(VLOOKUP($C219,'Sat TT_03'!$C$4:$Q$152,12,FALSE)=$C219),0,VLOOKUP($C219,'Sat TT_03'!$C$4:$Q$152,12,FALSE))","v":0},{"$f":"IF(ISNA(VLOOKUP($C219,'Sat TT_04'!$C$4:$Q$152,12,FALSE)=$C219),0,VLOOKUP($C219,'Sat TT_04'!$C$4:$Q$152,12,FALSE))","v":0},{"$f":"IF(ISNA(VLOOKUP($C219,'Sat TT_05'!$C$4:$Q$152,12,FALSE)=$C219),0,VLOOKUP($C219,'Sat TT_05'!$C$4:$Q$152,12,FALSE))","v":0},{"$f":"IF(ISNA(VLOOKUP($C219,'Sat TT_06'!$C$4:$Q$152,12,FALSE)=$C219),0,VLOOKUP($C219,'Sat TT_06'!$C$4:$Q$152,12,FALSE))","v":0},{"$f":"IF(ISNA(VLOOKUP($C219,'Sat TT_07'!$C$4:$Q$152,12,FALSE)=$C219),0,VLOOKUP($C219,'Sat TT_07'!$C$4:$Q$152,12,FALSE))","v":0},{"$f":"IF(ISNA(VLOOKUP($C219,'Sat TT_08'!$C$4:$Q$152,12,FALSE)=$C219),0,VLOOKUP($C219,'Sat TT_08'!$C$4:$Q$152,12,FALSE))","v":0},0]
[{"$f":"VLOOKUP(C220,'Sheet 1'!C$1:D$96,2,FALSE)","v":1420},211,{"$f":"+'[1]Racing numbers file'!$B213","v":"Ian O'Hara"},{"$f":"VLOOKUP(C220,'[1]Racing numbers file'!$B$4:$F$290,2,FALSE)","v":1972},{"$f":"VLOOKUP(C220,'[1]Racing numbers file'!$B$4:$F$290,4,FALSE)","v":44},0,{"$f":"IF(ISNA(VLOOKUP($C220,'Sat TT_01'!$C$4:$Q$152,12,FALSE)=$C220),0,VLOOKUP($C220,'Sat TT_01'!$C$4:$Q$152,12,FALSE))","v":0},{"$f":"IF(ISNA(VLOOKUP($C220,'Sat TT_02'!$C$4:$Q$152,12,FALSE)=$C220),0,VLOOKUP($C220,'Sat TT_02'!$C$4:$Q$152,12,FALSE))","v":0},{"$f":"IF(ISNA(VLOOKUP($C220,'Sat TT_03'!$C$4:$Q$152,12,FALSE)=$C220),0,VLOOKUP($C220,'Sat TT_03'!$C$4:$Q$152,12,FALSE))","v":0},{"$f":"IF(ISNA(VLOOKUP($C220,'Sat TT_04'!$C$4:$Q$152,12,FALSE)=$C220),0,VLOOKUP($C220,'Sat TT_04'!$C$4:$Q$152,12,FALSE))","v":0},{"$f":"IF(ISNA(VLOOKUP($C220,'Sat TT_05'!$C$4:$Q$152,12,FALSE)=$C220),0,VLOOKUP($C220,'Sat TT_05'!$C$4:$Q$152,12,FALSE))","v":0},{"$f":"IF(ISNA(VLOOKUP($C220,'Sat TT_06'!$C$4:$Q$152,12,FALSE)=$C220),0,VLOOKUP($C220,'Sat TT_06'!$C$4:$Q$152,12,FALSE))","v":0},{"$f":"IF(ISNA(VLOOKUP($C220,'Sat TT_07'!$C$4:$Q$152,12,FALSE)=$C220),0,VLOOKUP($C220,'Sat TT_07'!$C$4:$Q$152,12,FALSE))","v":0},{"$f":"IF(ISNA(VLOOKUP($C220,'Sat TT_08'!$C$4:$Q$152,12,FALSE)=$C220),0,VLOOKUP($C220,'Sat TT_08'!$C$4:$Q$152,12,FALSE))","v":0},0]
[{"$f":"VLOOKUP(C221,'Sheet 1'!C$1:D$96,2,FALSE)","v":1252},212,{"$f":"+'[1]Racing numbers file'!$B127","v":"Barry Swan"},{"$f":"VLOOKUP(C221,'[1]Racing numbers file'!$B$4:$F$290,2,FALSE)","v":1967},{"$f":"VLOOKUP(C221,'[1]Racing numbers file'!$B$4:$F$290,4,FALSE)","v":49},0,{"$f":"IF(ISNA(VLOOKUP($C221,'Sat TT_01'!$C$4:$Q$152,12,FALSE)=$C221),0,VLOOKUP($C221,'Sat TT_01'!$C$4:$Q$152,12,FALSE))","v":0},{"$f":"IF(ISNA(VLOOKUP($C221,'Sat TT_02'!$C$4:$Q$152,12,FALSE)=$C221),0,VLOOKUP($C221,'Sat TT_02'!$C$4:$Q$152,12,FALSE))","v":0},{"$f":"IF(ISNA(VLOOKUP($C221,'Sat TT_03'!$C$4:$Q$152,12,FALSE)=$C221),0,VLOOKUP($C221,'Sat TT_03'!$C$4:$Q$152,12,FALSE))","v":0},{"$f":"IF(ISNA(VLOOKUP($C221,'Sat TT_04'!$C$4:$Q$152,12,FALSE)=$C221),0,VLOOKUP($C221,'Sat TT_04'!$C$4:$Q$152,12,FALSE))","v":0},{"$f":"IF(ISNA(VLOOKUP($C221,'Sat TT_05'!$C$4:$Q$152,12,FALSE)=$C221),0,VLOOKUP($C221,'Sat TT_05'!$C$4:$Q$152,12,FALSE))","v":0},{"$f":"IF(ISNA(VLOOKUP($C221,'Sat TT_06'!$C$4:$Q$152,12,FALSE)=$C221),0,VLOOKUP($C221,'Sat TT_06'!$C$4:$Q$152,12,FALSE))","v":0},{"$f":"IF(ISNA(VLOOKUP($C221,'Sat TT_07'!$C$4:$Q$152,12,FALSE)=$C221),0,VLOOKUP($C221,'Sat TT_07'!$C$4:$Q$152,12,FALSE))","v":0},{"$f":"IF(ISNA(VLOOKUP($C221,'Sat TT_08'!$C$4:$Q$152,12,FALSE)=$C221),0,VLOOKUP($C221,'Sat TT_08'!$C$4:$Q$152,12,FALSE))","v":0},0]
[{"$f":"VLOOKUP(C222,'Sheet 1'!C$1:D$96,2,FALSE)","v":{"$error":"#N/A"}},213,{"$f":"+'[1]Racing numbers file'!$B131","v":"Malachy McKenna"},{"$f":"VLOOKUP(C222,'[1]Racing numbers file'!$B$4:$F$290,2,FALSE)","v":1967},{"$f":"VLOOKUP(C222,'[1]Racing numbers file'!$B$4:$F$290,4,FALSE)","v":49},0,{"$f":"IF(ISNA(VLOOKUP($C222,'Sat TT_01'!$C$4:$Q$152,12,FALSE)=$C222),0,VLOOKUP($C222,'Sat TT_01'!$C$4:$Q$152,12,FALSE))","v":0},{"$f":"IF(ISNA(VLOOKUP($C222,'Sat TT_02'!$C$4:$Q$152,12,FALSE)=$C222),0,VLOOKUP($C222,'Sat TT_02'!$C$4:$Q$152,12,FALSE))","v":0},{"$f":"IF(ISNA(VLOOKUP($C222,'Sat TT_03'!$C$4:$Q$152,12,FALSE)=$C222),0,VLOOKUP($C222,'Sat TT_03'!$C$4:$Q$152,12,FALSE))","v":0},{"$f":"IF(ISNA(VLOOKUP($C222,'Sat TT_04'!$C$4:$Q$152,12,FALSE)=$C222),0,VLOOKUP($C222,'Sat TT_04'!$C$4:$Q$152,12,FALSE))","v":0},{"$f":"IF(ISNA(VLOOKUP($C222,'Sat TT_05'!$C$4:$Q$152,12,FALSE)=$C222),0,VLOOKUP($C222,'Sat TT_05'!$C$4:$Q$152,12,FALSE))","v":0},{"$f":"IF(ISNA(VLOOKUP($C222,'Sat TT_06'!$C$4:$Q$152,12,FALSE)=$C222),0,VLOOKUP($C222,'Sat TT_06'!$C$4:$Q$152,12,FALSE))","v":0},{"$f":"IF(ISNA(VLOOKUP($C222,'Sat TT_07'!$C$4:$Q$152,12,FALSE)=$C222),0,VLOOKUP($C222,'Sat TT_07'!$C$4:$Q$152,12,FALSE))","v":0},{"$f":"IF(ISNA(VLOOKUP($C222,'Sat TT_08'!$C$4:$Q$152,12,FALSE)=$C222),0,VLOOKUP($C222,'Sat TT_08'!$C$4:$Q$152,12,FALSE))","v":0},0]
[{"$f":"VLOOKUP(C223,'Sheet 1'!C$1:D$96,2,FALSE)","v":{"$error":"#N/A"}},214,{"$f":"+'[1]Racing numbers file'!$B195","v":"Malcolm Garland"},{"$f":"VLOOKUP(C223,'[1]Racing numbers file'!$B$4:$F$290,2,FALSE)","v":1965},{"$f":"VLOOKUP(C223,'[1]Racing numbers file'!$B$4:$F$290,4,FALSE)","v":51},0,{"$f":"IF(ISNA(VLOOKUP($C223,'Sat TT_01'!$C$4:$Q$152,12,FALSE)=$C223),0,VLOOKUP($C223,'Sat TT_01'!$C$4:$Q$152,12,FALSE))","v":0},{"$f":"IF(ISNA(VLOOKUP($C223,'Sat TT_02'!$C$4:$Q$152,12,FALSE)=$C223),0,VLOOKUP($C223,'Sat TT_02'!$C$4:$Q$152,12,FALSE))","v":0},{"$f":"IF(ISNA(VLOOKUP($C223,'Sat TT_03'!$C$4:$Q$152,12,FALSE)=$C223),0,VLOOKUP($C223,'Sat TT_03'!$C$4:$Q$152,12,FALSE))","v":0},{"$f":"IF(ISNA(VLOOKUP($C223,'Sat TT_04'!$C$4:$Q$152,12,FALSE)=$C223),0,VLOOKUP($C223,'Sat TT_04'!$C$4:$Q$152,12,FALSE))","v":0},{"$f":"IF(ISNA(VLOOKUP($C223,'Sat TT_05'!$C$4:$Q$152,12,FALSE)=$C223),0,VLOOKUP($C223,'Sat TT_05'!$C$4:$Q$152,12,FALSE))","v":0},{"$f":"IF(ISNA(VLOOKUP($C223,'Sat TT_06'!$C$4:$Q$152,12,FALSE)=$C223),0,VLOOKUP($C223,'Sat TT_06'!$C$4:$Q$152,12,FALSE))","v":0},{"$f":"IF(ISNA(VLOOKUP($C223,'Sat TT_07'!$C$4:$Q$152,12,FALSE)=$C223),0,VLOOKUP($C223,'Sat TT_07'!$C$4:$Q$152,12,FALSE))","v":0},{"$f":"IF(ISNA(VLOOKUP($C223,'Sat TT_08'!$C$4:$Q$152,12,FALSE)=$C223),0,VLOOKUP($C223,'Sat TT_08'!$C$4:$Q$152,12,FALSE))","v":0},0]
[{"$f":"VLOOKUP(C224,'Sheet 1'!C$1:D$96,2,FALSE)","v":{"$error":"#N/A"}},215,{"$f":"+'[1]Racing numbers file'!$B157","v":"Jason Kelly"},{"$f":"VLOOKUP(C224,'[1]Racing numbers file'!$B$4:$F$290,2,FALSE)","v":1970},{"$f":"VLOOKUP(C224,'[1]Racing numbers file'!$B$4:$F$290,4,FALSE)","v":46},0,{"$f":"IF(ISNA(VLOOKUP($C224,'Sat TT_01'!$C$4:$Q$152,12,FALSE)=$C224),0,VLOOKUP($C224,'Sat TT_01'!$C$4:$Q$152,12,FALSE))","v":0},{"$f":"IF(ISNA(VLOOKUP($C224,'Sat TT_02'!$C$4:$Q$152,12,FALSE)=$C224),0,VLOOKUP($C224,'Sat TT_02'!$C$4:$Q$152,12,FALSE))","v":0},{"$f":"IF(ISNA(VLOOKUP($C224,'Sat TT_03'!$C$4:$Q$152,12,FALSE)=$C224),0,VLOOKUP($C224,'Sat TT_03'!$C$4:$Q$152,12,FALSE))","v":0},{"$f":"IF(ISNA(VLOOKUP($C224,'Sat TT_04'!$C$4:$Q$152,12,FALSE)=$C224),0,VLOOKUP($C224,'Sat TT_04'!$C$4:$Q$152,12,FALSE))","v":0},{"$f":"IF(ISNA(VLOOKUP($C224,'Sat TT_05'!$C$4:$Q$152,12,FALSE)=$C224),0,VLOOKUP($C224,'Sat TT_05'!$C$4:$Q$152,12,FALSE))","v":0},{"$f":"IF(ISNA(VLOOKUP($C224,'Sat TT_06'!$C$4:$Q$152,12,FALSE)=$C224),0,VLOOKUP($C224,'Sat TT_06'!$C$4:$Q$152,12,FALSE))","v":0},{"$f":"IF(ISNA(VLOOKUP($C224,'Sat TT_07'!$C$4:$Q$152,12,FALSE)=$C224),0,VLOOKUP($C224,'Sat TT_07'!$C$4:$Q$152,12,FALSE))","v":0},{"$f":"IF(ISNA(VLOOKUP($C224,'Sat TT_08'!$C$4:$Q$152,12,FALSE)=$C224),0,VLOOKUP($C224,'Sat TT_08'!$C$4:$Q$152,12,FALSE))","v":0},0]
[{"$f":"VLOOKUP(C225,'Sheet 1'!C$1:D$96,2,FALSE)","v":1405},216,{"$f":"+'[1]Racing numbers file'!$B207","v":"Anthony O'Malley"},{"$f":"VLOOKUP(C225,'[1]Racing numbers file'!$B$4:$F$290,2,FALSE)","v":1968},{"$f":"VLOOKUP(C225,'[1]Racing numbers file'!$B$4:$F$290,4,FALSE)","v":48},0,{"$f":"IF(ISNA(VLOOKUP($C225,'Sat TT_01'!$C$4:$Q$152,12,FALSE)=$C225),0,VLOOKUP($C225,'Sat TT_01'!$C$4:$Q$152,12,FALSE))","v":0},{"$f":"IF(ISNA(VLOOKUP($C225,'Sat TT_02'!$C$4:$Q$152,12,FALSE)=$C225),0,VLOOKUP($C225,'Sat TT_02'!$C$4:$Q$152,12,FALSE))","v":0},{"$f":"IF(ISNA(VLOOKUP($C225,'Sat TT_03'!$C$4:$Q$152,12,FALSE)=$C225),0,VLOOKUP($C225,'Sat TT_03'!$C$4:$Q$152,12,FALSE))","v":0},{"$f":"IF(ISNA(VLOOKUP($C225,'Sat TT_04'!$C$4:$Q$152,12,FALSE)=$C225),0,VLOOKUP($C225,'Sat TT_04'!$C$4:$Q$152,12,FALSE))","v":0},{"$f":"IF(ISNA(VLOOKUP($C225,'Sat TT_05'!$C$4:$Q$152,12,FALSE)=$C225),0,VLOOKUP($C225,'Sat TT_05'!$C$4:$Q$152,12,FALSE))","v":0},{"$f":"IF(ISNA(VLOOKUP($C225,'Sat TT_06'!$C$4:$Q$152,12,FALSE)=$C225),0,VLOOKUP($C225,'Sat TT_06'!$C$4:$Q$152,12,FALSE))","v":0},{"$f":"IF(ISNA(VLOOKUP($C225,'Sat TT_07'!$C$4:$Q$152,12,FALSE)=$C225),0,VLOOKUP($C225,'Sat TT_07'!$C$4:$Q$152,12,FALSE))","v":0},{"$f":"IF(ISNA(VLOOKUP($C225,'Sat TT_08'!$C$4:$Q$152,12,FALSE)=$C225),0,VLOOKUP($C225,'Sat TT_08'!$C$4:$Q$152,12,FALSE))","v":0},0]
[{"$f":"VLOOKUP(C226,'Sheet 1'!C$1:D$96,2,FALSE)","v":{"$error":"#N/A"}},217,{"$f":"+'[1]Racing numbers file'!$B124","v":"Declan Looby"},{"$f":"VLOOKUP(C226,'[1]Racing numbers file'!$B$4:$F$290,2,FALSE)","v":1966},{"$f":"VLOOKUP(C226,'[1]Racing numbers file'!$B$4:$F$290,4,FALSE)","v":50},0,{"$f":"IF(ISNA(VLOOKUP($C226,'Sat TT_01'!$C$4:$Q$152,12,FALSE)=$C226),0,VLOOKUP($C226,'Sat TT_01'!$C$4:$Q$152,12,FALSE))","v":0},{"$f":"IF(ISNA(VLOOKUP($C226,'Sat TT_02'!$C$4:$Q$152,12,FALSE)=$C226),0,VLOOKUP($C226,'Sat TT_02'!$C$4:$Q$152,12,FALSE))","v":0},{"$f":"IF(ISNA(VLOOKUP($C226,'Sat TT_03'!$C$4:$Q$152,12,FALSE)=$C226),0,VLOOKUP($C226,'Sat TT_03'!$C$4:$Q$152,12,FALSE))","v":0},{"$f":"IF(ISNA(VLOOKUP($C226,'Sat TT_04'!$C$4:$Q$152,12,FALSE)=$C226),0,VLOOKUP($C226,'Sat TT_04'!$C$4:$Q$152,12,FALSE))","v":0},{"$f":"IF(ISNA(VLOOKUP($C226,'Sat TT_05'!$C$4:$Q$152,12,FALSE)=$C226),0,VLOOKUP($C226,'Sat TT_05'!$C$4:$Q$152,12,FALSE))","v":0},{"$f":"IF(ISNA(VLOOKUP($C226,'Sat TT_06'!$C$4:$Q$152,12,FALSE)=$C226),0,VLOOKUP($C226,'Sat TT_06'!$C$4:$Q$152,12,FALSE))","v":0},{"$f":"IF(ISNA(VLOOKUP($C226,'Sat TT_07'!$C$4:$Q$152,12,FALSE)=$C226),0,VLOOKUP($C226,'Sat TT_07'!$C$4:$Q$152,12,FALSE))","v":0},{"$f":"IF(ISNA(VLOOKUP($C226,'Sat TT_08'!$C$4:$Q$152,12,FALSE)=$C226),0,VLOOKUP($C226,'Sat TT_08'!$C$4:$Q$152,12,FALSE))","v":0},0]
[{"$f":"VLOOKUP(C227,'Sheet 1'!C$1:D$96,2,FALSE)","v":{"$error":"#N/A"}},218,{"$f":"+'[1]Racing numbers file'!$B163","v":"Roy Bowden"},{"$f":"VLOOKUP(C227,'[1]Racing numbers file'!$B$4:$F$290,2,FALSE)","v":1971},{"$f":"VLOOKUP(C227,'[1]Racing numbers file'!$B$4:$F$290,4,FALSE)","v":45},0,{"$f":"IF(ISNA(VLOOKUP($C227,'Sat TT_01'!$C$4:$Q$152,12,FALSE)=$C227),0,VLOOKUP($C227,'Sat TT_01'!$C$4:$Q$152,12,FALSE))","v":0},{"$f":"IF(ISNA(VLOOKUP($C227,'Sat TT_02'!$C$4:$Q$152,12,FALSE)=$C227),0,VLOOKUP($C227,'Sat TT_02'!$C$4:$Q$152,12,FALSE))","v":0},{"$f":"IF(ISNA(VLOOKUP($C227,'Sat TT_03'!$C$4:$Q$152,12,FALSE)=$C227),0,VLOOKUP($C227,'Sat TT_03'!$C$4:$Q$152,12,FALSE))","v":0},{"$f":"IF(ISNA(VLOOKUP($C227,'Sat TT_04'!$C$4:$Q$152,12,FALSE)=$C227),0,VLOOKUP($C227,'Sat TT_04'!$C$4:$Q$152,12,FALSE))","v":0},{"$f":"IF(ISNA(VLOOKUP($C227,'Sat TT_05'!$C$4:$Q$152,12,FALSE)=$C227),0,VLOOKUP($C227,'Sat TT_05'!$C$4:$Q$152,12,FALSE))","v":0},{"$f":"IF(ISNA(VLOOKUP($C227,'Sat TT_06'!$C$4:$Q$152,12,FALSE)=$C227),0,VLOOKUP($C227,'Sat TT_06'!$C$4:$Q$152,12,FALSE))","v":0},{"$f":"IF(ISNA(VLOOKUP($C227,'Sat TT_07'!$C$4:$Q$152,12,FALSE)=$C227),0,VLOOKUP($C227,'Sat TT_07'!$C$4:$Q$152,12,FALSE))","v":0},{"$f":"IF(ISNA(VLOOKUP($C227,'Sat TT_08'!$C$4:$Q$152,12,FALSE)=$C227),0,VLOOKUP($C227,'Sat TT_08'!$C$4:$Q$152,12,FALSE))","v":0},0]
[{"$f":"VLOOKUP(C228,'Sheet 1'!C$1:D$96,2,FALSE)","v":{"$error":"#N/A"}},219,{"$f":"+'[1]Racing numbers file'!$B181","v":"Aidan Richardson"},{"$f":"VLOOKUP(C228,'[1]Racing numbers file'!$B$4:$F$290,2,FALSE)","v":1954},{"$f":"VLOOKUP(C228,'[1]Racing numbers file'!$B$4:$F$290,4,FALSE)","v":62},0,{"$f":"IF(ISNA(VLOOKUP($C228,'Sat TT_01'!$C$4:$Q$152,12,FALSE)=$C228),0,VLOOKUP($C228,'Sat TT_01'!$C$4:$Q$152,12,FALSE))","v":0},{"$f":"IF(ISNA(VLOOKUP($C228,'Sat TT_02'!$C$4:$Q$152,12,FALSE)=$C228),0,VLOOKUP($C228,'Sat TT_02'!$C$4:$Q$152,12,FALSE))","v":0},{"$f":"IF(ISNA(VLOOKUP($C228,'Sat TT_03'!$C$4:$Q$152,12,FALSE)=$C228),0,VLOOKUP($C228,'Sat TT_03'!$C$4:$Q$152,12,FALSE))","v":0},{"$f":"IF(ISNA(VLOOKUP($C228,'Sat TT_04'!$C$4:$Q$152,12,FALSE)=$C228),0,VLOOKUP($C228,'Sat TT_04'!$C$4:$Q$152,12,FALSE))","v":0},{"$f":"IF(ISNA(VLOOKUP($C228,'Sat TT_05'!$C$4:$Q$152,12,FALSE)=$C228),0,VLOOKUP($C228,'Sat TT_05'!$C$4:$Q$152,12,FALSE))","v":0},{"$f":"IF(ISNA(VLOOKUP($C228,'Sat TT_06'!$C$4:$Q$152,12,FALSE)=$C228),0,VLOOKUP($C228,'Sat TT_06'!$C$4:$Q$152,12,FALSE))","v":0},{"$f":"IF(ISNA(VLOOKUP($C228,'Sat TT_07'!$C$4:$Q$152,12,FALSE)=$C228),0,VLOOKUP($C228,'Sat TT_07'!$C$4:$Q$152,12,FALSE))","v":0},{"$f":"IF(ISNA(VLOOKUP($C228,'Sat TT_08'!$C$4:$Q$152,12,FALSE)=$C228),0,VLOOKUP($C228,'Sat TT_08'!$C$4:$Q$152,12,FALSE))","v":0},0]
[{"$f":"VLOOKUP(C229,'Sheet 1'!C$1:D$96,2,FALSE)","v":{"$error":"#N/A"}},220,{"$f":"+'[1]Racing numbers file'!$B141","v":"Emmet Reilly"},{"$f":"VLOOKUP(C229,'[1]Racing numbers file'!$B$4:$F$290,2,FALSE)","v":1968},{"$f":"VLOOKUP(C229,'[1]Racing numbers file'!$B$4:$F$290,4,FALSE)","v":48},0,{"$f":"IF(ISNA(VLOOKUP($C229,'Sat TT_01'!$C$4:$Q$152,12,FALSE)=$C229),0,VLOOKUP($C229,'Sat TT_01'!$C$4:$Q$152,12,FALSE))","v":0},{"$f":"IF(ISNA(VLOOKUP($C229,'Sat TT_02'!$C$4:$Q$152,12,FALSE)=$C229),0,VLOOKUP($C229,'Sat TT_02'!$C$4:$Q$152,12,FALSE))","v":0},{"$f":"IF(ISNA(VLOOKUP($C229,'Sat TT_03'!$C$4:$Q$152,12,FALSE)=$C229),0,VLOOKUP($C229,'Sat TT_03'!$C$4:$Q$152,12,FALSE))","v":0},{"$f":"IF(ISNA(VLOOKUP($C229,'Sat TT_04'!$C$4:$Q$152,12,FALSE)=$C229),0,VLOOKUP($C229,'Sat TT_04'!$C$4:$Q$152,12,FALSE))","v":0},{"$f":"IF(ISNA(VLOOKUP($C229,'Sat TT_05'!$C$4:$Q$152,12,FALSE)=$C229),0,VLOOKUP($C229,'Sat TT_05'!$C$4:$Q$152,12,FALSE))","v":0},{"$f":"IF(ISNA(VLOOKUP($C229,'Sat TT_06'!$C$4:$Q$152,12,FALSE)=$C229),0,VLOOKUP($C229,'Sat TT_06'!$C$4:$Q$152,12,FALSE))","v":0},{"$f":"IF(ISNA(VLOOKUP($C229,'Sat TT_07'!$C$4:$Q$152,12,FALSE)=$C229),0,VLOOKUP($C229,'Sat TT_07'!$C$4:$Q$152,12,FALSE))","v":0},{"$f":"IF(ISNA(VLOOKUP($C229,'Sat TT_08'!$C$4:$Q$152,12,FALSE)=$C229),0,VLOOKUP($C229,'Sat TT_08'!$C$4:$Q$152,12,FALSE))","v":0},0]
[{"$f":"VLOOKUP(C230,'Sheet 1'!C$1:D$96,2,FALSE)","v":{"$error":"#N/A"}},221,{"$f":"+'[1]Racing numbers file'!$B220","v":"John Kinehan"},{"$f":"VLOOKUP(C230,'[1]Racing numbers file'!$B$4:$F$290,2,FALSE)","v":1969},{"$f":"VLOOKUP(C230,'[1]Racing numbers file'!$B$4:$F$290,4,FALSE)","v":47},0,{"$f":"IF(ISNA(VLOOKUP($C230,'Sat TT_01'!$C$4:$Q$152,12,FALSE)=$C230),0,VLOOKUP($C230,'Sat TT_01'!$C$4:$Q$152,12,FALSE))","v":0},{"$f":"IF(ISNA(VLOOKUP($C230,'Sat TT_02'!$C$4:$Q$152,12,FALSE)=$C230),0,VLOOKUP($C230,'Sat TT_02'!$C$4:$Q$152,12,FALSE))","v":0},{"$f":"IF(ISNA(VLOOKUP($C230,'Sat TT_03'!$C$4:$Q$152,12,FALSE)=$C230),0,VLOOKUP($C230,'Sat TT_03'!$C$4:$Q$152,12,FALSE))","v":0},{"$f":"IF(ISNA(VLOOKUP($C230,'Sat TT_04'!$C$4:$Q$152,12,FALSE)=$C230),0,VLOOKUP($C230,'Sat TT_04'!$C$4:$Q$152,12,FALSE))","v":0},{"$f":"IF(ISNA(VLOOKUP($C230,'Sat TT_05'!$C$4:$Q$152,12,FALSE)=$C230),0,VLOOKUP($C230,'Sat TT_05'!$C$4:$Q$152,12,FALSE))","v":0},{"$f":"IF(ISNA(VLOOKUP($C230,'Sat TT_06'!$C$4:$Q$152,12,FALSE)=$C230),0,VLOOKUP($C230,'Sat TT_06'!$C$4:$Q$152,12,FALSE))","v":0},{"$f":"IF(ISNA(VLOOKUP($C230,'Sat TT_07'!$C$4:$Q$152,12,FALSE)=$C230),0,VLOOKUP($C230,'Sat TT_07'!$C$4:$Q$152,12,FALSE))","v":0},{"$f":"IF(ISNA(VLOOKUP($C230,'Sat TT_08'!$C$4:$Q$152,12,FALSE)=$C230),0,VLOOKUP($C230,'Sat TT_08'!$C$4:$Q$152,12,FALSE))","v":0},0]
[{"$f":"VLOOKUP(C231,'Sheet 1'!C$1:D$96,2,FALSE)","v":{"$error":"#N/A"}},222,{"$f":"+'[1]Racing numbers file'!$B216","v":"Barry Timmins"},{"$f":"VLOOKUP(C231,'[1]Racing numbers file'!$B$4:$F$290,2,FALSE)","v":1965},{"$f":"VLOOKUP(C231,'[1]Racing numbers file'!$B$4:$F$290,4,FALSE)","v":51},0,{"$f":"IF(ISNA(VLOOKUP($C231,'Sat TT_01'!$C$4:$Q$152,12,FALSE)=$C231),0,VLOOKUP($C231,'Sat TT_01'!$C$4:$Q$152,12,FALSE))","v":0},{"$f":"IF(ISNA(VLOOKUP($C231,'Sat TT_02'!$C$4:$Q$152,12,FALSE)=$C231),0,VLOOKUP($C231,'Sat TT_02'!$C$4:$Q$152,12,FALSE))","v":0},{"$f":"IF(ISNA(VLOOKUP($C231,'Sat TT_03'!$C$4:$Q$152,12,FALSE)=$C231),0,VLOOKUP($C231,'Sat TT_03'!$C$4:$Q$152,12,FALSE))","v":0},{"$f":"IF(ISNA(VLOOKUP($C231,'Sat TT_04'!$C$4:$Q$152,12,FALSE)=$C231),0,VLOOKUP($C231,'Sat TT_04'!$C$4:$Q$152,12,FALSE))","v":0},{"$f":"IF(ISNA(VLOOKUP($C231,'Sat TT_05'!$C$4:$Q$152,12,FALSE)=$C231),0,VLOOKUP($C231,'Sat TT_05'!$C$4:$Q$152,12,FALSE))","v":0},{"$f":"IF(ISNA(VLOOKUP($C231,'Sat TT_06'!$C$4:$Q$152,12,FALSE)=$C231),0,VLOOKUP($C231,'Sat TT_06'!$C$4:$Q$152,12,FALSE))","v":0},{"$f":"IF(ISNA(VLOOKUP($C231,'Sat TT_07'!$C$4:$Q$152,12,FALSE)=$C231),0,VLOOKUP($C231,'Sat TT_07'!$C$4:$Q$152,12,FALSE))","v":0},{"$f":"IF(ISNA(VLOOKUP($C231,'Sat TT_08'!$C$4:$Q$152,12,FALSE)=$C231),0,VLOOKUP($C231,'Sat TT_08'!$C$4:$Q$152,12,FALSE))","v":0},0]
[{"$f":"VLOOKUP(C232,'Sheet 1'!C$1:D$96,2,FALSE)","v":1284},223,{"$f":"+'[1]Racing numbers file'!$B150","v":"Enda Smyth"},{"$f":"VLOOKUP(C232,'[1]Racing numbers file'!$B$4:$F$290,2,FALSE)","v":1969},{"$f":"VLOOKUP(C232,'[1]Racing numbers file'!$B$4:$F$290,4,FALSE)","v":47},0,{"$f":"IF(ISNA(VLOOKUP($C232,'Sat TT_01'!$C$4:$Q$152,12,FALSE)=$C232),0,VLOOKUP($C232,'Sat TT_01'!$C$4:$Q$152,12,FALSE))","v":0},{"$f":"IF(ISNA(VLOOKUP($C232,'Sat TT_02'!$C$4:$Q$152,12,FALSE)=$C232),0,VLOOKUP($C232,'Sat TT_02'!$C$4:$Q$152,12,FALSE))","v":0},{"$f":"IF(ISNA(VLOOKUP($C232,'Sat TT_03'!$C$4:$Q$152,12,FALSE)=$C232),0,VLOOKUP($C232,'Sat TT_03'!$C$4:$Q$152,12,FALSE))","v":0},{"$f":"IF(ISNA(VLOOKUP($C232,'Sat TT_04'!$C$4:$Q$152,12,FALSE)=$C232),0,VLOOKUP($C232,'Sat TT_04'!$C$4:$Q$152,12,FALSE))","v":0},{"$f":"IF(ISNA(VLOOKUP($C232,'Sat TT_05'!$C$4:$Q$152,12,FALSE)=$C232),0,VLOOKUP($C232,'Sat TT_05'!$C$4:$Q$152,12,FALSE))","v":0},{"$f":"IF(ISNA(VLOOKUP($C232,'Sat TT_06'!$C$4:$Q$152,12,FALSE)=$C232),0,VLOOKUP($C232,'Sat TT_06'!$C$4:$Q$152,12,FALSE))","v":0},{"$f":"IF(ISNA(VLOOKUP($C232,'Sat TT_07'!$C$4:$Q$152,12,FALSE)=$C232),0,VLOOKUP($C232,'Sat TT_07'!$C$4:$Q$152,12,FALSE))","v":0},{"$f":"IF(ISNA(VLOOKUP($C232,'Sat TT_08'!$C$4:$Q$152,12,FALSE)=$C232),0,VLOOKUP($C232,'Sat TT_08'!$C$4:$Q$152,12,FALSE))","v":0},0]
[{"$f":"VLOOKUP(C233,'Sheet 1'!C$1:D$96,2,FALSE)","v":{"$error":"#N/A"}},224,{"$f":"+'[1]Racing numbers file'!$B85","v":"Leslie Walpole"},{"$f":"VLOOKUP(C233,'[1]Racing numbers file'!$B$4:$F$290,2,FALSE)","v":1961},{"$f":"VLOOKUP(C233,'[1]Racing numbers file'!$B$4:$F$290,4,FALSE)","v":55},0,{"$f":"IF(ISNA(VLOOKUP($C233,'Sat TT_01'!$C$4:$Q$152,12,FALSE)=$C233),0,VLOOKUP($C233,'Sat TT_01'!$C$4:$Q$152,12,FALSE))","v":0},{"$f":"IF(ISNA(VLOOKUP($C233,'Sat TT_02'!$C$4:$Q$152,12,FALSE)=$C233),0,VLOOKUP($C233,'Sat TT_02'!$C$4:$Q$152,12,FALSE))","v":0},{"$f":"IF(ISNA(VLOOKUP($C233,'Sat TT_03'!$C$4:$Q$152,12,FALSE)=$C233),0,VLOOKUP($C233,'Sat TT_03'!$C$4:$Q$152,12,FALSE))","v":0},{"$f":"IF(ISNA(VLOOKUP($C233,'Sat TT_04'!$C$4:$Q$152,12,FALSE)=$C233),0,VLOOKUP($C233,'Sat TT_04'!$C$4:$Q$152,12,FALSE))","v":0},{"$f":"IF(ISNA(VLOOKUP($C233,'Sat TT_05'!$C$4:$Q$152,12,FALSE)=$C233),0,VLOOKUP($C233,'Sat TT_05'!$C$4:$Q$152,12,FALSE))","v":0},{"$f":"IF(ISNA(VLOOKUP($C233,'Sat TT_06'!$C$4:$Q$152,12,FALSE)=$C233),0,VLOOKUP($C233,'Sat TT_06'!$C$4:$Q$152,12,FALSE))","v":0},{"$f":"IF(ISNA(VLOOKUP($C233,'Sat TT_07'!$C$4:$Q$152,12,FALSE)=$C233),0,VLOOKUP($C233,'Sat TT_07'!$C$4:$Q$152,12,FALSE))","v":0},{"$f":"IF(ISNA(VLOOKUP($C233,'Sat TT_08'!$C$4:$Q$152,12,FALSE)=$C233),0,VLOOKUP($C233,'Sat TT_08'!$C$4:$Q$152,12,FALSE))","v":0},0]
[{"$f":"VLOOKUP(C234,'Sheet 1'!C$1:D$96,2,FALSE)","v":{"$error":"#N/A"}},225,{"$f":"+'[1]Racing numbers file'!$B90","v":"Keith Lambourne"},{"$f":"VLOOKUP(C234,'[1]Racing numbers file'!$B$4:$F$290,2,FALSE)","v":1961},{"$f":"VLOOKUP(C234,'[1]Racing numbers file'!$B$4:$F$290,4,FALSE)","v":55},0,{"$f":"IF(ISNA(VLOOKUP($C234,'Sat TT_01'!$C$4:$Q$152,12,FALSE)=$C234),0,VLOOKUP($C234,'Sat TT_01'!$C$4:$Q$152,12,FALSE))","v":0},{"$f":"IF(ISNA(VLOOKUP($C234,'Sat TT_02'!$C$4:$Q$152,12,FALSE)=$C234),0,VLOOKUP($C234,'Sat TT_02'!$C$4:$Q$152,12,FALSE))","v":0},{"$f":"IF(ISNA(VLOOKUP($C234,'Sat TT_03'!$C$4:$Q$152,12,FALSE)=$C234),0,VLOOKUP($C234,'Sat TT_03'!$C$4:$Q$152,12,FALSE))","v":0},{"$f":"IF(ISNA(VLOOKUP($C234,'Sat TT_04'!$C$4:$Q$152,12,FALSE)=$C234),0,VLOOKUP($C234,'Sat TT_04'!$C$4:$Q$152,12,FALSE))","v":0},{"$f":"IF(ISNA(VLOOKUP($C234,'Sat TT_05'!$C$4:$Q$152,12,FALSE)=$C234),0,VLOOKUP($C234,'Sat TT_05'!$C$4:$Q$152,12,FALSE))","v":0},{"$f":"IF(ISNA(VLOOKUP($C234,'Sat TT_06'!$C$4:$Q$152,12,FALSE)=$C234),0,VLOOKUP($C234,'Sat TT_06'!$C$4:$Q$152,12,FALSE))","v":0},{"$f":"IF(ISNA(VLOOKUP($C234,'Sat TT_07'!$C$4:$Q$152,12,FALSE)=$C234),0,VLOOKUP($C234,'Sat TT_07'!$C$4:$Q$152,12,FALSE))","v":0},{"$f":"IF(ISNA(VLOOKUP($C234,'Sat TT_08'!$C$4:$Q$152,12,FALSE)=$C234),0,VLOOKUP($C234,'Sat TT_08'!$C$4:$Q$152,12,FALSE))","v":0},0]
[{"$f":"VLOOKUP(C235,'Sheet 1'!C$1:D$96,2,FALSE)","v":{"$error":"#N/A"}},226,{"$f":"+'[1]Racing numbers file'!$B145","v":"Matthew Chell"},{"$f":"VLOOKUP(C235,'[1]Racing numbers file'!$B$4:$F$290,2,FALSE)","v":1968},{"$f":"VLOOKUP(C235,'[1]Racing numbers file'!$B$4:$F$290,4,FALSE)","v":48},0,{"$f":"IF(ISNA(VLOOKUP($C235,'Sat TT_01'!$C$4:$Q$152,12,FALSE)=$C235),0,VLOOKUP($C235,'Sat TT_01'!$C$4:$Q$152,12,FALSE))","v":0},{"$f":"IF(ISNA(VLOOKUP($C235,'Sat TT_02'!$C$4:$Q$152,12,FALSE)=$C235),0,VLOOKUP($C235,'Sat TT_02'!$C$4:$Q$152,12,FALSE))","v":0},{"$f":"IF(ISNA(VLOOKUP($C235,'Sat TT_03'!$C$4:$Q$152,12,FALSE)=$C235),0,VLOOKUP($C235,'Sat TT_03'!$C$4:$Q$152,12,FALSE))","v":0},{"$f":"IF(ISNA(VLOOKUP($C235,'Sat TT_04'!$C$4:$Q$152,12,FALSE)=$C235),0,VLOOKUP($C235,'Sat TT_04'!$C$4:$Q$152,12,FALSE))","v":0},{"$f":"IF(ISNA(VLOOKUP($C235,'Sat TT_05'!$C$4:$Q$152,12,FALSE)=$C235),0,VLOOKUP($C235,'Sat TT_05'!$C$4:$Q$152,12,FALSE))","v":0},{"$f":"IF(ISNA(VLOOKUP($C235,'Sat TT_06'!$C$4:$Q$152,12,FALSE)=$C235),0,VLOOKUP($C235,'Sat TT_06'!$C$4:$Q$152,12,FALSE))","v":0},{"$f":"IF(ISNA(VLOOKUP($C235,'Sat TT_07'!$C$4:$Q$152,12,FALSE)=$C235),0,VLOOKUP($C235,'Sat TT_07'!$C$4:$Q$152,12,FALSE))","v":0},{"$f":"IF(ISNA(VLOOKUP($C235,'Sat TT_08'!$C$4:$Q$152,12,FALSE)=$C235),0,VLOOKUP($C235,'Sat TT_08'!$C$4:$Q$152,12,FALSE))","v":0},0]
[{"$f":"VLOOKUP(C236,'Sheet 1'!C$1:D$96,2,FALSE)","v":{"$error":"#N/A"}},227,{"$f":"+'[1]Racing numbers file'!$B104","v":"Orla Tansey"},{"$f":"VLOOKUP(C236,'[1]Racing numbers file'!$B$4:$F$290,2,FALSE)","v":1963},{"$f":"VLOOKUP(C236,'[1]Racing numbers file'!$B$4:$F$290,4,FALSE)","v":53},0,{"$f":"IF(ISNA(VLOOKUP($C236,'Sat TT_01'!$C$4:$Q$152,12,FALSE)=$C236),0,VLOOKUP($C236,'Sat TT_01'!$C$4:$Q$152,12,FALSE))","v":0},{"$f":"IF(ISNA(VLOOKUP($C236,'Sat TT_02'!$C$4:$Q$152,12,FALSE)=$C236),0,VLOOKUP($C236,'Sat TT_02'!$C$4:$Q$152,12,FALSE))","v":0},{"$f":"IF(ISNA(VLOOKUP($C236,'Sat TT_03'!$C$4:$Q$152,12,FALSE)=$C236),0,VLOOKUP($C236,'Sat TT_03'!$C$4:$Q$152,12,FALSE))","v":0},{"$f":"IF(ISNA(VLOOKUP($C236,'Sat TT_04'!$C$4:$Q$152,12,FALSE)=$C236),0,VLOOKUP($C236,'Sat TT_04'!$C$4:$Q$152,12,FALSE))","v":0},{"$f":"IF(ISNA(VLOOKUP($C236,'Sat TT_05'!$C$4:$Q$152,12,FALSE)=$C236),0,VLOOKUP($C236,'Sat TT_05'!$C$4:$Q$152,12,FALSE))","v":0},{"$f":"IF(ISNA(VLOOKUP($C236,'Sat TT_06'!$C$4:$Q$152,12,FALSE)=$C236),0,VLOOKUP($C236,'Sat TT_06'!$C$4:$Q$152,12,FALSE))","v":0},{"$f":"IF(ISNA(VLOOKUP($C236,'Sat TT_07'!$C$4:$Q$152,12,FALSE)=$C236),0,VLOOKUP($C236,'Sat TT_07'!$C$4:$Q$152,12,FALSE))","v":0},{"$f":"IF(ISNA(VLOOKUP($C236,'Sat TT_08'!$C$4:$Q$152,12,FALSE)=$C236),0,VLOOKUP($C236,'Sat TT_08'!$C$4:$Q$152,12,FALSE))","v":0},0]
[{"$f":"VLOOKUP(C237,'Sheet 1'!C$1:D$96,2,FALSE)","v":1438},228,{"$f":"+'[1]Racing numbers file'!$B222","v":"Neil Delahaye"},{"$f":"VLOOKUP(C237,'[1]Racing numbers file'!$B$4:$F$290,2,FALSE)","v":1975},{"$f":"VLOOKUP(C237,'[1]Racing numbers file'!$B$4:$F$290,4,FALSE)","v":41},0,{"$f":"IF(ISNA(VLOOKUP($C237,'Sat TT_01'!$C$4:$Q$152,12,FALSE)=$C237),0,VLOOKUP($C237,'Sat TT_01'!$C$4:$Q$152,12,FALSE))","v":0},{"$f":"IF(ISNA(VLOOKUP($C237,'Sat TT_02'!$C$4:$Q$152,12,FALSE)=$C237),0,VLOOKUP($C237,'Sat TT_02'!$C$4:$Q$152,12,FALSE))","v":0},{"$f":"IF(ISNA(VLOOKUP($C237,'Sat TT_03'!$C$4:$Q$152,12,FALSE)=$C237),0,VLOOKUP($C237,'Sat TT_03'!$C$4:$Q$152,12,FALSE))","v":0},{"$f":"IF(ISNA(VLOOKUP($C237,'Sat TT_04'!$C$4:$Q$152,12,FALSE)=$C237),0,VLOOKUP($C237,'Sat TT_04'!$C$4:$Q$152,12,FALSE))","v":0},{"$f":"IF(ISNA(VLOOKUP($C237,'Sat TT_05'!$C$4:$Q$152,12,FALSE)=$C237),0,VLOOKUP($C237,'Sat TT_05'!$C$4:$Q$152,12,FALSE))","v":0},{"$f":"IF(ISNA(VLOOKUP($C237,'Sat TT_06'!$C$4:$Q$152,12,FALSE)=$C237),0,VLOOKUP($C237,'Sat TT_06'!$C$4:$Q$152,12,FALSE))","v":0},{"$f":"IF(ISNA(VLOOKUP($C237,'Sat TT_07'!$C$4:$Q$152,12,FALSE)=$C237),0,VLOOKUP($C237,'Sat TT_07'!$C$4:$Q$152,12,FALSE))","v":0},{"$f":"IF(ISNA(VLOOKUP($C237,'Sat TT_08'!$C$4:$Q$152,12,FALSE)=$C237),0,VLOOKUP($C237,'Sat TT_08'!$C$4:$Q$152,12,FALSE))","v":0},0]
[{"$f":"VLOOKUP(C238,'Sheet 1'!C$1:D$96,2,FALSE)","v":1197},229,{"$f":"+'[1]Racing numbers file'!$B98","v":"Dermot Moyne"},{"$f":"VLOOKUP(C238,'[1]Racing numbers file'!$B$4:$F$290,2,FALSE)","v":1962},{"$f":"VLOOKUP(C238,'[1]Racing numbers file'!$B$4:$F$290,4,FALSE)","v":54},0,{"$f":"IF(ISNA(VLOOKUP($C238,'Sat TT_01'!$C$4:$Q$152,12,FALSE)=$C238),0,VLOOKUP($C238,'Sat TT_01'!$C$4:$Q$152,12,FALSE))","v":0},{"$f":"IF(ISNA(VLOOKUP($C238,'Sat TT_02'!$C$4:$Q$152,12,FALSE)=$C238),0,VLOOKUP($C238,'Sat TT_02'!$C$4:$Q$152,12,FALSE))","v":0},{"$f":"IF(ISNA(VLOOKUP($C238,'Sat TT_03'!$C$4:$Q$152,12,FALSE)=$C238),0,VLOOKUP($C238,'Sat TT_03'!$C$4:$Q$152,12,FALSE))","v":0},{"$f":"IF(ISNA(VLOOKUP($C238,'Sat TT_04'!$C$4:$Q$152,12,FALSE)=$C238),0,VLOOKUP($C238,'Sat TT_04'!$C$4:$Q$152,12,FALSE))","v":0},{"$f":"IF(ISNA(VLOOKUP($C238,'Sat TT_05'!$C$4:$Q$152,12,FALSE)=$C238),0,VLOOKUP($C238,'Sat TT_05'!$C$4:$Q$152,12,FALSE))","v":0},{"$f":"IF(ISNA(VLOOKUP($C238,'Sat TT_06'!$C$4:$Q$152,12,FALSE)=$C238),0,VLOOKUP($C238,'Sat TT_06'!$C$4:$Q$152,12,FALSE))","v":0},{"$f":"IF(ISNA(VLOOKUP($C238,'Sat TT_07'!$C$4:$Q$152,12,FALSE)=$C238),0,VLOOKUP($C238,'Sat TT_07'!$C$4:$Q$152,12,FALSE))","v":0},{"$f":"IF(ISNA(VLOOKUP($C238,'Sat TT_08'!$C$4:$Q$152,12,FALSE)=$C238),0,VLOOKUP($C238,'Sat TT_08'!$C$4:$Q$152,12,FALSE))","v":0},0]
[{"$f":"VLOOKUP(C239,'Sheet 1'!C$1:D$96,2,FALSE)","v":{"$error":"#N/A"}},230,{"$f":"+'[1]Racing numbers file'!$B165","v":"Dermot Hickey"},{"$f":"VLOOKUP(C239,'[1]Racing numbers file'!$B$4:$F$290,2,FALSE)","v":1971},{"$f":"VLOOKUP(C239,'[1]Racing numbers file'!$B$4:$F$290,4,FALSE)","v":45},0,{"$f":"IF(ISNA(VLOOKUP($C239,'Sat TT_01'!$C$4:$Q$152,12,FALSE)=$C239),0,VLOOKUP($C239,'Sat TT_01'!$C$4:$Q$152,12,FALSE))","v":0},{"$f":"IF(ISNA(VLOOKUP($C239,'Sat TT_02'!$C$4:$Q$152,12,FALSE)=$C239),0,VLOOKUP($C239,'Sat TT_02'!$C$4:$Q$152,12,FALSE))","v":0},{"$f":"IF(ISNA(VLOOKUP($C239,'Sat TT_03'!$C$4:$Q$152,12,FALSE)=$C239),0,VLOOKUP($C239,'Sat TT_03'!$C$4:$Q$152,12,FALSE))","v":0},{"$f":"IF(ISNA(VLOOKUP($C239,'Sat TT_04'!$C$4:$Q$152,12,FALSE)=$C239),0,VLOOKUP($C239,'Sat TT_04'!$C$4:$Q$152,12,FALSE))","v":0},{"$f":"IF(ISNA(VLOOKUP($C239,'Sat TT_05'!$C$4:$Q$152,12,FALSE)=$C239),0,VLOOKUP($C239,'Sat TT_05'!$C$4:$Q$152,12,FALSE))","v":0},{"$f":"IF(ISNA(VLOOKUP($C239,'Sat TT_06'!$C$4:$Q$152,12,FALSE)=$C239),0,VLOOKUP($C239,'Sat TT_06'!$C$4:$Q$152,12,FALSE))","v":0},{"$f":"IF(ISNA(VLOOKUP($C239,'Sat TT_07'!$C$4:$Q$152,12,FALSE)=$C239),0,VLOOKUP($C239,'Sat TT_07'!$C$4:$Q$152,12,FALSE))","v":0},{"$f":"IF(ISNA(VLOOKUP($C239,'Sat TT_08'!$C$4:$Q$152,12,FALSE)=$C239),0,VLOOKUP($C239,'Sat TT_08'!$C$4:$Q$152,12,FALSE))","v":0},0]
[{"$f":"VLOOKUP(C240,'Sheet 1'!C$1:D$96,2,FALSE)","v":1363},231,{"$f":"+'[1]Racing numbers file'!$B183","v":"Paul Faherty"},{"$f":"VLOOKUP(C240,'[1]Racing numbers file'!$B$4:$F$290,2,FALSE)","v":1974},{"$f":"VLOOKUP(C240,'[1]Racing numbers file'!$B$4:$F$290,4,FALSE)","v":42},0,{"$f":"IF(ISNA(VLOOKUP($C240,'Sat TT_01'!$C$4:$Q$152,12,FALSE)=$C240),0,VLOOKUP($C240,'Sat TT_01'!$C$4:$Q$152,12,FALSE))","v":0},{"$f":"IF(ISNA(VLOOKUP($C240,'Sat TT_02'!$C$4:$Q$152,12,FALSE)=$C240),0,VLOOKUP($C240,'Sat TT_02'!$C$4:$Q$152,12,FALSE))","v":0},{"$f":"IF(ISNA(VLOOKUP($C240,'Sat TT_03'!$C$4:$Q$152,12,FALSE)=$C240),0,VLOOKUP($C240,'Sat TT_03'!$C$4:$Q$152,12,FALSE))","v":0},{"$f":"IF(ISNA(VLOOKUP($C240,'Sat TT_04'!$C$4:$Q$152,12,FALSE)=$C240),0,VLOOKUP($C240,'Sat TT_04'!$C$4:$Q$152,12,FALSE))","v":0},{"$f":"IF(ISNA(VLOOKUP($C240,'Sat TT_05'!$C$4:$Q$152,12,FALSE)=$C240),0,VLOOKUP($C240,'Sat TT_05'!$C$4:$Q$152,12,FALSE))","v":0},{"$f":"IF(ISNA(VLOOKUP($C240,'Sat TT_06'!$C$4:$Q$152,12,FALSE)=$C240),0,VLOOKUP($C240,'Sat TT_06'!$C$4:$Q$152,12,FALSE))","v":0},{"$f":"IF(ISNA(VLOOKUP($C240,'Sat TT_07'!$C$4:$Q$152,12,FALSE)=$C240),0,VLOOKUP($C240,'Sat TT_07'!$C$4:$Q$152,12,FALSE))","v":0},{"$f":"IF(ISNA(VLOOKUP($C240,'Sat TT_08'!$C$4:$Q$152,12,FALSE)=$C240),0,VLOOKUP($C240,'Sat TT_08'!$C$4:$Q$152,12,FALSE))","v":0},0]
[{"$f":"VLOOKUP(C241,'Sheet 1'!C$1:D$96,2,FALSE)","v":{"$error":"#N/A"}},232,{"$f":"+'[1]Racing numbers file'!$B125","v":"David Tansey"},{"$f":"VLOOKUP(C241,'[1]Racing numbers file'!$B$4:$F$290,2,FALSE)","v":1966},{"$f":"VLOOKUP(C241,'[1]Racing numbers file'!$B$4:$F$290,4,FALSE)","v":50},0,{"$f":"IF(ISNA(VLOOKUP($C241,'Sat TT_01'!$C$4:$Q$152,12,FALSE)=$C241),0,VLOOKUP($C241,'Sat TT_01'!$C$4:$Q$152,12,FALSE))","v":0},{"$f":"IF(ISNA(VLOOKUP($C241,'Sat TT_02'!$C$4:$Q$152,12,FALSE)=$C241),0,VLOOKUP($C241,'Sat TT_02'!$C$4:$Q$152,12,FALSE))","v":0},{"$f":"IF(ISNA(VLOOKUP($C241,'Sat TT_03'!$C$4:$Q$152,12,FALSE)=$C241),0,VLOOKUP($C241,'Sat TT_03'!$C$4:$Q$152,12,FALSE))","v":0},{"$f":"IF(ISNA(VLOOKUP($C241,'Sat TT_04'!$C$4:$Q$152,12,FALSE)=$C241),0,VLOOKUP($C241,'Sat TT_04'!$C$4:$Q$152,12,FALSE))","v":0},{"$f":"IF(ISNA(VLOOKUP($C241,'Sat TT_05'!$C$4:$Q$152,12,FALSE)=$C241),0,VLOOKUP($C241,'Sat TT_05'!$C$4:$Q$152,12,FALSE))","v":0},{"$f":"IF(ISNA(VLOOKUP($C241,'Sat TT_06'!$C$4:$Q$152,12,FALSE)=$C241),0,VLOOKUP($C241,'Sat TT_06'!$C$4:$Q$152,12,FALSE))","v":0},{"$f":"IF(ISNA(VLOOKUP($C241,'Sat TT_07'!$C$4:$Q$152,12,FALSE)=$C241),0,VLOOKUP($C241,'Sat TT_07'!$C$4:$Q$152,12,FALSE))","v":0},{"$f":"IF(ISNA(VLOOKUP($C241,'Sat TT_08'!$C$4:$Q$152,12,FALSE)=$C241),0,VLOOKUP($C241,'Sat TT_08'!$C$4:$Q$152,12,FALSE))","v":0},0]
[{"$f":"VLOOKUP(C242,'Sheet 1'!C$1:D$96,2,FALSE)","v":{"$error":"#N/A"}},233,{"$f":"+'[1]Racing numbers file'!$B81","v":"Joseph Coleman"},{"$f":"VLOOKUP(C242,'[1]Racing numbers file'!$B$4:$F$290,2,FALSE)","v":1960},{"$f":"VLOOKUP(C242,'[1]Racing numbers file'!$B$4:$F$290,4,FALSE)","v":56},0,{"$f":"IF(ISNA(VLOOKUP($C242,'Sat TT_01'!$C$4:$Q$152,12,FALSE)=$C242),0,VLOOKUP($C242,'Sat TT_01'!$C$4:$Q$152,12,FALSE))","v":0},{"$f":"IF(ISNA(VLOOKUP($C242,'Sat TT_02'!$C$4:$Q$152,12,FALSE)=$C242),0,VLOOKUP($C242,'Sat TT_02'!$C$4:$Q$152,12,FALSE))","v":0},{"$f":"IF(ISNA(VLOOKUP($C242,'Sat TT_03'!$C$4:$Q$152,12,FALSE)=$C242),0,VLOOKUP($C242,'Sat TT_03'!$C$4:$Q$152,12,FALSE))","v":0},{"$f":"IF(ISNA(VLOOKUP($C242,'Sat TT_04'!$C$4:$Q$152,12,FALSE)=$C242),0,VLOOKUP($C242,'Sat TT_04'!$C$4:$Q$152,12,FALSE))","v":0},{"$f":"IF(ISNA(VLOOKUP($C242,'Sat TT_05'!$C$4:$Q$152,12,FALSE)=$C242),0,VLOOKUP($C242,'Sat TT_05'!$C$4:$Q$152,12,FALSE))","v":0},{"$f":"IF(ISNA(VLOOKUP($C242,'Sat TT_06'!$C$4:$Q$152,12,FALSE)=$C242),0,VLOOKUP($C242,'Sat TT_06'!$C$4:$Q$152,12,FALSE))","v":0},{"$f":"IF(ISNA(VLOOKUP($C242,'Sat TT_07'!$C$4:$Q$152,12,FALSE)=$C242),0,VLOOKUP($C242,'Sat TT_07'!$C$4:$Q$152,12,FALSE))","v":0},{"$f":"IF(ISNA(VLOOKUP($C242,'Sat TT_08'!$C$4:$Q$152,12,FALSE)=$C242),0,VLOOKUP($C242,'Sat TT_08'!$C$4:$Q$152,12,FALSE))","v":0},0]
[{"$f":"VLOOKUP(C243,'Sheet 1'!C$1:D$96,2,FALSE)","v":{"$error":"#N/A"}},234,{"$f":"+'[1]Racing numbers file'!$B94","v":"Albert Morrow"},{"$f":"VLOOKUP(C243,'[1]Racing numbers file'!$B$4:$F$290,2,FALSE)","v":1962},{"$f":"VLOOKUP(C243,'[1]Racing numbers file'!$B$4:$F$290,4,FALSE)","v":54},0,{"$f":"IF(ISNA(VLOOKUP($C243,'Sat TT_01'!$C$4:$Q$152,12,FALSE)=$C243),0,VLOOKUP($C243,'Sat TT_01'!$C$4:$Q$152,12,FALSE))","v":0},{"$f":"IF(ISNA(VLOOKUP($C243,'Sat TT_02'!$C$4:$Q$152,12,FALSE)=$C243),0,VLOOKUP($C243,'Sat TT_02'!$C$4:$Q$152,12,FALSE))","v":0},{"$f":"IF(ISNA(VLOOKUP($C243,'Sat TT_03'!$C$4:$Q$152,12,FALSE)=$C243),0,VLOOKUP($C243,'Sat TT_03'!$C$4:$Q$152,12,FALSE))","v":0},{"$f":"IF(ISNA(VLOOKUP($C243,'Sat TT_04'!$C$4:$Q$152,12,FALSE)=$C243),0,VLOOKUP($C243,'Sat TT_04'!$C$4:$Q$152,12,FALSE))","v":0},{"$f":"IF(ISNA(VLOOKUP($C243,'Sat TT_05'!$C$4:$Q$152,12,FALSE)=$C243),0,VLOOKUP($C243,'Sat TT_05'!$C$4:$Q$152,12,FALSE))","v":0},{"$f":"IF(ISNA(VLOOKUP($C243,'Sat TT_06'!$C$4:$Q$152,12,FALSE)=$C243),0,VLOOKUP($C243,'Sat TT_06'!$C$4:$Q$152,12,FALSE))","v":0},{"$f":"IF(ISNA(VLOOKUP($C243,'Sat TT_07'!$C$4:$Q$152,12,FALSE)=$C243),0,VLOOKUP($C243,'Sat TT_07'!$C$4:$Q$152,12,FALSE))","v":0},{"$f":"IF(ISNA(VLOOKUP($C243,'Sat TT_08'!$C$4:$Q$152,12,FALSE)=$C243),0,VLOOKUP($C243,'Sat TT_08'!$C$4:$Q$152,12,FALSE))","v":0},0]
[{"$f":"VLOOKUP(C244,'Sheet 1'!C$1:D$96,2,FALSE)","v":{"$error":"#N/A"}},235,{"$f":"+'[1]Racing numbers file'!$B147","v":"Brian Kilbride"},{"$f":"VLOOKUP(C244,'[1]Racing numbers file'!$B$4:$F$290,2,FALSE)","v":1968},{"$f":"VLOOKUP(C244,'[1]Racing numbers file'!$B$4:$F$290,4,FALSE)","v":48},0,{"$f":"IF(ISNA(VLOOKUP($C244,'Sat TT_01'!$C$4:$Q$152,12,FALSE)=$C244),0,VLOOKUP($C244,'Sat TT_01'!$C$4:$Q$152,12,FALSE))","v":0},{"$f":"IF(ISNA(VLOOKUP($C244,'Sat TT_02'!$C$4:$Q$152,12,FALSE)=$C244),0,VLOOKUP($C244,'Sat TT_02'!$C$4:$Q$152,12,FALSE))","v":0},{"$f":"IF(ISNA(VLOOKUP($C244,'Sat TT_03'!$C$4:$Q$152,12,FALSE)=$C244),0,VLOOKUP($C244,'Sat TT_03'!$C$4:$Q$152,12,FALSE))","v":0},{"$f":"IF(ISNA(VLOOKUP($C244,'Sat TT_04'!$C$4:$Q$152,12,FALSE)=$C244),0,VLOOKUP($C244,'Sat TT_04'!$C$4:$Q$152,12,FALSE))","v":0},{"$f":"IF(ISNA(VLOOKUP($C244,'Sat TT_05'!$C$4:$Q$152,12,FALSE)=$C244),0,VLOOKUP($C244,'Sat TT_05'!$C$4:$Q$152,12,FALSE))","v":0},{"$f":"IF(ISNA(VLOOKUP($C244,'Sat TT_06'!$C$4:$Q$152,12,FALSE)=$C244),0,VLOOKUP($C244,'Sat TT_06'!$C$4:$Q$152,12,FALSE))","v":0},{"$f":"IF(ISNA(VLOOKUP($C244,'Sat TT_07'!$C$4:$Q$152,12,FALSE)=$C244),0,VLOOKUP($C244,'Sat TT_07'!$C$4:$Q$152,12,FALSE))","v":0},{"$f":"IF(ISNA(VLOOKUP($C244,'Sat TT_08'!$C$4:$Q$152,12,FALSE)=$C244),0,VLOOKUP($C244,'Sat TT_08'!$C$4:$Q$152,12,FALSE))","v":0},0]
[{"$f":"VLOOKUP(C245,'Sheet 1'!C$1:D$96,2,FALSE)","v":1164},236,{"$f":"+'[1]Racing numbers file'!$B80","v":"Eunan Malone"},{"$f":"VLOOKUP(C245,'[1]Racing numbers file'!$B$4:$F$290,2,FALSE)","v":1960},{"$f":"VLOOKUP(C245,'[1]Racing numbers file'!$B$4:$F$290,4,FALSE)","v":56},0,{"$f":"IF(ISNA(VLOOKUP($C245,'Sat TT_01'!$C$4:$Q$152,12,FALSE)=$C245),0,VLOOKUP($C245,'Sat TT_01'!$C$4:$Q$152,12,FALSE))","v":0},{"$f":"IF(ISNA(VLOOKUP($C245,'Sat TT_02'!$C$4:$Q$152,12,FALSE)=$C245),0,VLOOKUP($C245,'Sat TT_02'!$C$4:$Q$152,12,FALSE))","v":0},{"$f":"IF(ISNA(VLOOKUP($C245,'Sat TT_03'!$C$4:$Q$152,12,FALSE)=$C245),0,VLOOKUP($C245,'Sat TT_03'!$C$4:$Q$152,12,FALSE))","v":0},{"$f":"IF(ISNA(VLOOKUP($C245,'Sat TT_04'!$C$4:$Q$152,12,FALSE)=$C245),0,VLOOKUP($C245,'Sat TT_04'!$C$4:$Q$152,12,FALSE))","v":0},{"$f":"IF(ISNA(VLOOKUP($C245,'Sat TT_05'!$C$4:$Q$152,12,FALSE)=$C245),0,VLOOKUP($C245,'Sat TT_05'!$C$4:$Q$152,12,FALSE))","v":0},{"$f":"IF(ISNA(VLOOKUP($C245,'Sat TT_06'!$C$4:$Q$152,12,FALSE)=$C245),0,VLOOKUP($C245,'Sat TT_06'!$C$4:$Q$152,12,FALSE))","v":0},{"$f":"IF(ISNA(VLOOKUP($C245,'Sat TT_07'!$C$4:$Q$152,12,FALSE)=$C245),0,VLOOKUP($C245,'Sat TT_07'!$C$4:$Q$152,12,FALSE))","v":0},{"$f":"IF(ISNA(VLOOKUP($C245,'Sat TT_08'!$C$4:$Q$152,12,FALSE)=$C245),0,VLOOKUP($C245,'Sat TT_08'!$C$4:$Q$152,12,FALSE))","v":0},0]
[{"$f":"VLOOKUP(C246,'Sheet 1'!C$1:D$96,2,FALSE)","v":{"$error":"#N/A"}},237,{"$f":"+'[1]Racing numbers file'!$B95","v":"Tony Dunne"},{"$f":"VLOOKUP(C246,'[1]Racing numbers file'!$B$4:$F$290,2,FALSE)","v":1962},{"$f":"VLOOKUP(C246,'[1]Racing numbers file'!$B$4:$F$290,4,FALSE)","v":54},0,{"$f":"IF(ISNA(VLOOKUP($C246,'Sat TT_01'!$C$4:$Q$152,12,FALSE)=$C246),0,VLOOKUP($C246,'Sat TT_01'!$C$4:$Q$152,12,FALSE))","v":0},{"$f":"IF(ISNA(VLOOKUP($C246,'Sat TT_02'!$C$4:$Q$152,12,FALSE)=$C246),0,VLOOKUP($C246,'Sat TT_02'!$C$4:$Q$152,12,FALSE))","v":0},{"$f":"IF(ISNA(VLOOKUP($C246,'Sat TT_03'!$C$4:$Q$152,12,FALSE)=$C246),0,VLOOKUP($C246,'Sat TT_03'!$C$4:$Q$152,12,FALSE))","v":0},{"$f":"IF(ISNA(VLOOKUP($C246,'Sat TT_04'!$C$4:$Q$152,12,FALSE)=$C246),0,VLOOKUP($C246,'Sat TT_04'!$C$4:$Q$152,12,FALSE))","v":0},{"$f":"IF(ISNA(VLOOKUP($C246,'Sat TT_05'!$C$4:$Q$152,12,FALSE)=$C246),0,VLOOKUP($C246,'Sat TT_05'!$C$4:$Q$152,12,FALSE))","v":0},{"$f":"IF(ISNA(VLOOKUP($C246,'Sat TT_06'!$C$4:$Q$152,12,FALSE)=$C246),0,VLOOKUP($C246,'Sat TT_06'!$C$4:$Q$152,12,FALSE))","v":0},{"$f":"IF(ISNA(VLOOKUP($C246,'Sat TT_07'!$C$4:$Q$152,12,FALSE)=$C246),0,VLOOKUP($C246,'Sat TT_07'!$C$4:$Q$152,12,FALSE))","v":0},{"$f":"IF(ISNA(VLOOKUP($C246,'Sat TT_08'!$C$4:$Q$152,12,FALSE)=$C246),0,VLOOKUP($C246,'Sat TT_08'!$C$4:$Q$152,12,FALSE))","v":0},0]
[{"$f":"VLOOKUP(C247,'Sheet 1'!C$1:D$96,2,FALSE)","v":{"$error":"#N/A"}},238,{"$f":"+'[1]Racing numbers file'!$B146","v":"Michael Moore"},{"$f":"VLOOKUP(C247,'[1]Racing numbers file'!$B$4:$F$290,2,FALSE)","v":1968},{"$f":"VLOOKUP(C247,'[1]Racing numbers file'!$B$4:$F$290,4,FALSE)","v":48},0,{"$f":"IF(ISNA(VLOOKUP($C247,'Sat TT_01'!$C$4:$Q$152,12,FALSE)=$C247),0,VLOOKUP($C247,'Sat TT_01'!$C$4:$Q$152,12,FALSE))","v":0},{"$f":"IF(ISNA(VLOOKUP($C247,'Sat TT_02'!$C$4:$Q$152,12,FALSE)=$C247),0,VLOOKUP($C247,'Sat TT_02'!$C$4:$Q$152,12,FALSE))","v":0},{"$f":"IF(ISNA(VLOOKUP($C247,'Sat TT_03'!$C$4:$Q$152,12,FALSE)=$C247),0,VLOOKUP($C247,'Sat TT_03'!$C$4:$Q$152,12,FALSE))","v":0},{"$f":"IF(ISNA(VLOOKUP($C247,'Sat TT_04'!$C$4:$Q$152,12,FALSE)=$C247),0,VLOOKUP($C247,'Sat TT_04'!$C$4:$Q$152,12,FALSE))","v":0},{"$f":"IF(ISNA(VLOOKUP($C247,'Sat TT_05'!$C$4:$Q$152,12,FALSE)=$C247),0,VLOOKUP($C247,'Sat TT_05'!$C$4:$Q$152,12,FALSE))","v":0},{"$f":"IF(ISNA(VLOOKUP($C247,'Sat TT_06'!$C$4:$Q$152,12,FALSE)=$C247),0,VLOOKUP($C247,'Sat TT_06'!$C$4:$Q$152,12,FALSE))","v":0},{"$f":"IF(ISNA(VLOOKUP($C247,'Sat TT_07'!$C$4:$Q$152,12,FALSE)=$C247),0,VLOOKUP($C247,'Sat TT_07'!$C$4:$Q$152,12,FALSE))","v":0},{"$f":"IF(ISNA(VLOOKUP($C247,'Sat TT_08'!$C$4:$Q$152,12,FALSE)=$C247),0,VLOOKUP($C247,'Sat TT_08'!$C$4:$Q$152,12,FALSE))","v":0},0]
[{"$f":"VLOOKUP(C248,'Sheet 1'!C$1:D$96,2,FALSE)","v":{"$error":"#N/A"}},239,{"$f":"+'[1]Racing numbers file'!$B186","v":"Dylan Rafter"},{"$f":"VLOOKUP(C248,'[1]Racing numbers file'!$B$4:$F$290,2,FALSE)","v":1974},{"$f":"VLOOKUP(C248,'[1]Racing numbers file'!$B$4:$F$290,4,FALSE)","v":42},0,{"$f":"IF(ISNA(VLOOKUP($C248,'Sat TT_01'!$C$4:$Q$152,12,FALSE)=$C248),0,VLOOKUP($C248,'Sat TT_01'!$C$4:$Q$152,12,FALSE))","v":0},{"$f":"IF(ISNA(VLOOKUP($C248,'Sat TT_02'!$C$4:$Q$152,12,FALSE)=$C248),0,VLOOKUP($C248,'Sat TT_02'!$C$4:$Q$152,12,FALSE))","v":0},{"$f":"IF(ISNA(VLOOKUP($C248,'Sat TT_03'!$C$4:$Q$152,12,FALSE)=$C248),0,VLOOKUP($C248,'Sat TT_03'!$C$4:$Q$152,12,FALSE))","v":0},{"$f":"IF(ISNA(VLOOKUP($C248,'Sat TT_04'!$C$4:$Q$152,12,FALSE)=$C248),0,VLOOKUP($C248,'Sat TT_04'!$C$4:$Q$152,12,FALSE))","v":0},{"$f":"IF(ISNA(VLOOKUP($C248,'Sat TT_05'!$C$4:$Q$152,12,FALSE)=$C248),0,VLOOKUP($C248,'Sat TT_05'!$C$4:$Q$152,12,FALSE))","v":0},{"$f":"IF(ISNA(VLOOKUP($C248,'Sat TT_06'!$C$4:$Q$152,12,FALSE)=$C248),0,VLOOKUP($C248,'Sat TT_06'!$C$4:$Q$152,12,FALSE))","v":0},{"$f":"IF(ISNA(VLOOKUP($C248,'Sat TT_07'!$C$4:$Q$152,12,FALSE)=$C248),0,VLOOKUP($C248,'Sat TT_07'!$C$4:$Q$152,12,FALSE))","v":0},{"$f":"IF(ISNA(VLOOKUP($C248,'Sat TT_08'!$C$4:$Q$152,12,FALSE)=$C248),0,VLOOKUP($C248,'Sat TT_08'!$C$4:$Q$152,12,FALSE))","v":0},0]
[{"$f":"VLOOKUP(C249,'Sheet 1'!C$1:D$96,2,FALSE)","v":1163},240,{"$f":"+'[1]Racing numbers file'!$B79","v":"Eddie Lynch"},{"$f":"VLOOKUP(C249,'[1]Racing numbers file'!$B$4:$F$290,2,FALSE)","v":1960},{"$f":"VLOOKUP(C249,'[1]Racing numbers file'!$B$4:$F$290,4,FALSE)","v":56},0,{"$f":"IF(ISNA(VLOOKUP($C249,'Sat TT_01'!$C$4:$Q$152,12,FALSE)=$C249),0,VLOOKUP($C249,'Sat TT_01'!$C$4:$Q$152,12,FALSE))","v":0},{"$f":"IF(ISNA(VLOOKUP($C249,'Sat TT_02'!$C$4:$Q$152,12,FALSE)=$C249),0,VLOOKUP($C249,'Sat TT_02'!$C$4:$Q$152,12,FALSE))","v":0},{"$f":"IF(ISNA(VLOOKUP($C249,'Sat TT_03'!$C$4:$Q$152,12,FALSE)=$C249),0,VLOOKUP($C249,'Sat TT_03'!$C$4:$Q$152,12,FALSE))","v":0},{"$f":"IF(ISNA(VLOOKUP($C249,'Sat TT_04'!$C$4:$Q$152,12,FALSE)=$C249),0,VLOOKUP($C249,'Sat TT_04'!$C$4:$Q$152,12,FALSE))","v":0},{"$f":"IF(ISNA(VLOOKUP($C249,'Sat TT_05'!$C$4:$Q$152,12,FALSE)=$C249),0,VLOOKUP($C249,'Sat TT_05'!$C$4:$Q$152,12,FALSE))","v":0},{"$f":"IF(ISNA(VLOOKUP($C249,'Sat TT_06'!$C$4:$Q$152,12,FALSE)=$C249),0,VLOOKUP($C249,'Sat TT_06'!$C$4:$Q$152,12,FALSE))","v":0},{"$f":"IF(ISNA(VLOOKUP($C249,'Sat TT_07'!$C$4:$Q$152,12,FALSE)=$C249),0,VLOOKUP($C249,'Sat TT_07'!$C$4:$Q$152,12,FALSE))","v":0},{"$f":"IF(ISNA(VLOOKUP($C249,'Sat TT_08'!$C$4:$Q$152,12,FALSE)=$C249),0,VLOOKUP($C249,'Sat TT_08'!$C$4:$Q$152,12,FALSE))","v":0},0]
[{"$f":"VLOOKUP(C250,'Sheet 1'!C$1:D$96,2,FALSE)","v":{"$error":"#N/A"}},241,{"$f":"+'[1]Racing numbers file'!$B83","v":"Mick Rock"},{"$f":"VLOOKUP(C250,'[1]Racing numbers file'!$B$4:$F$290,2,FALSE)","v":1960},{"$f":"VLOOKUP(C250,'[1]Racing numbers file'!$B$4:$F$290,4,FALSE)","v":56},0,{"$f":"IF(ISNA(VLOOKUP($C250,'Sat TT_01'!$C$4:$Q$152,12,FALSE)=$C250),0,VLOOKUP($C250,'Sat TT_01'!$C$4:$Q$152,12,FALSE))","v":0},{"$f":"IF(ISNA(VLOOKUP($C250,'Sat TT_02'!$C$4:$Q$152,12,FALSE)=$C250),0,VLOOKUP($C250,'Sat TT_02'!$C$4:$Q$152,12,FALSE))","v":0},{"$f":"IF(ISNA(VLOOKUP($C250,'Sat TT_03'!$C$4:$Q$152,12,FALSE)=$C250),0,VLOOKUP($C250,'Sat TT_03'!$C$4:$Q$152,12,FALSE))","v":0},{"$f":"IF(ISNA(VLOOKUP($C250,'Sat TT_04'!$C$4:$Q$152,12,FALSE)=$C250),0,VLOOKUP($C250,'Sat TT_04'!$C$4:$Q$152,12,FALSE))","v":0},{"$f":"IF(ISNA(VLOOKUP($C250,'Sat TT_05'!$C$4:$Q$152,12,FALSE)=$C250),0,VLOOKUP($C250,'Sat TT_05'!$C$4:$Q$152,12,FALSE))","v":0},{"$f":"IF(ISNA(VLOOKUP($C250,'Sat TT_06'!$C$4:$Q$152,12,FALSE)=$C250),0,VLOOKUP($C250,'Sat TT_06'!$C$4:$Q$152,12,FALSE))","v":0},{"$f":"IF(ISNA(VLOOKUP($C250,'Sat TT_07'!$C$4:$Q$152,12,FALSE)=$C250),0,VLOOKUP($C250,'Sat TT_07'!$C$4:$Q$152,12,FALSE))","v":0},{"$f":"IF(ISNA(VLOOKUP($C250,'Sat TT_08'!$C$4:$Q$152,12,FALSE)=$C250),0,VLOOKUP($C250,'Sat TT_08'!$C$4:$Q$152,12,FALSE))","v":0},0]
[{"$f":"VLOOKUP(C251,'Sheet 1'!C$1:D$96,2,FALSE)","v":{"$error":"#N/A"}},242,{"$f":"+'[1]Racing numbers file'!$B96","v":"Willie McDonald"},{"$f":"VLOOKUP(C251,'[1]Racing numbers file'!$B$4:$F$290,2,FALSE)","v":1962},{"$f":"VLOOKUP(C251,'[1]Racing numbers file'!$B$4:$F$290,4,FALSE)","v":54},0,{"$f":"IF(ISNA(VLOOKUP($C251,'Sat TT_01'!$C$4:$Q$152,12,FALSE)=$C251),0,VLOOKUP($C251,'Sat TT_01'!$C$4:$Q$152,12,FALSE))","v":0},{"$f":"IF(ISNA(VLOOKUP($C251,'Sat TT_02'!$C$4:$Q$152,12,FALSE)=$C251),0,VLOOKUP($C251,'Sat TT_02'!$C$4:$Q$152,12,FALSE))","v":0},{"$f":"IF(ISNA(VLOOKUP($C251,'Sat TT_03'!$C$4:$Q$152,12,FALSE)=$C251),0,VLOOKUP($C251,'Sat TT_03'!$C$4:$Q$152,12,FALSE))","v":0},{"$f":"IF(ISNA(VLOOKUP($C251,'Sat TT_04'!$C$4:$Q$152,12,FALSE)=$C251),0,VLOOKUP($C251,'Sat TT_04'!$C$4:$Q$152,12,FALSE))","v":0},{"$f":"IF(ISNA(VLOOKUP($C251,'Sat TT_05'!$C$4:$Q$152,12,FALSE)=$C251),0,VLOOKUP($C251,'Sat TT_05'!$C$4:$Q$152,12,FALSE))","v":0},{"$f":"IF(ISNA(VLOOKUP($C251,'Sat TT_06'!$C$4:$Q$152,12,FALSE)=$C251),0,VLOOKUP($C251,'Sat TT_06'!$C$4:$Q$152,12,FALSE))","v":0},{"$f":"IF(ISNA(VLOOKUP($C251,'Sat TT_07'!$C$4:$Q$152,12,FALSE)=$C251),0,VLOOKUP($C251,'Sat TT_07'!$C$4:$Q$152,12,FALSE))","v":0},{"$f":"IF(ISNA(VLOOKUP($C251,'Sat TT_08'!$C$4:$Q$152,12,FALSE)=$C251),0,VLOOKUP($C251,'Sat TT_08'!$C$4:$Q$152,12,FALSE))","v":0},0]
[{"$f":"VLOOKUP(C252,'Sheet 1'!C$1:D$96,2,FALSE)","v":1227},243,{"$f":"+'[1]Racing numbers file'!$B115","v":"Linus Devlin"},{"$f":"VLOOKUP(C252,'[1]Racing numbers file'!$B$4:$F$290,2,FALSE)","v":1964},{"$f":"VLOOKUP(C252,'[1]Racing numbers file'!$B$4:$F$290,4,FALSE)","v":52},0,{"$f":"IF(ISNA(VLOOKUP($C252,'Sat TT_01'!$C$4:$Q$152,12,FALSE)=$C252),0,VLOOKUP($C252,'Sat TT_01'!$C$4:$Q$152,12,FALSE))","v":0},{"$f":"IF(ISNA(VLOOKUP($C252,'Sat TT_02'!$C$4:$Q$152,12,FALSE)=$C252),0,VLOOKUP($C252,'Sat TT_02'!$C$4:$Q$152,12,FALSE))","v":0},{"$f":"IF(ISNA(VLOOKUP($C252,'Sat TT_03'!$C$4:$Q$152,12,FALSE)=$C252),0,VLOOKUP($C252,'Sat TT_03'!$C$4:$Q$152,12,FALSE))","v":0},{"$f":"IF(ISNA(VLOOKUP($C252,'Sat TT_04'!$C$4:$Q$152,12,FALSE)=$C252),0,VLOOKUP($C252,'Sat TT_04'!$C$4:$Q$152,12,FALSE))","v":0},{"$f":"IF(ISNA(VLOOKUP($C252,'Sat TT_05'!$C$4:$Q$152,12,FALSE)=$C252),0,VLOOKUP($C252,'Sat TT_05'!$C$4:$Q$152,12,FALSE))","v":0},{"$f":"IF(ISNA(VLOOKUP($C252,'Sat TT_06'!$C$4:$Q$152,12,FALSE)=$C252),0,VLOOKUP($C252,'Sat TT_06'!$C$4:$Q$152,12,FALSE))","v":0},{"$f":"IF(ISNA(VLOOKUP($C252,'Sat TT_07'!$C$4:$Q$152,12,FALSE)=$C252),0,VLOOKUP($C252,'Sat TT_07'!$C$4:$Q$152,12,FALSE))","v":0},{"$f":"IF(ISNA(VLOOKUP($C252,'Sat TT_08'!$C$4:$Q$152,12,FALSE)=$C252),0,VLOOKUP($C252,'Sat TT_08'!$C$4:$Q$152,12,FALSE))","v":0},0]
[{"$f":"VLOOKUP(C253,'Sheet 1'!C$1:D$96,2,FALSE)","v":1281},244,{"$f":"+'[1]Racing numbers file'!$B148","v":"Cathal Miller"},{"$f":"VLOOKUP(C253,'[1]Racing numbers file'!$B$4:$F$290,2,FALSE)","v":1968},{"$f":"VLOOKUP(C253,'[1]Racing numbers file'!$B$4:$F$290,4,FALSE)","v":48},0,{"$f":"IF(ISNA(VLOOKUP($C253,'Sat TT_01'!$C$4:$Q$152,12,FALSE)=$C253),0,VLOOKUP($C253,'Sat TT_01'!$C$4:$Q$152,12,FALSE))","v":0},{"$f":"IF(ISNA(VLOOKUP($C253,'Sat TT_02'!$C$4:$Q$152,12,FALSE)=$C253),0,VLOOKUP($C253,'Sat TT_02'!$C$4:$Q$152,12,FALSE))","v":0},{"$f":"IF(ISNA(VLOOKUP($C253,'Sat TT_03'!$C$4:$Q$152,12,FALSE)=$C253),0,VLOOKUP($C253,'Sat TT_03'!$C$4:$Q$152,12,FALSE))","v":0},{"$f":"IF(ISNA(VLOOKUP($C253,'Sat TT_04'!$C$4:$Q$152,12,FALSE)=$C253),0,VLOOKUP($C253,'Sat TT_04'!$C$4:$Q$152,12,FALSE))","v":0},{"$f":"IF(ISNA(VLOOKUP($C253,'Sat TT_05'!$C$4:$Q$152,12,FALSE)=$C253),0,VLOOKUP($C253,'Sat TT_05'!$C$4:$Q$152,12,FALSE))","v":0},{"$f":"IF(ISNA(VLOOKUP($C253,'Sat TT_06'!$C$4:$Q$152,12,FALSE)=$C253),0,VLOOKUP($C253,'Sat TT_06'!$C$4:$Q$152,12,FALSE))","v":0},{"$f":"IF(ISNA(VLOOKUP($C253,'Sat TT_07'!$C$4:$Q$152,12,FALSE)=$C253),0,VLOOKUP($C253,'Sat TT_07'!$C$4:$Q$152,12,FALSE))","v":0},{"$f":"IF(ISNA(VLOOKUP($C253,'Sat TT_08'!$C$4:$Q$152,12,FALSE)=$C253),0,VLOOKUP($C253,'Sat TT_08'!$C$4:$Q$152,12,FALSE))","v":0},0]
[{"$f":"VLOOKUP(C254,'Sheet 1'!C$1:D$96,2,FALSE)","v":{"$error":"#N/A"}},245,{"$f":"+'[1]Racing numbers file'!$B149","v":"Tom O'Connell"},{"$f":"VLOOKUP(C254,'[1]Racing numbers file'!$B$4:$F$290,2,FALSE)","v":1969},{"$f":"VLOOKUP(C254,'[1]Racing numbers file'!$B$4:$F$290,4,FALSE)","v":47},0,{"$f":"IF(ISNA(VLOOKUP($C254,'Sat TT_01'!$C$4:$Q$152,12,FALSE)=$C254),0,VLOOKUP($C254,'Sat TT_01'!$C$4:$Q$152,12,FALSE))","v":0},{"$f":"IF(ISNA(VLOOKUP($C254,'Sat TT_02'!$C$4:$Q$152,12,FALSE)=$C254),0,VLOOKUP($C254,'Sat TT_02'!$C$4:$Q$152,12,FALSE))","v":0},{"$f":"IF(ISNA(VLOOKUP($C254,'Sat TT_03'!$C$4:$Q$152,12,FALSE)=$C254),0,VLOOKUP($C254,'Sat TT_03'!$C$4:$Q$152,12,FALSE))","v":0},{"$f":"IF(ISNA(VLOOKUP($C254,'Sat TT_04'!$C$4:$Q$152,12,FALSE)=$C254),0,VLOOKUP($C254,'Sat TT_04'!$C$4:$Q$152,12,FALSE))","v":0},{"$f":"IF(ISNA(VLOOKUP($C254,'Sat TT_05'!$C$4:$Q$152,12,FALSE)=$C254),0,VLOOKUP($C254,'Sat TT_05'!$C$4:$Q$152,12,FALSE))","v":0},{"$f":"IF(ISNA(VLOOKUP($C254,'Sat TT_06'!$C$4:$Q$152,12,FALSE)=$C254),0,VLOOKUP($C254,'Sat TT_06'!$C$4:$Q$152,12,FALSE))","v":0},{"$f":"IF(ISNA(VLOOKUP($C254,'Sat TT_07'!$C$4:$Q$152,12,FALSE)=$C254),0,VLOOKUP($C254,'Sat TT_07'!$C$4:$Q$152,12,FALSE))","v":0},{"$f":"IF(ISNA(VLOOKUP($C254,'Sat TT_08'!$C$4:$Q$152,12,FALSE)=$C254),0,VLOOKUP($C254,'Sat TT_08'!$C$4:$Q$152,12,FALSE))","v":0},0]
[{"$f":"VLOOKUP(C255,'Sheet 1'!C$1:D$96,2,FALSE)","v":{"$error":"#N/A"}},246,{"$f":"+'[1]Racing numbers file'!$B151","v":"Tony Keating"},{"$f":"VLOOKUP(C255,'[1]Racing numbers file'!$B$4:$F$290,2,FALSE)","v":1969},{"$f":"VLOOKUP(C255,'[1]Racing numbers file'!$B$4:$F$290,4,FALSE)","v":47},0,{"$f":"IF(ISNA(VLOOKUP($C255,'Sat TT_01'!$C$4:$Q$152,12,FALSE)=$C255),0,VLOOKUP($C255,'Sat TT_01'!$C$4:$Q$152,12,FALSE))","v":0},{"$f":"IF(ISNA(VLOOKUP($C255,'Sat TT_02'!$C$4:$Q$152,12,FALSE)=$C255),0,VLOOKUP($C255,'Sat TT_02'!$C$4:$Q$152,12,FALSE))","v":0},{"$f":"IF(ISNA(VLOOKUP($C255,'Sat TT_03'!$C$4:$Q$152,12,FALSE)=$C255),0,VLOOKUP($C255,'Sat TT_03'!$C$4:$Q$152,12,FALSE))","v":0},{"$f":"IF(ISNA(VLOOKUP($C255,'Sat TT_04'!$C$4:$Q$152,12,FALSE)=$C255),0,VLOOKUP($C255,'Sat TT_04'!$C$4:$Q$152,12,FALSE))","v":0},{"$f":"IF(ISNA(VLOOKUP($C255,'Sat TT_05'!$C$4:$Q$152,12,FALSE)=$C255),0,VLOOKUP($C255,'Sat TT_05'!$C$4:$Q$152,12,FALSE))","v":0},{"$f":"IF(ISNA(VLOOKUP($C255,'Sat TT_06'!$C$4:$Q$152,12,FALSE)=$C255),0,VLOOKUP($C255,'Sat TT_06'!$C$4:$Q$152,12,FALSE))","v":0},{"$f":"IF(ISNA(VLOOKUP($C255,'Sat TT_07'!$C$4:$Q$152,12,FALSE)=$C255),0,VLOOKUP($C255,'Sat TT_07'!$C$4:$Q$152,12,FALSE))","v":0},{"$f":"IF(ISNA(VLOOKUP($C255,'Sat TT_08'!$C$4:$Q$152,12,FALSE)=$C255),0,VLOOKUP($C255,'Sat TT_08'!$C$4:$Q$152,12,FALSE))","v":0},0]
[{"$f":"VLOOKUP(C256,'Sheet 1'!C$1:D$96,2,FALSE)","v":1396},247,{"$f":"+'[1]Racing numbers file'!$B202","v":"Cathal Murray"},{"$f":"VLOOKUP(C256,'[1]Racing numbers file'!$B$4:$F$290,2,FALSE)","v":1972},{"$f":"VLOOKUP(C256,'[1]Racing numbers file'!$B$4:$F$290,4,FALSE)","v":44},0,{"$f":"IF(ISNA(VLOOKUP($C256,'Sat TT_01'!$C$4:$Q$152,12,FALSE)=$C256),0,VLOOKUP($C256,'Sat TT_01'!$C$4:$Q$152,12,FALSE))","v":0},{"$f":"IF(ISNA(VLOOKUP($C256,'Sat TT_02'!$C$4:$Q$152,12,FALSE)=$C256),0,VLOOKUP($C256,'Sat TT_02'!$C$4:$Q$152,12,FALSE))","v":0},{"$f":"IF(ISNA(VLOOKUP($C256,'Sat TT_03'!$C$4:$Q$152,12,FALSE)=$C256),0,VLOOKUP($C256,'Sat TT_03'!$C$4:$Q$152,12,FALSE))","v":0},{"$f":"IF(ISNA(VLOOKUP($C256,'Sat TT_04'!$C$4:$Q$152,12,FALSE)=$C256),0,VLOOKUP($C256,'Sat TT_04'!$C$4:$Q$152,12,FALSE))","v":0},{"$f":"IF(ISNA(VLOOKUP($C256,'Sat TT_05'!$C$4:$Q$152,12,FALSE)=$C256),0,VLOOKUP($C256,'Sat TT_05'!$C$4:$Q$152,12,FALSE))","v":0},{"$f":"IF(ISNA(VLOOKUP($C256,'Sat TT_06'!$C$4:$Q$152,12,FALSE)=$C256),0,VLOOKUP($C256,'Sat TT_06'!$C$4:$Q$152,12,FALSE))","v":0},{"$f":"IF(ISNA(VLOOKUP($C256,'Sat TT_07'!$C$4:$Q$152,12,FALSE)=$C256),0,VLOOKUP($C256,'Sat TT_07'!$C$4:$Q$152,12,FALSE))","v":0},{"$f":"IF(ISNA(VLOOKUP($C256,'Sat TT_08'!$C$4:$Q$152,12,FALSE)=$C256),0,VLOOKUP($C256,'Sat TT_08'!$C$4:$Q$152,12,FALSE))","v":0},0]
[{"$f":"VLOOKUP(C257,'Sheet 1'!C$1:D$96,2,FALSE)","v":1441},248,{"$f":"+'[1]Racing numbers file'!$B223","v":"David Bradley"},{"$f":"VLOOKUP(C257,'[1]Racing numbers file'!$B$4:$F$290,2,FALSE)","v":1972},{"$f":"VLOOKUP(C257,'[1]Racing numbers file'!$B$4:$F$290,4,FALSE)","v":44},0,{"$f":"IF(ISNA(VLOOKUP($C257,'Sat TT_01'!$C$4:$Q$152,12,FALSE)=$C257),0,VLOOKUP($C257,'Sat TT_01'!$C$4:$Q$152,12,FALSE))","v":0},{"$f":"IF(ISNA(VLOOKUP($C257,'Sat TT_02'!$C$4:$Q$152,12,FALSE)=$C257),0,VLOOKUP($C257,'Sat TT_02'!$C$4:$Q$152,12,FALSE))","v":0},{"$f":"IF(ISNA(VLOOKUP($C257,'Sat TT_03'!$C$4:$Q$152,12,FALSE)=$C257),0,VLOOKUP($C257,'Sat TT_03'!$C$4:$Q$152,12,FALSE))","v":0},{"$f":"IF(ISNA(VLOOKUP($C257,'Sat TT_04'!$C$4:$Q$152,12,FALSE)=$C257),0,VLOOKUP($C257,'Sat TT_04'!$C$4:$Q$152,12,FALSE))","v":0},{"$f":"IF(ISNA(VLOOKUP($C257,'Sat TT_05'!$C$4:$Q$152,12,FALSE)=$C257),0,VLOOKUP($C257,'Sat TT_05'!$C$4:$Q$152,12,FALSE))","v":0},{"$f":"IF(ISNA(VLOOKUP($C257,'Sat TT_06'!$C$4:$Q$152,12,FALSE)=$C257),0,VLOOKUP($C257,'Sat TT_06'!$C$4:$Q$152,12,FALSE))","v":0},{"$f":"IF(ISNA(VLOOKUP($C257,'Sat TT_07'!$C$4:$Q$152,12,FALSE)=$C257),0,VLOOKUP($C257,'Sat TT_07'!$C$4:$Q$152,12,FALSE))","v":0},{"$f":"IF(ISNA(VLOOKUP($C257,'Sat TT_08'!$C$4:$Q$152,12,FALSE)=$C257),0,VLOOKUP($C257,'Sat TT_08'!$C$4:$Q$152,12,FALSE))","v":0},0]
[{"$f":"VLOOKUP(C258,'Sheet 1'!C$1:D$96,2,FALSE)","v":{"$error":"#N/A"}},249,{"$f":"+'[1]Racing numbers file'!$B252","v":"Gavin Dodd"},{"$f":"VLOOKUP(C258,'[1]Racing numbers file'!$B$4:$F$290,2,FALSE)","v":1974},{"$f":"VLOOKUP(C258,'[1]Racing numbers file'!$B$4:$F$290,4,FALSE)","v":42},0,{"$f":"IF(ISNA(VLOOKUP($C258,'Sat TT_01'!$C$4:$Q$152,12,FALSE)=$C258),0,VLOOKUP($C258,'Sat TT_01'!$C$4:$Q$152,12,FALSE))","v":0},{"$f":"IF(ISNA(VLOOKUP($C258,'Sat TT_02'!$C$4:$Q$152,12,FALSE)=$C258),0,VLOOKUP($C258,'Sat TT_02'!$C$4:$Q$152,12,FALSE))","v":0},{"$f":"IF(ISNA(VLOOKUP($C258,'Sat TT_03'!$C$4:$Q$152,12,FALSE)=$C258),0,VLOOKUP($C258,'Sat TT_03'!$C$4:$Q$152,12,FALSE))","v":0},{"$f":"IF(ISNA(VLOOKUP($C258,'Sat TT_04'!$C$4:$Q$152,12,FALSE)=$C258),0,VLOOKUP($C258,'Sat TT_04'!$C$4:$Q$152,12,FALSE))","v":0},{"$f":"IF(ISNA(VLOOKUP($C258,'Sat TT_05'!$C$4:$Q$152,12,FALSE)=$C258),0,VLOOKUP($C258,'Sat TT_05'!$C$4:$Q$152,12,FALSE))","v":0},{"$f":"IF(ISNA(VLOOKUP($C258,'Sat TT_06'!$C$4:$Q$152,12,FALSE)=$C258),0,VLOOKUP($C258,'Sat TT_06'!$C$4:$Q$152,12,FALSE))","v":0},{"$f":"IF(ISNA(VLOOKUP($C258,'Sat TT_07'!$C$4:$Q$152,12,FALSE)=$C258),0,VLOOKUP($C258,'Sat TT_07'!$C$4:$Q$152,12,FALSE))","v":0},{"$f":"IF(ISNA(VLOOKUP($C258,'Sat TT_08'!$C$4:$Q$152,12,FALSE)=$C258),0,VLOOKUP($C258,'Sat TT_08'!$C$4:$Q$152,12,FALSE))","v":0}]
[{"$f":"VLOOKUP(C259,'Sheet 1'!C$1:D$96,2,FALSE)","v":{"$error":"#N/A"}},250,{"$f":"+'[1]Racing numbers file'!$B253","v":"Fergus Craddock"},{"$f":"VLOOKUP(C259,'[1]Racing numbers file'!$B$4:$F$290,2,FALSE)","v":1975},{"$f":"VLOOKUP(C259,'[1]Racing numbers file'!$B$4:$F$290,4,FALSE)","v":41},0,{"$f":"IF(ISNA(VLOOKUP($C259,'Sat TT_01'!$C$4:$Q$152,12,FALSE)=$C259),0,VLOOKUP($C259,'Sat TT_01'!$C$4:$Q$152,12,FALSE))","v":0},{"$f":"IF(ISNA(VLOOKUP($C259,'Sat TT_02'!$C$4:$Q$152,12,FALSE)=$C259),0,VLOOKUP($C259,'Sat TT_02'!$C$4:$Q$152,12,FALSE))","v":0},{"$f":"IF(ISNA(VLOOKUP($C259,'Sat TT_03'!$C$4:$Q$152,12,FALSE)=$C259),0,VLOOKUP($C259,'Sat TT_03'!$C$4:$Q$152,12,FALSE))","v":0},{"$f":"IF(ISNA(VLOOKUP($C259,'Sat TT_04'!$C$4:$Q$152,12,FALSE)=$C259),0,VLOOKUP($C259,'Sat TT_04'!$C$4:$Q$152,12,FALSE))","v":0},{"$f":"IF(ISNA(VLOOKUP($C259,'Sat TT_05'!$C$4:$Q$152,12,FALSE)=$C259),0,VLOOKUP($C259,'Sat TT_05'!$C$4:$Q$152,12,FALSE))","v":0},{"$f":"IF(ISNA(VLOOKUP($C259,'Sat TT_06'!$C$4:$Q$152,12,FALSE)=$C259),0,VLOOKUP($C259,'Sat TT_06'!$C$4:$Q$152,12,FALSE))","v":0},{"$f":"IF(ISNA(VLOOKUP($C259,'Sat TT_07'!$C$4:$Q$152,12,FALSE)=$C259),0,VLOOKUP($C259,'Sat TT_07'!$C$4:$Q$152,12,FALSE))","v":0},{"$f":"IF(ISNA(VLOOKUP($C259,'Sat TT_08'!$C$4:$Q$152,12,FALSE)=$C259),0,VLOOKUP($C259,'Sat TT_08'!$C$4:$Q$152,12,FALSE))","v":0}]
[{"$f":"VLOOKUP(C260,'Sheet 1'!C$1:D$96,2,FALSE)","v":{"$error":"#N/A"}},251,{"$f":"+'[1]Racing numbers file'!$B254","v":"Conor Barry"},{"$f":"VLOOKUP(C260,'[1]Racing numbers file'!$B$4:$F$290,2,FALSE)","v":1973},{"$f":"VLOOKUP(C260,'[1]Racing numbers file'!$B$4:$F$290,4,FALSE)","v":43},0,{"$f":"IF(ISNA(VLOOKUP($C260,'Sat TT_01'!$C$4:$Q$152,12,FALSE)=$C260),0,VLOOKUP($C260,'Sat TT_01'!$C$4:$Q$152,12,FALSE))","v":0},{"$f":"IF(ISNA(VLOOKUP($C260,'Sat TT_02'!$C$4:$Q$152,12,FALSE)=$C260),0,VLOOKUP($C260,'Sat TT_02'!$C$4:$Q$152,12,FALSE))","v":0},{"$f":"IF(ISNA(VLOOKUP($C260,'Sat TT_03'!$C$4:$Q$152,12,FALSE)=$C260),0,VLOOKUP($C260,'Sat TT_03'!$C$4:$Q$152,12,FALSE))","v":0},{"$f":"IF(ISNA(VLOOKUP($C260,'Sat TT_04'!$C$4:$Q$152,12,FALSE)=$C260),0,VLOOKUP($C260,'Sat TT_04'!$C$4:$Q$152,12,FALSE))","v":0},{"$f":"IF(ISNA(VLOOKUP($C260,'Sat TT_05'!$C$4:$Q$152,12,FALSE)=$C260),0,VLOOKUP($C260,'Sat TT_05'!$C$4:$Q$152,12,FALSE))","v":0},{"$f":"IF(ISNA(VLOOKUP($C260,'Sat TT_06'!$C$4:$Q$152,12,FALSE)=$C260),0,VLOOKUP($C260,'Sat TT_06'!$C$4:$Q$152,12,FALSE))","v":0},{"$f":"IF(ISNA(VLOOKUP($C260,'Sat TT_07'!$C$4:$Q$152,12,FALSE)=$C260),0,VLOOKUP($C260,'Sat TT_07'!$C$4:$Q$152,12,FALSE))","v":0},{"$f":"IF(ISNA(VLOOKUP($C260,'Sat TT_08'!$C$4:$Q$152,12,FALSE)=$C260),0,VLOOKUP($C260,'Sat TT_08'!$C$4:$Q$152,12,FALSE))","v":0}]
[{"$f":"VLOOKUP(C261,'Sheet 1'!C$1:D$96,2,FALSE)","v":{"$error":"#N/A"}},252,{"$f":"+'[1]Racing numbers file'!$B255","v":"Gerard Kane"},{"$f":"VLOOKUP(C261,'[1]Racing numbers file'!$B$4:$F$290,2,FALSE)","v":1969},{"$f":"VLOOKUP(C261,'[1]Racing numbers file'!$B$4:$F$290,4,FALSE)","v":47},0,{"$f":"IF(ISNA(VLOOKUP($C261,'Sat TT_01'!$C$4:$Q$152,12,FALSE)=$C261),0,VLOOKUP($C261,'Sat TT_01'!$C$4:$Q$152,12,FALSE))","v":0},{"$f":"IF(ISNA(VLOOKUP($C261,'Sat TT_02'!$C$4:$Q$152,12,FALSE)=$C261),0,VLOOKUP($C261,'Sat TT_02'!$C$4:$Q$152,12,FALSE))","v":0},{"$f":"IF(ISNA(VLOOKUP($C261,'Sat TT_03'!$C$4:$Q$152,12,FALSE)=$C261),0,VLOOKUP($C261,'Sat TT_03'!$C$4:$Q$152,12,FALSE))","v":0},{"$f":"IF(ISNA(VLOOKUP($C261,'Sat TT_04'!$C$4:$Q$152,12,FALSE)=$C261),0,VLOOKUP($C261,'Sat TT_04'!$C$4:$Q$152,12,FALSE))","v":0},{"$f":"IF(ISNA(VLOOKUP($C261,'Sat TT_05'!$C$4:$Q$152,12,FALSE)=$C261),0,VLOOKUP($C261,'Sat TT_05'!$C$4:$Q$152,12,FALSE))","v":0},{"$f":"IF(ISNA(VLOOKUP($C261,'Sat TT_06'!$C$4:$Q$152,12,FALSE)=$C261),0,VLOOKUP($C261,'Sat TT_06'!$C$4:$Q$152,12,FALSE))","v":0},{"$f":"IF(ISNA(VLOOKUP($C261,'Sat TT_07'!$C$4:$Q$152,12,FALSE)=$C261),0,VLOOKUP($C261,'Sat TT_07'!$C$4:$Q$152,12,FALSE))","v":0},{"$f":"IF(ISNA(VLOOKUP($C261,'Sat TT_08'!$C$4:$Q$152,12,FALSE)=$C261),0,VLOOKUP($C261,'Sat TT_08'!$C$4:$Q$152,12,FALSE))","v":0}]
[{"$f":"VLOOKUP(C262,'Sheet 1'!C$1:D$96,2,FALSE)","v":{"$error":"#N/A"}},253,{"$f":"+'[1]Racing numbers file'!$B256","v":"Mark Mahon"},{"$f":"VLOOKUP(C262,'[1]Racing numbers file'!$B$4:$F$290,2,FALSE)","v":1973},{"$f":"VLOOKUP(C262,'[1]Racing numbers file'!$B$4:$F$290,4,FALSE)","v":43},0,{"$f":"IF(ISNA(VLOOKUP($C262,'Sat TT_01'!$C$4:$Q$152,12,FALSE)=$C262),0,VLOOKUP($C262,'Sat TT_01'!$C$4:$Q$152,12,FALSE))","v":0},{"$f":"IF(ISNA(VLOOKUP($C262,'Sat TT_02'!$C$4:$Q$152,12,FALSE)=$C262),0,VLOOKUP($C262,'Sat TT_02'!$C$4:$Q$152,12,FALSE))","v":0},{"$f":"IF(ISNA(VLOOKUP($C262,'Sat TT_03'!$C$4:$Q$152,12,FALSE)=$C262),0,VLOOKUP($C262,'Sat TT_03'!$C$4:$Q$152,12,FALSE))","v":0},{"$f":"IF(ISNA(VLOOKUP($C262,'Sat TT_04'!$C$4:$Q$152,12,FALSE)=$C262),0,VLOOKUP($C262,'Sat TT_04'!$C$4:$Q$152,12,FALSE))","v":0},{"$f":"IF(ISNA(VLOOKUP($C262,'Sat TT_05'!$C$4:$Q$152,12,FALSE)=$C262),0,VLOOKUP($C262,'Sat TT_05'!$C$4:$Q$152,12,FALSE))","v":0},{"$f":"IF(ISNA(VLOOKUP($C262,'Sat TT_06'!$C$4:$Q$152,12,FALSE)=$C262),0,VLOOKUP($C262,'Sat TT_06'!$C$4:$Q$152,12,FALSE))","v":0},{"$f":"IF(ISNA(VLOOKUP($C262,'Sat TT_07'!$C$4:$Q$152,12,FALSE)=$C262),0,VLOOKUP($C262,'Sat TT_07'!$C$4:$Q$152,12,FALSE))","v":0},{"$f":"IF(ISNA(VLOOKUP($C262,'Sat TT_08'!$C$4:$Q$152,12,FALSE)=$C262),0,VLOOKUP($C262,'Sat TT_08'!$C$4:$Q$152,12,FALSE))","v":0}]
[{"$f":"VLOOKUP(C263,'Sheet 1'!C$1:D$96,2,FALSE)","v":{"$error":"#N/A"}},254,{"$f":"+'[1]Racing numbers file'!$B257","v":"Eamon Finn"},{"$f":"VLOOKUP(C263,'[1]Racing numbers file'!$B$4:$F$290,2,FALSE)","v":1965},{"$f":"VLOOKUP(C263,'[1]Racing numbers file'!$B$4:$F$290,4,FALSE)","v":51},0,{"$f":"IF(ISNA(VLOOKUP($C263,'Sat TT_01'!$C$4:$Q$152,12,FALSE)=$C263),0,VLOOKUP($C263,'Sat TT_01'!$C$4:$Q$152,12,FALSE))","v":0},{"$f":"IF(ISNA(VLOOKUP($C263,'Sat TT_02'!$C$4:$Q$152,12,FALSE)=$C263),0,VLOOKUP($C263,'Sat TT_02'!$C$4:$Q$152,12,FALSE))","v":0},{"$f":"IF(ISNA(VLOOKUP($C263,'Sat TT_03'!$C$4:$Q$152,12,FALSE)=$C263),0,VLOOKUP($C263,'Sat TT_03'!$C$4:$Q$152,12,FALSE))","v":0},{"$f":"IF(ISNA(VLOOKUP($C263,'Sat TT_04'!$C$4:$Q$152,12,FALSE)=$C263),0,VLOOKUP($C263,'Sat TT_04'!$C$4:$Q$152,12,FALSE))","v":0},{"$f":"IF(ISNA(VLOOKUP($C263,'Sat TT_05'!$C$4:$Q$152,12,FALSE)=$C263),0,VLOOKUP($C263,'Sat TT_05'!$C$4:$Q$152,12,FALSE))","v":0},{"$f":"IF(ISNA(VLOOKUP($C263,'Sat TT_06'!$C$4:$Q$152,12,FALSE)=$C263),0,VLOOKUP($C263,'Sat TT_06'!$C$4:$Q$152,12,FALSE))","v":0},{"$f":"IF(ISNA(VLOOKUP($C263,'Sat TT_07'!$C$4:$Q$152,12,FALSE)=$C263),0,VLOOKUP($C263,'Sat TT_07'!$C$4:$Q$152,12,FALSE))","v":0},{"$f":"IF(ISNA(VLOOKUP($C263,'Sat TT_08'!$C$4:$Q$152,12,FALSE)=$C263),0,VLOOKUP($C263,'Sat TT_08'!$C$4:$Q$152,12,FALSE))","v":0}]
[{"$f":"VLOOKUP(C264,'Sheet 1'!C$1:D$96,2,FALSE)","v":{"$error":"#N/A"}},255,{"$f":"+'[1]Racing numbers file'!$B258","v":"Ken Nelson"},{"$f":"VLOOKUP(C264,'[1]Racing numbers file'!$B$4:$F$290,2,FALSE)","v":1972},{"$f":"VLOOKUP(C264,'[1]Racing numbers file'!$B$4:$F$290,4,FALSE)","v":44},0,{"$f":"IF(ISNA(VLOOKUP($C264,'Sat TT_01'!$C$4:$Q$152,12,FALSE)=$C264),0,VLOOKUP($C264,'Sat TT_01'!$C$4:$Q$152,12,FALSE))","v":0},{"$f":"IF(ISNA(VLOOKUP($C264,'Sat TT_02'!$C$4:$Q$152,12,FALSE)=$C264),0,VLOOKUP($C264,'Sat TT_02'!$C$4:$Q$152,12,FALSE))","v":0},{"$f":"IF(ISNA(VLOOKUP($C264,'Sat TT_03'!$C$4:$Q$152,12,FALSE)=$C264),0,VLOOKUP($C264,'Sat TT_03'!$C$4:$Q$152,12,FALSE))","v":0},{"$f":"IF(ISNA(VLOOKUP($C264,'Sat TT_04'!$C$4:$Q$152,12,FALSE)=$C264),0,VLOOKUP($C264,'Sat TT_04'!$C$4:$Q$152,12,FALSE))","v":0},{"$f":"IF(ISNA(VLOOKUP($C264,'Sat TT_05'!$C$4:$Q$152,12,FALSE)=$C264),0,VLOOKUP($C264,'Sat TT_05'!$C$4:$Q$152,12,FALSE))","v":0},{"$f":"IF(ISNA(VLOOKUP($C264,'Sat TT_06'!$C$4:$Q$152,12,FALSE)=$C264),0,VLOOKUP($C264,'Sat TT_06'!$C$4:$Q$152,12,FALSE))","v":0},{"$f":"IF(ISNA(VLOOKUP($C264,'Sat TT_07'!$C$4:$Q$152,12,FALSE)=$C264),0,VLOOKUP($C264,'Sat TT_07'!$C$4:$Q$152,12,FALSE))","v":0},{"$f":"IF(ISNA(VLOOKUP($C264,'Sat TT_08'!$C$4:$Q$152,12,FALSE)=$C264),0,VLOOKUP($C264,'Sat TT_08'!$C$4:$Q$152,12,FALSE))","v":0}]
[{"$f":"VLOOKUP(C265,'Sheet 1'!C$1:D$96,2,FALSE)","v":{"$error":"#N/A"}},256,{"$f":"+'[1]Racing numbers file'!$B259","v":"Stephen McGovern"},{"$f":"VLOOKUP(C265,'[1]Racing numbers file'!$B$4:$F$290,2,FALSE)","v":1976},{"$f":"VLOOKUP(C265,'[1]Racing numbers file'!$B$4:$F$290,4,FALSE)","v":40},0,{"$f":"IF(ISNA(VLOOKUP($C265,'Sat TT_01'!$C$4:$Q$152,12,FALSE)=$C265),0,VLOOKUP($C265,'Sat TT_01'!$C$4:$Q$152,12,FALSE))","v":0},{"$f":"IF(ISNA(VLOOKUP($C265,'Sat TT_02'!$C$4:$Q$152,12,FALSE)=$C265),0,VLOOKUP($C265,'Sat TT_02'!$C$4:$Q$152,12,FALSE))","v":0},{"$f":"IF(ISNA(VLOOKUP($C265,'Sat TT_03'!$C$4:$Q$152,12,FALSE)=$C265),0,VLOOKUP($C265,'Sat TT_03'!$C$4:$Q$152,12,FALSE))","v":0},{"$f":"IF(ISNA(VLOOKUP($C265,'Sat TT_04'!$C$4:$Q$152,12,FALSE)=$C265),0,VLOOKUP($C265,'Sat TT_04'!$C$4:$Q$152,12,FALSE))","v":0},{"$f":"IF(ISNA(VLOOKUP($C265,'Sat TT_05'!$C$4:$Q$152,12,FALSE)=$C265),0,VLOOKUP($C265,'Sat TT_05'!$C$4:$Q$152,12,FALSE))","v":0},{"$f":"IF(ISNA(VLOOKUP($C265,'Sat TT_06'!$C$4:$Q$152,12,FALSE)=$C265),0,VLOOKUP($C265,'Sat TT_06'!$C$4:$Q$152,12,FALSE))","v":0},{"$f":"IF(ISNA(VLOOKUP($C265,'Sat TT_07'!$C$4:$Q$152,12,FALSE)=$C265),0,VLOOKUP($C265,'Sat TT_07'!$C$4:$Q$152,12,FALSE))","v":0},{"$f":"IF(ISNA(VLOOKUP($C265,'Sat TT_08'!$C$4:$Q$152,12,FALSE)=$C265),0,VLOOKUP($C265,'Sat TT_08'!$C$4:$Q$152,12,FALSE))","v":0}]
[{"$f":"VLOOKUP(C266,'Sheet 1'!C$1:D$96,2,FALSE)","v":{"$error":"#N/A"}},257,{"$f":"+'[1]Racing numbers file'!$B260","v":"Gerard Murphy"},{"$f":"VLOOKUP(C266,'[1]Racing numbers file'!$B$4:$F$290,2,FALSE)","v":1970},{"$f":"VLOOKUP(C266,'[1]Racing numbers file'!$B$4:$F$290,4,FALSE)","v":46},{"$f":"+O266","v":0},{"$f":"IF(ISNA(VLOOKUP($C266,'Sat TT_01'!$C$4:$Q$152,12,FALSE)=$C266),0,VLOOKUP($C266,'Sat TT_01'!$C$4:$Q$152,12,FALSE))","v":0},{"$f":"IF(ISNA(VLOOKUP($C266,'Sat TT_02'!$C$4:$Q$152,12,FALSE)=$C266),0,VLOOKUP($C266,'Sat TT_02'!$C$4:$Q$152,12,FALSE))","v":0},{"$f":"IF(ISNA(VLOOKUP($C266,'Sat TT_03'!$C$4:$Q$152,12,FALSE)=$C266),0,VLOOKUP($C266,'Sat TT_03'!$C$4:$Q$152,12,FALSE))","v":0},{"$f":"IF(ISNA(VLOOKUP($C266,'Sat TT_04'!$C$4:$Q$152,12,FALSE)=$C266),0,VLOOKUP($C266,'Sat TT_04'!$C$4:$Q$152,12,FALSE))","v":0},{"$f":"IF(ISNA(VLOOKUP($C266,'Sat TT_05'!$C$4:$Q$152,12,FALSE)=$C266),0,VLOOKUP($C266,'Sat TT_05'!$C$4:$Q$152,12,FALSE))","v":0},{"$f":"IF(ISNA(VLOOKUP($C266,'Sat TT_06'!$C$4:$Q$152,12,FALSE)=$C266),0,VLOOKUP($C266,'Sat TT_06'!$C$4:$Q$152,12,FALSE))","v":0},{"$f":"IF(ISNA(VLOOKUP($C266,'Sat TT_07'!$C$4:$Q$152,12,FALSE)=$C266),0,VLOOKUP($C266,'Sat TT_07'!$C$4:$Q$152,12,FALSE))","v":0},{"$f":"IF(ISNA(VLOOKUP($C266,'Sat TT_08'!$C$4:$Q$152,12,FALSE)=$C266),0,VLOOKUP($C266,'Sat TT_08'!$C$4:$Q$152,12,FALSE))","v":0}]
[{"$f":"VLOOKUP(C267,'Sheet 1'!C$1:D$96,2,FALSE)","v":{"$error":"#N/A"}},258,{"$f":"+'[1]Racing numbers file'!$B261","v":"Declan Crean"},{"$f":"VLOOKUP(C267,'[1]Racing numbers file'!$B$4:$F$290,2,FALSE)","v":1976},{"$f":"VLOOKUP(C267,'[1]Racing numbers file'!$B$4:$F$290,4,FALSE)","v":40},0,{"$f":"IF(ISNA(VLOOKUP($C267,'Sat TT_01'!$C$4:$Q$152,12,FALSE)=$C267),0,VLOOKUP($C267,'Sat TT_01'!$C$4:$Q$152,12,FALSE))","v":0},{"$f":"IF(ISNA(VLOOKUP($C267,'Sat TT_02'!$C$4:$Q$152,12,FALSE)=$C267),0,VLOOKUP($C267,'Sat TT_02'!$C$4:$Q$152,12,FALSE))","v":0},{"$f":"IF(ISNA(VLOOKUP($C267,'Sat TT_03'!$C$4:$Q$152,12,FALSE)=$C267),0,VLOOKUP($C267,'Sat TT_03'!$C$4:$Q$152,12,FALSE))","v":0},{"$f":"IF(ISNA(VLOOKUP($C267,'Sat TT_04'!$C$4:$Q$152,12,FALSE)=$C267),0,VLOOKUP($C267,'Sat TT_04'!$C$4:$Q$152,12,FALSE))","v":0},{"$f":"IF(ISNA(VLOOKUP($C267,'Sat TT_05'!$C$4:$Q$152,12,FALSE)=$C267),0,VLOOKUP($C267,'Sat TT_05'!$C$4:$Q$152,12,FALSE))","v":0},{"$f":"IF(ISNA(VLOOKUP($C267,'Sat TT_06'!$C$4:$Q$152,12,FALSE)=$C267),0,VLOOKUP($C267,'Sat TT_06'!$C$4:$Q$152,12,FALSE))","v":0},{"$f":"IF(ISNA(VLOOKUP($C267,'Sat TT_07'!$C$4:$Q$152,12,FALSE)=$C267),0,VLOOKUP($C267,'Sat TT_07'!$C$4:$Q$152,12,FALSE))","v":0},{"$f":"IF(ISNA(VLOOKUP($C267,'Sat TT_08'!$C$4:$Q$152,12,FALSE)=$C267),0,VLOOKUP($C267,'Sat TT_08'!$C$4:$Q$152,12,FALSE))","v":0}]
[{"$f":"VLOOKUP(C268,'Sheet 1'!C$1:D$96,2,FALSE)","v":{"$error":"#N/A"}},259,{"$f":"+'[1]Racing numbers file'!$B262","v":"Alan Cody"},{"$f":"VLOOKUP(C268,'[1]Racing numbers file'!$B$4:$F$290,2,FALSE)","v":1976},{"$f":"VLOOKUP(C268,'[1]Racing numbers file'!$B$4:$F$290,4,FALSE)","v":40},0,{"$f":"IF(ISNA(VLOOKUP($C268,'Sat TT_01'!$C$4:$Q$152,12,FALSE)=$C268),0,VLOOKUP($C268,'Sat TT_01'!$C$4:$Q$152,12,FALSE))","v":0},{"$f":"IF(ISNA(VLOOKUP($C268,'Sat TT_02'!$C$4:$Q$152,12,FALSE)=$C268),0,VLOOKUP($C268,'Sat TT_02'!$C$4:$Q$152,12,FALSE))","v":0},{"$f":"IF(ISNA(VLOOKUP($C268,'Sat TT_03'!$C$4:$Q$152,12,FALSE)=$C268),0,VLOOKUP($C268,'Sat TT_03'!$C$4:$Q$152,12,FALSE))","v":0},{"$f":"IF(ISNA(VLOOKUP($C268,'Sat TT_04'!$C$4:$Q$152,12,FALSE)=$C268),0,VLOOKUP($C268,'Sat TT_04'!$C$4:$Q$152,12,FALSE))","v":0},{"$f":"IF(ISNA(VLOOKUP($C268,'Sat TT_05'!$C$4:$Q$152,12,FALSE)=$C268),0,VLOOKUP($C268,'Sat TT_05'!$C$4:$Q$152,12,FALSE))","v":0},{"$f":"IF(ISNA(VLOOKUP($C268,'Sat TT_06'!$C$4:$Q$152,12,FALSE)=$C268),0,VLOOKUP($C268,'Sat TT_06'!$C$4:$Q$152,12,FALSE))","v":0},{"$f":"IF(ISNA(VLOOKUP($C268,'Sat TT_07'!$C$4:$Q$152,12,FALSE)=$C268),0,VLOOKUP($C268,'Sat TT_07'!$C$4:$Q$152,12,FALSE))","v":0},{"$f":"IF(ISNA(VLOOKUP($C268,'Sat TT_08'!$C$4:$Q$152,12,FALSE)=$C268),0,VLOOKUP($C268,'Sat TT_08'!$C$4:$Q$152,12,FALSE))","v":0}]
[{"$f":"VLOOKUP(C269,'Sheet 1'!C$1:D$96,2,FALSE)","v":{"$error":"#N/A"}},260,{"$f":"+'[1]Racing numbers file'!$B263","v":"Declan Quigley"},{"$f":"VLOOKUP(C269,'[1]Racing numbers file'!$B$4:$F$290,2,FALSE)","v":1966},{"$f":"VLOOKUP(C269,'[1]Racing numbers file'!$B$4:$F$290,4,FALSE)","v":50},0,{"$f":"IF(ISNA(VLOOKUP($C269,'Sat TT_01'!$C$4:$Q$152,12,FALSE)=$C269),0,VLOOKUP($C269,'Sat TT_01'!$C$4:$Q$152,12,FALSE))","v":0},{"$f":"IF(ISNA(VLOOKUP($C269,'Sat TT_02'!$C$4:$Q$152,12,FALSE)=$C269),0,VLOOKUP($C269,'Sat TT_02'!$C$4:$Q$152,12,FALSE))","v":0},{"$f":"IF(ISNA(VLOOKUP($C269,'Sat TT_03'!$C$4:$Q$152,12,FALSE)=$C269),0,VLOOKUP($C269,'Sat TT_03'!$C$4:$Q$152,12,FALSE))","v":0},{"$f":"IF(ISNA(VLOOKUP($C269,'Sat TT_04'!$C$4:$Q$152,12,FALSE)=$C269),0,VLOOKUP($C269,'Sat TT_04'!$C$4:$Q$152,12,FALSE))","v":0},{"$f":"IF(ISNA(VLOOKUP($C269,'Sat TT_05'!$C$4:$Q$152,12,FALSE)=$C269),0,VLOOKUP($C269,'Sat TT_05'!$C$4:$Q$152,12,FALSE))","v":0},{"$f":"IF(ISNA(VLOOKUP($C269,'Sat TT_06'!$C$4:$Q$152,12,FALSE)=$C269),0,VLOOKUP($C269,'Sat TT_06'!$C$4:$Q$152,12,FALSE))","v":0},{"$f":"IF(ISNA(VLOOKUP($C269,'Sat TT_07'!$C$4:$Q$152,12,FALSE)=$C269),0,VLOOKUP($C269,'Sat TT_07'!$C$4:$Q$152,12,FALSE))","v":0},{"$f":"IF(ISNA(VLOOKUP($C269,'Sat TT_08'!$C$4:$Q$152,12,FALSE)=$C269),0,VLOOKUP($C269,'Sat TT_08'!$C$4:$Q$152,12,FALSE))","v":0}]
[{"$f":"VLOOKUP(C270,'Sheet 1'!C$1:D$96,2,FALSE)","v":{"$error":"#N/A"}},261,{"$f":"+'[1]Racing numbers file'!$B264","v":"Damien Nelson"},{"$f":"VLOOKUP(C270,'[1]Racing numbers file'!$B$4:$F$290,2,FALSE)","v":1972},{"$f":"VLOOKUP(C270,'[1]Racing numbers file'!$B$4:$F$290,4,FALSE)","v":44},0,{"$f":"IF(ISNA(VLOOKUP($C270,'Sat TT_01'!$C$4:$Q$152,12,FALSE)=$C270),0,VLOOKUP($C270,'Sat TT_01'!$C$4:$Q$152,12,FALSE))","v":0},{"$f":"IF(ISNA(VLOOKUP($C270,'Sat TT_02'!$C$4:$Q$152,12,FALSE)=$C270),0,VLOOKUP($C270,'Sat TT_02'!$C$4:$Q$152,12,FALSE))","v":0},{"$f":"IF(ISNA(VLOOKUP($C270,'Sat TT_03'!$C$4:$Q$152,12,FALSE)=$C270),0,VLOOKUP($C270,'Sat TT_03'!$C$4:$Q$152,12,FALSE))","v":0},{"$f":"IF(ISNA(VLOOKUP($C270,'Sat TT_04'!$C$4:$Q$152,12,FALSE)=$C270),0,VLOOKUP($C270,'Sat TT_04'!$C$4:$Q$152,12,FALSE))","v":0},{"$f":"IF(ISNA(VLOOKUP($C270,'Sat TT_05'!$C$4:$Q$152,12,FALSE)=$C270),0,VLOOKUP($C270,'Sat TT_05'!$C$4:$Q$152,12,FALSE))","v":0},{"$f":"IF(ISNA(VLOOKUP($C270,'Sat TT_06'!$C$4:$Q$152,12,FALSE)=$C270),0,VLOOKUP($C270,'Sat TT_06'!$C$4:$Q$152,12,FALSE))","v":0},{"$f":"IF(ISNA(VLOOKUP($C270,'Sat TT_07'!$C$4:$Q$152,12,FALSE)=$C270),0,VLOOKUP($C270,'Sat TT_07'!$C$4:$Q$152,12,FALSE))","v":0},{"$f":"IF(ISNA(VLOOKUP($C270,'Sat TT_08'!$C$4:$Q$152,12,FALSE)=$C270),0,VLOOKUP($C270,'Sat TT_08'!$C$4:$Q$152,12,FALSE))","v":0}]
[{"$f":"VLOOKUP(C271,'Sheet 1'!C$1:D$96,2,FALSE)","v":{"$error":"#N/A"}},262,{"$f":"+'[1]Racing numbers file'!$B265","v":"Mark Shields"},{"$f":"VLOOKUP(C271,'[1]Racing numbers file'!$B$4:$F$290,2,FALSE)","v":1976},{"$f":"VLOOKUP(C271,'[1]Racing numbers file'!$B$4:$F$290,4,FALSE)","v":40},0,{"$f":"IF(ISNA(VLOOKUP($C271,'Sat TT_01'!$C$4:$Q$152,12,FALSE)=$C271),0,VLOOKUP($C271,'Sat TT_01'!$C$4:$Q$152,12,FALSE))","v":0},{"$f":"IF(ISNA(VLOOKUP($C271,'Sat TT_02'!$C$4:$Q$152,12,FALSE)=$C271),0,VLOOKUP($C271,'Sat TT_02'!$C$4:$Q$152,12,FALSE))","v":0},{"$f":"IF(ISNA(VLOOKUP($C271,'Sat TT_03'!$C$4:$Q$152,12,FALSE)=$C271),0,VLOOKUP($C271,'Sat TT_03'!$C$4:$Q$152,12,FALSE))","v":0},{"$f":"IF(ISNA(VLOOKUP($C271,'Sat TT_04'!$C$4:$Q$152,12,FALSE)=$C271),0,VLOOKUP($C271,'Sat TT_04'!$C$4:$Q$152,12,FALSE))","v":0},{"$f":"IF(ISNA(VLOOKUP($C271,'Sat TT_05'!$C$4:$Q$152,12,FALSE)=$C271),0,VLOOKUP($C271,'Sat TT_05'!$C$4:$Q$152,12,FALSE))","v":0},{"$f":"IF(ISNA(VLOOKUP($C271,'Sat TT_06'!$C$4:$Q$152,12,FALSE)=$C271),0,VLOOKUP($C271,'Sat TT_06'!$C$4:$Q$152,12,FALSE))","v":0},{"$f":"IF(ISNA(VLOOKUP($C271,'Sat TT_07'!$C$4:$Q$152,12,FALSE)=$C271),0,VLOOKUP($C271,'Sat TT_07'!$C$4:$Q$152,12,FALSE))","v":0},{"$f":"IF(ISNA(VLOOKUP($C271,'Sat TT_08'!$C$4:$Q$152,12,FALSE)=$C271),0,VLOOKUP($C271,'Sat TT_08'!$C$4:$Q$152,12,FALSE))","v":0}]
[{"$f":"VLOOKUP(C272,'Sheet 1'!C$1:D$96,2,FALSE)","v":{"$error":"#N/A"}},263,{"$f":"+'[1]Racing numbers file'!$B266","v":"Ciaran Ruane"},{"$f":"VLOOKUP(C272,'[1]Racing numbers file'!$B$4:$F$290,2,FALSE)","v":1971},{"$f":"VLOOKUP(C272,'[1]Racing numbers file'!$B$4:$F$290,4,FALSE)","v":45},0,{"$f":"IF(ISNA(VLOOKUP($C272,'Sat TT_01'!$C$4:$Q$152,12,FALSE)=$C272),0,VLOOKUP($C272,'Sat TT_01'!$C$4:$Q$152,12,FALSE))","v":0},{"$f":"IF(ISNA(VLOOKUP($C272,'Sat TT_02'!$C$4:$Q$152,12,FALSE)=$C272),0,VLOOKUP($C272,'Sat TT_02'!$C$4:$Q$152,12,FALSE))","v":0},{"$f":"IF(ISNA(VLOOKUP($C272,'Sat TT_03'!$C$4:$Q$152,12,FALSE)=$C272),0,VLOOKUP($C272,'Sat TT_03'!$C$4:$Q$152,12,FALSE))","v":0},{"$f":"IF(ISNA(VLOOKUP($C272,'Sat TT_04'!$C$4:$Q$152,12,FALSE)=$C272),0,VLOOKUP($C272,'Sat TT_04'!$C$4:$Q$152,12,FALSE))","v":0},{"$f":"IF(ISNA(VLOOKUP($C272,'Sat TT_05'!$C$4:$Q$152,12,FALSE)=$C272),0,VLOOKUP($C272,'Sat TT_05'!$C$4:$Q$152,12,FALSE))","v":0},{"$f":"IF(ISNA(VLOOKUP($C272,'Sat TT_06'!$C$4:$Q$152,12,FALSE)=$C272),0,VLOOKUP($C272,'Sat TT_06'!$C$4:$Q$152,12,FALSE))","v":0},{"$f":"IF(ISNA(VLOOKUP($C272,'Sat TT_07'!$C$4:$Q$152,12,FALSE)=$C272),0,VLOOKUP($C272,'Sat TT_07'!$C$4:$Q$152,12,FALSE))","v":0},{"$f":"IF(ISNA(VLOOKUP($C272,'Sat TT_08'!$C$4:$Q$152,12,FALSE)=$C272),0,VLOOKUP($C272,'Sat TT_08'!$C$4:$Q$152,12,FALSE))","v":0}]
[{"$f":"VLOOKUP(C273,'Sheet 1'!C$1:D$96,2,FALSE)","v":{"$error":"#N/A"}},264,{"$f":"+'[1]Racing numbers file'!$B267","v":"Diarmuid Collins"},{"$f":"VLOOKUP(C273,'[1]Racing numbers file'!$B$4:$F$290,2,FALSE)","v":1975},{"$f":"VLOOKUP(C273,'[1]Racing numbers file'!$B$4:$F$290,4,FALSE)","v":41},0,{"$f":"IF(ISNA(VLOOKUP($C273,'Sat TT_01'!$C$4:$Q$152,12,FALSE)=$C273),0,VLOOKUP($C273,'Sat TT_01'!$C$4:$Q$152,12,FALSE))","v":0},{"$f":"IF(ISNA(VLOOKUP($C273,'Sat TT_02'!$C$4:$Q$152,12,FALSE)=$C273),0,VLOOKUP($C273,'Sat TT_02'!$C$4:$Q$152,12,FALSE))","v":0},{"$f":"IF(ISNA(VLOOKUP($C273,'Sat TT_03'!$C$4:$Q$152,12,FALSE)=$C273),0,VLOOKUP($C273,'Sat TT_03'!$C$4:$Q$152,12,FALSE))","v":0},{"$f":"IF(ISNA(VLOOKUP($C273,'Sat TT_04'!$C$4:$Q$152,12,FALSE)=$C273),0,VLOOKUP($C273,'Sat TT_04'!$C$4:$Q$152,12,FALSE))","v":0},{"$f":"IF(ISNA(VLOOKUP($C273,'Sat TT_05'!$C$4:$Q$152,12,FALSE)=$C273),0,VLOOKUP($C273,'Sat TT_05'!$C$4:$Q$152,12,FALSE))","v":0},{"$f":"IF(ISNA(VLOOKUP($C273,'Sat TT_06'!$C$4:$Q$152,12,FALSE)=$C273),0,VLOOKUP($C273,'Sat TT_06'!$C$4:$Q$152,12,FALSE))","v":0},{"$f":"IF(ISNA(VLOOKUP($C273,'Sat TT_07'!$C$4:$Q$152,12,FALSE)=$C273),0,VLOOKUP($C273,'Sat TT_07'!$C$4:$Q$152,12,FALSE))","v":0},{"$f":"IF(ISNA(VLOOKUP($C273,'Sat TT_08'!$C$4:$Q$152,12,FALSE)=$C273),0,VLOOKUP($C273,'Sat TT_08'!$C$4:$Q$152,12,FALSE))","v":0}]
[{"$f":"VLOOKUP(C274,'Sheet 1'!C$1:D$96,2,FALSE)","v":{"$error":"#N/A"}},265,{"$f":"+'[1]Racing numbers file'!$B268","v":"Sean Dunne"},{"$f":"VLOOKUP(C274,'[1]Racing numbers file'!$B$4:$F$290,2,FALSE)","v":1966},{"$f":"VLOOKUP(C274,'[1]Racing numbers file'!$B$4:$F$290,4,FALSE)","v":50},0,{"$f":"IF(ISNA(VLOOKUP($C274,'Sat TT_01'!$C$4:$Q$152,12,FALSE)=$C274),0,VLOOKUP($C274,'Sat TT_01'!$C$4:$Q$152,12,FALSE))","v":0},{"$f":"IF(ISNA(VLOOKUP($C274,'Sat TT_02'!$C$4:$Q$152,12,FALSE)=$C274),0,VLOOKUP($C274,'Sat TT_02'!$C$4:$Q$152,12,FALSE))","v":0},{"$f":"IF(ISNA(VLOOKUP($C274,'Sat TT_03'!$C$4:$Q$152,12,FALSE)=$C274),0,VLOOKUP($C274,'Sat TT_03'!$C$4:$Q$152,12,FALSE))","v":0},{"$f":"IF(ISNA(VLOOKUP($C274,'Sat TT_04'!$C$4:$Q$152,12,FALSE)=$C274),0,VLOOKUP($C274,'Sat TT_04'!$C$4:$Q$152,12,FALSE))","v":0},{"$f":"IF(ISNA(VLOOKUP($C274,'Sat TT_05'!$C$4:$Q$152,12,FALSE)=$C274),0,VLOOKUP($C274,'Sat TT_05'!$C$4:$Q$152,12,FALSE))","v":0},{"$f":"IF(ISNA(VLOOKUP($C274,'Sat TT_06'!$C$4:$Q$152,12,FALSE)=$C274),0,VLOOKUP($C274,'Sat TT_06'!$C$4:$Q$152,12,FALSE))","v":0},{"$f":"IF(ISNA(VLOOKUP($C274,'Sat TT_07'!$C$4:$Q$152,12,FALSE)=$C274),0,VLOOKUP($C274,'Sat TT_07'!$C$4:$Q$152,12,FALSE))","v":0},{"$f":"IF(ISNA(VLOOKUP($C274,'Sat TT_08'!$C$4:$Q$152,12,FALSE)=$C274),0,VLOOKUP($C274,'Sat TT_08'!$C$4:$Q$152,12,FALSE))","v":0}]
[{"$f":"VLOOKUP(C275,'Sheet 1'!C$1:D$96,2,FALSE)","v":{"$error":"#N/A"}},266,{"$f":"+'[1]Racing numbers file'!$B269","v":"Kiaran Sweeney"},{"$f":"VLOOKUP(C275,'[1]Racing numbers file'!$B$4:$F$290,2,FALSE)","v":1967},{"$f":"VLOOKUP(C275,'[1]Racing numbers file'!$B$4:$F$290,4,FALSE)","v":49},0,{"$f":"IF(ISNA(VLOOKUP($C275,'Sat TT_01'!$C$4:$Q$152,12,FALSE)=$C275),0,VLOOKUP($C275,'Sat TT_01'!$C$4:$Q$152,12,FALSE))","v":0},{"$f":"IF(ISNA(VLOOKUP($C275,'Sat TT_02'!$C$4:$Q$152,12,FALSE)=$C275),0,VLOOKUP($C275,'Sat TT_02'!$C$4:$Q$152,12,FALSE))","v":0},{"$f":"IF(ISNA(VLOOKUP($C275,'Sat TT_03'!$C$4:$Q$152,12,FALSE)=$C275),0,VLOOKUP($C275,'Sat TT_03'!$C$4:$Q$152,12,FALSE))","v":0},{"$f":"IF(ISNA(VLOOKUP($C275,'Sat TT_04'!$C$4:$Q$152,12,FALSE)=$C275),0,VLOOKUP($C275,'Sat TT_04'!$C$4:$Q$152,12,FALSE))","v":0},{"$f":"IF(ISNA(VLOOKUP($C275,'Sat TT_05'!$C$4:$Q$152,12,FALSE)=$C275),0,VLOOKUP($C275,'Sat TT_05'!$C$4:$Q$152,12,FALSE))","v":0},{"$f":"IF(ISNA(VLOOKUP($C275,'Sat TT_06'!$C$4:$Q$152,12,FALSE)=$C275),0,VLOOKUP($C275,'Sat TT_06'!$C$4:$Q$152,12,FALSE))","v":0},{"$f":"IF(ISNA(VLOOKUP($C275,'Sat TT_07'!$C$4:$Q$152,12,FALSE)=$C275),0,VLOOKUP($C275,'Sat TT_07'!$C$4:$Q$152,12,FALSE))","v":0},{"$f":"IF(ISNA(VLOOKUP($C275,'Sat TT_08'!$C$4:$Q$152,12,FALSE)=$C275),0,VLOOKUP($C275,'Sat TT_08'!$C$4:$Q$152,12,FALSE))","v":0}]
[{"$f":"VLOOKUP(C276,'Sheet 1'!C$1:D$96,2,FALSE)","v":{"$error":"#N/A"}},267,{"$f":"+'[1]Racing numbers file'!$B270","v":"Sean Hynes"},{"$f":"VLOOKUP(C276,'[1]Racing numbers file'!$B$4:$F$290,2,FALSE)","v":1964},{"$f":"VLOOKUP(C276,'[1]Racing numbers file'!$B$4:$F$290,4,FALSE)","v":52},0,{"$f":"IF(ISNA(VLOOKUP($C276,'Sat TT_01'!$C$4:$Q$152,12,FALSE)=$C276),0,VLOOKUP($C276,'Sat TT_01'!$C$4:$Q$152,12,FALSE))","v":0},{"$f":"IF(ISNA(VLOOKUP($C276,'Sat TT_02'!$C$4:$Q$152,12,FALSE)=$C276),0,VLOOKUP($C276,'Sat TT_02'!$C$4:$Q$152,12,FALSE))","v":0},{"$f":"IF(ISNA(VLOOKUP($C276,'Sat TT_03'!$C$4:$Q$152,12,FALSE)=$C276),0,VLOOKUP($C276,'Sat TT_03'!$C$4:$Q$152,12,FALSE))","v":0},{"$f":"IF(ISNA(VLOOKUP($C276,'Sat TT_04'!$C$4:$Q$152,12,FALSE)=$C276),0,VLOOKUP($C276,'Sat TT_04'!$C$4:$Q$152,12,FALSE))","v":0},{"$f":"IF(ISNA(VLOOKUP($C276,'Sat TT_05'!$C$4:$Q$152,12,FALSE)=$C276),0,VLOOKUP($C276,'Sat TT_05'!$C$4:$Q$152,12,FALSE))","v":0},{"$f":"IF(ISNA(VLOOKUP($C276,'Sat TT_06'!$C$4:$Q$152,12,FALSE)=$C276),0,VLOOKUP($C276,'Sat TT_06'!$C$4:$Q$152,12,FALSE))","v":0},{"$f":"IF(ISNA(VLOOKUP($C276,'Sat TT_07'!$C$4:$Q$152,12,FALSE)=$C276),0,VLOOKUP($C276,'Sat TT_07'!$C$4:$Q$152,12,FALSE))","v":0},{"$f":"IF(ISNA(VLOOKUP($C276,'Sat TT_08'!$C$4:$Q$152,12,FALSE)=$C276),0,VLOOKUP($C276,'Sat TT_08'!$C$4:$Q$152,12,FALSE))","v":0}]
[{"$f":"VLOOKUP(C277,'Sheet 1'!C$1:D$96,2,FALSE)","v":{"$error":"#N/A"}},268,{"$f":"+'[1]Racing numbers file'!$B271","v":"Ian Cassidy"},{"$f":"VLOOKUP(C277,'[1]Racing numbers file'!$B$4:$F$290,2,FALSE)","v":1974},{"$f":"VLOOKUP(C277,'[1]Racing numbers file'!$B$4:$F$290,4,FALSE)","v":42},0,{"$f":"IF(ISNA(VLOOKUP($C277,'Sat TT_01'!$C$4:$Q$152,12,FALSE)=$C277),0,VLOOKUP($C277,'Sat TT_01'!$C$4:$Q$152,12,FALSE))","v":0},{"$f":"IF(ISNA(VLOOKUP($C277,'Sat TT_02'!$C$4:$Q$152,12,FALSE)=$C277),0,VLOOKUP($C277,'Sat TT_02'!$C$4:$Q$152,12,FALSE))","v":0},{"$f":"IF(ISNA(VLOOKUP($C277,'Sat TT_03'!$C$4:$Q$152,12,FALSE)=$C277),0,VLOOKUP($C277,'Sat TT_03'!$C$4:$Q$152,12,FALSE))","v":0},{"$f":"IF(ISNA(VLOOKUP($C277,'Sat TT_04'!$C$4:$Q$152,12,FALSE)=$C277),0,VLOOKUP($C277,'Sat TT_04'!$C$4:$Q$152,12,FALSE))","v":0},{"$f":"IF(ISNA(VLOOKUP($C277,'Sat TT_05'!$C$4:$Q$152,12,FALSE)=$C277),0,VLOOKUP($C277,'Sat TT_05'!$C$4:$Q$152,12,FALSE))","v":0},{"$f":"IF(ISNA(VLOOKUP($C277,'Sat TT_06'!$C$4:$Q$152,12,FALSE)=$C277),0,VLOOKUP($C277,'Sat TT_06'!$C$4:$Q$152,12,FALSE))","v":0},{"$f":"IF(ISNA(VLOOKUP($C277,'Sat TT_07'!$C$4:$Q$152,12,FALSE)=$C277),0,VLOOKUP($C277,'Sat TT_07'!$C$4:$Q$152,12,FALSE))","v":0},{"$f":"IF(ISNA(VLOOKUP($C277,'Sat TT_08'!$C$4:$Q$152,12,FALSE)=$C277),0,VLOOKUP($C277,'Sat TT_08'!$C$4:$Q$152,12,FALSE))","v":0}]
[{"$f":"VLOOKUP(C278,'Sheet 1'!C$1:D$96,2,FALSE)","v":{"$error":"#N/A"}},269,{"$f":"+'[1]Racing numbers file'!$B272","v":"Liam Cullen"},{"$f":"VLOOKUP(C278,'[1]Racing numbers file'!$B$4:$F$290,2,FALSE)","v":1974},{"$f":"VLOOKUP(C278,'[1]Racing numbers file'!$B$4:$F$290,4,FALSE)","v":42},0,{"$f":"IF(ISNA(VLOOKUP($C278,'Sat TT_01'!$C$4:$Q$152,12,FALSE)=$C278),0,VLOOKUP($C278,'Sat TT_01'!$C$4:$Q$152,12,FALSE))","v":0},{"$f":"IF(ISNA(VLOOKUP($C278,'Sat TT_02'!$C$4:$Q$152,12,FALSE)=$C278),0,VLOOKUP($C278,'Sat TT_02'!$C$4:$Q$152,12,FALSE))","v":0},{"$f":"IF(ISNA(VLOOKUP($C278,'Sat TT_03'!$C$4:$Q$152,12,FALSE)=$C278),0,VLOOKUP($C278,'Sat TT_03'!$C$4:$Q$152,12,FALSE))","v":0},{"$f":"IF(ISNA(VLOOKUP($C278,'Sat TT_04'!$C$4:$Q$152,12,FALSE)=$C278),0,VLOOKUP($C278,'Sat TT_04'!$C$4:$Q$152,12,FALSE))","v":0},{"$f":"IF(ISNA(VLOOKUP($C278,'Sat TT_05'!$C$4:$Q$152,12,FALSE)=$C278),0,VLOOKUP($C278,'Sat TT_05'!$C$4:$Q$152,12,FALSE))","v":0},{"$f":"IF(ISNA(VLOOKUP($C278,'Sat TT_06'!$C$4:$Q$152,12,FALSE)=$C278),0,VLOOKUP($C278,'Sat TT_06'!$C$4:$Q$152,12,FALSE))","v":0},{"$f":"IF(ISNA(VLOOKUP($C278,'Sat TT_07'!$C$4:$Q$152,12,FALSE)=$C278),0,VLOOKUP($C278,'Sat TT_07'!$C$4:$Q$152,12,FALSE))","v":0},{"$f":"IF(ISNA(VLOOKUP($C278,'Sat TT_08'!$C$4:$Q$152,12,FALSE)=$C278),0,VLOOKUP($C278,'Sat TT_08'!$C$4:$Q$152,12,FALSE))","v":0}]
[{"$f":"VLOOKUP(C279,'Sheet 1'!C$1:D$96,2,FALSE)","v":{"$error":"#N/A"}},270,{"$f":"+'[1]Racing numbers file'!$B273","v":"Fearghal Regan"},{"$f":"VLOOKUP(C279,'[1]Racing numbers file'!$B$4:$F$290,2,FALSE)","v":1970},{"$f":"VLOOKUP(C279,'[1]Racing numbers file'!$B$4:$F$290,4,FALSE)","v":46},0,{"$f":"IF(ISNA(VLOOKUP($C279,'Sat TT_01'!$C$4:$Q$152,12,FALSE)=$C279),0,VLOOKUP($C279,'Sat TT_01'!$C$4:$Q$152,12,FALSE))","v":0},{"$f":"IF(ISNA(VLOOKUP($C279,'Sat TT_02'!$C$4:$Q$152,12,FALSE)=$C279),0,VLOOKUP($C279,'Sat TT_02'!$C$4:$Q$152,12,FALSE))","v":0},{"$f":"IF(ISNA(VLOOKUP($C279,'Sat TT_03'!$C$4:$Q$152,12,FALSE)=$C279),0,VLOOKUP($C279,'Sat TT_03'!$C$4:$Q$152,12,FALSE))","v":0},{"$f":"IF(ISNA(VLOOKUP($C279,'Sat TT_04'!$C$4:$Q$152,12,FALSE)=$C279),0,VLOOKUP($C279,'Sat TT_04'!$C$4:$Q$152,12,FALSE))","v":0},{"$f":"IF(ISNA(VLOOKUP($C279,'Sat TT_05'!$C$4:$Q$152,12,FALSE)=$C279),0,VLOOKUP($C279,'Sat TT_05'!$C$4:$Q$152,12,FALSE))","v":0},{"$f":"IF(ISNA(VLOOKUP($C279,'Sat TT_06'!$C$4:$Q$152,12,FALSE)=$C279),0,VLOOKUP($C279,'Sat TT_06'!$C$4:$Q$152,12,FALSE))","v":0},{"$f":"IF(ISNA(VLOOKUP($C279,'Sat TT_07'!$C$4:$Q$152,12,FALSE)=$C279),0,VLOOKUP($C279,'Sat TT_07'!$C$4:$Q$152,12,FALSE))","v":0},{"$f":"IF(ISNA(VLOOKUP($C279,'Sat TT_08'!$C$4:$Q$152,12,FALSE)=$C279),0,VLOOKUP($C279,'Sat TT_08'!$C$4:$Q$152,12,FALSE))","v":0}]
[{"$f":"VLOOKUP(C280,'Sheet 1'!C$1:D$96,2,FALSE)","v":{"$error":"#N/A"}},271,{"$f":"+'[1]Racing numbers file'!$B274","v":"Ken Tobin"},{"$f":"VLOOKUP(C280,'[1]Racing numbers file'!$B$4:$F$290,2,FALSE)","v":1975},{"$f":"VLOOKUP(C280,'[1]Racing numbers file'!$B$4:$F$290,4,FALSE)","v":41},0,{"$f":"IF(ISNA(VLOOKUP($C280,'Sat TT_01'!$C$4:$Q$152,12,FALSE)=$C280),0,VLOOKUP($C280,'Sat TT_01'!$C$4:$Q$152,12,FALSE))","v":0},{"$f":"IF(ISNA(VLOOKUP($C280,'Sat TT_02'!$C$4:$Q$152,12,FALSE)=$C280),0,VLOOKUP($C280,'Sat TT_02'!$C$4:$Q$152,12,FALSE))","v":0},{"$f":"IF(ISNA(VLOOKUP($C280,'Sat TT_03'!$C$4:$Q$152,12,FALSE)=$C280),0,VLOOKUP($C280,'Sat TT_03'!$C$4:$Q$152,12,FALSE))","v":0},{"$f":"IF(ISNA(VLOOKUP($C280,'Sat TT_04'!$C$4:$Q$152,12,FALSE)=$C280),0,VLOOKUP($C280,'Sat TT_04'!$C$4:$Q$152,12,FALSE))","v":0},{"$f":"IF(ISNA(VLOOKUP($C280,'Sat TT_05'!$C$4:$Q$152,12,FALSE)=$C280),0,VLOOKUP($C280,'Sat TT_05'!$C$4:$Q$152,12,FALSE))","v":0},{"$f":"IF(ISNA(VLOOKUP($C280,'Sat TT_06'!$C$4:$Q$152,12,FALSE)=$C280),0,VLOOKUP($C280,'Sat TT_06'!$C$4:$Q$152,12,FALSE))","v":0},{"$f":"IF(ISNA(VLOOKUP($C280,'Sat TT_07'!$C$4:$Q$152,12,FALSE)=$C280),0,VLOOKUP($C280,'Sat TT_07'!$C$4:$Q$152,12,FALSE))","v":0},{"$f":"IF(ISNA(VLOOKUP($C280,'Sat TT_08'!$C$4:$Q$152,12,FALSE)=$C280),0,VLOOKUP($C280,'Sat TT_08'!$C$4:$Q$152,12,FALSE))","v":0}]
[{"$f":"VLOOKUP(C281,'Sheet 1'!C$1:D$96,2,FALSE)","v":{"$error":"#N/A"}},272,{"$f":"+'[1]Racing numbers file'!$B275","v":"Alan Quinn"},{"$f":"VLOOKUP(C281,'[1]Racing numbers file'!$B$4:$F$290,2,FALSE)","v":1976},{"$f":"VLOOKUP(C281,'[1]Racing numbers file'!$B$4:$F$290,4,FALSE)","v":40},0,{"$f":"IF(ISNA(VLOOKUP($C281,'Sat TT_01'!$C$4:$Q$152,12,FALSE)=$C281),0,VLOOKUP($C281,'Sat TT_01'!$C$4:$Q$152,12,FALSE))","v":0},{"$f":"IF(ISNA(VLOOKUP($C281,'Sat TT_02'!$C$4:$Q$152,12,FALSE)=$C281),0,VLOOKUP($C281,'Sat TT_02'!$C$4:$Q$152,12,FALSE))","v":0},{"$f":"IF(ISNA(VLOOKUP($C281,'Sat TT_03'!$C$4:$Q$152,12,FALSE)=$C281),0,VLOOKUP($C281,'Sat TT_03'!$C$4:$Q$152,12,FALSE))","v":0},{"$f":"IF(ISNA(VLOOKUP($C281,'Sat TT_04'!$C$4:$Q$152,12,FALSE)=$C281),0,VLOOKUP($C281,'Sat TT_04'!$C$4:$Q$152,12,FALSE))","v":0},{"$f":"IF(ISNA(VLOOKUP($C281,'Sat TT_05'!$C$4:$Q$152,12,FALSE)=$C281),0,VLOOKUP($C281,'Sat TT_05'!$C$4:$Q$152,12,FALSE))","v":0},{"$f":"IF(ISNA(VLOOKUP($C281,'Sat TT_06'!$C$4:$Q$152,12,FALSE)=$C281),0,VLOOKUP($C281,'Sat TT_06'!$C$4:$Q$152,12,FALSE))","v":0},{"$f":"IF(ISNA(VLOOKUP($C281,'Sat TT_07'!$C$4:$Q$152,12,FALSE)=$C281),0,VLOOKUP($C281,'Sat TT_07'!$C$4:$Q$152,12,FALSE))","v":0},{"$f":"IF(ISNA(VLOOKUP($C281,'Sat TT_08'!$C$4:$Q$152,12,FALSE)=$C281),0,VLOOKUP($C281,'Sat TT_08'!$C$4:$Q$152,12,FALSE))","v":0}]
[{"$f":"VLOOKUP(C282,'Sheet 1'!C$1:D$96,2,FALSE)","v":{"$error":"#N/A"}},273,{"$f":"+'[1]Racing numbers file'!$B276","v":"Richard Cattle"},{"$f":"VLOOKUP(C282,'[1]Racing numbers file'!$B$4:$F$290,2,FALSE)","v":1967},{"$f":"VLOOKUP(C282,'[1]Racing numbers file'!$B$4:$F$290,4,FALSE)","v":49},0,{"$f":"IF(ISNA(VLOOKUP($C282,'Sat TT_01'!$C$4:$Q$152,12,FALSE)=$C282),0,VLOOKUP($C282,'Sat TT_01'!$C$4:$Q$152,12,FALSE))","v":0},{"$f":"IF(ISNA(VLOOKUP($C282,'Sat TT_02'!$C$4:$Q$152,12,FALSE)=$C282),0,VLOOKUP($C282,'Sat TT_02'!$C$4:$Q$152,12,FALSE))","v":0},{"$f":"IF(ISNA(VLOOKUP($C282,'Sat TT_03'!$C$4:$Q$152,12,FALSE)=$C282),0,VLOOKUP($C282,'Sat TT_03'!$C$4:$Q$152,12,FALSE))","v":0},{"$f":"IF(ISNA(VLOOKUP($C282,'Sat TT_04'!$C$4:$Q$152,12,FALSE)=$C282),0,VLOOKUP($C282,'Sat TT_04'!$C$4:$Q$152,12,FALSE))","v":0},{"$f":"IF(ISNA(VLOOKUP($C282,'Sat TT_05'!$C$4:$Q$152,12,FALSE)=$C282),0,VLOOKUP($C282,'Sat TT_05'!$C$4:$Q$152,12,FALSE))","v":0},{"$f":"IF(ISNA(VLOOKUP($C282,'Sat TT_06'!$C$4:$Q$152,12,FALSE)=$C282),0,VLOOKUP($C282,'Sat TT_06'!$C$4:$Q$152,12,FALSE))","v":0},{"$f":"IF(ISNA(VLOOKUP($C282,'Sat TT_07'!$C$4:$Q$152,12,FALSE)=$C282),0,VLOOKUP($C282,'Sat TT_07'!$C$4:$Q$152,12,FALSE))","v":0},{"$f":"IF(ISNA(VLOOKUP($C282,'Sat TT_08'!$C$4:$Q$152,12,FALSE)=$C282),0,VLOOKUP($C282,'Sat TT_08'!$C$4:$Q$152,12,FALSE))","v":0}]
[{"$f":"VLOOKUP(C283,'Sheet 1'!C$1:D$96,2,FALSE)","v":{"$error":"#N/A"}},274,{"$f":"+'[1]Racing numbers file'!$B277","v":"Paul Hunter"},{"$f":"VLOOKUP(C283,'[1]Racing numbers file'!$B$4:$F$290,2,FALSE)","v":1976},{"$f":"VLOOKUP(C283,'[1]Racing numbers file'!$B$4:$F$290,4,FALSE)","v":40},0,{"$f":"IF(ISNA(VLOOKUP($C283,'Sat TT_01'!$C$4:$Q$152,12,FALSE)=$C283),0,VLOOKUP($C283,'Sat TT_01'!$C$4:$Q$152,12,FALSE))","v":0},{"$f":"IF(ISNA(VLOOKUP($C283,'Sat TT_02'!$C$4:$Q$152,12,FALSE)=$C283),0,VLOOKUP($C283,'Sat TT_02'!$C$4:$Q$152,12,FALSE))","v":0},{"$f":"IF(ISNA(VLOOKUP($C283,'Sat TT_03'!$C$4:$Q$152,12,FALSE)=$C283),0,VLOOKUP($C283,'Sat TT_03'!$C$4:$Q$152,12,FALSE))","v":0},{"$f":"IF(ISNA(VLOOKUP($C283,'Sat TT_04'!$C$4:$Q$152,12,FALSE)=$C283),0,VLOOKUP($C283,'Sat TT_04'!$C$4:$Q$152,12,FALSE))","v":0},{"$f":"IF(ISNA(VLOOKUP($C283,'Sat TT_05'!$C$4:$Q$152,12,FALSE)=$C283),0,VLOOKUP($C283,'Sat TT_05'!$C$4:$Q$152,12,FALSE))","v":0},{"$f":"IF(ISNA(VLOOKUP($C283,'Sat TT_06'!$C$4:$Q$152,12,FALSE)=$C283),0,VLOOKUP($C283,'Sat TT_06'!$C$4:$Q$152,12,FALSE))","v":0},{"$f":"IF(ISNA(VLOOKUP($C283,'Sat TT_07'!$C$4:$Q$152,12,FALSE)=$C283),0,VLOOKUP($C283,'Sat TT_07'!$C$4:$Q$152,12,FALSE))","v":0},{"$f":"IF(ISNA(VLOOKUP($C283,'Sat TT_08'!$C$4:$Q$152,12,FALSE)=$C283),0,VLOOKUP($C283,'Sat TT_08'!$C$4:$Q$152,12,FALSE))","v":0}]
[{"$f":"VLOOKUP(C284,'Sheet 1'!C$1:D$96,2,FALSE)","v":{"$error":"#N/A"}},275,{"$f":"+'[1]Racing numbers file'!$B278","v":"Jack Lynch"},{"$f":"VLOOKUP(C284,'[1]Racing numbers file'!$B$4:$F$290,2,FALSE)","v":1970},{"$f":"VLOOKUP(C284,'[1]Racing numbers file'!$B$4:$F$290,4,FALSE)","v":46},0,{"$f":"IF(ISNA(VLOOKUP($C284,'Sat TT_01'!$C$4:$Q$152,12,FALSE)=$C284),0,VLOOKUP($C284,'Sat TT_01'!$C$4:$Q$152,12,FALSE))","v":0},{"$f":"IF(ISNA(VLOOKUP($C284,'Sat TT_02'!$C$4:$Q$152,12,FALSE)=$C284),0,VLOOKUP($C284,'Sat TT_02'!$C$4:$Q$152,12,FALSE))","v":0},{"$f":"IF(ISNA(VLOOKUP($C284,'Sat TT_03'!$C$4:$Q$152,12,FALSE)=$C284),0,VLOOKUP($C284,'Sat TT_03'!$C$4:$Q$152,12,FALSE))","v":0},{"$f":"IF(ISNA(VLOOKUP($C284,'Sat TT_04'!$C$4:$Q$152,12,FALSE)=$C284),0,VLOOKUP($C284,'Sat TT_04'!$C$4:$Q$152,12,FALSE))","v":0},{"$f":"IF(ISNA(VLOOKUP($C284,'Sat TT_05'!$C$4:$Q$152,12,FALSE)=$C284),0,VLOOKUP($C284,'Sat TT_05'!$C$4:$Q$152,12,FALSE))","v":0},{"$f":"IF(ISNA(VLOOKUP($C284,'Sat TT_06'!$C$4:$Q$152,12,FALSE)=$C284),0,VLOOKUP($C284,'Sat TT_06'!$C$4:$Q$152,12,FALSE))","v":0},{"$f":"IF(ISNA(VLOOKUP($C284,'Sat TT_07'!$C$4:$Q$152,12,FALSE)=$C284),0,VLOOKUP($C284,'Sat TT_07'!$C$4:$Q$152,12,FALSE))","v":0},{"$f":"IF(ISNA(VLOOKUP($C284,'Sat TT_08'!$C$4:$Q$152,12,FALSE)=$C284),0,VLOOKUP($C284,'Sat TT_08'!$C$4:$Q$152,12,FALSE))","v":0}]
[{"$f":"VLOOKUP(C285,'Sheet 1'!C$1:D$96,2,FALSE)","v":{"$error":"#N/A"}},276,{"$f":"+'[1]Racing numbers file'!$B279","v":"David Ryan"},{"$f":"VLOOKUP(C285,'[1]Racing numbers file'!$B$4:$F$290,2,FALSE)","v":1960},{"$f":"VLOOKUP(C285,'[1]Racing numbers file'!$B$4:$F$290,4,FALSE)","v":56},0,{"$f":"IF(ISNA(VLOOKUP($C285,'Sat TT_01'!$C$4:$Q$152,12,FALSE)=$C285),0,VLOOKUP($C285,'Sat TT_01'!$C$4:$Q$152,12,FALSE))","v":0},{"$f":"IF(ISNA(VLOOKUP($C285,'Sat TT_02'!$C$4:$Q$152,12,FALSE)=$C285),0,VLOOKUP($C285,'Sat TT_02'!$C$4:$Q$152,12,FALSE))","v":0},{"$f":"IF(ISNA(VLOOKUP($C285,'Sat TT_03'!$C$4:$Q$152,12,FALSE)=$C285),0,VLOOKUP($C285,'Sat TT_03'!$C$4:$Q$152,12,FALSE))","v":0},{"$f":"IF(ISNA(VLOOKUP($C285,'Sat TT_04'!$C$4:$Q$152,12,FALSE)=$C285),0,VLOOKUP($C285,'Sat TT_04'!$C$4:$Q$152,12,FALSE))","v":0},{"$f":"IF(ISNA(VLOOKUP($C285,'Sat TT_05'!$C$4:$Q$152,12,FALSE)=$C285),0,VLOOKUP($C285,'Sat TT_05'!$C$4:$Q$152,12,FALSE))","v":0},{"$f":"IF(ISNA(VLOOKUP($C285,'Sat TT_06'!$C$4:$Q$152,12,FALSE)=$C285),0,VLOOKUP($C285,'Sat TT_06'!$C$4:$Q$152,12,FALSE))","v":0},{"$f":"IF(ISNA(VLOOKUP($C285,'Sat TT_07'!$C$4:$Q$152,12,FALSE)=$C285),0,VLOOKUP($C285,'Sat TT_07'!$C$4:$Q$152,12,FALSE))","v":0},{"$f":"IF(ISNA(VLOOKUP($C285,'Sat TT_08'!$C$4:$Q$152,12,FALSE)=$C285),0,VLOOKUP($C285,'Sat TT_08'!$C$4:$Q$152,12,FALSE))","v":0}]
[{"$f":"VLOOKUP(C286,'Sheet 1'!C$1:D$96,2,FALSE)","v":{"$error":"#N/A"}},277,{"$f":"+'[1]Racing numbers file'!$B280","v":"Eamon Peregrine"},{"$f":"VLOOKUP(C286,'[1]Racing numbers file'!$B$4:$F$290,2,FALSE)","v":1971},{"$f":"VLOOKUP(C286,'[1]Racing numbers file'!$B$4:$F$290,4,FALSE)","v":45},0,{"$f":"IF(ISNA(VLOOKUP($C286,'Sat TT_01'!$C$4:$Q$152,12,FALSE)=$C286),0,VLOOKUP($C286,'Sat TT_01'!$C$4:$Q$152,12,FALSE))","v":0},{"$f":"IF(ISNA(VLOOKUP($C286,'Sat TT_02'!$C$4:$Q$152,12,FALSE)=$C286),0,VLOOKUP($C286,'Sat TT_02'!$C$4:$Q$152,12,FALSE))","v":0},{"$f":"IF(ISNA(VLOOKUP($C286,'Sat TT_03'!$C$4:$Q$152,12,FALSE)=$C286),0,VLOOKUP($C286,'Sat TT_03'!$C$4:$Q$152,12,FALSE))","v":0},{"$f":"IF(ISNA(VLOOKUP($C286,'Sat TT_04'!$C$4:$Q$152,12,FALSE)=$C286),0,VLOOKUP($C286,'Sat TT_04'!$C$4:$Q$152,12,FALSE))","v":0},{"$f":"IF(ISNA(VLOOKUP($C286,'Sat TT_05'!$C$4:$Q$152,12,FALSE)=$C286),0,VLOOKUP($C286,'Sat TT_05'!$C$4:$Q$152,12,FALSE))","v":0},{"$f":"IF(ISNA(VLOOKUP($C286,'Sat TT_06'!$C$4:$Q$152,12,FALSE)=$C286),0,VLOOKUP($C286,'Sat TT_06'!$C$4:$Q$152,12,FALSE))","v":0},{"$f":"IF(ISNA(VLOOKUP($C286,'Sat TT_07'!$C$4:$Q$152,12,FALSE)=$C286),0,VLOOKUP($C286,'Sat TT_07'!$C$4:$Q$152,12,FALSE))","v":0},{"$f":"IF(ISNA(VLOOKUP($C286,'Sat TT_08'!$C$4:$Q$152,12,FALSE)=$C286),0,VLOOKUP($C286,'Sat TT_08'!$C$4:$Q$152,12,FALSE))","v":0}]
[{"$f":"VLOOKUP(C287,'Sheet 1'!C$1:D$96,2,FALSE)","v":{"$error":"#N/A"}},278,{"$f":"+'[1]Racing numbers file'!$B281","v":"David MacNeaney"},{"$f":"VLOOKUP(C287,'[1]Racing numbers file'!$B$4:$F$290,2,FALSE)","v":1969},{"$f":"VLOOKUP(C287,'[1]Racing numbers file'!$B$4:$F$290,4,FALSE)","v":47},0,{"$f":"IF(ISNA(VLOOKUP($C287,'Sat TT_01'!$C$4:$Q$152,12,FALSE)=$C287),0,VLOOKUP($C287,'Sat TT_01'!$C$4:$Q$152,12,FALSE))","v":0},{"$f":"IF(ISNA(VLOOKUP($C287,'Sat TT_02'!$C$4:$Q$152,12,FALSE)=$C287),0,VLOOKUP($C287,'Sat TT_02'!$C$4:$Q$152,12,FALSE))","v":0},{"$f":"IF(ISNA(VLOOKUP($C287,'Sat TT_03'!$C$4:$Q$152,12,FALSE)=$C287),0,VLOOKUP($C287,'Sat TT_03'!$C$4:$Q$152,12,FALSE))","v":0},{"$f":"IF(ISNA(VLOOKUP($C287,'Sat TT_04'!$C$4:$Q$152,12,FALSE)=$C287),0,VLOOKUP($C287,'Sat TT_04'!$C$4:$Q$152,12,FALSE))","v":0},{"$f":"IF(ISNA(VLOOKUP($C287,'Sat TT_05'!$C$4:$Q$152,12,FALSE)=$C287),0,VLOOKUP($C287,'Sat TT_05'!$C$4:$Q$152,12,FALSE))","v":0},{"$f":"IF(ISNA(VLOOKUP($C287,'Sat TT_06'!$C$4:$Q$152,12,FALSE)=$C287),0,VLOOKUP($C287,'Sat TT_06'!$C$4:$Q$152,12,FALSE))","v":0},{"$f":"IF(ISNA(VLOOKUP($C287,'Sat TT_07'!$C$4:$Q$152,12,FALSE)=$C287),0,VLOOKUP($C287,'Sat TT_07'!$C$4:$Q$152,12,FALSE))","v":0},{"$f":"IF(ISNA(VLOOKUP($C287,'Sat TT_08'!$C$4:$Q$152,12,FALSE)=$C287),0,VLOOKUP($C287,'Sat TT_08'!$C$4:$Q$152,12,FALSE))","v":0}]
[{"$f":"VLOOKUP(C288,'Sheet 1'!C$1:D$96,2,FALSE)","v":{"$error":"#N/A"}},279,{"$f":"+'[1]Racing numbers file'!$B282","v":"Paul McKenna"},{"$f":"VLOOKUP(C288,'[1]Racing numbers file'!$B$4:$F$290,2,FALSE)","v":1976},{"$f":"VLOOKUP(C288,'[1]Racing numbers file'!$B$4:$F$290,4,FALSE)","v":40},0,{"$f":"IF(ISNA(VLOOKUP($C288,'Sat TT_01'!$C$4:$Q$152,12,FALSE)=$C288),0,VLOOKUP($C288,'Sat TT_01'!$C$4:$Q$152,12,FALSE))","v":0},{"$f":"IF(ISNA(VLOOKUP($C288,'Sat TT_02'!$C$4:$Q$152,12,FALSE)=$C288),0,VLOOKUP($C288,'Sat TT_02'!$C$4:$Q$152,12,FALSE))","v":0},{"$f":"IF(ISNA(VLOOKUP($C288,'Sat TT_03'!$C$4:$Q$152,12,FALSE)=$C288),0,VLOOKUP($C288,'Sat TT_03'!$C$4:$Q$152,12,FALSE))","v":0},{"$f":"IF(ISNA(VLOOKUP($C288,'Sat TT_04'!$C$4:$Q$152,12,FALSE)=$C288),0,VLOOKUP($C288,'Sat TT_04'!$C$4:$Q$152,12,FALSE))","v":0},{"$f":"IF(ISNA(VLOOKUP($C288,'Sat TT_05'!$C$4:$Q$152,12,FALSE)=$C288),0,VLOOKUP($C288,'Sat TT_05'!$C$4:$Q$152,12,FALSE))","v":0},{"$f":"IF(ISNA(VLOOKUP($C288,'Sat TT_06'!$C$4:$Q$152,12,FALSE)=$C288),0,VLOOKUP($C288,'Sat TT_06'!$C$4:$Q$152,12,FALSE))","v":0},{"$f":"IF(ISNA(VLOOKUP($C288,'Sat TT_07'!$C$4:$Q$152,12,FALSE)=$C288),0,VLOOKUP($C288,'Sat TT_07'!$C$4:$Q$152,12,FALSE))","v":0},{"$f":"IF(ISNA(VLOOKUP($C288,'Sat TT_08'!$C$4:$Q$152,12,FALSE)=$C288),0,VLOOKUP($C288,'Sat TT_08'!$C$4:$Q$152,12,FALSE))","v":0}]
[{"$f":"VLOOKUP(C289,'Sheet 1'!C$1:D$96,2,FALSE)","v":{"$error":"#N/A"}},280,{"$f":"+'[1]Racing numbers file'!$B283","v":"Daragh O'Toole"},{"$f":"VLOOKUP(C289,'[1]Racing numbers file'!$B$4:$F$290,2,FALSE)","v":1970},{"$f":"VLOOKUP(C289,'[1]Racing numbers file'!$B$4:$F$290,4,FALSE)","v":46},0,{"$f":"IF(ISNA(VLOOKUP($C289,'Sat TT_01'!$C$4:$Q$152,12,FALSE)=$C289),0,VLOOKUP($C289,'Sat TT_01'!$C$4:$Q$152,12,FALSE))","v":0},{"$f":"IF(ISNA(VLOOKUP($C289,'Sat TT_02'!$C$4:$Q$152,12,FALSE)=$C289),0,VLOOKUP($C289,'Sat TT_02'!$C$4:$Q$152,12,FALSE))","v":0},{"$f":"IF(ISNA(VLOOKUP($C289,'Sat TT_03'!$C$4:$Q$152,12,FALSE)=$C289),0,VLOOKUP($C289,'Sat TT_03'!$C$4:$Q$152,12,FALSE))","v":0},{"$f":"IF(ISNA(VLOOKUP($C289,'Sat TT_04'!$C$4:$Q$152,12,FALSE)=$C289),0,VLOOKUP($C289,'Sat TT_04'!$C$4:$Q$152,12,FALSE))","v":0},{"$f":"IF(ISNA(VLOOKUP($C289,'Sat TT_05'!$C$4:$Q$152,12,FALSE)=$C289),0,VLOOKUP($C289,'Sat TT_05'!$C$4:$Q$152,12,FALSE))","v":0},{"$f":"IF(ISNA(VLOOKUP($C289,'Sat TT_06'!$C$4:$Q$152,12,FALSE)=$C289),0,VLOOKUP($C289,'Sat TT_06'!$C$4:$Q$152,12,FALSE))","v":0},{"$f":"IF(ISNA(VLOOKUP($C289,'Sat TT_07'!$C$4:$Q$152,12,FALSE)=$C289),0,VLOOKUP($C289,'Sat TT_07'!$C$4:$Q$152,12,FALSE))","v":0},{"$f":"IF(ISNA(VLOOKUP($C289,'Sat TT_08'!$C$4:$Q$152,12,FALSE)=$C289),0,VLOOKUP($C289,'Sat TT_08'!$C$4:$Q$152,12,FALSE))","v":0}]
[{"$f":"VLOOKUP(C290,'Sheet 1'!C$1:D$96,2,FALSE)","v":{"$error":"#N/A"}},281,{"$f":"+'[1]Racing numbers file'!$B284","v":"Tom Cummins"},{"$f":"VLOOKUP(C290,'[1]Racing numbers file'!$B$4:$F$290,2,FALSE)","v":1974},{"$f":"VLOOKUP(C290,'[1]Racing numbers file'!$B$4:$F$290,4,FALSE)","v":42},0,{"$f":"IF(ISNA(VLOOKUP($C290,'Sat TT_01'!$C$4:$Q$152,12,FALSE)=$C290),0,VLOOKUP($C290,'Sat TT_01'!$C$4:$Q$152,12,FALSE))","v":0},{"$f":"IF(ISNA(VLOOKUP($C290,'Sat TT_02'!$C$4:$Q$152,12,FALSE)=$C290),0,VLOOKUP($C290,'Sat TT_02'!$C$4:$Q$152,12,FALSE))","v":0},{"$f":"IF(ISNA(VLOOKUP($C290,'Sat TT_03'!$C$4:$Q$152,12,FALSE)=$C290),0,VLOOKUP($C290,'Sat TT_03'!$C$4:$Q$152,12,FALSE))","v":0},{"$f":"IF(ISNA(VLOOKUP($C290,'Sat TT_04'!$C$4:$Q$152,12,FALSE)=$C290),0,VLOOKUP($C290,'Sat TT_04'!$C$4:$Q$152,12,FALSE))","v":0},{"$f":"IF(ISNA(VLOOKUP($C290,'Sat TT_05'!$C$4:$Q$152,12,FALSE)=$C290),0,VLOOKUP($C290,'Sat TT_05'!$C$4:$Q$152,12,FALSE))","v":0},{"$f":"IF(ISNA(VLOOKUP($C290,'Sat TT_06'!$C$4:$Q$152,12,FALSE)=$C290),0,VLOOKUP($C290,'Sat TT_06'!$C$4:$Q$152,12,FALSE))","v":0},{"$f":"IF(ISNA(VLOOKUP($C290,'Sat TT_07'!$C$4:$Q$152,12,FALSE)=$C290),0,VLOOKUP($C290,'Sat TT_07'!$C$4:$Q$152,12,FALSE))","v":0},{"$f":"IF(ISNA(VLOOKUP($C290,'Sat TT_08'!$C$4:$Q$152,12,FALSE)=$C290),0,VLOOKUP($C290,'Sat TT_08'!$C$4:$Q$152,12,FALSE))","v":0}]
[{"$f":"VLOOKUP(C291,'Sheet 1'!C$1:D$96,2,FALSE)","v":{"$error":"#N/A"}},282,{"$f":"+'[1]Racing numbers file'!$B285","v":"John Kehoe"},{"$f":"VLOOKUP(C291,'[1]Racing numbers file'!$B$4:$F$290,2,FALSE)","v":1969},{"$f":"VLOOKUP(C291,'[1]Racing numbers file'!$B$4:$F$290,4,FALSE)","v":47},0,{"$f":"IF(ISNA(VLOOKUP($C291,'Sat TT_01'!$C$4:$Q$152,12,FALSE)=$C291),0,VLOOKUP($C291,'Sat TT_01'!$C$4:$Q$152,12,FALSE))","v":0},{"$f":"IF(ISNA(VLOOKUP($C291,'Sat TT_02'!$C$4:$Q$152,12,FALSE)=$C291),0,VLOOKUP($C291,'Sat TT_02'!$C$4:$Q$152,12,FALSE))","v":0},{"$f":"IF(ISNA(VLOOKUP($C291,'Sat TT_03'!$C$4:$Q$152,12,FALSE)=$C291),0,VLOOKUP($C291,'Sat TT_03'!$C$4:$Q$152,12,FALSE))","v":0},{"$f":"IF(ISNA(VLOOKUP($C291,'Sat TT_04'!$C$4:$Q$152,12,FALSE)=$C291),0,VLOOKUP($C291,'Sat TT_04'!$C$4:$Q$152,12,FALSE))","v":0},{"$f":"IF(ISNA(VLOOKUP($C291,'Sat TT_05'!$C$4:$Q$152,12,FALSE)=$C291),0,VLOOKUP($C291,'Sat TT_05'!$C$4:$Q$152,12,FALSE))","v":0},{"$f":"IF(ISNA(VLOOKUP($C291,'Sat TT_06'!$C$4:$Q$152,12,FALSE)=$C291),0,VLOOKUP($C291,'Sat TT_06'!$C$4:$Q$152,12,FALSE))","v":0},{"$f":"IF(ISNA(VLOOKUP($C291,'Sat TT_07'!$C$4:$Q$152,12,FALSE)=$C291),0,VLOOKUP($C291,'Sat TT_07'!$C$4:$Q$152,12,FALSE))","v":0},{"$f":"IF(ISNA(VLOOKUP($C291,'Sat TT_08'!$C$4:$Q$152,12,FALSE)=$C291),0,VLOOKUP($C291,'Sat TT_08'!$C$4:$Q$152,12,FALSE))","v":0}]
[{"$f":"VLOOKUP(C292,'Sheet 1'!C$1:D$96,2,FALSE)","v":{"$error":"#N/A"}},283,{"$f":"+'[1]Racing numbers file'!$B286","v":"Aidan McKenna"},{"$f":"VLOOKUP(C292,'[1]Racing numbers file'!$B$4:$F$290,2,FALSE)","v":1972},{"$f":"VLOOKUP(C292,'[1]Racing numbers file'!$B$4:$F$290,4,FALSE)","v":44},0,{"$f":"IF(ISNA(VLOOKUP($C292,'Sat TT_01'!$C$4:$Q$152,12,FALSE)=$C292),0,VLOOKUP($C292,'Sat TT_01'!$C$4:$Q$152,12,FALSE))","v":0},{"$f":"IF(ISNA(VLOOKUP($C292,'Sat TT_02'!$C$4:$Q$152,12,FALSE)=$C292),0,VLOOKUP($C292,'Sat TT_02'!$C$4:$Q$152,12,FALSE))","v":0},{"$f":"IF(ISNA(VLOOKUP($C292,'Sat TT_03'!$C$4:$Q$152,12,FALSE)=$C292),0,VLOOKUP($C292,'Sat TT_03'!$C$4:$Q$152,12,FALSE))","v":0},{"$f":"IF(ISNA(VLOOKUP($C292,'Sat TT_04'!$C$4:$Q$152,12,FALSE)=$C292),0,VLOOKUP($C292,'Sat TT_04'!$C$4:$Q$152,12,FALSE))","v":0},{"$f":"IF(ISNA(VLOOKUP($C292,'Sat TT_05'!$C$4:$Q$152,12,FALSE)=$C292),0,VLOOKUP($C292,'Sat TT_05'!$C$4:$Q$152,12,FALSE))","v":0},{"$f":"IF(ISNA(VLOOKUP($C292,'Sat TT_06'!$C$4:$Q$152,12,FALSE)=$C292),0,VLOOKUP($C292,'Sat TT_06'!$C$4:$Q$152,12,FALSE))","v":0},{"$f":"IF(ISNA(VLOOKUP($C292,'Sat TT_07'!$C$4:$Q$152,12,FALSE)=$C292),0,VLOOKUP($C292,'Sat TT_07'!$C$4:$Q$152,12,FALSE))","v":0},{"$f":"IF(ISNA(VLOOKUP($C292,'Sat TT_08'!$C$4:$Q$152,12,FALSE)=$C292),0,VLOOKUP($C292,'Sat TT_08'!$C$4:$Q$152,12,FALSE))","v":0}]
[{"$f":"VLOOKUP(C293,'Sheet 1'!C$1:D$96,2,FALSE)","v":{"$error":"#N/A"}},284,{"$f":"+'[1]Racing numbers file'!$B287","v":"Paul McDonnell"},{"$f":"VLOOKUP(C293,'[1]Racing numbers file'!$B$4:$F$290,2,FALSE)","v":1969},{"$f":"VLOOKUP(C293,'[1]Racing numbers file'!$B$4:$F$290,4,FALSE)","v":47},0,{"$f":"IF(ISNA(VLOOKUP($C293,'Sat TT_01'!$C$4:$Q$152,12,FALSE)=$C293),0,VLOOKUP($C293,'Sat TT_01'!$C$4:$Q$152,12,FALSE))","v":0},{"$f":"IF(ISNA(VLOOKUP($C293,'Sat TT_02'!$C$4:$Q$152,12,FALSE)=$C293),0,VLOOKUP($C293,'Sat TT_02'!$C$4:$Q$152,12,FALSE))","v":0},{"$f":"IF(ISNA(VLOOKUP($C293,'Sat TT_03'!$C$4:$Q$152,12,FALSE)=$C293),0,VLOOKUP($C293,'Sat TT_03'!$C$4:$Q$152,12,FALSE))","v":0},{"$f":"IF(ISNA(VLOOKUP($C293,'Sat TT_04'!$C$4:$Q$152,12,FALSE)=$C293),0,VLOOKUP($C293,'Sat TT_04'!$C$4:$Q$152,12,FALSE))","v":0},{"$f":"IF(ISNA(VLOOKUP($C293,'Sat TT_05'!$C$4:$Q$152,12,FALSE)=$C293),0,VLOOKUP($C293,'Sat TT_05'!$C$4:$Q$152,12,FALSE))","v":0},{"$f":"IF(ISNA(VLOOKUP($C293,'Sat TT_06'!$C$4:$Q$152,12,FALSE)=$C293),0,VLOOKUP($C293,'Sat TT_06'!$C$4:$Q$152,12,FALSE))","v":0},{"$f":"IF(ISNA(VLOOKUP($C293,'Sat TT_07'!$C$4:$Q$152,12,FALSE)=$C293),0,VLOOKUP($C293,'Sat TT_07'!$C$4:$Q$152,12,FALSE))","v":0},{"$f":"IF(ISNA(VLOOKUP($C293,'Sat TT_08'!$C$4:$Q$152,12,FALSE)=$C293),0,VLOOKUP($C293,'Sat TT_08'!$C$4:$Q$152,12,FALSE))","v":0}]
[{"$f":"VLOOKUP(C294,'Sheet 1'!C$1:D$96,2,FALSE)","v":{"$error":"#N/A"}},285,{"$f":"+'[1]Racing numbers file'!$B288","v":"Brian Byrne"},{"$f":"VLOOKUP(C294,'[1]Racing numbers file'!$B$4:$F$290,2,FALSE)","v":1971},{"$f":"VLOOKUP(C294,'[1]Racing numbers file'!$B$4:$F$290,4,FALSE)","v":45},0,{"$f":"IF(ISNA(VLOOKUP($C294,'Sat TT_01'!$C$4:$Q$152,12,FALSE)=$C294),0,VLOOKUP($C294,'Sat TT_01'!$C$4:$Q$152,12,FALSE))","v":0},{"$f":"IF(ISNA(VLOOKUP($C294,'Sat TT_02'!$C$4:$Q$152,12,FALSE)=$C294),0,VLOOKUP($C294,'Sat TT_02'!$C$4:$Q$152,12,FALSE))","v":0},{"$f":"IF(ISNA(VLOOKUP($C294,'Sat TT_03'!$C$4:$Q$152,12,FALSE)=$C294),0,VLOOKUP($C294,'Sat TT_03'!$C$4:$Q$152,12,FALSE))","v":0},{"$f":"IF(ISNA(VLOOKUP($C294,'Sat TT_04'!$C$4:$Q$152,12,FALSE)=$C294),0,VLOOKUP($C294,'Sat TT_04'!$C$4:$Q$152,12,FALSE))","v":0},{"$f":"IF(ISNA(VLOOKUP($C294,'Sat TT_05'!$C$4:$Q$152,12,FALSE)=$C294),0,VLOOKUP($C294,'Sat TT_05'!$C$4:$Q$152,12,FALSE))","v":0},{"$f":"IF(ISNA(VLOOKUP($C294,'Sat TT_06'!$C$4:$Q$152,12,FALSE)=$C294),0,VLOOKUP($C294,'Sat TT_06'!$C$4:$Q$152,12,FALSE))","v":0},{"$f":"IF(ISNA(VLOOKUP($C294,'Sat TT_07'!$C$4:$Q$152,12,FALSE)=$C294),0,VLOOKUP($C294,'Sat TT_07'!$C$4:$Q$152,12,FALSE))","v":0},{"$f":"IF(ISNA(VLOOKUP($C294,'Sat TT_08'!$C$4:$Q$152,12,FALSE)=$C294),0,VLOOKUP($C294,'Sat TT_08'!$C$4:$Q$152,12,FALSE))","v":0}]
[{"$f":"VLOOKUP(C295,'Sheet 1'!C$1:D$96,2,FALSE)","v":{"$error":"#N/A"}},286,{"$f":"+'[1]Racing numbers file'!$B289","v":"Tony Kavanagh"},{"$f":"VLOOKUP(C295,'[1]Racing numbers file'!$B$4:$F$290,2,FALSE)","v":1950},{"$f":"VLOOKUP(C295,'[1]Racing numbers file'!$B$4:$F$290,4,FALSE)","v":66},0,{"$f":"IF(ISNA(VLOOKUP($C295,'Sat TT_01'!$C$4:$Q$152,12,FALSE)=$C295),0,VLOOKUP($C295,'Sat TT_01'!$C$4:$Q$152,12,FALSE))","v":0},{"$f":"IF(ISNA(VLOOKUP($C295,'Sat TT_02'!$C$4:$Q$152,12,FALSE)=$C295),0,VLOOKUP($C295,'Sat TT_02'!$C$4:$Q$152,12,FALSE))","v":0},{"$f":"IF(ISNA(VLOOKUP($C295,'Sat TT_03'!$C$4:$Q$152,12,FALSE)=$C295),0,VLOOKUP($C295,'Sat TT_03'!$C$4:$Q$152,12,FALSE))","v":0},{"$f":"IF(ISNA(VLOOKUP($C295,'Sat TT_04'!$C$4:$Q$152,12,FALSE)=$C295),0,VLOOKUP($C295,'Sat TT_04'!$C$4:$Q$152,12,FALSE))","v":0},{"$f":"IF(ISNA(VLOOKUP($C295,'Sat TT_05'!$C$4:$Q$152,12,FALSE)=$C295),0,VLOOKUP($C295,'Sat TT_05'!$C$4:$Q$152,12,FALSE))","v":0},{"$f":"IF(ISNA(VLOOKUP($C295,'Sat TT_06'!$C$4:$Q$152,12,FALSE)=$C295),0,VLOOKUP($C295,'Sat TT_06'!$C$4:$Q$152,12,FALSE))","v":0},{"$f":"IF(ISNA(VLOOKUP($C295,'Sat TT_07'!$C$4:$Q$152,12,FALSE)=$C295),0,VLOOKUP($C295,'Sat TT_07'!$C$4:$Q$152,12,FALSE))","v":0},{"$f":"IF(ISNA(VLOOKUP($C295,'Sat TT_08'!$C$4:$Q$152,12,FALSE)=$C295),0,VLOOKUP($C295,'Sat TT_08'!$C$4:$Q$152,12,FALSE))","v":0}]
[{"$f":"VLOOKUP(C296,'Sheet 1'!C$1:D$96,2,FALSE)","v":{"$error":"#N/A"}},287,{"$f":"+'[1]Racing numbers file'!$B290","v":"Phillip Morrissey"},{"$f":"VLOOKUP(C296,'[1]Racing numbers file'!$B$4:$F$290,2,FALSE)","v":1974},{"$f":"VLOOKUP(C296,'[1]Racing numbers file'!$B$4:$F$290,4,FALSE)","v":42},0,{"$f":"IF(ISNA(VLOOKUP($C296,'Sat TT_01'!$C$4:$Q$152,12,FALSE)=$C296),0,VLOOKUP($C296,'Sat TT_01'!$C$4:$Q$152,12,FALSE))","v":0},{"$f":"IF(ISNA(VLOOKUP($C296,'Sat TT_02'!$C$4:$Q$152,12,FALSE)=$C296),0,VLOOKUP($C296,'Sat TT_02'!$C$4:$Q$152,12,FALSE))","v":0},{"$f":"IF(ISNA(VLOOKUP($C296,'Sat TT_03'!$C$4:$Q$152,12,FALSE)=$C296),0,VLOOKUP($C296,'Sat TT_03'!$C$4:$Q$152,12,FALSE))","v":0},{"$f":"IF(ISNA(VLOOKUP($C296,'Sat TT_04'!$C$4:$Q$152,12,FALSE)=$C296),0,VLOOKUP($C296,'Sat TT_04'!$C$4:$Q$152,12,FALSE))","v":0},{"$f":"IF(ISNA(VLOOKUP($C296,'Sat TT_05'!$C$4:$Q$152,12,FALSE)=$C296),0,VLOOKUP($C296,'Sat TT_05'!$C$4:$Q$152,12,FALSE))","v":0},{"$f":"IF(ISNA(VLOOKUP($C296,'Sat TT_06'!$C$4:$Q$152,12,FALSE)=$C296),0,VLOOKUP($C296,'Sat TT_06'!$C$4:$Q$152,12,FALSE))","v":0},{"$f":"IF(ISNA(VLOOKUP($C296,'Sat TT_07'!$C$4:$Q$152,12,FALSE)=$C296),0,VLOOKUP($C296,'Sat TT_07'!$C$4:$Q$152,12,FALSE))","v":0},{"$f":"IF(ISNA(VLOOKUP($C296,'Sat TT_08'!$C$4:$Q$152,12,FALSE)=$C296),0,VLOOKUP($C296,'Sat TT_08'!$C$4:$Q$152,12,FALSE))","v":0}]
[{"$f":"VLOOKUP(C297,'Sheet 1'!C$1:D$96,2,FALSE)","v":{"$error":"#N/A"}},288,{"$f":"+'[1]Racing numbers file'!$B291","v":"Graham Synnott"},{"$f":"VLOOKUP(C297,'[1]Racing numbers file'!$B$4:$F$290,2,FALSE)","v":{"$error":"#N/A"}},{"$f":"VLOOKUP(C297,'[1]Racing numbers file'!$B$4:$F$290,4,FALSE)","v":{"$error":"#N/A"}},0,{"$f":"IF(ISNA(VLOOKUP($C297,'Sat TT_01'!$C$4:$Q$152,12,FALSE)=$C297),0,VLOOKUP($C297,'Sat TT_01'!$C$4:$Q$152,12,FALSE))","v":0},{"$f":"IF(ISNA(VLOOKUP($C297,'Sat TT_02'!$C$4:$Q$152,12,FALSE)=$C297),0,VLOOKUP($C297,'Sat TT_02'!$C$4:$Q$152,12,FALSE))","v":0},{"$f":"IF(ISNA(VLOOKUP($C297,'Sat TT_03'!$C$4:$Q$152,12,FALSE)=$C297),0,VLOOKUP($C297,'Sat TT_03'!$C$4:$Q$152,12,FALSE))","v":0},{"$f":"IF(ISNA(VLOOKUP($C297,'Sat TT_04'!$C$4:$Q$152,12,FALSE)=$C297),0,VLOOKUP($C297,'Sat TT_04'!$C$4:$Q$152,12,FALSE))","v":0},{"$f":"IF(ISNA(VLOOKUP($C297,'Sat TT_05'!$C$4:$Q$152,12,FALSE)=$C297),0,VLOOKUP($C297,'Sat TT_05'!$C$4:$Q$152,12,FALSE))","v":0},{"$f":"IF(ISNA(VLOOKUP($C297,'Sat TT_06'!$C$4:$Q$152,12,FALSE)=$C297),0,VLOOKUP($C297,'Sat TT_06'!$C$4:$Q$152,12,FALSE))","v":0},{"$f":"IF(ISNA(VLOOKUP($C297,'Sat TT_07'!$C$4:$Q$152,12,FALSE)=$C297),0,VLOOKUP($C297,'Sat TT_07'!$C$4:$Q$152,12,FALSE))","v":0},{"$f":"IF(ISNA(VLOOKUP($C297,'Sat TT_08'!$C$4:$Q$152,12,FALSE)=$C297),0,VLOOKUP($C297,'Sat TT_08'!$C$4:$Q$152,12,FALSE))","v":0}]
[{"$f":"VLOOKUP(C298,'Sheet 1'!C$1:D$96,2,FALSE)","v":{"$error":"#N/A"}},289,{"$f":"+'[1]Racing numbers file'!$B292","v":"Brian Morrissey"},{"$f":"VLOOKUP(C298,'[1]Racing numbers file'!$B$4:$F$290,2,FALSE)","v":{"$error":"#N/A"}},{"$f":"VLOOKUP(C298,'[1]Racing numbers file'!$B$4:$F$290,4,FALSE)","v":{"$error":"#N/A"}},0,{"$f":"IF(ISNA(VLOOKUP($C298,'Sat TT_01'!$C$4:$Q$152,12,FALSE)=$C298),0,VLOOKUP($C298,'Sat TT_01'!$C$4:$Q$152,12,FALSE))","v":0},{"$f":"IF(ISNA(VLOOKUP($C298,'Sat TT_02'!$C$4:$Q$152,12,FALSE)=$C298),0,VLOOKUP($C298,'Sat TT_02'!$C$4:$Q$152,12,FALSE))","v":0},{"$f":"IF(ISNA(VLOOKUP($C298,'Sat TT_03'!$C$4:$Q$152,12,FALSE)=$C298),0,VLOOKUP($C298,'Sat TT_03'!$C$4:$Q$152,12,FALSE))","v":0},{"$f":"IF(ISNA(VLOOKUP($C298,'Sat TT_04'!$C$4:$Q$152,12,FALSE)=$C298),0,VLOOKUP($C298,'Sat TT_04'!$C$4:$Q$152,12,FALSE))","v":0},{"$f":"IF(ISNA(VLOOKUP($C298,'Sat TT_05'!$C$4:$Q$152,12,FALSE)=$C298),0,VLOOKUP($C298,'Sat TT_05'!$C$4:$Q$152,12,FALSE))","v":0},{"$f":"IF(ISNA(VLOOKUP($C298,'Sat TT_06'!$C$4:$Q$152,12,FALSE)=$C298),0,VLOOKUP($C298,'Sat TT_06'!$C$4:$Q$152,12,FALSE))","v":0},{"$f":"IF(ISNA(VLOOKUP($C298,'Sat TT_07'!$C$4:$Q$152,12,FALSE)=$C298),0,VLOOKUP($C298,'Sat TT_07'!$C$4:$Q$152,12,FALSE))","v":0},{"$f":"IF(ISNA(VLOOKUP($C298,'Sat TT_08'!$C$4:$Q$152,12,FALSE)=$C298),0,VLOOKUP($C298,'Sat TT_08'!$C$4:$Q$152,12,FALSE))","v":0}]
[{"$f":"VLOOKUP(C299,'Sheet 1'!C$1:D$96,2,FALSE)","v":{"$error":"#N/A"}},290,{"$f":"+'[1]Racing numbers file'!$B293","v":"Donal Gleeson"},{"$f":"VLOOKUP(C299,'[1]Racing numbers file'!$B$4:$F$290,2,FALSE)","v":{"$error":"#N/A"}},{"$f":"VLOOKUP(C299,'[1]Racing numbers file'!$B$4:$F$290,4,FALSE)","v":{"$error":"#N/A"}},0,{"$f":"IF(ISNA(VLOOKUP($C299,'Sat TT_01'!$C$4:$Q$152,12,FALSE)=$C299),0,VLOOKUP($C299,'Sat TT_01'!$C$4:$Q$152,12,FALSE))","v":0},{"$f":"IF(ISNA(VLOOKUP($C299,'Sat TT_02'!$C$4:$Q$152,12,FALSE)=$C299),0,VLOOKUP($C299,'Sat TT_02'!$C$4:$Q$152,12,FALSE))","v":0},{"$f":"IF(ISNA(VLOOKUP($C299,'Sat TT_03'!$C$4:$Q$152,12,FALSE)=$C299),0,VLOOKUP($C299,'Sat TT_03'!$C$4:$Q$152,12,FALSE))","v":0},{"$f":"IF(ISNA(VLOOKUP($C299,'Sat TT_04'!$C$4:$Q$152,12,FALSE)=$C299),0,VLOOKUP($C299,'Sat TT_04'!$C$4:$Q$152,12,FALSE))","v":0},{"$f":"IF(ISNA(VLOOKUP($C299,'Sat TT_05'!$C$4:$Q$152,12,FALSE)=$C299),0,VLOOKUP($C299,'Sat TT_05'!$C$4:$Q$152,12,FALSE))","v":0},{"$f":"IF(ISNA(VLOOKUP($C299,'Sat TT_06'!$C$4:$Q$152,12,FALSE)=$C299),0,VLOOKUP($C299,'Sat TT_06'!$C$4:$Q$152,12,FALSE))","v":0},{"$f":"IF(ISNA(VLOOKUP($C299,'Sat TT_07'!$C$4:$Q$152,12,FALSE)=$C299),0,VLOOKUP($C299,'Sat TT_07'!$C$4:$Q$152,12,FALSE))","v":0},{"$f":"IF(ISNA(VLOOKUP($C299,'Sat TT_08'!$C$4:$Q$152,12,FALSE)=$C299),0,VLOOKUP($C299,'Sat TT_08'!$C$4:$Q$152,12,FALSE))","v":0}]
[{"$f":"VLOOKUP(C300,'Sheet 1'!C$1:D$96,2,FALSE)","v":{"$error":"#N/A"}},291,{"$f":"+'[1]Racing numbers file'!$B294","v":"Gerry Jameson"},{"$f":"VLOOKUP(C300,'[1]Racing numbers file'!$B$4:$F$290,2,FALSE)","v":{"$error":"#N/A"}},{"$f":"VLOOKUP(C300,'[1]Racing numbers file'!$B$4:$F$290,4,FALSE)","v":{"$error":"#N/A"}},0,{"$f":"IF(ISNA(VLOOKUP($C300,'Sat TT_01'!$C$4:$Q$152,12,FALSE)=$C300),0,VLOOKUP($C300,'Sat TT_01'!$C$4:$Q$152,12,FALSE))","v":0},{"$f":"IF(ISNA(VLOOKUP($C300,'Sat TT_02'!$C$4:$Q$152,12,FALSE)=$C300),0,VLOOKUP($C300,'Sat TT_02'!$C$4:$Q$152,12,FALSE))","v":0},{"$f":"IF(ISNA(VLOOKUP($C300,'Sat TT_03'!$C$4:$Q$152,12,FALSE)=$C300),0,VLOOKUP($C300,'Sat TT_03'!$C$4:$Q$152,12,FALSE))","v":0},{"$f":"IF(ISNA(VLOOKUP($C300,'Sat TT_04'!$C$4:$Q$152,12,FALSE)=$C300),0,VLOOKUP($C300,'Sat TT_04'!$C$4:$Q$152,12,FALSE))","v":0},{"$f":"IF(ISNA(VLOOKUP($C300,'Sat TT_05'!$C$4:$Q$152,12,FALSE)=$C300),0,VLOOKUP($C300,'Sat TT_05'!$C$4:$Q$152,12,FALSE))","v":0},{"$f":"IF(ISNA(VLOOKUP($C300,'Sat TT_06'!$C$4:$Q$152,12,FALSE)=$C300),0,VLOOKUP($C300,'Sat TT_06'!$C$4:$Q$152,12,FALSE))","v":0},{"$f":"IF(ISNA(VLOOKUP($C300,'Sat TT_07'!$C$4:$Q$152,12,FALSE)=$C300),0,VLOOKUP($C300,'Sat TT_07'!$C$4:$Q$152,12,FALSE))","v":0},{"$f":"IF(ISNA(VLOOKUP($C300,'Sat TT_08'!$C$4:$Q$152,12,FALSE)=$C300),0,VLOOKUP($C300,'Sat TT_08'!$C$4:$Q$152,12,FALSE))","v":0}]
[{"$f":"VLOOKUP(C301,'Sheet 1'!C$1:D$96,2,FALSE)","v":{"$error":"#N/A"}},292,{"$f":"+'[1]Racing numbers file'!$B295","v":"Stephen O'Brien"},{"$f":"VLOOKUP(C301,'[1]Racing numbers file'!$B$4:$F$290,2,FALSE)","v":{"$error":"#N/A"}},{"$f":"VLOOKUP(C301,'[1]Racing numbers file'!$B$4:$F$290,4,FALSE)","v":{"$error":"#N/A"}},0,{"$f":"IF(ISNA(VLOOKUP($C301,'Sat TT_01'!$C$4:$Q$152,12,FALSE)=$C301),0,VLOOKUP($C301,'Sat TT_01'!$C$4:$Q$152,12,FALSE))","v":0},{"$f":"IF(ISNA(VLOOKUP($C301,'Sat TT_02'!$C$4:$Q$152,12,FALSE)=$C301),0,VLOOKUP($C301,'Sat TT_02'!$C$4:$Q$152,12,FALSE))","v":0},{"$f":"IF(ISNA(VLOOKUP($C301,'Sat TT_03'!$C$4:$Q$152,12,FALSE)=$C301),0,VLOOKUP($C301,'Sat TT_03'!$C$4:$Q$152,12,FALSE))","v":0},{"$f":"IF(ISNA(VLOOKUP($C301,'Sat TT_04'!$C$4:$Q$152,12,FALSE)=$C301),0,VLOOKUP($C301,'Sat TT_04'!$C$4:$Q$152,12,FALSE))","v":0},{"$f":"IF(ISNA(VLOOKUP($C301,'Sat TT_05'!$C$4:$Q$152,12,FALSE)=$C301),0,VLOOKUP($C301,'Sat TT_05'!$C$4:$Q$152,12,FALSE))","v":0},{"$f":"IF(ISNA(VLOOKUP($C301,'Sat TT_06'!$C$4:$Q$152,12,FALSE)=$C301),0,VLOOKUP($C301,'Sat TT_06'!$C$4:$Q$152,12,FALSE))","v":0},{"$f":"IF(ISNA(VLOOKUP($C301,'Sat TT_07'!$C$4:$Q$152,12,FALSE)=$C301),0,VLOOKUP($C301,'Sat TT_07'!$C$4:$Q$152,12,FALSE))","v":0},{"$f":"IF(ISNA(VLOOKUP($C301,'Sat TT_08'!$C$4:$Q$152,12,FALSE)=$C301),0,VLOOKUP($C301,'Sat TT_08'!$C$4:$Q$152,12,FALSE))","v":0}]
[{"$f":"VLOOKUP(C302,'Sheet 1'!C$1:D$96,2,FALSE)","v":{"$error":"#N/A"}},293,{"$f":"+'[1]Racing numbers file'!$B296","v":"Brian Kane"},{"$f":"VLOOKUP(C302,'[1]Racing numbers file'!$B$4:$F$290,2,FALSE)","v":{"$error":"#N/A"}},{"$f":"VLOOKUP(C302,'[1]Racing numbers file'!$B$4:$F$290,4,FALSE)","v":{"$error":"#N/A"}},0,{"$f":"IF(ISNA(VLOOKUP($C302,'Sat TT_01'!$C$4:$Q$152,12,FALSE)=$C302),0,VLOOKUP($C302,'Sat TT_01'!$C$4:$Q$152,12,FALSE))","v":0},{"$f":"IF(ISNA(VLOOKUP($C302,'Sat TT_02'!$C$4:$Q$152,12,FALSE)=$C302),0,VLOOKUP($C302,'Sat TT_02'!$C$4:$Q$152,12,FALSE))","v":0},{"$f":"IF(ISNA(VLOOKUP($C302,'Sat TT_03'!$C$4:$Q$152,12,FALSE)=$C302),0,VLOOKUP($C302,'Sat TT_03'!$C$4:$Q$152,12,FALSE))","v":0},{"$f":"IF(ISNA(VLOOKUP($C302,'Sat TT_04'!$C$4:$Q$152,12,FALSE)=$C302),0,VLOOKUP($C302,'Sat TT_04'!$C$4:$Q$152,12,FALSE))","v":0},{"$f":"IF(ISNA(VLOOKUP($C302,'Sat TT_05'!$C$4:$Q$152,12,FALSE)=$C302),0,VLOOKUP($C302,'Sat TT_05'!$C$4:$Q$152,12,FALSE))","v":0},{"$f":"IF(ISNA(VLOOKUP($C302,'Sat TT_06'!$C$4:$Q$152,12,FALSE)=$C302),0,VLOOKUP($C302,'Sat TT_06'!$C$4:$Q$152,12,FALSE))","v":0},{"$f":"IF(ISNA(VLOOKUP($C302,'Sat TT_07'!$C$4:$Q$152,12,FALSE)=$C302),0,VLOOKUP($C302,'Sat TT_07'!$C$4:$Q$152,12,FALSE))","v":0},{"$f":"IF(ISNA(VLOOKUP($C302,'Sat TT_08'!$C$4:$Q$152,12,FALSE)=$C302),0,VLOOKUP($C302,'Sat TT_08'!$C$4:$Q$152,12,FALSE))","v":0}]
[{"$f":"VLOOKUP(C303,'Sheet 1'!C$1:D$96,2,FALSE)","v":{"$error":"#N/A"}},294,{"$f":"+'[1]Racing numbers file'!$B297","v":{"$error":"#N/A"}},{"$f":"VLOOKUP(C303,'[1]Racing numbers file'!$B$4:$F$290,2,FALSE)","v":{"$error":"#N/A"}},{"$f":"VLOOKUP(C303,'[1]Racing numbers file'!$B$4:$F$290,4,FALSE)","v":{"$error":"#N/A"}},0,{"$f":"IF(ISNA(VLOOKUP($C303,'Sat TT_01'!$C$4:$Q$152,12,FALSE)=$C303),0,VLOOKUP($C303,'Sat TT_01'!$C$4:$Q$152,12,FALSE))","v":0},{"$f":"IF(ISNA(VLOOKUP($C303,'Sat TT_02'!$C$4:$Q$152,12,FALSE)=$C303),0,VLOOKUP($C303,'Sat TT_02'!$C$4:$Q$152,12,FALSE))","v":0},{"$f":"IF(ISNA(VLOOKUP($C303,'Sat TT_03'!$C$4:$Q$152,12,FALSE)=$C303),0,VLOOKUP($C303,'Sat TT_03'!$C$4:$Q$152,12,FALSE))","v":0},{"$f":"IF(ISNA(VLOOKUP($C303,'Sat TT_04'!$C$4:$Q$152,12,FALSE)=$C303),0,VLOOKUP($C303,'Sat TT_04'!$C$4:$Q$152,12,FALSE))","v":0},{"$f":"IF(ISNA(VLOOKUP($C303,'Sat TT_05'!$C$4:$Q$152,12,FALSE)=$C303),0,VLOOKUP($C303,'Sat TT_05'!$C$4:$Q$152,12,FALSE))","v":0},{"$f":"IF(ISNA(VLOOKUP($C303,'Sat TT_06'!$C$4:$Q$152,12,FALSE)=$C303),0,VLOOKUP($C303,'Sat TT_06'!$C$4:$Q$152,12,FALSE))","v":0},{"$f":"IF(ISNA(VLOOKUP($C303,'Sat TT_07'!$C$4:$Q$152,12,FALSE)=$C303),0,VLOOKUP($C303,'Sat TT_07'!$C$4:$Q$152,12,FALSE))","v":0},{"$f":"IF(ISNA(VLOOKUP($C303,'Sat TT_08'!$C$4:$Q$152,12,FALSE)=$C303),0,VLOOKUP($C303,'Sat TT_08'!$C$4:$Q$152,12,FALSE))","v":0}]
[{"$f":"VLOOKUP(C304,'Sheet 1'!C$1:D$96,2,FALSE)","v":{"$error":"#N/A"}},295,{"$f":"+'[1]Racing numbers file'!$B298","v":"Peter Hurley"},{"$f":"VLOOKUP(C304,'[1]Racing numbers file'!$B$4:$F$290,2,FALSE)","v":{"$error":"#N/A"}},{"$f":"VLOOKUP(C304,'[1]Racing numbers file'!$B$4:$F$290,4,FALSE)","v":{"$error":"#N/A"}},0,{"$f":"IF(ISNA(VLOOKUP($C304,'Sat TT_01'!$C$4:$Q$152,12,FALSE)=$C304),0,VLOOKUP($C304,'Sat TT_01'!$C$4:$Q$152,12,FALSE))","v":0},{"$f":"IF(ISNA(VLOOKUP($C304,'Sat TT_02'!$C$4:$Q$152,12,FALSE)=$C304),0,VLOOKUP($C304,'Sat TT_02'!$C$4:$Q$152,12,FALSE))","v":0},{"$f":"IF(ISNA(VLOOKUP($C304,'Sat TT_03'!$C$4:$Q$152,12,FALSE)=$C304),0,VLOOKUP($C304,'Sat TT_03'!$C$4:$Q$152,12,FALSE))","v":0},{"$f":"IF(ISNA(VLOOKUP($C304,'Sat TT_04'!$C$4:$Q$152,12,FALSE)=$C304),0,VLOOKUP($C304,'Sat TT_04'!$C$4:$Q$152,12,FALSE))","v":0},{"$f":"IF(ISNA(VLOOKUP($C304,'Sat TT_05'!$C$4:$Q$152,12,FALSE)=$C304),0,VLOOKUP($C304,'Sat TT_05'!$C$4:$Q$152,12,FALSE))","v":0},{"$f":"IF(ISNA(VLOOKUP($C304,'Sat TT_06'!$C$4:$Q$152,12,FALSE)=$C304),0,VLOOKUP($C304,'Sat TT_06'!$C$4:$Q$152,12,FALSE))","v":0},{"$f":"IF(ISNA(VLOOKUP($C304,'Sat TT_07'!$C$4:$Q$152,12,FALSE)=$C304),0,VLOOKUP($C304,'Sat TT_07'!$C$4:$Q$152,12,FALSE))","v":0},{"$f":"IF(ISNA(VLOOKUP($C304,'Sat TT_08'!$C$4:$Q$152,12,FALSE)=$C304),0,VLOOKUP($C304,'Sat TT_08'!$C$4:$Q$152,12,FALSE))","v":0}]
[{"$f":"VLOOKUP(C305,'Sheet 1'!C$1:D$96,2,FALSE)","v":{"$error":"#N/A"}},296,{"$f":"+'[1]Racing numbers file'!$B299","v":"Michael Hayden"},{"$f":"VLOOKUP(C305,'[1]Racing numbers file'!$B$4:$F$290,2,FALSE)","v":{"$error":"#N/A"}},{"$f":"VLOOKUP(C305,'[1]Racing numbers file'!$B$4:$F$290,4,FALSE)","v":{"$error":"#N/A"}},0,{"$f":"IF(ISNA(VLOOKUP($C305,'Sat TT_01'!$C$4:$Q$152,12,FALSE)=$C305),0,VLOOKUP($C305,'Sat TT_01'!$C$4:$Q$152,12,FALSE))","v":0},{"$f":"IF(ISNA(VLOOKUP($C305,'Sat TT_02'!$C$4:$Q$152,12,FALSE)=$C305),0,VLOOKUP($C305,'Sat TT_02'!$C$4:$Q$152,12,FALSE))","v":0},{"$f":"IF(ISNA(VLOOKUP($C305,'Sat TT_03'!$C$4:$Q$152,12,FALSE)=$C305),0,VLOOKUP($C305,'Sat TT_03'!$C$4:$Q$152,12,FALSE))","v":0},{"$f":"IF(ISNA(VLOOKUP($C305,'Sat TT_04'!$C$4:$Q$152,12,FALSE)=$C305),0,VLOOKUP($C305,'Sat TT_04'!$C$4:$Q$152,12,FALSE))","v":0},{"$f":"IF(ISNA(VLOOKUP($C305,'Sat TT_05'!$C$4:$Q$152,12,FALSE)=$C305),0,VLOOKUP($C305,'Sat TT_05'!$C$4:$Q$152,12,FALSE))","v":0},{"$f":"IF(ISNA(VLOOKUP($C305,'Sat TT_06'!$C$4:$Q$152,12,FALSE)=$C305),0,VLOOKUP($C305,'Sat TT_06'!$C$4:$Q$152,12,FALSE))","v":0},{"$f":"IF(ISNA(VLOOKUP($C305,'Sat TT_07'!$C$4:$Q$152,12,FALSE)=$C305),0,VLOOKUP($C305,'Sat TT_07'!$C$4:$Q$152,12,FALSE))","v":0},{"$f":"IF(ISNA(VLOOKUP($C305,'Sat TT_08'!$C$4:$Q$152,12,FALSE)=$C305),0,VLOOKUP($C305,'Sat TT_08'!$C$4:$Q$152,12,FALSE))","v":0}]
[{"$f":"VLOOKUP(C306,'Sheet 1'!C$1:D$96,2,FALSE)","v":{"$error":"#N/A"}},297,{"$f":"+'[1]Racing numbers file'!$B300","v":"Daniel Roberts"},{"$f":"VLOOKUP(C306,'[1]Racing numbers file'!$B$4:$F$290,2,FALSE)","v":{"$error":"#N/A"}},{"$f":"VLOOKUP(C306,'[1]Racing numbers file'!$B$4:$F$290,4,FALSE)","v":{"$error":"#N/A"}},0,{"$f":"IF(ISNA(VLOOKUP($C306,'Sat TT_01'!$C$4:$Q$152,12,FALSE)=$C306),0,VLOOKUP($C306,'Sat TT_01'!$C$4:$Q$152,12,FALSE))","v":0},{"$f":"IF(ISNA(VLOOKUP($C306,'Sat TT_02'!$C$4:$Q$152,12,FALSE)=$C306),0,VLOOKUP($C306,'Sat TT_02'!$C$4:$Q$152,12,FALSE))","v":0},{"$f":"IF(ISNA(VLOOKUP($C306,'Sat TT_03'!$C$4:$Q$152,12,FALSE)=$C306),0,VLOOKUP($C306,'Sat TT_03'!$C$4:$Q$152,12,FALSE))","v":0},{"$f":"IF(ISNA(VLOOKUP($C306,'Sat TT_04'!$C$4:$Q$152,12,FALSE)=$C306),0,VLOOKUP($C306,'Sat TT_04'!$C$4:$Q$152,12,FALSE))","v":0},{"$f":"IF(ISNA(VLOOKUP($C306,'Sat TT_05'!$C$4:$Q$152,12,FALSE)=$C306),0,VLOOKUP($C306,'Sat TT_05'!$C$4:$Q$152,12,FALSE))","v":0},{"$f":"IF(ISNA(VLOOKUP($C306,'Sat TT_06'!$C$4:$Q$152,12,FALSE)=$C306),0,VLOOKUP($C306,'Sat TT_06'!$C$4:$Q$152,12,FALSE))","v":0},{"$f":"IF(ISNA(VLOOKUP($C306,'Sat TT_07'!$C$4:$Q$152,12,FALSE)=$C306),0,VLOOKUP($C306,'Sat TT_07'!$C$4:$Q$152,12,FALSE))","v":0},{"$f":"IF(ISNA(VLOOKUP($C306,'Sat TT_08'!$C$4:$Q$152,12,FALSE)=$C306),0,VLOOKUP($C306,'Sat TT_08'!$C$4:$Q$152,12,FALSE))","v":0}]
[{"$f":"VLOOKUP(C307,'Sheet 1'!C$1:D$96,2,FALSE)","v":{"$error":"#N/A"}},298,{"$f":"+'[1]Racing numbers file'!$B301","v":"Bernadette O'Brien"},{"$f":"VLOOKUP(C307,'[1]Racing numbers file'!$B$4:$F$290,2,FALSE)","v":{"$error":"#N/A"}},{"$f":"VLOOKUP(C307,'[1]Racing numbers file'!$B$4:$F$290,4,FALSE)","v":{"$error":"#N/A"}},0,{"$f":"IF(ISNA(VLOOKUP($C307,'Sat TT_01'!$C$4:$Q$152,12,FALSE)=$C307),0,VLOOKUP($C307,'Sat TT_01'!$C$4:$Q$152,12,FALSE))","v":0},{"$f":"IF(ISNA(VLOOKUP($C307,'Sat TT_02'!$C$4:$Q$152,12,FALSE)=$C307),0,VLOOKUP($C307,'Sat TT_02'!$C$4:$Q$152,12,FALSE))","v":0},{"$f":"IF(ISNA(VLOOKUP($C307,'Sat TT_03'!$C$4:$Q$152,12,FALSE)=$C307),0,VLOOKUP($C307,'Sat TT_03'!$C$4:$Q$152,12,FALSE))","v":0},{"$f":"IF(ISNA(VLOOKUP($C307,'Sat TT_04'!$C$4:$Q$152,12,FALSE)=$C307),0,VLOOKUP($C307,'Sat TT_04'!$C$4:$Q$152,12,FALSE))","v":0},{"$f":"IF(ISNA(VLOOKUP($C307,'Sat TT_05'!$C$4:$Q$152,12,FALSE)=$C307),0,VLOOKUP($C307,'Sat TT_05'!$C$4:$Q$152,12,FALSE))","v":0},{"$f":"IF(ISNA(VLOOKUP($C307,'Sat TT_06'!$C$4:$Q$152,12,FALSE)=$C307),0,VLOOKUP($C307,'Sat TT_06'!$C$4:$Q$152,12,FALSE))","v":0},{"$f":"IF(ISNA(VLOOKUP($C307,'Sat TT_07'!$C$4:$Q$152,12,FALSE)=$C307),0,VLOOKUP($C307,'Sat TT_07'!$C$4:$Q$152,12,FALSE))","v":0},{"$f":"IF(ISNA(VLOOKUP($C307,'Sat TT_08'!$C$4:$Q$152,12,FALSE)=$C307),0,VLOOKUP($C307,'Sat TT_08'!$C$4:$Q$152,12,FALSE))","v":0}]
[{"$f":"VLOOKUP(C308,'Sheet 1'!C$1:D$96,2,FALSE)","v":{"$error":"#N/A"}},299,{"$f":"+'[1]Racing numbers file'!$B302","v":"Peter McLoughlin"},{"$f":"VLOOKUP(C308,'[1]Racing numbers file'!$B$4:$F$290,2,FALSE)","v":{"$error":"#N/A"}},{"$f":"VLOOKUP(C308,'[1]Racing numbers file'!$B$4:$F$290,4,FALSE)","v":{"$error":"#N/A"}},0,{"$f":"IF(ISNA(VLOOKUP($C308,'Sat TT_01'!$C$4:$Q$152,12,FALSE)=$C308),0,VLOOKUP($C308,'Sat TT_01'!$C$4:$Q$152,12,FALSE))","v":0},{"$f":"IF(ISNA(VLOOKUP($C308,'Sat TT_02'!$C$4:$Q$152,12,FALSE)=$C308),0,VLOOKUP($C308,'Sat TT_02'!$C$4:$Q$152,12,FALSE))","v":0},{"$f":"IF(ISNA(VLOOKUP($C308,'Sat TT_03'!$C$4:$Q$152,12,FALSE)=$C308),0,VLOOKUP($C308,'Sat TT_03'!$C$4:$Q$152,12,FALSE))","v":0},{"$f":"IF(ISNA(VLOOKUP($C308,'Sat TT_04'!$C$4:$Q$152,12,FALSE)=$C308),0,VLOOKUP($C308,'Sat TT_04'!$C$4:$Q$152,12,FALSE))","v":0},{"$f":"IF(ISNA(VLOOKUP($C308,'Sat TT_05'!$C$4:$Q$152,12,FALSE)=$C308),0,VLOOKUP($C308,'Sat TT_05'!$C$4:$Q$152,12,FALSE))","v":0},{"$f":"IF(ISNA(VLOOKUP($C308,'Sat TT_06'!$C$4:$Q$152,12,FALSE)=$C308),0,VLOOKUP($C308,'Sat TT_06'!$C$4:$Q$152,12,FALSE))","v":0},{"$f":"IF(ISNA(VLOOKUP($C308,'Sat TT_07'!$C$4:$Q$152,12,FALSE)=$C308),0,VLOOKUP($C308,'Sat TT_07'!$C$4:$Q$152,12,FALSE))","v":0},{"$f":"IF(ISNA(VLOOKUP($C308,'Sat TT_08'!$C$4:$Q$152,12,FALSE)=$C308),0,VLOOKUP($C308,'Sat TT_08'!$C$4:$Q$152,12,FALSE))","v":0}]
[{"$f":"VLOOKUP(C309,'Sheet 1'!C$1:D$96,2,FALSE)","v":{"$error":"#N/A"}},300,{"$f":"+'[1]Racing numbers file'!$B303","v":"Joe Sheehy"},{"$f":"VLOOKUP(C309,'[1]Racing numbers file'!$B$4:$F$290,2,FALSE)","v":{"$error":"#N/A"}},{"$f":"VLOOKUP(C309,'[1]Racing numbers file'!$B$4:$F$290,4,FALSE)","v":{"$error":"#N/A"}},0,{"$f":"IF(ISNA(VLOOKUP($C309,'Sat TT_01'!$C$4:$Q$152,12,FALSE)=$C309),0,VLOOKUP($C309,'Sat TT_01'!$C$4:$Q$152,12,FALSE))","v":0},{"$f":"IF(ISNA(VLOOKUP($C309,'Sat TT_02'!$C$4:$Q$152,12,FALSE)=$C309),0,VLOOKUP($C309,'Sat TT_02'!$C$4:$Q$152,12,FALSE))","v":0},{"$f":"IF(ISNA(VLOOKUP($C309,'Sat TT_03'!$C$4:$Q$152,12,FALSE)=$C309),0,VLOOKUP($C309,'Sat TT_03'!$C$4:$Q$152,12,FALSE))","v":0},{"$f":"IF(ISNA(VLOOKUP($C309,'Sat TT_04'!$C$4:$Q$152,12,FALSE)=$C309),0,VLOOKUP($C309,'Sat TT_04'!$C$4:$Q$152,12,FALSE))","v":0},{"$f":"IF(ISNA(VLOOKUP($C309,'Sat TT_05'!$C$4:$Q$152,12,FALSE)=$C309),0,VLOOKUP($C309,'Sat TT_05'!$C$4:$Q$152,12,FALSE))","v":0},{"$f":"IF(ISNA(VLOOKUP($C309,'Sat TT_06'!$C$4:$Q$152,12,FALSE)=$C309),0,VLOOKUP($C309,'Sat TT_06'!$C$4:$Q$152,12,FALSE))","v":0},{"$f":"IF(ISNA(VLOOKUP($C309,'Sat TT_07'!$C$4:$Q$152,12,FALSE)=$C309),0,VLOOKUP($C309,'Sat TT_07'!$C$4:$Q$152,12,FALSE))","v":0},{"$f":"IF(ISNA(VLOOKUP($C309,'Sat TT_08'!$C$4:$Q$152,12,FALSE)=$C309),0,VLOOKUP($C309,'Sat TT_08'!$C$4:$Q$152,12,FALSE))","v":0}]
[null,null,null,null,null,{"$f":"IF(ISNA(VLOOKUP($B310,TTL_01!$B$4:$Q$152,13,FALSE)=$B310),0,VLOOKUP($B310,TTL_01!$B$4:$Q$152,13,FALSE))","v":0}]

{"sheet":"SatTTL Handicap","index":27,"n_rows":310,"n_cols":16,"rows_kept":310,"cut":false,"hidden":false,"merged":[[3,1,3,3]]}
[null,null,"IVCA Saturday Time Trial League ",null,null,null,"01:00:00"]
[null,null,2015,null,null,null,"Sat TT_01","Sat TT_02","Sat TT_03","Sat TT_04","Sat TT_05","Sat TT_06","Sat TT_07","Sat TT_08"]
[null,null,"Handicap Points Table",null,null,null,{"$f":"+'[1]Racing Calendar'!$C$17","v":41043},{"$f":"+'[1]Racing Calendar'!$C$24","v":41059},{"$f":"+'[1]Racing Calendar'!$C$31","v":41107},{"$f":"+'[1]Racing Calendar'!$C$38","v":41094},{"$f":"+'[1]Racing Calendar'!$C$46","v":41115},{"$f":"+'[1]Racing Calendar'!$C$53","v":41103},{"$f":"+'[1]Racing Calendar'!$C$55","v":41141},{"$f":"+'[1]Racing Calendar'!$C$57","v":41154}]
[]
[]
[null,null,null,null,null,null," TT"," TT"," TT"," TT"," TT"," TT"," TT"," TT"]
[null,null,null,null,null,null,"10 mls","10 mls","10 mls","10 mls","10 mls","10 mls","11 mls","12 mls"]
[null,null,null,null,null,null,{"$f":"+'[1]Racing Calendar'!$G$17","v":"09:00:00"},{"$f":"+'[1]Racing Calendar'!$G$24","v":"19:15:00"},{"$f":"+'[1]Racing Calendar'!$G$31","v":"09:30:00"},{"$f":"+'[1]Racing Calendar'!$G$38","v":"19:15:00"},{"$f":"+'[1]Racing Calendar'!$G$46","v":"19:15:00"},{"$f":"+'[1]Racing Calendar'!$G$53","v":"09:00:00"},{"$f":"+'[1]Racing Calendar'!$G$53","v":"09:00:00"},{"$f":"+'[1]Racing Calendar'!$G$53","v":"09:00:00"},"Total "]
[null,"League Pos","Surname+id","Forename","Age","Points","Column1","Column2","Column3","Column4","Column5","Column6","#N/A","#N/A7","Points2","Points3"]
[{"$f":"VLOOKUP(C10,'Sheet 1'!C$1:D$96,2,FALSE)","v":{"$error":"#N/A"}},1,{"$f":"+'[1]Racing numbers file'!$B114","v":"Sam McArdle"},{"$f":"VLOOKUP(C10,'[1]Racing numbers file'!$B$4:$F$290,2,FALSE)","v":1964},{"$f":"VLOOKUP(C10,'[1]Racing numbers file'!$B$4:$F$290,4,FALSE)","v":52},{"$f":"SaturdayHandicapTable[[#This Row],[Points2]]","v":0},{"$f":"IF(ISNA(VLOOKUP($C10,'Sat TT_01'!$C$4:$Q$152,15,FALSE)=$C10),0,VLOOKUP($C10,'Sat TT_01'!$C$4:$Q$152,15,FALSE))","v":0},{"$f":"IF(ISNA(VLOOKUP($C10,'Sat TT_02'!$C$4:$Q$152,15,FALSE)=$C10),0,VLOOKUP($C10,'Sat TT_02'!$C$4:$Q$152,15,FALSE))","v":0},{"$f":"IF(ISNA(VLOOKUP($C10,'Sat TT_03'!$C$4:$Q$152,15,FALSE)=$C10),0,VLOOKUP($C10,'Sat TT_03'!$C$4:$Q$152,15,FALSE))","v":0},{"$f":"IF(ISNA(VLOOKUP($C10,'Sat TT_04'!$C$4:$Q$152,15,FALSE)=$C10),0,VLOOKUP($C10,'Sat TT_04'!$C$4:$Q$152,15,FALSE))","v":0},{"$f":"IF(ISNA(VLOOKUP($C10,'Sat TT_05'!$C$4:$Q$152,15,FALSE)=$C10),0,VLOOKUP($C10,'Sat TT_05'!$C$4:$Q$152,15,FALSE))","v":0},{"$f":"IF(ISNA(VLOOKUP($C10,'Sat TT_06'!$C$4:$Q$152,15,FALSE)=$C10),0,VLOOKUP($C10,'Sat TT_06'!$C$4:$Q$152,15,FALSE))","v":0},{"$f":"IF(ISNA(VLOOKUP($C10,'Sat TT_07'!$C$4:$Q$152,15,FALSE)=$C10),0,VLOOKUP($C10,'Sat TT_07'!$C$4:$Q$152,15,FALSE))","v":0},{"$f":"IF(ISNA(VLOOKUP($C10,'Sat TT_08'!$C$4:$Q$152,15,FALSE)=$C10),0,VLOOKUP($C10,'Sat TT_08'!$C$4:$Q$152,15,FALSE))","v":0},{"$f":"SUM(G10:N10)","v":0}]
[{"$f":"VLOOKUP(C11,'Sheet 1'!C$1:D$96,2,FALSE)","v":{"$error":"#N/A"}},2,{"$f":"+'[1]Racing numbers file'!$B122","v":"Bill Andrews"},{"$f":"VLOOKUP(C11,'[1]Racing numbers file'!$B$4:$F$290,2,FALSE)","v":1966},{"$f":"VLOOKUP(C11,'[1]Racing numbers file'!$B$4:$F$290,4,FALSE)","v":50},{"$f":"SaturdayHandicapTable[[#This Row],[Points2]]","v":0},{"$f":"IF(ISNA(VLOOKUP($C11,'Sat TT_01'!$C$4:$Q$152,15,FALSE)=$C11),0,VLOOKUP($C11,'Sat TT_01'!$C$4:$Q$152,15,FALSE))","v":0},{"$f":"IF(ISNA(VLOOKUP($C11,'Sat TT_02'!$C$4:$Q$152,15,FALSE)=$C11),0,VLOOKUP($C11,'Sat TT_02'!$C$4:$Q$152,15,FALSE))","v":0},{"$f":"IF(ISNA(VLOOKUP($C11,'Sat TT_03'!$C$4:$Q$152,15,FALSE)=$C11),0,VLOOKUP($C11,'Sat TT_03'!$C$4:$Q$152,15,FALSE))","v":0},{"$f":"IF(ISNA(VLOOKUP($C11,'Sat TT_04'!$C$4:$Q$152,15,FALSE)=$C11),0,VLOOKUP($C11,'Sat TT_04'!$C$4:$Q$152,15,FALSE))","v":0},{"$f":"IF(ISNA(VLOOKUP($C11,'Sat TT_05'!$C$4:$Q$152,15,FALSE)=$C11),0,VLOOKUP($C11,'Sat TT_05'!$C$4:$Q$152,15,FALSE))","v":0},{"$f":"IF(ISNA(VLOOKUP($C11,'Sat TT_06'!$C$4:$Q$152,15,FALSE)=$C11),0,VLOOKUP($C11,'Sat TT_06'!$C$4:$Q$152,15,FALSE))","v":0},{"$f":"IF(ISNA(VLOOKUP($C11,'Sat TT_07'!$C$4:$Q$152,15,FALSE)=$C11),0,VLOOKUP($C11,'Sat TT_07'!$C$4:$Q$152,15,FALSE))","v":0},{"$f":"IF(ISNA(VLOOKUP($C11,'Sat TT_08'!$C$4:$Q$152,15,FALSE)=$C11),0,VLOOKUP($C11,'Sat TT_08'!$C$4:$Q$152,15,FALSE))","v":0},0]
[{"$f":"VLOOKUP(C12,'Sheet 1'!C$1:D$96,2,FALSE)","v":{"$error":"#N/A"}},3,{"$f":"+'[1]Racing numbers file'!$B185","v":"Billy Riggs"},{"$f":"VLOOKUP(C12,'[1]Racing numbers file'!$B$4:$F$290,2,FALSE)","v":1972},{"$f":"VLOOKUP(C12,'[1]Racing numbers file'!$B$4:$F$290,4,FALSE)","v":44},{"$f":"SaturdayHandicapTable[[#This Row],[Points2]]","v":0},{"$f":"IF(ISNA(VLOOKUP($C12,'Sat TT_01'!$C$4:$Q$152,15,FALSE)=$C12),0,VLOOKUP($C12,'Sat TT_01'!$C$4:$Q$152,15,FALSE))","v":0},{"$f":"IF(ISNA(VLOOKUP($C12,'Sat TT_02'!$C$4:$Q$152,15,FALSE)=$C12),0,VLOOKUP($C12,'Sat TT_02'!$C$4:$Q$152,15,FALSE))","v":0},{"$f":"IF(ISNA(VLOOKUP($C12,'Sat TT_03'!$C$4:$Q$152,15,FALSE)=$C12),0,VLOOKUP($C12,'Sat TT_03'!$C$4:$Q$152,15,FALSE))","v":0},{"$f":"IF(ISNA(VLOOKUP($C12,'Sat TT_04'!$C$4:$Q$152,15,FALSE)=$C12),0,VLOOKUP($C12,'Sat TT_04'!$C$4:$Q$152,15,FALSE))","v":0},{"$f":"IF(ISNA(VLOOKUP($C12,'Sat TT_05'!$C$4:$Q$152,15,FALSE)=$C12),0,VLOOKUP($C12,'Sat TT_05'!$C$4:$Q$152,15,FALSE))","v":0},{"$f":"IF(ISNA(VLOOKUP($C12,'Sat TT_06'!$C$4:$Q$152,15,FALSE)=$C12),0,VLOOKUP($C12,'Sat TT_06'!$C$4:$Q$152,15,FALSE))","v":0},{"$f":"IF(ISNA(VLOOKUP($C12,'Sat TT_07'!$C$4:$Q$152,15,FALSE)=$C12),0,VLOOKUP($C12,'Sat TT_07'!$C$4:$Q$152,15,FALSE))","v":0},{"$f":"IF(ISNA(VLOOKUP($C12,'Sat TT_08'!$C$4:$Q$152,15,FALSE)=$C12),0,VLOOKUP($C12,'Sat TT_08'!$C$4:$Q$152,15,FALSE))","v":0},0]
[{"$f":"VLOOKUP(C13,'Sheet 1'!C$1:D$96,2,FALSE)","v":1101},4,{"$f":"+'[1]Racing numbers file'!$B45","v":"Mick Usher"},{"$f":"VLOOKUP(C13,'[1]Racing numbers file'!$B$4:$F$290,2,FALSE)","v":1954},{"$f":"VLOOKUP(C13,'[1]Racing numbers file'!$B$4:$F$290,4,FALSE)","v":62},{"$f":"SaturdayHandicapTable[[#This Row],[Points2]]","v":0},{"$f":"IF(ISNA(VLOOKUP($C13,'Sat TT_01'!$C$4:$Q$152,15,FALSE)=$C13),0,VLOOKUP($C13,'Sat TT_01'!$C$4:$Q$152,15,FALSE))","v":0},{"$f":"IF(ISNA(VLOOKUP($C13,'Sat TT_02'!$C$4:$Q$152,15,FALSE)=$C13),0,VLOOKUP($C13,'Sat TT_02'!$C$4:$Q$152,15,FALSE))","v":0},{"$f":"IF(ISNA(VLOOKUP($C13,'Sat TT_03'!$C$4:$Q$152,15,FALSE)=$C13),0,VLOOKUP($C13,'Sat TT_03'!$C$4:$Q$152,15,FALSE))","v":0},{"$f":"IF(ISNA(VLOOKUP($C13,'Sat TT_04'!$C$4:$Q$152,15,FALSE)=$C13),0,VLOOKUP($C13,'Sat TT_04'!$C$4:$Q$152,15,FALSE))","v":0},{"$f":"IF(ISNA(VLOOKUP($C13,'Sat TT_05'!$C$4:$Q$152,15,FALSE)=$C13),0,VLOOKUP($C13,'Sat TT_05'!$C$4:$Q$152,15,FALSE))","v":0},{"$f":"IF(ISNA(VLOOKUP($C13,'Sat TT_06'!$C$4:$Q$152,15,FALSE)=$C13),0,VLOOKUP($C13,'Sat TT_06'!$C$4:$Q$152,15,FALSE))","v":0},{"$f":"IF(ISNA(VLOOKUP($C13,'Sat TT_07'!$C$4:$Q$152,15,FALSE)=$C13),0,VLOOKUP($C13,'Sat TT_07'!$C$4:$Q$152,15,FALSE))","v":0},{"$f":"IF(ISNA(VLOOKUP($C13,'Sat TT_08'!$C$4:$Q$152,15,FALSE)=$C13),0,VLOOKUP($C13,'Sat TT_08'!$C$4:$Q$152,15,FALSE))","v":0},0]
[{"$f":"VLOOKUP(C14,'Sheet 1'!C$1:D$96,2,FALSE)","v":{"$error":"#N/A"}},5,{"$f":"+'[1]Racing numbers file'!$B170","v":"Ollie Daly"},{"$f":"VLOOKUP(C14,'[1]Racing numbers file'!$B$4:$F$290,2,FALSE)","v":1971},{"$f":"VLOOKUP(C14,'[1]Racing numbers file'!$B$4:$F$290,4,FALSE)","v":45},{"$f":"SaturdayHandicapTable[[#This Row],[Points2]]","v":0},{"$f":"IF(ISNA(VLOOKUP($C14,'Sat TT_01'!$C$4:$Q$152,15,FALSE)=$C14),0,VLOOKUP($C14,'Sat TT_01'!$C$4:$Q$152,15,FALSE))","v":0},{"$f":"IF(ISNA(VLOOKUP($C14,'Sat TT_02'!$C$4:$Q$152,15,FALSE)=$C14),0,VLOOKUP($C14,'Sat TT_02'!$C$4:$Q$152,15,FALSE))","v":0},{"$f":"IF(ISNA(VLOOKUP($C14,'Sat TT_03'!$C$4:$Q$152,15,FALSE)=$C14),0,VLOOKUP($C14,'Sat TT_03'!$C$4:$Q$152,15,FALSE))","v":0},{"$f":"IF(ISNA(VLOOKUP($C14,'Sat TT_04'!$C$4:$Q$152,15,FALSE)=$C14),0,VLOOKUP($C14,'Sat TT_04'!$C$4:$Q$152,15,FALSE))","v":0},{"$f":"IF(ISNA(VLOOKUP($C14,'Sat TT_05'!$C$4:$Q$152,15,FALSE)=$C14),0,VLOOKUP($C14,'Sat TT_05'!$C$4:$Q$152,15,FALSE))","v":0},{"$f":"IF(ISNA(VLOOKUP($C14,'Sat TT_06'!$C$4:$Q$152,15,FALSE)=$C14),0,VLOOKUP($C14,'Sat TT_06'!$C$4:$Q$152,15,FALSE))","v":0},{"$f":"IF(ISNA(VLOOKUP($C14,'Sat TT_07'!$C$4:$Q$152,15,FALSE)=$C14),0,VLOOKUP($C14,'Sat TT_07'!$C$4:$Q$152,15,FALSE))","v":0},{"$f":"IF(ISNA(VLOOKUP($C14,'Sat TT_08'!$C$4:$Q$152,15,FALSE)=$C14),0,VLOOKUP($C14,'Sat TT_08'!$C$4:$Q$152,15,FALSE))","v":0},0]
[{"$f":"VLOOKUP(C15,'Sheet 1'!C$1:D$96,2,FALSE)","v":1266},6,{"$f":"+'[1]Racing numbers file'!$B139","v":"Mick Hennessy"},{"$f":"VLOOKUP(C15,'[1]Racing numbers file'!$B$4:$F$290,2,FALSE)","v":1968},{"$f":"VLOOKUP(C15,'[1]Racing numbers file'!$B$4:$F$290,4,FALSE)","v":48},{"$f":"SaturdayHandicapTable[[#This Row],[Points2]]","v":0},{"$f":"IF(ISNA(VLOOKUP($C15,'Sat TT_01'!$C$4:$Q$152,15,FALSE)=$C15),0,VLOOKUP($C15,'Sat TT_01'!$C$4:$Q$152,15,FALSE))","v":0},{"$f":"IF(ISNA(VLOOKUP($C15,'Sat TT_02'!$C$4:$Q$152,15,FALSE)=$C15),0,VLOOKUP($C15,'Sat TT_02'!$C$4:$Q$152,15,FALSE))","v":0},{"$f":"IF(ISNA(VLOOKUP($C15,'Sat TT_03'!$C$4:$Q$152,15,FALSE)=$C15),0,VLOOKUP($C15,'Sat TT_03'!$C$4:$Q$152,15,FALSE))","v":0},{"$f":"IF(ISNA(VLOOKUP($C15,'Sat TT_04'!$C$4:$Q$152,15,FALSE)=$C15),0,VLOOKUP($C15,'Sat TT_04'!$C$4:$Q$152,15,FALSE))","v":0},{"$f":"IF(ISNA(VLOOKUP($C15,'Sat TT_05'!$C$4:$Q$152,15,FALSE)=$C15),0,VLOOKUP($C15,'Sat TT_05'!$C$4:$Q$152,15,FALSE))","v":0},{"$f":"IF(ISNA(VLOOKUP($C15,'Sat TT_06'!$C$4:$Q$152,15,FALSE)=$C15),0,VLOOKUP($C15,'Sat TT_06'!$C$4:$Q$152,15,FALSE))","v":0},{"$f":"IF(ISNA(VLOOKUP($C15,'Sat TT_07'!$C$4:$Q$152,15,FALSE)=$C15),0,VLOOKUP($C15,'Sat TT_07'!$C$4:$Q$152,15,FALSE))","v":0},{"$f":"IF(ISNA(VLOOKUP($C15,'Sat TT_08'!$C$4:$Q$152,15,FALSE)=$C15),0,VLOOKUP($C15,'Sat TT_08'!$C$4:$Q$152,15,FALSE))","v":0},0,"First Road bike"]
[{"$f":"VLOOKUP(C16,'Sheet 1'!C$1:D$96,2,FALSE)","v":{"$error":"#N/A"}},7,{"$f":"+'[1]Racing numbers file'!$B136","v":"Brian McNamara"},{"$f":"VLOOKUP(C16,'[1]Racing numbers file'!$B$4:$F$290,2,FALSE)","v":1968},{"$f":"VLOOKUP(C16,'[1]Racing numbers file'!$B$4:$F$290,4,FALSE)","v":48},{"$f":"SaturdayHandicapTable[[#This Row],[Points2]]","v":0},{"$f":"IF(ISNA(VLOOKUP($C16,'Sat TT_01'!$C$4:$Q$152,15,FALSE)=$C16),0,VLOOKUP($C16,'Sat TT_01'!$C$4:$Q$152,15,FALSE))","v":0},{"$f":"IF(ISNA(VLOOKUP($C16,'Sat TT_02'!$C$4:$Q$152,15,FALSE)=$C16),0,VLOOKUP($C16,'Sat TT_02'!$C$4:$Q$152,15,FALSE))","v":0},{"$f":"IF(ISNA(VLOOKUP($C16,'Sat TT_03'!$C$4:$Q$152,15,FALSE)=$C16),0,VLOOKUP($C16,'Sat TT_03'!$C$4:$Q$152,15,FALSE))","v":0},{"$f":"IF(ISNA(VLOOKUP($C16,'Sat TT_04'!$C$4:$Q$152,15,FALSE)=$C16),0,VLOOKUP($C16,'Sat TT_04'!$C$4:$Q$152,15,FALSE))","v":0},{"$f":"IF(ISNA(VLOOKUP($C16,'Sat TT_05'!$C$4:$Q$152,15,FALSE)=$C16),0,VLOOKUP($C16,'Sat TT_05'!$C$4:$Q$152,15,FALSE))","v":0},{"$f":"IF(ISNA(VLOOKUP($C16,'Sat TT_06'!$C$4:$Q$152,15,FALSE)=$C16),0,VLOOKUP($C16,'Sat TT_06'!$C$4:$Q$152,15,FALSE))","v":0},{"$f":"IF(ISNA(VLOOKUP($C16,'Sat TT_07'!$C$4:$Q$152,15,FALSE)=$C16),0,VLOOKUP($C16,'Sat TT_07'!$C$4:$Q$152,15,FALSE))","v":0},{"$f":"IF(ISNA(VLOOKUP($C16,'Sat TT_08'!$C$4:$Q$152,15,FALSE)=$C16),0,VLOOKUP($C16,'Sat TT_08'!$C$4:$Q$152,15,FALSE))","v":0},0]
[{"$f":"VLOOKUP(C17,'Sheet 1'!C$1:D$96,2,FALSE)","v":{"$error":"#N/A"}},8,{"$f":"+'[1]Racing numbers file'!$B44","v":"Dave Woods"},{"$f":"VLOOKUP(C17,'[1]Racing numbers file'!$B$4:$F$290,2,FALSE)","v":1953},{"$f":"VLOOKUP(C17,'[1]Racing numbers file'!$B$4:$F$290,4,FALSE)","v":63},{"$f":"SaturdayHandicapTable[[#This Row],[Points2]]","v":0},{"$f":"IF(ISNA(VLOOKUP($C17,'Sat TT_01'!$C$4:$Q$152,15,FALSE)=$C17),0,VLOOKUP($C17,'Sat TT_01'!$C$4:$Q$152,15,FALSE))","v":0},{"$f":"IF(ISNA(VLOOKUP($C17,'Sat TT_02'!$C$4:$Q$152,15,FALSE)=$C17),0,VLOOKUP($C17,'Sat TT_02'!$C$4:$Q$152,15,FALSE))","v":0},{"$f":"IF(ISNA(VLOOKUP($C17,'Sat TT_03'!$C$4:$Q$152,15,FALSE)=$C17),0,VLOOKUP($C17,'Sat TT_03'!$C$4:$Q$152,15,FALSE))","v":0},{"$f":"IF(ISNA(VLOOKUP($C17,'Sat TT_04'!$C$4:$Q$152,15,FALSE)=$C17),0,VLOOKUP($C17,'Sat TT_04'!$C$4:$Q$152,15,FALSE))","v":0},{"$f":"IF(ISNA(VLOOKUP($C17,'Sat TT_05'!$C$4:$Q$152,15,FALSE)=$C17),0,VLOOKUP($C17,'Sat TT_05'!$C$4:$Q$152,15,FALSE))","v":0},{"$f":"IF(ISNA(VLOOKUP($C17,'Sat TT_06'!$C$4:$Q$152,15,FALSE)=$C17),0,VLOOKUP($C17,'Sat TT_06'!$C$4:$Q$152,15,FALSE))","v":0},{"$f":"IF(ISNA(VLOOKUP($C17,'Sat TT_07'!$C$4:$Q$152,15,FALSE)=$C17),0,VLOOKUP($C17,'Sat TT_07'!$C$4:$Q$152,15,FALSE))","v":0},{"$f":"IF(ISNA(VLOOKUP($C17,'Sat TT_08'!$C$4:$Q$152,15,FALSE)=$C17),0,VLOOKUP($C17,'Sat TT_08'!$C$4:$Q$152,15,FALSE))","v":0},0]
[{"$f":"VLOOKUP(C18,'Sheet 1'!C$1:D$96,2,FALSE)","v":1466},9,{"$f":"+'[1]Racing numbers file'!$B237","v":"Andrew Bartley"},{"$f":"VLOOKUP(C18,'[1]Racing numbers file'!$B$4:$F$290,2,FALSE)","v":1965},{"$f":"VLOOKUP(C18,'[1]Racing numbers file'!$B$4:$F$290,4,FALSE)","v":51},{"$f":"SaturdayHandicapTable[[#This Row],[Points2]]","v":0},{"$f":"IF(ISNA(VLOOKUP($C18,'Sat TT_01'!$C$4:$Q$152,15,FALSE)=$C18),0,VLOOKUP($C18,'Sat TT_01'!$C$4:$Q$152,15,FALSE))","v":0},{"$f":"IF(ISNA(VLOOKUP($C18,'Sat TT_02'!$C$4:$Q$152,15,FALSE)=$C18),0,VLOOKUP($C18,'Sat TT_02'!$C$4:$Q$152,15,FALSE))","v":0},{"$f":"IF(ISNA(VLOOKUP($C18,'Sat TT_03'!$C$4:$Q$152,15,FALSE)=$C18),0,VLOOKUP($C18,'Sat TT_03'!$C$4:$Q$152,15,FALSE))","v":0},{"$f":"IF(ISNA(VLOOKUP($C18,'Sat TT_04'!$C$4:$Q$152,15,FALSE)=$C18),0,VLOOKUP($C18,'Sat TT_04'!$C$4:$Q$152,15,FALSE))","v":0},{"$f":"IF(ISNA(VLOOKUP($C18,'Sat TT_05'!$C$4:$Q$152,15,FALSE)=$C18),0,VLOOKUP($C18,'Sat TT_05'!$C$4:$Q$152,15,FALSE))","v":0},{"$f":"IF(ISNA(VLOOKUP($C18,'Sat TT_06'!$C$4:$Q$152,15,FALSE)=$C18),0,VLOOKUP($C18,'Sat TT_06'!$C$4:$Q$152,15,FALSE))","v":0},{"$f":"IF(ISNA(VLOOKUP($C18,'Sat TT_07'!$C$4:$Q$152,15,FALSE)=$C18),0,VLOOKUP($C18,'Sat TT_07'!$C$4:$Q$152,15,FALSE))","v":0},{"$f":"IF(ISNA(VLOOKUP($C18,'Sat TT_08'!$C$4:$Q$152,15,FALSE)=$C18),0,VLOOKUP($C18,'Sat TT_08'!$C$4:$Q$152,15,FALSE))","v":0},0]
[{"$f":"VLOOKUP(C19,'Sheet 1'!C$1:D$96,2,FALSE)","v":{"$error":"#N/A"}},10,{"$f":"+'[1]Racing numbers file'!$B188","v":"Desmond King"},{"$f":"VLOOKUP(C19,'[1]Racing numbers file'!$B$4:$F$290,2,FALSE)","v":1962},{"$f":"VLOOKUP(C19,'[1]Racing numbers file'!$B$4:$F$290,4,FALSE)","v":54},{"$f":"SaturdayHandicapTable[[#This Row],[Points2]]","v":0},{"$f":"IF(ISNA(VLOOKUP($C19,'Sat TT_01'!$C$4:$Q$152,15,FALSE)=$C19),0,VLOOKUP($C19,'Sat TT_01'!$C$4:$Q$152,15,FALSE))","v":0},{"$f":"IF(ISNA(VLOOKUP($C19,'Sat TT_02'!$C$4:$Q$152,15,FALSE)=$C19),0,VLOOKUP($C19,'Sat TT_02'!$C$4:$Q$152,15,FALSE))","v":0},{"$f":"IF(ISNA(VLOOKUP($C19,'Sat TT_03'!$C$4:$Q$152,15,FALSE)=$C19),0,VLOOKUP($C19,'Sat TT_03'!$C$4:$Q$152,15,FALSE))","v":0},{"$f":"IF(ISNA(VLOOKUP($C19,'Sat TT_04'!$C$4:$Q$152,15,FALSE)=$C19),0,VLOOKUP($C19,'Sat TT_04'!$C$4:$Q$152,15,FALSE))","v":0},{"$f":"IF(ISNA(VLOOKUP($C19,'Sat TT_05'!$C$4:$Q$152,15,FALSE)=$C19),0,VLOOKUP($C19,'Sat TT_05'!$C$4:$Q$152,15,FALSE))","v":0},{"$f":"IF(ISNA(VLOOKUP($C19,'Sat TT_06'!$C$4:$Q$152,15,FALSE)=$C19),0,VLOOKUP($C19,'Sat TT_06'!$C$4:$Q$152,15,FALSE))","v":0},{"$f":"IF(ISNA(VLOOKUP($C19,'Sat TT_07'!$C$4:$Q$152,15,FALSE)=$C19),0,VLOOKUP($C19,'Sat TT_07'!$C$4:$Q$152,15,FALSE))","v":0},{"$f":"IF(ISNA(VLOOKUP($C19,'Sat TT_08'!$C$4:$Q$152,15,FALSE)=$C19),0,VLOOKUP($C19,'Sat TT_08'!$C$4:$Q$152,15,FALSE))","v":0},0]
[{"$f":"VLOOKUP(C20,'Sheet 1'!C$1:D$96,2,FALSE)","v":{"$error":"#N/A"}},11,{"$f":"+'[1]Racing numbers file'!$B229","v":"Simon Wallace"},{"$f":"VLOOKUP(C20,'[1]Racing numbers file'!$B$4:$F$290,2,FALSE)","v":1972},{"$f":"VLOOKUP(C20,'[1]Racing numbers file'!$B$4:$F$290,4,FALSE)","v":44},{"$f":"SaturdayHandicapTable[[#This Row],[Points2]]","v":0},{"$f":"IF(ISNA(VLOOKUP($C20,'Sat TT_01'!$C$4:$Q$152,15,FALSE)=$C20),0,VLOOKUP($C20,'Sat TT_01'!$C$4:$Q$152,15,FALSE))","v":0},{"$f":"IF(ISNA(VLOOKUP($C20,'Sat TT_02'!$C$4:$Q$152,15,FALSE)=$C20),0,VLOOKUP($C20,'Sat TT_02'!$C$4:$Q$152,15,FALSE))","v":0},{"$f":"IF(ISNA(VLOOKUP($C20,'Sat TT_03'!$C$4:$Q$152,15,FALSE)=$C20),0,VLOOKUP($C20,'Sat TT_03'!$C$4:$Q$152,15,FALSE))","v":0},{"$f":"IF(ISNA(VLOOKUP($C20,'Sat TT_04'!$C$4:$Q$152,15,FALSE)=$C20),0,VLOOKUP($C20,'Sat TT_04'!$C$4:$Q$152,15,FALSE))","v":0},{"$f":"IF(ISNA(VLOOKUP($C20,'Sat TT_05'!$C$4:$Q$152,15,FALSE)=$C20),0,VLOOKUP($C20,'Sat TT_05'!$C$4:$Q$152,15,FALSE))","v":0},{"$f":"IF(ISNA(VLOOKUP($C20,'Sat TT_06'!$C$4:$Q$152,15,FALSE)=$C20),0,VLOOKUP($C20,'Sat TT_06'!$C$4:$Q$152,15,FALSE))","v":0},{"$f":"IF(ISNA(VLOOKUP($C20,'Sat TT_07'!$C$4:$Q$152,15,FALSE)=$C20),0,VLOOKUP($C20,'Sat TT_07'!$C$4:$Q$152,15,FALSE))","v":0},{"$f":"IF(ISNA(VLOOKUP($C20,'Sat TT_08'!$C$4:$Q$152,15,FALSE)=$C20),0,VLOOKUP($C20,'Sat TT_08'!$C$4:$Q$152,15,FALSE))","v":0},0]
[{"$f":"VLOOKUP(C21,'Sheet 1'!C$1:D$96,2,FALSE)","v":{"$error":"#N/A"}},12,"Ormrod Philip",{"$f":"VLOOKUP(C21,'[1]Racing numbers file'!$B$4:$F$290,2,FALSE)","v":{"$error":"#N/A"}},{"$f":"VLOOKUP(C21,'[1]Racing numbers file'!$B$4:$F$290,4,FALSE)","v":{"$error":"#N/A"}},{"$f":"SaturdayHandicapTable[[#This Row],[Points2]]","v":0},{"$f":"IF(ISNA(VLOOKUP($C21,'Sat TT_01'!$C$4:$Q$152,15,FALSE)=$C21),0,VLOOKUP($C21,'Sat TT_01'!$C$4:$Q$152,15,FALSE))","v":0},{"$f":"IF(ISNA(VLOOKUP($C21,'Sat TT_02'!$C$4:$Q$152,15,FALSE)=$C21),0,VLOOKUP($C21,'Sat TT_02'!$C$4:$Q$152,15,FALSE))","v":0},{"$f":"IF(ISNA(VLOOKUP($C21,'Sat TT_03'!$C$4:$Q$152,15,FALSE)=$C21),0,VLOOKUP($C21,'Sat TT_03'!$C$4:$Q$152,15,FALSE))","v":0},{"$f":"IF(ISNA(VLOOKUP($C21,'Sat TT_04'!$C$4:$Q$152,15,FALSE)=$C21),0,VLOOKUP($C21,'Sat TT_04'!$C$4:$Q$152,15,FALSE))","v":0},{"$f":"IF(ISNA(VLOOKUP($C21,'Sat TT_05'!$C$4:$Q$152,15,FALSE)=$C21),0,VLOOKUP($C21,'Sat TT_05'!$C$4:$Q$152,15,FALSE))","v":0},{"$f":"IF(ISNA(VLOOKUP($C21,'Sat TT_06'!$C$4:$Q$152,15,FALSE)=$C21),0,VLOOKUP($C21,'Sat TT_06'!$C$4:$Q$152,15,FALSE))","v":0},{"$f":"IF(ISNA(VLOOKUP($C21,'Sat TT_07'!$C$4:$Q$152,15,FALSE)=$C21),0,VLOOKUP($C21,'Sat TT_07'!$C$4:$Q$152,15,FALSE))","v":0},{"$f":"IF(ISNA(VLOOKUP($C21,'Sat TT_08'!$C$4:$Q$152,15,FALSE)=$C21),0,VLOOKUP($C21,'Sat TT_08'!$C$4:$Q$152,15,FALSE))","v":0},0]
[{"$f":"VLOOKUP(C22,'Sheet 1'!C$1:D$96,2,FALSE)","v":1230},13,{"$f":"+'[1]Racing numbers file'!$B117","v":"Paul Cullinan"},{"$f":"VLOOKUP(C22,'[1]Racing numbers file'!$B$4:$F$290,2,FALSE)","v":1965},{"$f":"VLOOKUP(C22,'[1]Racing numbers file'!$B$4:$F$290,4,FALSE)","v":51},{"$f":"SaturdayHandicapTable[[#This Row],[Points2]]","v":0},{"$f":"IF(ISNA(VLOOKUP($C22,'Sat TT_01'!$C$4:$Q$152,15,FALSE)=$C22),0,VLOOKUP($C22,'Sat TT_01'!$C$4:$Q$152,15,FALSE))","v":0},{"$f":"IF(ISNA(VLOOKUP($C22,'Sat TT_02'!$C$4:$Q$152,15,FALSE)=$C22),0,VLOOKUP($C22,'Sat TT_02'!$C$4:$Q$152,15,FALSE))","v":0},{"$f":"IF(ISNA(VLOOKUP($C22,'Sat TT_03'!$C$4:$Q$152,15,FALSE)=$C22),0,VLOOKUP($C22,'Sat TT_03'!$C$4:$Q$152,15,FALSE))","v":0},{"$f":"IF(ISNA(VLOOKUP($C22,'Sat TT_04'!$C$4:$Q$152,15,FALSE)=$C22),0,VLOOKUP($C22,'Sat TT_04'!$C$4:$Q$152,15,FALSE))","v":0},{"$f":"IF(ISNA(VLOOKUP($C22,'Sat TT_05'!$C$4:$Q$152,15,FALSE)=$C22),0,VLOOKUP($C22,'Sat TT_05'!$C$4:$Q$152,15,FALSE))","v":0},{"$f":"IF(ISNA(VLOOKUP($C22,'Sat TT_06'!$C$4:$Q$152,15,FALSE)=$C22),0,VLOOKUP($C22,'Sat TT_06'!$C$4:$Q$152,15,FALSE))","v":0},{"$f":"IF(ISNA(VLOOKUP($C22,'Sat TT_07'!$C$4:$Q$152,15,FALSE)=$C22),0,VLOOKUP($C22,'Sat TT_07'!$C$4:$Q$152,15,FALSE))","v":0},{"$f":"IF(ISNA(VLOOKUP($C22,'Sat TT_08'!$C$4:$Q$152,15,FALSE)=$C22),0,VLOOKUP($C22,'Sat TT_08'!$C$4:$Q$152,15,FALSE))","v":0},0]
[{"$f":"VLOOKUP(C23,'Sheet 1'!C$1:D$96,2,FALSE)","v":1427},14,{"$f":"+'[1]Racing numbers file'!$B218","v":"David Carroll"},{"$f":"VLOOKUP(C23,'[1]Racing numbers file'!$B$4:$F$290,2,FALSE)","v":1971},{"$f":"VLOOKUP(C23,'[1]Racing numbers file'!$B$4:$F$290,4,FALSE)","v":45},{"$f":"SaturdayHandicapTable[[#This Row],[Points2]]","v":0},{"$f":"IF(ISNA(VLOOKUP($C23,'Sat TT_01'!$C$4:$Q$152,15,FALSE)=$C23),0,VLOOKUP($C23,'Sat TT_01'!$C$4:$Q$152,15,FALSE))","v":0},{"$f":"IF(ISNA(VLOOKUP($C23,'Sat TT_02'!$C$4:$Q$152,15,FALSE)=$C23),0,VLOOKUP($C23,'Sat TT_02'!$C$4:$Q$152,15,FALSE))","v":0},{"$f":"IF(ISNA(VLOOKUP($C23,'Sat TT_03'!$C$4:$Q$152,15,FALSE)=$C23),0,VLOOKUP($C23,'Sat TT_03'!$C$4:$Q$152,15,FALSE))","v":0},{"$f":"IF(ISNA(VLOOKUP($C23,'Sat TT_04'!$C$4:$Q$152,15,FALSE)=$C23),0,VLOOKUP($C23,'Sat TT_04'!$C$4:$Q$152,15,FALSE))","v":0},{"$f":"IF(ISNA(VLOOKUP($C23,'Sat TT_05'!$C$4:$Q$152,15,FALSE)=$C23),0,VLOOKUP($C23,'Sat TT_05'!$C$4:$Q$152,15,FALSE))","v":0},{"$f":"IF(ISNA(VLOOKUP($C23,'Sat TT_06'!$C$4:$Q$152,15,FALSE)=$C23),0,VLOOKUP($C23,'Sat TT_06'!$C$4:$Q$152,15,FALSE))","v":0},{"$f":"IF(ISNA(VLOOKUP($C23,'Sat TT_07'!$C$4:$Q$152,15,FALSE)=$C23),0,VLOOKUP($C23,'Sat TT_07'!$C$4:$Q$152,15,FALSE))","v":0},{"$f":"IF(ISNA(VLOOKUP($C23,'Sat TT_08'!$C$4:$Q$152,15,FALSE)=$C23),0,VLOOKUP($C23,'Sat TT_08'!$C$4:$Q$152,15,FALSE))","v":0},0]
[{"$f":"VLOOKUP(C24,'Sheet 1'!C$1:D$96,2,FALSE)","v":{"$error":"#N/A"}},15,{"$f":"+'[1]Racing numbers file'!$B248","v":"Joe Christian"},{"$f":"VLOOKUP(C24,'[1]Racing numbers file'!$B$4:$F$290,2,FALSE)","v":1975},{"$f":"VLOOKUP(C24,'[1]Racing numbers file'!$B$4:$F$290,4,FALSE)","v":41},{"$f":"SaturdayHandicapTable[[#This Row],[Points2]]","v":0},{"$f":"IF(ISNA(VLOOKUP($C24,'Sat TT_01'!$C$4:$Q$152,15,FALSE)=$C24),0,VLOOKUP($C24,'Sat TT_01'!$C$4:$Q$152,15,FALSE))","v":0},{"$f":"IF(ISNA(VLOOKUP($C24,'Sat TT_02'!$C$4:$Q$152,15,FALSE)=$C24),0,VLOOKUP($C24,'Sat TT_02'!$C$4:$Q$152,15,FALSE))","v":0},{"$f":"IF(ISNA(VLOOKUP($C24,'Sat TT_03'!$C$4:$Q$152,15,FALSE)=$C24),0,VLOOKUP($C24,'Sat TT_03'!$C$4:$Q$152,15,FALSE))","v":0},{"$f":"IF(ISNA(VLOOKUP($C24,'Sat TT_04'!$C$4:$Q$152,15,FALSE)=$C24),0,VLOOKUP($C24,'Sat TT_04'!$C$4:$Q$152,15,FALSE))","v":0},{"$f":"IF(ISNA(VLOOKUP($C24,'Sat TT_05'!$C$4:$Q$152,15,FALSE)=$C24),0,VLOOKUP($C24,'Sat TT_05'!$C$4:$Q$152,15,FALSE))","v":0},{"$f":"IF(ISNA(VLOOKUP($C24,'Sat TT_06'!$C$4:$Q$152,15,FALSE)=$C24),0,VLOOKUP($C24,'Sat TT_06'!$C$4:$Q$152,15,FALSE))","v":0},{"$f":"IF(ISNA(VLOOKUP($C24,'Sat TT_07'!$C$4:$Q$152,15,FALSE)=$C24),0,VLOOKUP($C24,'Sat TT_07'!$C$4:$Q$152,15,FALSE))","v":0},{"$f":"IF(ISNA(VLOOKUP($C24,'Sat TT_08'!$C$4:$Q$152,15,FALSE)=$C24),0,VLOOKUP($C24,'Sat TT_08'!$C$4:$Q$152,15,FALSE))","v":0},0]
[{"$f":"VLOOKUP(C25,'Sheet 1'!C$1:D$96,2,FALSE)","v":{"$error":"#N/A"}},16,{"$f":"+'[1]Racing numbers file'!$B36","v":"Eddie Mongey"},{"$f":"VLOOKUP(C25,'[1]Racing numbers file'!$B$4:$F$290,2,FALSE)","v":1951},{"$f":"VLOOKUP(C25,'[1]Racing numbers file'!$B$4:$F$290,4,FALSE)","v":65},{"$f":"SaturdayHandicapTable[[#This Row],[Points2]]","v":0},{"$f":"IF(ISNA(VLOOKUP($C25,'Sat TT_01'!$C$4:$Q$152,15,FALSE)=$C25),0,VLOOKUP($C25,'Sat TT_01'!$C$4:$Q$152,15,FALSE))","v":0},{"$f":"IF(ISNA(VLOOKUP($C25,'Sat TT_02'!$C$4:$Q$152,15,FALSE)=$C25),0,VLOOKUP($C25,'Sat TT_02'!$C$4:$Q$152,15,FALSE))","v":0},{"$f":"IF(ISNA(VLOOKUP($C25,'Sat TT_03'!$C$4:$Q$152,15,FALSE)=$C25),0,VLOOKUP($C25,'Sat TT_03'!$C$4:$Q$152,15,FALSE))","v":0},{"$f":"IF(ISNA(VLOOKUP($C25,'Sat TT_04'!$C$4:$Q$152,15,FALSE)=$C25),0,VLOOKUP($C25,'Sat TT_04'!$C$4:$Q$152,15,FALSE))","v":0},{"$f":"IF(ISNA(VLOOKUP($C25,'Sat TT_05'!$C$4:$Q$152,15,FALSE)=$C25),0,VLOOKUP($C25,'Sat TT_05'!$C$4:$Q$152,15,FALSE))","v":0},{"$f":"IF(ISNA(VLOOKUP($C25,'Sat TT_06'!$C$4:$Q$152,15,FALSE)=$C25),0,VLOOKUP($C25,'Sat TT_06'!$C$4:$Q$152,15,FALSE))","v":0},{"$f":"IF(ISNA(VLOOKUP($C25,'Sat TT_07'!$C$4:$Q$152,15,FALSE)=$C25),0,VLOOKUP($C25,'Sat TT_07'!$C$4:$Q$152,15,FALSE))","v":0},{"$f":"IF(ISNA(VLOOKUP($C25,'Sat TT_08'!$C$4:$Q$152,15,FALSE)=$C25),0,VLOOKUP($C25,'Sat TT_08'!$C$4:$Q$152,15,FALSE))","v":0},0]
[{"$f":"VLOOKUP(C26,'Sheet 1'!C$1:D$96,2,FALSE)","v":{"$error":"#N/A"}},17,{"$f":"+'[1]Racing numbers file'!$B65","v":"Dermot Anglin"},{"$f":"VLOOKUP(C26,'[1]Racing numbers file'!$B$4:$F$290,2,FALSE)","v":1958},{"$f":"VLOOKUP(C26,'[1]Racing numbers file'!$B$4:$F$290,4,FALSE)","v":58},{"$f":"SaturdayHandicapTable[[#This Row],[Points2]]","v":0},{"$f":"IF(ISNA(VLOOKUP($C26,'Sat TT_01'!$C$4:$Q$152,15,FALSE)=$C26),0,VLOOKUP($C26,'Sat TT_01'!$C$4:$Q$152,15,FALSE))","v":0},{"$f":"IF(ISNA(VLOOKUP($C26,'Sat TT_02'!$C$4:$Q$152,15,FALSE)=$C26),0,VLOOKUP($C26,'Sat TT_02'!$C$4:$Q$152,15,FALSE))","v":0},{"$f":"IF(ISNA(VLOOKUP($C26,'Sat TT_03'!$C$4:$Q$152,15,FALSE)=$C26),0,VLOOKUP($C26,'Sat TT_03'!$C$4:$Q$152,15,FALSE))","v":0},{"$f":"IF(ISNA(VLOOKUP($C26,'Sat TT_04'!$C$4:$Q$152,15,FALSE)=$C26),0,VLOOKUP($C26,'Sat TT_04'!$C$4:$Q$152,15,FALSE))","v":0},{"$f":"IF(ISNA(VLOOKUP($C26,'Sat TT_05'!$C$4:$Q$152,15,FALSE)=$C26),0,VLOOKUP($C26,'Sat TT_05'!$C$4:$Q$152,15,FALSE))","v":0},{"$f":"IF(ISNA(VLOOKUP($C26,'Sat TT_06'!$C$4:$Q$152,15,FALSE)=$C26),0,VLOOKUP($C26,'Sat TT_06'!$C$4:$Q$152,15,FALSE))","v":0},{"$f":"IF(ISNA(VLOOKUP($C26,'Sat TT_07'!$C$4:$Q$152,15,FALSE)=$C26),0,VLOOKUP($C26,'Sat TT_07'!$C$4:$Q$152,15,FALSE))","v":0},{"$f":"IF(ISNA(VLOOKUP($C26,'Sat TT_08'!$C$4:$Q$152,15,FALSE)=$C26),0,VLOOKUP($C26,'Sat TT_08'!$C$4:$Q$152,15,FALSE))","v":0},0]
[{"$f":"VLOOKUP(C27,'Sheet 1'!C$1:D$96,2,FALSE)","v":{"$error":"#N/A"}},18,{"$f":"+'[1]Racing numbers file'!$B119","v":"Don Samway"},{"$f":"VLOOKUP(C27,'[1]Racing numbers file'!$B$4:$F$290,2,FALSE)","v":1965},{"$f":"VLOOKUP(C27,'[1]Racing numbers file'!$B$4:$F$290,4,FALSE)","v":51},{"$f":"SaturdayHandicapTable[[#This Row],[Points2]]","v":0},{"$f":"IF(ISNA(VLOOKUP($C27,'Sat TT_01'!$C$4:$Q$152,15,FALSE)=$C27),0,VLOOKUP($C27,'Sat TT_01'!$C$4:$Q$152,15,FALSE))","v":0},{"$f":"IF(ISNA(VLOOKUP($C27,'Sat TT_02'!$C$4:$Q$152,15,FALSE)=$C27),0,VLOOKUP($C27,'Sat TT_02'!$C$4:$Q$152,15,FALSE))","v":0},{"$f":"IF(ISNA(VLOOKUP($C27,'Sat TT_03'!$C$4:$Q$152,15,FALSE)=$C27),0,VLOOKUP($C27,'Sat TT_03'!$C$4:$Q$152,15,FALSE))","v":0},{"$f":"IF(ISNA(VLOOKUP($C27,'Sat TT_04'!$C$4:$Q$152,15,FALSE)=$C27),0,VLOOKUP($C27,'Sat TT_04'!$C$4:$Q$152,15,FALSE))","v":0},{"$f":"IF(ISNA(VLOOKUP($C27,'Sat TT_05'!$C$4:$Q$152,15,FALSE)=$C27),0,VLOOKUP($C27,'Sat TT_05'!$C$4:$Q$152,15,FALSE))","v":0},{"$f":"IF(ISNA(VLOOKUP($C27,'Sat TT_06'!$C$4:$Q$152,15,FALSE)=$C27),0,VLOOKUP($C27,'Sat TT_06'!$C$4:$Q$152,15,FALSE))","v":0},{"$f":"IF(ISNA(VLOOKUP($C27,'Sat TT_07'!$C$4:$Q$152,15,FALSE)=$C27),0,VLOOKUP($C27,'Sat TT_07'!$C$4:$Q$152,15,FALSE))","v":0},{"$f":"IF(ISNA(VLOOKUP($C27,'Sat TT_08'!$C$4:$Q$152,15,FALSE)=$C27),0,VLOOKUP($C27,'Sat TT_08'!$C$4:$Q$152,15,FALSE))","v":0},0]
[{"$f":"VLOOKUP(C28,'Sheet 1'!C$1:D$96,2,FALSE)","v":{"$error":"#N/A"}},19,{"$f":"+'[1]Racing numbers file'!$B159","v":"Karl Monaghan"},{"$f":"VLOOKUP(C28,'[1]Racing numbers file'!$B$4:$F$290,2,FALSE)","v":1970},{"$f":"VLOOKUP(C28,'[1]Racing numbers file'!$B$4:$F$290,4,FALSE)","v":46},{"$f":"SaturdayHandicapTable[[#This Row],[Points2]]","v":0},{"$f":"IF(ISNA(VLOOKUP($C28,'Sat TT_01'!$C$4:$Q$152,15,FALSE)=$C28),0,VLOOKUP($C28,'Sat TT_01'!$C$4:$Q$152,15,FALSE))","v":0},{"$f":"IF(ISNA(VLOOKUP($C28,'Sat TT_02'!$C$4:$Q$152,15,FALSE)=$C28),0,VLOOKUP($C28,'Sat TT_02'!$C$4:$Q$152,15,FALSE))","v":0},{"$f":"IF(ISNA(VLOOKUP($C28,'Sat TT_03'!$C$4:$Q$152,15,FALSE)=$C28),0,VLOOKUP($C28,'Sat TT_03'!$C$4:$Q$152,15,FALSE))","v":0},{"$f":"IF(ISNA(VLOOKUP($C28,'Sat TT_04'!$C$4:$Q$152,15,FALSE)=$C28),0,VLOOKUP($C28,'Sat TT_04'!$C$4:$Q$152,15,FALSE))","v":0},{"$f":"IF(ISNA(VLOOKUP($C28,'Sat TT_05'!$C$4:$Q$152,15,FALSE)=$C28),0,VLOOKUP($C28,'Sat TT_05'!$C$4:$Q$152,15,FALSE))","v":0},{"$f":"IF(ISNA(VLOOKUP($C28,'Sat TT_06'!$C$4:$Q$152,15,FALSE)=$C28),0,VLOOKUP($C28,'Sat TT_06'!$C$4:$Q$152,15,FALSE))","v":0},{"$f":"IF(ISNA(VLOOKUP($C28,'Sat TT_07'!$C$4:$Q$152,15,FALSE)=$C28),0,VLOOKUP($C28,'Sat TT_07'!$C$4:$Q$152,15,FALSE))","v":0},{"$f":"IF(ISNA(VLOOKUP($C28,'Sat TT_08'!$C$4:$Q$152,15,FALSE)=$C28),0,VLOOKUP($C28,'Sat TT_08'!$C$4:$Q$152,15,FALSE))","v":0},0]
[{"$f":"VLOOKUP(C29,'Sheet 1'!C$1:D$96,2,FALSE)","v":{"$error":"#N/A"}},20,{"$f":"+'[1]Racing numbers file'!$B89","v":"Stephen Fennell"},{"$f":"VLOOKUP(C29,'[1]Racing numbers file'!$B$4:$F$290,2,FALSE)","v":1961},{"$f":"VLOOKUP(C29,'[1]Racing numbers file'!$B$4:$F$290,4,FALSE)","v":55},{"$f":"SaturdayHandicapTable[[#This Row],[Points2]]","v":0},{"$f":"IF(ISNA(VLOOKUP($C29,'Sat TT_01'!$C$4:$Q$152,15,FALSE)=$C29),0,VLOOKUP($C29,'Sat TT_01'!$C$4:$Q$152,15,FALSE))","v":0},{"$f":"IF(ISNA(VLOOKUP($C29,'Sat TT_02'!$C$4:$Q$152,15,FALSE)=$C29),0,VLOOKUP($C29,'Sat TT_02'!$C$4:$Q$152,15,FALSE))","v":0},{"$f":"IF(ISNA(VLOOKUP($C29,'Sat TT_03'!$C$4:$Q$152,15,FALSE)=$C29),0,VLOOKUP($C29,'Sat TT_03'!$C$4:$Q$152,15,FALSE))","v":0},{"$f":"IF(ISNA(VLOOKUP($C29,'Sat TT_04'!$C$4:$Q$152,15,FALSE)=$C29),0,VLOOKUP($C29,'Sat TT_04'!$C$4:$Q$152,15,FALSE))","v":0},{"$f":"IF(ISNA(VLOOKUP($C29,'Sat TT_05'!$C$4:$Q$152,15,FALSE)=$C29),0,VLOOKUP($C29,'Sat TT_05'!$C$4:$Q$152,15,FALSE))","v":0},{"$f":"IF(ISNA(VLOOKUP($C29,'Sat TT_06'!$C$4:$Q$152,15,FALSE)=$C29),0,VLOOKUP($C29,'Sat TT_06'!$C$4:$Q$152,15,FALSE))","v":0},{"$f":"IF(ISNA(VLOOKUP($C29,'Sat TT_07'!$C$4:$Q$152,15,FALSE)=$C29),0,VLOOKUP($C29,'Sat TT_07'!$C$4:$Q$152,15,FALSE))","v":0},{"$f":"IF(ISNA(VLOOKUP($C29,'Sat TT_08'!$C$4:$Q$152,15,FALSE)=$C29),0,VLOOKUP($C29,'Sat TT_08'!$C$4:$Q$152,15,FALSE))","v":0},0]
[{"$f":"VLOOKUP(C30,'Sheet 1'!C$1:D$96,2,FALSE)","v":{"$error":"#N/A"}},21,{"$f":"+'[1]Racing numbers file'!$B277","v":"Paul Hunter"},{"$f":"VLOOKUP(C30,'[1]Racing numbers file'!$B$4:$F$290,2,FALSE)","v":1976},{"$f":"VLOOKUP(C30,'[1]Racing numbers file'!$B$4:$F$290,4,FALSE)","v":40},{"$f":"SaturdayHandicapTable[[#This Row],[Points2]]","v":0},{"$f":"IF(ISNA(VLOOKUP($C30,'Sat TT_01'!$C$4:$Q$152,15,FALSE)=$C30),0,VLOOKUP($C30,'Sat TT_01'!$C$4:$Q$152,15,FALSE))","v":0},{"$f":"IF(ISNA(VLOOKUP($C30,'Sat TT_02'!$C$4:$Q$152,15,FALSE)=$C30),0,VLOOKUP($C30,'Sat TT_02'!$C$4:$Q$152,15,FALSE))","v":0},{"$f":"IF(ISNA(VLOOKUP($C30,'Sat TT_03'!$C$4:$Q$152,15,FALSE)=$C30),0,VLOOKUP($C30,'Sat TT_03'!$C$4:$Q$152,15,FALSE))","v":0},{"$f":"IF(ISNA(VLOOKUP($C30,'Sat TT_04'!$C$4:$Q$152,15,FALSE)=$C30),0,VLOOKUP($C30,'Sat TT_04'!$C$4:$Q$152,15,FALSE))","v":0},{"$f":"IF(ISNA(VLOOKUP($C30,'Sat TT_05'!$C$4:$Q$152,15,FALSE)=$C30),0,VLOOKUP($C30,'Sat TT_05'!$C$4:$Q$152,15,FALSE))","v":0},{"$f":"IF(ISNA(VLOOKUP($C30,'Sat TT_06'!$C$4:$Q$152,15,FALSE)=$C30),0,VLOOKUP($C30,'Sat TT_06'!$C$4:$Q$152,15,FALSE))","v":0},{"$f":"IF(ISNA(VLOOKUP($C30,'Sat TT_07'!$C$4:$Q$152,15,FALSE)=$C30),0,VLOOKUP($C30,'Sat TT_07'!$C$4:$Q$152,15,FALSE))","v":0},{"$f":"IF(ISNA(VLOOKUP($C30,'Sat TT_08'!$C$4:$Q$152,15,FALSE)=$C30),0,VLOOKUP($C30,'Sat TT_08'!$C$4:$Q$152,15,FALSE))","v":0},0]
[{"$f":"VLOOKUP(C31,'Sheet 1'!C$1:D$96,2,FALSE)","v":1214},22,{"$f":"+'[1]Racing numbers file'!$B108","v":"Robert Kehoe"},{"$f":"VLOOKUP(C31,'[1]Racing numbers file'!$B$4:$F$290,2,FALSE)","v":1964},{"$f":"VLOOKUP(C31,'[1]Racing numbers file'!$B$4:$F$290,4,FALSE)","v":52},{"$f":"SaturdayHandicapTable[[#This Row],[Points2]]","v":0},{"$f":"IF(ISNA(VLOOKUP($C31,'Sat TT_01'!$C$4:$Q$152,15,FALSE)=$C31),0,VLOOKUP($C31,'Sat TT_01'!$C$4:$Q$152,15,FALSE))","v":0},{"$f":"IF(ISNA(VLOOKUP($C31,'Sat TT_02'!$C$4:$Q$152,15,FALSE)=$C31),0,VLOOKUP($C31,'Sat TT_02'!$C$4:$Q$152,15,FALSE))","v":0},{"$f":"IF(ISNA(VLOOKUP($C31,'Sat TT_03'!$C$4:$Q$152,15,FALSE)=$C31),0,VLOOKUP($C31,'Sat TT_03'!$C$4:$Q$152,15,FALSE))","v":0},{"$f":"IF(ISNA(VLOOKUP($C31,'Sat TT_04'!$C$4:$Q$152,15,FALSE)=$C31),0,VLOOKUP($C31,'Sat TT_04'!$C$4:$Q$152,15,FALSE))","v":0},{"$f":"IF(ISNA(VLOOKUP($C31,'Sat TT_05'!$C$4:$Q$152,15,FALSE)=$C31),0,VLOOKUP($C31,'Sat TT_05'!$C$4:$Q$152,15,FALSE))","v":0},{"$f":"IF(ISNA(VLOOKUP($C31,'Sat TT_06'!$C$4:$Q$152,15,FALSE)=$C31),0,VLOOKUP($C31,'Sat TT_06'!$C$4:$Q$152,15,FALSE))","v":0},{"$f":"IF(ISNA(VLOOKUP($C31,'Sat TT_07'!$C$4:$Q$152,15,FALSE)=$C31),0,VLOOKUP($C31,'Sat TT_07'!$C$4:$Q$152,15,FALSE))","v":0},{"$f":"IF(ISNA(VLOOKUP($C31,'Sat TT_08'!$C$4:$Q$152,15,FALSE)=$C31),0,VLOOKUP($C31,'Sat TT_08'!$C$4:$Q$152,15,FALSE))","v":0},0]
[{"$f":"VLOOKUP(C32,'Sheet 1'!C$1:D$96,2,FALSE)","v":1348},23,{"$f":"+'[1]Racing numbers file'!$B179","v":"Ciara Kinch"},{"$f":"VLOOKUP(C32,'[1]Racing numbers file'!$B$4:$F$290,2,FALSE)","v":1973},{"$f":"VLOOKUP(C32,'[1]Racing numbers file'!$B$4:$F$290,4,FALSE)","v":43},{"$f":"SaturdayHandicapTable[[#This Row],[Points2]]","v":0},{"$f":"IF(ISNA(VLOOKUP($C32,'Sat TT_01'!$C$4:$Q$152,15,FALSE)=$C32),0,VLOOKUP($C32,'Sat TT_01'!$C$4:$Q$152,15,FALSE))","v":0},{"$f":"IF(ISNA(VLOOKUP($C32,'Sat TT_02'!$C$4:$Q$152,15,FALSE)=$C32),0,VLOOKUP($C32,'Sat TT_02'!$C$4:$Q$152,15,FALSE))","v":0},{"$f":"IF(ISNA(VLOOKUP($C32,'Sat TT_03'!$C$4:$Q$152,15,FALSE)=$C32),0,VLOOKUP($C32,'Sat TT_03'!$C$4:$Q$152,15,FALSE))","v":0},{"$f":"IF(ISNA(VLOOKUP($C32,'Sat TT_04'!$C$4:$Q$152,15,FALSE)=$C32),0,VLOOKUP($C32,'Sat TT_04'!$C$4:$Q$152,15,FALSE))","v":0},{"$f":"IF(ISNA(VLOOKUP($C32,'Sat TT_05'!$C$4:$Q$152,15,FALSE)=$C32),0,VLOOKUP($C32,'Sat TT_05'!$C$4:$Q$152,15,FALSE))","v":0},{"$f":"IF(ISNA(VLOOKUP($C32,'Sat TT_06'!$C$4:$Q$152,15,FALSE)=$C32),0,VLOOKUP($C32,'Sat TT_06'!$C$4:$Q$152,15,FALSE))","v":0},{"$f":"IF(ISNA(VLOOKUP($C32,'Sat TT_07'!$C$4:$Q$152,15,FALSE)=$C32),0,VLOOKUP($C32,'Sat TT_07'!$C$4:$Q$152,15,FALSE))","v":0},{"$f":"IF(ISNA(VLOOKUP($C32,'Sat TT_08'!$C$4:$Q$152,15,FALSE)=$C32),0,VLOOKUP($C32,'Sat TT_08'!$C$4:$Q$152,15,FALSE))","v":0},0]
[{"$f":"VLOOKUP(C33,'Sheet 1'!C$1:D$96,2,FALSE)","v":{"$error":"#N/A"}},24,{"$f":"+'[1]Racing numbers file'!$B134","v":"Conleth McKernan"},{"$f":"VLOOKUP(C33,'[1]Racing numbers file'!$B$4:$F$290,2,FALSE)","v":1967},{"$f":"VLOOKUP(C33,'[1]Racing numbers file'!$B$4:$F$290,4,FALSE)","v":49},{"$f":"SaturdayHandicapTable[[#This Row],[Points2]]","v":0},{"$f":"IF(ISNA(VLOOKUP($C33,'Sat TT_01'!$C$4:$Q$152,15,FALSE)=$C33),0,VLOOKUP($C33,'Sat TT_01'!$C$4:$Q$152,15,FALSE))","v":0},{"$f":"IF(ISNA(VLOOKUP($C33,'Sat TT_02'!$C$4:$Q$152,15,FALSE)=$C33),0,VLOOKUP($C33,'Sat TT_02'!$C$4:$Q$152,15,FALSE))","v":0},{"$f":"IF(ISNA(VLOOKUP($C33,'Sat TT_03'!$C$4:$Q$152,15,FALSE)=$C33),0,VLOOKUP($C33,'Sat TT_03'!$C$4:$Q$152,15,FALSE))","v":0},{"$f":"IF(ISNA(VLOOKUP($C33,'Sat TT_04'!$C$4:$Q$152,15,FALSE)=$C33),0,VLOOKUP($C33,'Sat TT_04'!$C$4:$Q$152,15,FALSE))","v":0},{"$f":"IF(ISNA(VLOOKUP($C33,'Sat TT_05'!$C$4:$Q$152,15,FALSE)=$C33),0,VLOOKUP($C33,'Sat TT_05'!$C$4:$Q$152,15,FALSE))","v":0},{"$f":"IF(ISNA(VLOOKUP($C33,'Sat TT_06'!$C$4:$Q$152,15,FALSE)=$C33),0,VLOOKUP($C33,'Sat TT_06'!$C$4:$Q$152,15,FALSE))","v":0},{"$f":"IF(ISNA(VLOOKUP($C33,'Sat TT_07'!$C$4:$Q$152,15,FALSE)=$C33),0,VLOOKUP($C33,'Sat TT_07'!$C$4:$Q$152,15,FALSE))","v":0},{"$f":"IF(ISNA(VLOOKUP($C33,'Sat TT_08'!$C$4:$Q$152,15,FALSE)=$C33),0,VLOOKUP($C33,'Sat TT_08'!$C$4:$Q$152,15,FALSE))","v":0},0]
[{"$f":"VLOOKUP(C34,'Sheet 1'!C$1:D$96,2,FALSE)","v":{"$error":"#N/A"}},25,{"$f":"+'[1]Racing numbers file'!$B206","v":"Norman Eyre"},{"$f":"VLOOKUP(C34,'[1]Racing numbers file'!$B$4:$F$290,2,FALSE)","v":1969},{"$f":"VLOOKUP(C34,'[1]Racing numbers file'!$B$4:$F$290,4,FALSE)","v":47},{"$f":"SaturdayHandicapTable[[#This Row],[Points2]]","v":0},{"$f":"IF(ISNA(VLOOKUP($C34,'Sat TT_01'!$C$4:$Q$152,15,FALSE)=$C34),0,VLOOKUP($C34,'Sat TT_01'!$C$4:$Q$152,15,FALSE))","v":0},{"$f":"IF(ISNA(VLOOKUP($C34,'Sat TT_02'!$C$4:$Q$152,15,FALSE)=$C34),0,VLOOKUP($C34,'Sat TT_02'!$C$4:$Q$152,15,FALSE))","v":0},{"$f":"IF(ISNA(VLOOKUP($C34,'Sat TT_03'!$C$4:$Q$152,15,FALSE)=$C34),0,VLOOKUP($C34,'Sat TT_03'!$C$4:$Q$152,15,FALSE))","v":0},{"$f":"IF(ISNA(VLOOKUP($C34,'Sat TT_04'!$C$4:$Q$152,15,FALSE)=$C34),0,VLOOKUP($C34,'Sat TT_04'!$C$4:$Q$152,15,FALSE))","v":0},{"$f":"IF(ISNA(VLOOKUP($C34,'Sat TT_05'!$C$4:$Q$152,15,FALSE)=$C34),0,VLOOKUP($C34,'Sat TT_05'!$C$4:$Q$152,15,FALSE))","v":0},{"$f":"IF(ISNA(VLOOKUP($C34,'Sat TT_06'!$C$4:$Q$152,15,FALSE)=$C34),0,VLOOKUP($C34,'Sat TT_06'!$C$4:$Q$152,15,FALSE))","v":0},{"$f":"IF(ISNA(VLOOKUP($C34,'Sat TT_07'!$C$4:$Q$152,15,FALSE)=$C34),0,VLOOKUP($C34,'Sat TT_07'!$C$4:$Q$152,15,FALSE))","v":0},{"$f":"IF(ISNA(VLOOKUP($C34,'Sat TT_08'!$C$4:$Q$152,15,FALSE)=$C34),0,VLOOKUP($C34,'Sat TT_08'!$C$4:$Q$152,15,FALSE))","v":0},0]
[{"$f":"VLOOKUP(C35,'Sheet 1'!C$1:D$96,2,FALSE)","v":{"$error":"#N/A"}},26,{"$f":"+'[1]Racing numbers file'!$B251","v":"Brian Moran"},{"$f":"VLOOKUP(C35,'[1]Racing numbers file'!$B$4:$F$290,2,FALSE)","v":1976},{"$f":"VLOOKUP(C35,'[1]Racing numbers file'!$B$4:$F$290,4,FALSE)","v":40},{"$f":"SaturdayHandicapTable[[#This Row],[Points2]]","v":0},{"$f":"IF(ISNA(VLOOKUP($C35,'Sat TT_01'!$C$4:$Q$152,15,FALSE)=$C35),0,VLOOKUP($C35,'Sat TT_01'!$C$4:$Q$152,15,FALSE))","v":0},{"$f":"IF(ISNA(VLOOKUP($C35,'Sat TT_02'!$C$4:$Q$152,15,FALSE)=$C35),0,VLOOKUP($C35,'Sat TT_02'!$C$4:$Q$152,15,FALSE))","v":0},{"$f":"IF(ISNA(VLOOKUP($C35,'Sat TT_03'!$C$4:$Q$152,15,FALSE)=$C35),0,VLOOKUP($C35,'Sat TT_03'!$C$4:$Q$152,15,FALSE))","v":0},{"$f":"IF(ISNA(VLOOKUP($C35,'Sat TT_04'!$C$4:$Q$152,15,FALSE)=$C35),0,VLOOKUP($C35,'Sat TT_04'!$C$4:$Q$152,15,FALSE))","v":0},{"$f":"IF(ISNA(VLOOKUP($C35,'Sat TT_05'!$C$4:$Q$152,15,FALSE)=$C35),0,VLOOKUP($C35,'Sat TT_05'!$C$4:$Q$152,15,FALSE))","v":0},{"$f":"IF(ISNA(VLOOKUP($C35,'Sat TT_06'!$C$4:$Q$152,15,FALSE)=$C35),0,VLOOKUP($C35,'Sat TT_06'!$C$4:$Q$152,15,FALSE))","v":0},{"$f":"IF(ISNA(VLOOKUP($C35,'Sat TT_07'!$C$4:$Q$152,15,FALSE)=$C35),0,VLOOKUP($C35,'Sat TT_07'!$C$4:$Q$152,15,FALSE))","v":0},{"$f":"IF(ISNA(VLOOKUP($C35,'Sat TT_08'!$C$4:$Q$152,15,FALSE)=$C35),0,VLOOKUP($C35,'Sat TT_08'!$C$4:$Q$152,15,FALSE))","v":0},0]
[{"$f":"VLOOKUP(C36,'Sheet 1'!C$1:D$96,2,FALSE)","v":{"$error":"#N/A"}},27,{"$f":"+'[1]Racing numbers file'!$B55","v":"Terry Ryan"},{"$f":"VLOOKUP(C36,'[1]Racing numbers file'!$B$4:$F$290,2,FALSE)","v":1956},{"$f":"VLOOKUP(C36,'[1]Racing numbers file'!$B$4:$F$290,4,FALSE)","v":60},{"$f":"SaturdayHandicapTable[[#This Row],[Points2]]","v":0},{"$f":"IF(ISNA(VLOOKUP($C36,'Sat TT_01'!$C$4:$Q$152,15,FALSE)=$C36),0,VLOOKUP($C36,'Sat TT_01'!$C$4:$Q$152,15,FALSE))","v":0},{"$f":"IF(ISNA(VLOOKUP($C36,'Sat TT_02'!$C$4:$Q$152,15,FALSE)=$C36),0,VLOOKUP($C36,'Sat TT_02'!$C$4:$Q$152,15,FALSE))","v":0},{"$f":"IF(ISNA(VLOOKUP($C36,'Sat TT_03'!$C$4:$Q$152,15,FALSE)=$C36),0,VLOOKUP($C36,'Sat TT_03'!$C$4:$Q$152,15,FALSE))","v":0},{"$f":"IF(ISNA(VLOOKUP($C36,'Sat TT_04'!$C$4:$Q$152,15,FALSE)=$C36),0,VLOOKUP($C36,'Sat TT_04'!$C$4:$Q$152,15,FALSE))","v":0},{"$f":"IF(ISNA(VLOOKUP($C36,'Sat TT_05'!$C$4:$Q$152,15,FALSE)=$C36),0,VLOOKUP($C36,'Sat TT_05'!$C$4:$Q$152,15,FALSE))","v":0},{"$f":"IF(ISNA(VLOOKUP($C36,'Sat TT_06'!$C$4:$Q$152,15,FALSE)=$C36),0,VLOOKUP($C36,'Sat TT_06'!$C$4:$Q$152,15,FALSE))","v":0},{"$f":"IF(ISNA(VLOOKUP($C36,'Sat TT_07'!$C$4:$Q$152,15,FALSE)=$C36),0,VLOOKUP($C36,'Sat TT_07'!$C$4:$Q$152,15,FALSE))","v":0},{"$f":"IF(ISNA(VLOOKUP($C36,'Sat TT_08'!$C$4:$Q$152,15,FALSE)=$C36),0,VLOOKUP($C36,'Sat TT_08'!$C$4:$Q$152,15,FALSE))","v":0},0]
[{"$f":"VLOOKUP(C37,'Sheet 1'!C$1:D$96,2,FALSE)","v":{"$error":"#N/A"}},28,{"$f":"+'[1]Racing numbers file'!$B236","v":"Alan Carroll"},{"$f":"VLOOKUP(C37,'[1]Racing numbers file'!$B$4:$F$290,2,FALSE)","v":1975},{"$f":"VLOOKUP(C37,'[1]Racing numbers file'!$B$4:$F$290,4,FALSE)","v":41},{"$f":"SaturdayHandicapTable[[#This Row],[Points2]]","v":0},{"$f":"IF(ISNA(VLOOKUP($C37,'Sat TT_01'!$C$4:$Q$152,15,FALSE)=$C37),0,VLOOKUP($C37,'Sat TT_01'!$C$4:$Q$152,15,FALSE))","v":0},{"$f":"IF(ISNA(VLOOKUP($C37,'Sat TT_02'!$C$4:$Q$152,15,FALSE)=$C37),0,VLOOKUP($C37,'Sat TT_02'!$C$4:$Q$152,15,FALSE))","v":0},{"$f":"IF(ISNA(VLOOKUP($C37,'Sat TT_03'!$C$4:$Q$152,15,FALSE)=$C37),0,VLOOKUP($C37,'Sat TT_03'!$C$4:$Q$152,15,FALSE))","v":0},{"$f":"IF(ISNA(VLOOKUP($C37,'Sat TT_04'!$C$4:$Q$152,15,FALSE)=$C37),0,VLOOKUP($C37,'Sat TT_04'!$C$4:$Q$152,15,FALSE))","v":0},{"$f":"IF(ISNA(VLOOKUP($C37,'Sat TT_05'!$C$4:$Q$152,15,FALSE)=$C37),0,VLOOKUP($C37,'Sat TT_05'!$C$4:$Q$152,15,FALSE))","v":0},{"$f":"IF(ISNA(VLOOKUP($C37,'Sat TT_06'!$C$4:$Q$152,15,FALSE)=$C37),0,VLOOKUP($C37,'Sat TT_06'!$C$4:$Q$152,15,FALSE))","v":0},{"$f":"IF(ISNA(VLOOKUP($C37,'Sat TT_07'!$C$4:$Q$152,15,FALSE)=$C37),0,VLOOKUP($C37,'Sat TT_07'!$C$4:$Q$152,15,FALSE))","v":0},{"$f":"IF(ISNA(VLOOKUP($C37,'Sat TT_08'!$C$4:$Q$152,15,FALSE)=$C37),0,VLOOKUP($C37,'Sat TT_08'!$C$4:$Q$152,15,FALSE))","v":0},0]
[{"$f":"VLOOKUP(C38,'Sheet 1'!C$1:D$96,2,FALSE)","v":{"$error":"#N/A"}},29,{"$f":"+'[1]Racing numbers file'!$B168","v":"Malcolm Kell"},{"$f":"VLOOKUP(C38,'[1]Racing numbers file'!$B$4:$F$290,2,FALSE)","v":1971},{"$f":"VLOOKUP(C38,'[1]Racing numbers file'!$B$4:$F$290,4,FALSE)","v":45},{"$f":"SaturdayHandicapTable[[#This Row],[Points2]]","v":0},{"$f":"IF(ISNA(VLOOKUP($C38,'Sat TT_01'!$C$4:$Q$152,15,FALSE)=$C38),0,VLOOKUP($C38,'Sat TT_01'!$C$4:$Q$152,15,FALSE))","v":0},{"$f":"IF(ISNA(VLOOKUP($C38,'Sat TT_02'!$C$4:$Q$152,15,FALSE)=$C38),0,VLOOKUP($C38,'Sat TT_02'!$C$4:$Q$152,15,FALSE))","v":0},{"$f":"IF(ISNA(VLOOKUP($C38,'Sat TT_03'!$C$4:$Q$152,15,FALSE)=$C38),0,VLOOKUP($C38,'Sat TT_03'!$C$4:$Q$152,15,FALSE))","v":0},{"$f":"IF(ISNA(VLOOKUP($C38,'Sat TT_04'!$C$4:$Q$152,15,FALSE)=$C38),0,VLOOKUP($C38,'Sat TT_04'!$C$4:$Q$152,15,FALSE))","v":0},{"$f":"IF(ISNA(VLOOKUP($C38,'Sat TT_05'!$C$4:$Q$152,15,FALSE)=$C38),0,VLOOKUP($C38,'Sat TT_05'!$C$4:$Q$152,15,FALSE))","v":0},{"$f":"IF(ISNA(VLOOKUP($C38,'Sat TT_06'!$C$4:$Q$152,15,FALSE)=$C38),0,VLOOKUP($C38,'Sat TT_06'!$C$4:$Q$152,15,FALSE))","v":0},{"$f":"IF(ISNA(VLOOKUP($C38,'Sat TT_07'!$C$4:$Q$152,15,FALSE)=$C38),0,VLOOKUP($C38,'Sat TT_07'!$C$4:$Q$152,15,FALSE))","v":0},{"$f":"IF(ISNA(VLOOKUP($C38,'Sat TT_08'!$C$4:$Q$152,15,FALSE)=$C38),0,VLOOKUP($C38,'Sat TT_08'!$C$4:$Q$152,15,FALSE))","v":0},0]
[{"$f":"VLOOKUP(C39,'Sheet 1'!C$1:D$96,2,FALSE)","v":1381},30,{"$f":"+'[1]Racing numbers file'!$B194","v":"Aidan Hammond"},{"$f":"VLOOKUP(C39,'[1]Racing numbers file'!$B$4:$F$290,2,FALSE)","v":1969},{"$f":"VLOOKUP(C39,'[1]Racing numbers file'!$B$4:$F$290,4,FALSE)","v":47},{"$f":"SaturdayHandicapTable[[#This Row],[Points2]]","v":0},{"$f":"IF(ISNA(VLOOKUP($C39,'Sat TT_01'!$C$4:$Q$152,15,FALSE)=$C39),0,VLOOKUP($C39,'Sat TT_01'!$C$4:$Q$152,15,FALSE))","v":0},{"$f":"IF(ISNA(VLOOKUP($C39,'Sat TT_02'!$C$4:$Q$152,15,FALSE)=$C39),0,VLOOKUP($C39,'Sat TT_02'!$C$4:$Q$152,15,FALSE))","v":0},{"$f":"IF(ISNA(VLOOKUP($C39,'Sat TT_03'!$C$4:$Q$152,15,FALSE)=$C39),0,VLOOKUP($C39,'Sat TT_03'!$C$4:$Q$152,15,FALSE))","v":0},{"$f":"IF(ISNA(VLOOKUP($C39,'Sat TT_04'!$C$4:$Q$152,15,FALSE)=$C39),0,VLOOKUP($C39,'Sat TT_04'!$C$4:$Q$152,15,FALSE))","v":0},{"$f":"IF(ISNA(VLOOKUP($C39,'Sat TT_05'!$C$4:$Q$152,15,FALSE)=$C39),0,VLOOKUP($C39,'Sat TT_05'!$C$4:$Q$152,15,FALSE))","v":0},{"$f":"IF(ISNA(VLOOKUP($C39,'Sat TT_06'!$C$4:$Q$152,15,FALSE)=$C39),0,VLOOKUP($C39,'Sat TT_06'!$C$4:$Q$152,15,FALSE))","v":0},{"$f":"IF(ISNA(VLOOKUP($C39,'Sat TT_07'!$C$4:$Q$152,15,FALSE)=$C39),0,VLOOKUP($C39,'Sat TT_07'!$C$4:$Q$152,15,FALSE))","v":0},{"$f":"IF(ISNA(VLOOKUP($C39,'Sat TT_08'!$C$4:$Q$152,15,FALSE)=$C39),0,VLOOKUP($C39,'Sat TT_08'!$C$4:$Q$152,15,FALSE))","v":0},0]
[{"$f":"VLOOKUP(C40,'Sheet 1'!C$1:D$96,2,FALSE)","v":1416},31,{"$f":"+'[1]Racing numbers file'!$B211","v":"Barry Dace"},{"$f":"VLOOKUP(C40,'[1]Racing numbers file'!$B$4:$F$290,2,FALSE)","v":1974},{"$f":"VLOOKUP(C40,'[1]Racing numbers file'!$B$4:$F$290,4,FALSE)","v":42},{"$f":"SaturdayHandicapTable[[#This Row],[Points2]]","v":0},{"$f":"IF(ISNA(VLOOKUP($C40,'Sat TT_01'!$C$4:$Q$152,15,FALSE)=$C40),0,VLOOKUP($C40,'Sat TT_01'!$C$4:$Q$152,15,FALSE))","v":0},{"$f":"IF(ISNA(VLOOKUP($C40,'Sat TT_02'!$C$4:$Q$152,15,FALSE)=$C40),0,VLOOKUP($C40,'Sat TT_02'!$C$4:$Q$152,15,FALSE))","v":0},{"$f":"IF(ISNA(VLOOKUP($C40,'Sat TT_03'!$C$4:$Q$152,15,FALSE)=$C40),0,VLOOKUP($C40,'Sat TT_03'!$C$4:$Q$152,15,FALSE))","v":0},{"$f":"IF(ISNA(VLOOKUP($C40,'Sat TT_04'!$C$4:$Q$152,15,FALSE)=$C40),0,VLOOKUP($C40,'Sat TT_04'!$C$4:$Q$152,15,FALSE))","v":0},{"$f":"IF(ISNA(VLOOKUP($C40,'Sat TT_05'!$C$4:$Q$152,15,FALSE)=$C40),0,VLOOKUP($C40,'Sat TT_05'!$C$4:$Q$152,15,FALSE))","v":0},{"$f":"IF(ISNA(VLOOKUP($C40,'Sat TT_06'!$C$4:$Q$152,15,FALSE)=$C40),0,VLOOKUP($C40,'Sat TT_06'!$C$4:$Q$152,15,FALSE))","v":0},{"$f":"IF(ISNA(VLOOKUP($C40,'Sat TT_07'!$C$4:$Q$152,15,FALSE)=$C40),0,VLOOKUP($C40,'Sat TT_07'!$C$4:$Q$152,15,FALSE))","v":0},{"$f":"IF(ISNA(VLOOKUP($C40,'Sat TT_08'!$C$4:$Q$152,15,FALSE)=$C40),0,VLOOKUP($C40,'Sat TT_08'!$C$4:$Q$152,15,FALSE))","v":0},0]
[{"$f":"VLOOKUP(C41,'Sheet 1'!C$1:D$96,2,FALSE)","v":{"$error":"#N/A"}},32,{"$f":"+'[1]Racing numbers file'!$B201","v":"David Holland"},{"$f":"VLOOKUP(C41,'[1]Racing numbers file'!$B$4:$F$290,2,FALSE)","v":1974},{"$f":"VLOOKUP(C41,'[1]Racing numbers file'!$B$4:$F$290,4,FALSE)","v":42},{"$f":"SaturdayHandicapTable[[#This Row],[Points2]]","v":0},{"$f":"IF(ISNA(VLOOKUP($C41,'Sat TT_01'!$C$4:$Q$152,15,FALSE)=$C41),0,VLOOKUP($C41,'Sat TT_01'!$C$4:$Q$152,15,FALSE))","v":0},{"$f":"IF(ISNA(VLOOKUP($C41,'Sat TT_02'!$C$4:$Q$152,15,FALSE)=$C41),0,VLOOKUP($C41,'Sat TT_02'!$C$4:$Q$152,15,FALSE))","v":0},{"$f":"IF(ISNA(VLOOKUP($C41,'Sat TT_03'!$C$4:$Q$152,15,FALSE)=$C41),0,VLOOKUP($C41,'Sat TT_03'!$C$4:$Q$152,15,FALSE))","v":0},{"$f":"IF(ISNA(VLOOKUP($C41,'Sat TT_04'!$C$4:$Q$152,15,FALSE)=$C41),0,VLOOKUP($C41,'Sat TT_04'!$C$4:$Q$152,15,FALSE))","v":0},{"$f":"IF(ISNA(VLOOKUP($C41,'Sat TT_05'!$C$4:$Q$152,15,FALSE)=$C41),0,VLOOKUP($C41,'Sat TT_05'!$C$4:$Q$152,15,FALSE))","v":0},{"$f":"IF(ISNA(VLOOKUP($C41,'Sat TT_06'!$C$4:$Q$152,15,FALSE)=$C41),0,VLOOKUP($C41,'Sat TT_06'!$C$4:$Q$152,15,FALSE))","v":0},{"$f":"IF(ISNA(VLOOKUP($C41,'Sat TT_07'!$C$4:$Q$152,15,FALSE)=$C41),0,VLOOKUP($C41,'Sat TT_07'!$C$4:$Q$152,15,FALSE))","v":0},{"$f":"IF(ISNA(VLOOKUP($C41,'Sat TT_08'!$C$4:$Q$152,15,FALSE)=$C41),0,VLOOKUP($C41,'Sat TT_08'!$C$4:$Q$152,15,FALSE))","v":0},0]
[{"$f":"VLOOKUP(C42,'Sheet 1'!C$1:D$96,2,FALSE)","v":{"$error":"#N/A"}},33,{"$f":"+'[1]Racing numbers file'!$B50","v":"John Piggott"},{"$f":"VLOOKUP(C42,'[1]Racing numbers file'!$B$4:$F$290,2,FALSE)","v":1955},{"$f":"VLOOKUP(C42,'[1]Racing numbers file'!$B$4:$F$290,4,FALSE)","v":61},{"$f":"SaturdayHandicapTable[[#This Row],[Points2]]","v":0},{"$f":"IF(ISNA(VLOOKUP($C42,'Sat TT_01'!$C$4:$Q$152,15,FALSE)=$C42),0,VLOOKUP($C42,'Sat TT_01'!$C$4:$Q$152,15,FALSE))","v":0},{"$f":"IF(ISNA(VLOOKUP($C42,'Sat TT_02'!$C$4:$Q$152,15,FALSE)=$C42),0,VLOOKUP($C42,'Sat TT_02'!$C$4:$Q$152,15,FALSE))","v":0},{"$f":"IF(ISNA(VLOOKUP($C42,'Sat TT_03'!$C$4:$Q$152,15,FALSE)=$C42),0,VLOOKUP($C42,'Sat TT_03'!$C$4:$Q$152,15,FALSE))","v":0},{"$f":"IF(ISNA(VLOOKUP($C42,'Sat TT_04'!$C$4:$Q$152,15,FALSE)=$C42),0,VLOOKUP($C42,'Sat TT_04'!$C$4:$Q$152,15,FALSE))","v":0},{"$f":"IF(ISNA(VLOOKUP($C42,'Sat TT_05'!$C$4:$Q$152,15,FALSE)=$C42),0,VLOOKUP($C42,'Sat TT_05'!$C$4:$Q$152,15,FALSE))","v":0},{"$f":"IF(ISNA(VLOOKUP($C42,'Sat TT_06'!$C$4:$Q$152,15,FALSE)=$C42),0,VLOOKUP($C42,'Sat TT_06'!$C$4:$Q$152,15,FALSE))","v":0},{"$f":"IF(ISNA(VLOOKUP($C42,'Sat TT_07'!$C$4:$Q$152,15,FALSE)=$C42),0,VLOOKUP($C42,'Sat TT_07'!$C$4:$Q$152,15,FALSE))","v":0},{"$f":"IF(ISNA(VLOOKUP($C42,'Sat TT_08'!$C$4:$Q$152,15,FALSE)=$C42),0,VLOOKUP($C42,'Sat TT_08'!$C$4:$Q$152,15,FALSE))","v":0},0]
[{"$f":"VLOOKUP(C43,'Sheet 1'!C$1:D$96,2,FALSE)","v":1095},34,{"$f":"+'[1]Racing numbers file'!$B40","v":"Adrian Byrne"},{"$f":"VLOOKUP(C43,'[1]Racing numbers file'!$B$4:$F$290,2,FALSE)","v":1953},{"$f":"VLOOKUP(C43,'[1]Racing numbers file'!$B$4:$F$290,4,FALSE)","v":63},{"$f":"SaturdayHandicapTable[[#This Row],[Points2]]","v":0},{"$f":"IF(ISNA(VLOOKUP($C43,'Sat TT_01'!$C$4:$Q$152,15,FALSE)=$C43),0,VLOOKUP($C43,'Sat TT_01'!$C$4:$Q$152,15,FALSE))","v":0},{"$f":"IF(ISNA(VLOOKUP($C43,'Sat TT_02'!$C$4:$Q$152,15,FALSE)=$C43),0,VLOOKUP($C43,'Sat TT_02'!$C$4:$Q$152,15,FALSE))","v":0},{"$f":"IF(ISNA(VLOOKUP($C43,'Sat TT_03'!$C$4:$Q$152,15,FALSE)=$C43),0,VLOOKUP($C43,'Sat TT_03'!$C$4:$Q$152,15,FALSE))","v":0},{"$f":"IF(ISNA(VLOOKUP($C43,'Sat TT_04'!$C$4:$Q$152,15,FALSE)=$C43),0,VLOOKUP($C43,'Sat TT_04'!$C$4:$Q$152,15,FALSE))","v":0},{"$f":"IF(ISNA(VLOOKUP($C43,'Sat TT_05'!$C$4:$Q$152,15,FALSE)=$C43),0,VLOOKUP($C43,'Sat TT_05'!$C$4:$Q$152,15,FALSE))","v":0},{"$f":"IF(ISNA(VLOOKUP($C43,'Sat TT_06'!$C$4:$Q$152,15,FALSE)=$C43),0,VLOOKUP($C43,'Sat TT_06'!$C$4:$Q$152,15,FALSE))","v":0},{"$f":"IF(ISNA(VLOOKUP($C43,'Sat TT_07'!$C$4:$Q$152,15,FALSE)=$C43),0,VLOOKUP($C43,'Sat TT_07'!$C$4:$Q$152,15,FALSE))","v":0},{"$f":"IF(ISNA(VLOOKUP($C43,'Sat TT_08'!$C$4:$Q$152,15,FALSE)=$C43),0,VLOOKUP($C43,'Sat TT_08'!$C$4:$Q$152,15,FALSE))","v":0},0]
[{"$f":"VLOOKUP(C44,'Sheet 1'!C$1:D$96,2,FALSE)","v":{"$error":"#N/A"}},35,{"$f":"+'[1]Racing numbers file'!$B173","v":"Paul Durnin"},{"$f":"VLOOKUP(C44,'[1]Racing numbers file'!$B$4:$F$290,2,FALSE)","v":1972},{"$f":"VLOOKUP(C44,'[1]Racing numbers file'!$B$4:$F$290,4,FALSE)","v":44},{"$f":"SaturdayHandicapTable[[#This Row],[Points2]]","v":0},{"$f":"IF(ISNA(VLOOKUP($C44,'Sat TT_01'!$C$4:$Q$152,15,FALSE)=$C44),0,VLOOKUP($C44,'Sat TT_01'!$C$4:$Q$152,15,FALSE))","v":0},{"$f":"IF(ISNA(VLOOKUP($C44,'Sat TT_02'!$C$4:$Q$152,15,FALSE)=$C44),0,VLOOKUP($C44,'Sat TT_02'!$C$4:$Q$152,15,FALSE))","v":0},{"$f":"IF(ISNA(VLOOKUP($C44,'Sat TT_03'!$C$4:$Q$152,15,FALSE)=$C44),0,VLOOKUP($C44,'Sat TT_03'!$C$4:$Q$152,15,FALSE))","v":0},{"$f":"IF(ISNA(VLOOKUP($C44,'Sat TT_04'!$C$4:$Q$152,15,FALSE)=$C44),0,VLOOKUP($C44,'Sat TT_04'!$C$4:$Q$152,15,FALSE))","v":0},{"$f":"IF(ISNA(VLOOKUP($C44,'Sat TT_05'!$C$4:$Q$152,15,FALSE)=$C44),0,VLOOKUP($C44,'Sat TT_05'!$C$4:$Q$152,15,FALSE))","v":0},{"$f":"IF(ISNA(VLOOKUP($C44,'Sat TT_06'!$C$4:$Q$152,15,FALSE)=$C44),0,VLOOKUP($C44,'Sat TT_06'!$C$4:$Q$152,15,FALSE))","v":0},{"$f":"IF(ISNA(VLOOKUP($C44,'Sat TT_07'!$C$4:$Q$152,15,FALSE)=$C44),0,VLOOKUP($C44,'Sat TT_07'!$C$4:$Q$152,15,FALSE))","v":0},{"$f":"IF(ISNA(VLOOKUP($C44,'Sat TT_08'!$C$4:$Q$152,15,FALSE)=$C44),0,VLOOKUP($C44,'Sat TT_08'!$C$4:$Q$152,15,FALSE))","v":0},0]
[{"$f":"VLOOKUP(C45,'Sheet 1'!C$1:D$96,2,FALSE)","v":{"$error":"#N/A"}},36,{"$f":"+'[1]Racing numbers file'!$B278","v":"Jack Lynch"},{"$f":"VLOOKUP(C45,'[1]Racing numbers file'!$B$4:$F$290,2,FALSE)","v":1970},{"$f":"VLOOKUP(C45,'[1]Racing numbers file'!$B$4:$F$290,4,FALSE)","v":46},{"$f":"SaturdayHandicapTable[[#This Row],[Points2]]","v":0},{"$f":"IF(ISNA(VLOOKUP($C45,'Sat TT_01'!$C$4:$Q$152,15,FALSE)=$C45),0,VLOOKUP($C45,'Sat TT_01'!$C$4:$Q$152,15,FALSE))","v":0},{"$f":"IF(ISNA(VLOOKUP($C45,'Sat TT_02'!$C$4:$Q$152,15,FALSE)=$C45),0,VLOOKUP($C45,'Sat TT_02'!$C$4:$Q$152,15,FALSE))","v":0},{"$f":"IF(ISNA(VLOOKUP($C45,'Sat TT_03'!$C$4:$Q$152,15,FALSE)=$C45),0,VLOOKUP($C45,'Sat TT_03'!$C$4:$Q$152,15,FALSE))","v":0},{"$f":"IF(ISNA(VLOOKUP($C45,'Sat TT_04'!$C$4:$Q$152,15,FALSE)=$C45),0,VLOOKUP($C45,'Sat TT_04'!$C$4:$Q$152,15,FALSE))","v":0},{"$f":"IF(ISNA(VLOOKUP($C45,'Sat TT_05'!$C$4:$Q$152,15,FALSE)=$C45),0,VLOOKUP($C45,'Sat TT_05'!$C$4:$Q$152,15,FALSE))","v":0},{"$f":"IF(ISNA(VLOOKUP($C45,'Sat TT_06'!$C$4:$Q$152,15,FALSE)=$C45),0,VLOOKUP($C45,'Sat TT_06'!$C$4:$Q$152,15,FALSE))","v":0},{"$f":"IF(ISNA(VLOOKUP($C45,'Sat TT_07'!$C$4:$Q$152,15,FALSE)=$C45),0,VLOOKUP($C45,'Sat TT_07'!$C$4:$Q$152,15,FALSE))","v":0},{"$f":"IF(ISNA(VLOOKUP($C45,'Sat TT_08'!$C$4:$Q$152,15,FALSE)=$C45),0,VLOOKUP($C45,'Sat TT_08'!$C$4:$Q$152,15,FALSE))","v":0},0]
[{"$f":"VLOOKUP(C46,'Sheet 1'!C$1:D$96,2,FALSE)","v":{"$error":"#N/A"}},37,{"$f":"+'[1]Racing numbers file'!$B232","v":"Mark Pagell"},{"$f":"VLOOKUP(C46,'[1]Racing numbers file'!$B$4:$F$290,2,FALSE)","v":1966},{"$f":"VLOOKUP(C46,'[1]Racing numbers file'!$B$4:$F$290,4,FALSE)","v":50},{"$f":"SaturdayHandicapTable[[#This Row],[Points2]]","v":0},{"$f":"IF(ISNA(VLOOKUP($C46,'Sat TT_01'!$C$4:$Q$152,15,FALSE)=$C46),0,VLOOKUP($C46,'Sat TT_01'!$C$4:$Q$152,15,FALSE))","v":0},{"$f":"IF(ISNA(VLOOKUP($C46,'Sat TT_02'!$C$4:$Q$152,15,FALSE)=$C46),0,VLOOKUP($C46,'Sat TT_02'!$C$4:$Q$152,15,FALSE))","v":0},{"$f":"IF(ISNA(VLOOKUP($C46,'Sat TT_03'!$C$4:$Q$152,15,FALSE)=$C46),0,VLOOKUP($C46,'Sat TT_03'!$C$4:$Q$152,15,FALSE))","v":0},{"$f":"IF(ISNA(VLOOKUP($C46,'Sat TT_04'!$C$4:$Q$152,15,FALSE)=$C46),0,VLOOKUP($C46,'Sat TT_04'!$C$4:$Q$152,15,FALSE))","v":0},{"$f":"IF(ISNA(VLOOKUP($C46,'Sat TT_05'!$C$4:$Q$152,15,FALSE)=$C46),0,VLOOKUP($C46,'Sat TT_05'!$C$4:$Q$152,15,FALSE))","v":0},{"$f":"IF(ISNA(VLOOKUP($C46,'Sat TT_06'!$C$4:$Q$152,15,FALSE)=$C46),0,VLOOKUP($C46,'Sat TT_06'!$C$4:$Q$152,15,FALSE))","v":0},{"$f":"IF(ISNA(VLOOKUP($C46,'Sat TT_07'!$C$4:$Q$152,15,FALSE)=$C46),0,VLOOKUP($C46,'Sat TT_07'!$C$4:$Q$152,15,FALSE))","v":0},{"$f":"IF(ISNA(VLOOKUP($C46,'Sat TT_08'!$C$4:$Q$152,15,FALSE)=$C46),0,VLOOKUP($C46,'Sat TT_08'!$C$4:$Q$152,15,FALSE))","v":0},0]
[{"$f":"VLOOKUP(C47,'Sheet 1'!C$1:D$96,2,FALSE)","v":{"$error":"#N/A"}},38,{"$f":"+'[1]Racing numbers file'!$B249","v":"Kevin Byrne"},{"$f":"VLOOKUP(C47,'[1]Racing numbers file'!$B$4:$F$290,2,FALSE)","v":1975},{"$f":"VLOOKUP(C47,'[1]Racing numbers file'!$B$4:$F$290,4,FALSE)","v":41},{"$f":"SaturdayHandicapTable[[#This Row],[Points2]]","v":0},{"$f":"IF(ISNA(VLOOKUP($C47,'Sat TT_01'!$C$4:$Q$152,15,FALSE)=$C47),0,VLOOKUP($C47,'Sat TT_01'!$C$4:$Q$152,15,FALSE))","v":0},{"$f":"IF(ISNA(VLOOKUP($C47,'Sat TT_02'!$C$4:$Q$152,15,FALSE)=$C47),0,VLOOKUP($C47,'Sat TT_02'!$C$4:$Q$152,15,FALSE))","v":0},{"$f":"IF(ISNA(VLOOKUP($C47,'Sat TT_03'!$C$4:$Q$152,15,FALSE)=$C47),0,VLOOKUP($C47,'Sat TT_03'!$C$4:$Q$152,15,FALSE))","v":0},{"$f":"IF(ISNA(VLOOKUP($C47,'Sat TT_04'!$C$4:$Q$152,15,FALSE)=$C47),0,VLOOKUP($C47,'Sat TT_04'!$C$4:$Q$152,15,FALSE))","v":0},{"$f":"IF(ISNA(VLOOKUP($C47,'Sat TT_05'!$C$4:$Q$152,15,FALSE)=$C47),0,VLOOKUP($C47,'Sat TT_05'!$C$4:$Q$152,15,FALSE))","v":0},{"$f":"IF(ISNA(VLOOKUP($C47,'Sat TT_06'!$C$4:$Q$152,15,FALSE)=$C47),0,VLOOKUP($C47,'Sat TT_06'!$C$4:$Q$152,15,FALSE))","v":0},{"$f":"IF(ISNA(VLOOKUP($C47,'Sat TT_07'!$C$4:$Q$152,15,FALSE)=$C47),0,VLOOKUP($C47,'Sat TT_07'!$C$4:$Q$152,15,FALSE))","v":0},{"$f":"IF(ISNA(VLOOKUP($C47,'Sat TT_08'!$C$4:$Q$152,15,FALSE)=$C47),0,VLOOKUP($C47,'Sat TT_08'!$C$4:$Q$152,15,FALSE))","v":0},0]
[{"$f":"VLOOKUP(C48,'Sheet 1'!C$1:D$96,2,FALSE)","v":{"$error":"#N/A"}},39,{"$f":"+'[1]Racing numbers file'!$B255","v":"Gerard Kane"},{"$f":"VLOOKUP(C48,'[1]Racing numbers file'!$B$4:$F$290,2,FALSE)","v":1969},{"$f":"VLOOKUP(C48,'[1]Racing numbers file'!$B$4:$F$290,4,FALSE)","v":47},{"$f":"SaturdayHandicapTable[[#This Row],[Points2]]","v":0},{"$f":"IF(ISNA(VLOOKUP($C48,'Sat TT_01'!$C$4:$Q$152,15,FALSE)=$C48),0,VLOOKUP($C48,'Sat TT_01'!$C$4:$Q$152,15,FALSE))","v":0},{"$f":"IF(ISNA(VLOOKUP($C48,'Sat TT_02'!$C$4:$Q$152,15,FALSE)=$C48),0,VLOOKUP($C48,'Sat TT_02'!$C$4:$Q$152,15,FALSE))","v":0},{"$f":"IF(ISNA(VLOOKUP($C48,'Sat TT_03'!$C$4:$Q$152,15,FALSE)=$C48),0,VLOOKUP($C48,'Sat TT_03'!$C$4:$Q$152,15,FALSE))","v":0},{"$f":"IF(ISNA(VLOOKUP($C48,'Sat TT_04'!$C$4:$Q$152,15,FALSE)=$C48),0,VLOOKUP($C48,'Sat TT_04'!$C$4:$Q$152,15,FALSE))","v":0},{"$f":"IF(ISNA(VLOOKUP($C48,'Sat TT_05'!$C$4:$Q$152,15,FALSE)=$C48),0,VLOOKUP($C48,'Sat TT_05'!$C$4:$Q$152,15,FALSE))","v":0},{"$f":"IF(ISNA(VLOOKUP($C48,'Sat TT_06'!$C$4:$Q$152,15,FALSE)=$C48),0,VLOOKUP($C48,'Sat TT_06'!$C$4:$Q$152,15,FALSE))","v":0},{"$f":"IF(ISNA(VLOOKUP($C48,'Sat TT_07'!$C$4:$Q$152,15,FALSE)=$C48),0,VLOOKUP($C48,'Sat TT_07'!$C$4:$Q$152,15,FALSE))","v":0},{"$f":"IF(ISNA(VLOOKUP($C48,'Sat TT_08'!$C$4:$Q$152,15,FALSE)=$C48),0,VLOOKUP($C48,'Sat TT_08'!$C$4:$Q$152,15,FALSE))","v":0},0]
[{"$f":"VLOOKUP(C49,'Sheet 1'!C$1:D$96,2,FALSE)","v":{"$error":"#N/A"}},40,{"$f":"+'[1]Racing numbers file'!$B58","v":"Pat Halpin"},{"$f":"VLOOKUP(C49,'[1]Racing numbers file'!$B$4:$F$290,2,FALSE)","v":1957},{"$f":"VLOOKUP(C49,'[1]Racing numbers file'!$B$4:$F$290,4,FALSE)","v":59},{"$f":"SaturdayHandicapTable[[#This Row],[Points2]]","v":0},{"$f":"IF(ISNA(VLOOKUP($C49,'Sat TT_01'!$C$4:$Q$152,15,FALSE)=$C49),0,VLOOKUP($C49,'Sat TT_01'!$C$4:$Q$152,15,FALSE))","v":0},{"$f":"IF(ISNA(VLOOKUP($C49,'Sat TT_02'!$C$4:$Q$152,15,FALSE)=$C49),0,VLOOKUP($C49,'Sat TT_02'!$C$4:$Q$152,15,FALSE))","v":0},{"$f":"IF(ISNA(VLOOKUP($C49,'Sat TT_03'!$C$4:$Q$152,15,FALSE)=$C49),0,VLOOKUP($C49,'Sat TT_03'!$C$4:$Q$152,15,FALSE))","v":0},{"$f":"IF(ISNA(VLOOKUP($C49,'Sat TT_04'!$C$4:$Q$152,15,FALSE)=$C49),0,VLOOKUP($C49,'Sat TT_04'!$C$4:$Q$152,15,FALSE))","v":0},{"$f":"IF(ISNA(VLOOKUP($C49,'Sat TT_05'!$C$4:$Q$152,15,FALSE)=$C49),0,VLOOKUP($C49,'Sat TT_05'!$C$4:$Q$152,15,FALSE))","v":0},{"$f":"IF(ISNA(VLOOKUP($C49,'Sat TT_06'!$C$4:$Q$152,15,FALSE)=$C49),0,VLOOKUP($C49,'Sat TT_06'!$C$4:$Q$152,15,FALSE))","v":0},{"$f":"IF(ISNA(VLOOKUP($C49,'Sat TT_07'!$C$4:$Q$152,15,FALSE)=$C49),0,VLOOKUP($C49,'Sat TT_07'!$C$4:$Q$152,15,FALSE))","v":0},{"$f":"IF(ISNA(VLOOKUP($C49,'Sat TT_08'!$C$4:$Q$152,15,FALSE)=$C49),0,VLOOKUP($C49,'Sat TT_08'!$C$4:$Q$152,15,FALSE))","v":0},0]
[{"$f":"VLOOKUP(C50,'Sheet 1'!C$1:D$96,2,FALSE)","v":{"$error":"#N/A"}},41,{"$f":"+'[1]Racing numbers file'!$B113","v":"Ger Madden"},{"$f":"VLOOKUP(C50,'[1]Racing numbers file'!$B$4:$F$290,2,FALSE)","v":1964},{"$f":"VLOOKUP(C50,'[1]Racing numbers file'!$B$4:$F$290,4,FALSE)","v":52},{"$f":"SaturdayHandicapTable[[#This Row],[Points2]]","v":0},{"$f":"IF(ISNA(VLOOKUP($C50,'Sat TT_01'!$C$4:$Q$152,15,FALSE)=$C50),0,VLOOKUP($C50,'Sat TT_01'!$C$4:$Q$152,15,FALSE))","v":0},{"$f":"IF(ISNA(VLOOKUP($C50,'Sat TT_02'!$C$4:$Q$152,15,FALSE)=$C50),0,VLOOKUP($C50,'Sat TT_02'!$C$4:$Q$152,15,FALSE))","v":0},{"$f":"IF(ISNA(VLOOKUP($C50,'Sat TT_03'!$C$4:$Q$152,15,FALSE)=$C50),0,VLOOKUP($C50,'Sat TT_03'!$C$4:$Q$152,15,FALSE))","v":0},{"$f":"IF(ISNA(VLOOKUP($C50,'Sat TT_04'!$C$4:$Q$152,15,FALSE)=$C50),0,VLOOKUP($C50,'Sat TT_04'!$C$4:$Q$152,15,FALSE))","v":0},{"$f":"IF(ISNA(VLOOKUP($C50,'Sat TT_05'!$C$4:$Q$152,15,FALSE)=$C50),0,VLOOKUP($C50,'Sat TT_05'!$C$4:$Q$152,15,FALSE))","v":0},{"$f":"IF(ISNA(VLOOKUP($C50,'Sat TT_06'!$C$4:$Q$152,15,FALSE)=$C50),0,VLOOKUP($C50,'Sat TT_06'!$C$4:$Q$152,15,FALSE))","v":0},{"$f":"IF(ISNA(VLOOKUP($C50,'Sat TT_07'!$C$4:$Q$152,15,FALSE)=$C50),0,VLOOKUP($C50,'Sat TT_07'!$C$4:$Q$152,15,FALSE))","v":0},{"$f":"IF(ISNA(VLOOKUP($C50,'Sat TT_08'!$C$4:$Q$152,15,FALSE)=$C50),0,VLOOKUP($C50,'Sat TT_08'!$C$4:$Q$152,15,FALSE))","v":0},0]
[{"$f":"VLOOKUP(C51,'Sheet 1'!C$1:D$96,2,FALSE)","v":{"$error":"#N/A"}},42,{"$f":"+'[1]Racing numbers file'!$B121","v":"Michael Kinsella"},{"$f":"VLOOKUP(C51,'[1]Racing numbers file'!$B$4:$F$290,2,FALSE)","v":1965},{"$f":"VLOOKUP(C51,'[1]Racing numbers file'!$B$4:$F$290,4,FALSE)","v":51},{"$f":"SaturdayHandicapTable[[#This Row],[Points2]]","v":0},{"$f":"IF(ISNA(VLOOKUP($C51,'Sat TT_01'!$C$4:$Q$152,15,FALSE)=$C51),0,VLOOKUP($C51,'Sat TT_01'!$C$4:$Q$152,15,FALSE))","v":0},{"$f":"IF(ISNA(VLOOKUP($C51,'Sat TT_02'!$C$4:$Q$152,15,FALSE)=$C51),0,VLOOKUP($C51,'Sat TT_02'!$C$4:$Q$152,15,FALSE))","v":0},{"$f":"IF(ISNA(VLOOKUP($C51,'Sat TT_03'!$C$4:$Q$152,15,FALSE)=$C51),0,VLOOKUP($C51,'Sat TT_03'!$C$4:$Q$152,15,FALSE))","v":0},{"$f":"IF(ISNA(VLOOKUP($C51,'Sat TT_04'!$C$4:$Q$152,15,FALSE)=$C51),0,VLOOKUP($C51,'Sat TT_04'!$C$4:$Q$152,15,FALSE))","v":0},{"$f":"IF(ISNA(VLOOKUP($C51,'Sat TT_05'!$C$4:$Q$152,15,FALSE)=$C51),0,VLOOKUP($C51,'Sat TT_05'!$C$4:$Q$152,15,FALSE))","v":0},{"$f":"IF(ISNA(VLOOKUP($C51,'Sat TT_06'!$C$4:$Q$152,15,FALSE)=$C51),0,VLOOKUP($C51,'Sat TT_06'!$C$4:$Q$152,15,FALSE))","v":0},{"$f":"IF(ISNA(VLOOKUP($C51,'Sat TT_07'!$C$4:$Q$152,15,FALSE)=$C51),0,VLOOKUP($C51,'Sat TT_07'!$C$4:$Q$152,15,FALSE))","v":0},{"$f":"IF(ISNA(VLOOKUP($C51,'Sat TT_08'!$C$4:$Q$152,15,FALSE)=$C51),0,VLOOKUP($C51,'Sat TT_08'!$C$4:$Q$152,15,FALSE))","v":0},0]
[{"$f":"VLOOKUP(C52,'Sheet 1'!C$1:D$96,2,FALSE)","v":{"$error":"#N/A"}},43,{"$f":"+'[1]Racing numbers file'!$B169","v":"Cian Lynch"},{"$f":"VLOOKUP(C52,'[1]Racing numbers file'!$B$4:$F$290,2,FALSE)","v":1971},{"$f":"VLOOKUP(C52,'[1]Racing numbers file'!$B$4:$F$290,4,FALSE)","v":45},{"$f":"SaturdayHandicapTable[[#This Row],[Points2]]","v":0},{"$f":"IF(ISNA(VLOOKUP($C52,'Sat TT_01'!$C$4:$Q$152,15,FALSE)=$C52),0,VLOOKUP($C52,'Sat TT_01'!$C$4:$Q$152,15,FALSE))","v":0},{"$f":"IF(ISNA(VLOOKUP($C52,'Sat TT_02'!$C$4:$Q$152,15,FALSE)=$C52),0,VLOOKUP($C52,'Sat TT_02'!$C$4:$Q$152,15,FALSE))","v":0},{"$f":"IF(ISNA(VLOOKUP($C52,'Sat TT_03'!$C$4:$Q$152,15,FALSE)=$C52),0,VLOOKUP($C52,'Sat TT_03'!$C$4:$Q$152,15,FALSE))","v":0},{"$f":"IF(ISNA(VLOOKUP($C52,'Sat TT_04'!$C$4:$Q$152,15,FALSE)=$C52),0,VLOOKUP($C52,'Sat TT_04'!$C$4:$Q$152,15,FALSE))","v":0},{"$f":"IF(ISNA(VLOOKUP($C52,'Sat TT_05'!$C$4:$Q$152,15,FALSE)=$C52),0,VLOOKUP($C52,'Sat TT_05'!$C$4:$Q$152,15,FALSE))","v":0},{"$f":"IF(ISNA(VLOOKUP($C52,'Sat TT_06'!$C$4:$Q$152,15,FALSE)=$C52),0,VLOOKUP($C52,'Sat TT_06'!$C$4:$Q$152,15,FALSE))","v":0},{"$f":"IF(ISNA(VLOOKUP($C52,'Sat TT_07'!$C$4:$Q$152,15,FALSE)=$C52),0,VLOOKUP($C52,'Sat TT_07'!$C$4:$Q$152,15,FALSE))","v":0},{"$f":"IF(ISNA(VLOOKUP($C52,'Sat TT_08'!$C$4:$Q$152,15,FALSE)=$C52),0,VLOOKUP($C52,'Sat TT_08'!$C$4:$Q$152,15,FALSE))","v":0},0]
[{"$f":"VLOOKUP(C53,'Sheet 1'!C$1:D$96,2,FALSE)","v":1261},44,{"$f":"+'[1]Racing numbers file'!$B135","v":"Leonard Carrigan"},{"$f":"VLOOKUP(C53,'[1]Racing numbers file'!$B$4:$F$290,2,FALSE)","v":1967},{"$f":"VLOOKUP(C53,'[1]Racing numbers file'!$B$4:$F$290,4,FALSE)","v":49},{"$f":"SaturdayHandicapTable[[#This Row],[Points2]]","v":0},{"$f":"IF(ISNA(VLOOKUP($C53,'Sat TT_01'!$C$4:$Q$152,15,FALSE)=$C53),0,VLOOKUP($C53,'Sat TT_01'!$C$4:$Q$152,15,FALSE))","v":0},{"$f":"IF(ISNA(VLOOKUP($C53,'Sat TT_02'!$C$4:$Q$152,15,FALSE)=$C53),0,VLOOKUP($C53,'Sat TT_02'!$C$4:$Q$152,15,FALSE))","v":0},{"$f":"IF(ISNA(VLOOKUP($C53,'Sat TT_03'!$C$4:$Q$152,15,FALSE)=$C53),0,VLOOKUP($C53,'Sat TT_03'!$C$4:$Q$152,15,FALSE))","v":0},{"$f":"IF(ISNA(VLOOKUP($C53,'Sat TT_04'!$C$4:$Q$152,15,FALSE)=$C53),0,VLOOKUP($C53,'Sat TT_04'!$C$4:$Q$152,15,FALSE))","v":0},{"$f":"IF(ISNA(VLOOKUP($C53,'Sat TT_05'!$C$4:$Q$152,15,FALSE)=$C53),0,VLOOKUP($C53,'Sat TT_05'!$C$4:$Q$152,15,FALSE))","v":0},{"$f":"IF(ISNA(VLOOKUP($C53,'Sat TT_06'!$C$4:$Q$152,15,FALSE)=$C53),0,VLOOKUP($C53,'Sat TT_06'!$C$4:$Q$152,15,FALSE))","v":0},{"$f":"IF(ISNA(VLOOKUP($C53,'Sat TT_07'!$C$4:$Q$152,15,FALSE)=$C53),0,VLOOKUP($C53,'Sat TT_07'!$C$4:$Q$152,15,FALSE))","v":0},{"$f":"IF(ISNA(VLOOKUP($C53,'Sat TT_08'!$C$4:$Q$152,15,FALSE)=$C53),0,VLOOKUP($C53,'Sat TT_08'!$C$4:$Q$152,15,FALSE))","v":0},0]
[{"$f":"VLOOKUP(C54,'Sheet 1'!C$1:D$96,2,FALSE)","v":{"$error":"#N/A"}},45,{"$f":"+'[1]Racing numbers file'!$B138","v":"Damian Doyle"},{"$f":"VLOOKUP(C54,'[1]Racing numbers file'!$B$4:$F$290,2,FALSE)","v":1967},{"$f":"VLOOKUP(C54,'[1]Racing numbers file'!$B$4:$F$290,4,FALSE)","v":49},{"$f":"SaturdayHandicapTable[[#This Row],[Points2]]","v":0},{"$f":"IF(ISNA(VLOOKUP($C54,'Sat TT_01'!$C$4:$Q$152,15,FALSE)=$C54),0,VLOOKUP($C54,'Sat TT_01'!$C$4:$Q$152,15,FALSE))","v":0},{"$f":"IF(ISNA(VLOOKUP($C54,'Sat TT_02'!$C$4:$Q$152,15,FALSE)=$C54),0,VLOOKUP($C54,'Sat TT_02'!$C$4:$Q$152,15,FALSE))","v":0},{"$f":"IF(ISNA(VLOOKUP($C54,'Sat TT_03'!$C$4:$Q$152,15,FALSE)=$C54),0,VLOOKUP($C54,'Sat TT_03'!$C$4:$Q$152,15,FALSE))","v":0},{"$f":"IF(ISNA(VLOOKUP($C54,'Sat TT_04'!$C$4:$Q$152,15,FALSE)=$C54),0,VLOOKUP($C54,'Sat TT_04'!$C$4:$Q$152,15,FALSE))","v":0},{"$f":"IF(ISNA(VLOOKUP($C54,'Sat TT_05'!$C$4:$Q$152,15,FALSE)=$C54),0,VLOOKUP($C54,'Sat TT_05'!$C$4:$Q$152,15,FALSE))","v":0},{"$f":"IF(ISNA(VLOOKUP($C54,'Sat TT_06'!$C$4:$Q$152,15,FALSE)=$C54),0,VLOOKUP($C54,'Sat TT_06'!$C$4:$Q$152,15,FALSE))","v":0},{"$f":"IF(ISNA(VLOOKUP($C54,'Sat TT_07'!$C$4:$Q$152,15,FALSE)=$C54),0,VLOOKUP($C54,'Sat TT_07'!$C$4:$Q$152,15,FALSE))","v":0},{"$f":"IF(ISNA(VLOOKUP($C54,'Sat TT_08'!$C$4:$Q$152,15,FALSE)=$C54),0,VLOOKUP($C54,'Sat TT_08'!$C$4:$Q$152,15,FALSE))","v":0},0]
[{"$f":"VLOOKUP(C55,'Sheet 1'!C$1:D$96,2,FALSE)","v":{"$error":"#N/A"}},46,{"$f":"+'[1]Racing numbers file'!$B43","v":"Tosh Lavery"},{"$f":"VLOOKUP(C55,'[1]Racing numbers file'!$B$4:$F$290,2,FALSE)","v":1953},{"$f":"VLOOKUP(C55,'[1]Racing numbers file'!$B$4:$F$290,4,FALSE)","v":63},{"$f":"SaturdayHandicapTable[[#This Row],[Points2]]","v":0},{"$f":"IF(ISNA(VLOOKUP($C55,'Sat TT_01'!$C$4:$Q$152,15,FALSE)=$C55),0,VLOOKUP($C55,'Sat TT_01'!$C$4:$Q$152,15,FALSE))","v":0},{"$f":"IF(ISNA(VLOOKUP($C55,'Sat TT_02'!$C$4:$Q$152,15,FALSE)=$C55),0,VLOOKUP($C55,'Sat TT_02'!$C$4:$Q$152,15,FALSE))","v":0},{"$f":"IF(ISNA(VLOOKUP($C55,'Sat TT_03'!$C$4:$Q$152,15,FALSE)=$C55),0,VLOOKUP($C55,'Sat TT_03'!$C$4:$Q$152,15,FALSE))","v":0},{"$f":"IF(ISNA(VLOOKUP($C55,'Sat TT_04'!$C$4:$Q$152,15,FALSE)=$C55),0,VLOOKUP($C55,'Sat TT_04'!$C$4:$Q$152,15,FALSE))","v":0},{"$f":"IF(ISNA(VLOOKUP($C55,'Sat TT_05'!$C$4:$Q$152,15,FALSE)=$C55),0,VLOOKUP($C55,'Sat TT_05'!$C$4:$Q$152,15,FALSE))","v":0},{"$f":"IF(ISNA(VLOOKUP($C55,'Sat TT_06'!$C$4:$Q$152,15,FALSE)=$C55),0,VLOOKUP($C55,'Sat TT_06'!$C$4:$Q$152,15,FALSE))","v":0},{"$f":"IF(ISNA(VLOOKUP($C55,'Sat TT_07'!$C$4:$Q$152,15,FALSE)=$C55),0,VLOOKUP($C55,'Sat TT_07'!$C$4:$Q$152,15,FALSE))","v":0},{"$f":"IF(ISNA(VLOOKUP($C55,'Sat TT_08'!$C$4:$Q$152,15,FALSE)=$C55),0,VLOOKUP($C55,'Sat TT_08'!$C$4:$Q$152,15,FALSE))","v":0},0]
[{"$f":"VLOOKUP(C56,'Sheet 1'!C$1:D$96,2,FALSE)","v":{"$error":"#N/A"}},47,{"$f":"+'[1]Racing numbers file'!$B228","v":"Jason O'Toole"},{"$f":"VLOOKUP(C56,'[1]Racing numbers file'!$B$4:$F$290,2,FALSE)","v":1971},{"$f":"VLOOKUP(C56,'[1]Racing numbers file'!$B$4:$F$290,4,FALSE)","v":45},{"$f":"SaturdayHandicapTable[[#This Row],[Points2]]","v":0},{"$f":"IF(ISNA(VLOOKUP($C56,'Sat TT_01'!$C$4:$Q$152,15,FALSE)=$C56),0,VLOOKUP($C56,'Sat TT_01'!$C$4:$Q$152,15,FALSE))","v":0},{"$f":"IF(ISNA(VLOOKUP($C56,'Sat TT_02'!$C$4:$Q$152,15,FALSE)=$C56),0,VLOOKUP($C56,'Sat TT_02'!$C$4:$Q$152,15,FALSE))","v":0},{"$f":"IF(ISNA(VLOOKUP($C56,'Sat TT_03'!$C$4:$Q$152,15,FALSE)=$C56),0,VLOOKUP($C56,'Sat TT_03'!$C$4:$Q$152,15,FALSE))","v":0},{"$f":"IF(ISNA(VLOOKUP($C56,'Sat TT_04'!$C$4:$Q$152,15,FALSE)=$C56),0,VLOOKUP($C56,'Sat TT_04'!$C$4:$Q$152,15,FALSE))","v":0},{"$f":"IF(ISNA(VLOOKUP($C56,'Sat TT_05'!$C$4:$Q$152,15,FALSE)=$C56),0,VLOOKUP($C56,'Sat TT_05'!$C$4:$Q$152,15,FALSE))","v":0},{"$f":"IF(ISNA(VLOOKUP($C56,'Sat TT_06'!$C$4:$Q$152,15,FALSE)=$C56),0,VLOOKUP($C56,'Sat TT_06'!$C$4:$Q$152,15,FALSE))","v":0},{"$f":"IF(ISNA(VLOOKUP($C56,'Sat TT_07'!$C$4:$Q$152,15,FALSE)=$C56),0,VLOOKUP($C56,'Sat TT_07'!$C$4:$Q$152,15,FALSE))","v":0},{"$f":"IF(ISNA(VLOOKUP($C56,'Sat TT_08'!$C$4:$Q$152,15,FALSE)=$C56),0,VLOOKUP($C56,'Sat TT_08'!$C$4:$Q$152,15,FALSE))","v":0},0]
[{"$f":"VLOOKUP(C57,'Sheet 1'!C$1:D$96,2,FALSE)","v":{"$error":"#N/A"}},48,{"$f":"+'[1]Racing numbers file'!$B187","v":"Paul Kelly"},{"$f":"VLOOKUP(C57,'[1]Racing numbers file'!$B$4:$F$290,2,FALSE)","v":1974},{"$f":"VLOOKUP(C57,'[1]Racing numbers file'!$B$4:$F$290,4,FALSE)","v":42},{"$f":"SaturdayHandicapTable[[#This Row],[Points2]]","v":0},{"$f":"IF(ISNA(VLOOKUP($C57,'Sat TT_01'!$C$4:$Q$152,15,FALSE)=$C57),0,VLOOKUP($C57,'Sat TT_01'!$C$4:$Q$152,15,FALSE))","v":0},{"$f":"IF(ISNA(VLOOKUP($C57,'Sat TT_02'!$C$4:$Q$152,15,FALSE)=$C57),0,VLOOKUP($C57,'Sat TT_02'!$C$4:$Q$152,15,FALSE))","v":0},{"$f":"IF(ISNA(VLOOKUP($C57,'Sat TT_03'!$C$4:$Q$152,15,FALSE)=$C57),0,VLOOKUP($C57,'Sat TT_03'!$C$4:$Q$152,15,FALSE))","v":0},{"$f":"IF(ISNA(VLOOKUP($C57,'Sat TT_04'!$C$4:$Q$152,15,FALSE)=$C57),0,VLOOKUP($C57,'Sat TT_04'!$C$4:$Q$152,15,FALSE))","v":0},{"$f":"IF(ISNA(VLOOKUP($C57,'Sat TT_05'!$C$4:$Q$152,15,FALSE)=$C57),0,VLOOKUP($C57,'Sat TT_05'!$C$4:$Q$152,15,FALSE))","v":0},{"$f":"IF(ISNA(VLOOKUP($C57,'Sat TT_06'!$C$4:$Q$152,15,FALSE)=$C57),0,VLOOKUP($C57,'Sat TT_06'!$C$4:$Q$152,15,FALSE))","v":0},{"$f":"IF(ISNA(VLOOKUP($C57,'Sat TT_07'!$C$4:$Q$152,15,FALSE)=$C57),0,VLOOKUP($C57,'Sat TT_07'!$C$4:$Q$152,15,FALSE))","v":0},{"$f":"IF(ISNA(VLOOKUP($C57,'Sat TT_08'!$C$4:$Q$152,15,FALSE)=$C57),0,VLOOKUP($C57,'Sat TT_08'!$C$4:$Q$152,15,FALSE))","v":0},0]
[{"$f":"VLOOKUP(C58,'Sheet 1'!C$1:D$96,2,FALSE)","v":{"$error":"#N/A"}},49,{"$f":"+'[1]Racing numbers file'!$B184","v":"Mark Cooney"},{"$f":"VLOOKUP(C58,'[1]Racing numbers file'!$B$4:$F$290,2,FALSE)","v":1972},{"$f":"VLOOKUP(C58,'[1]Racing numbers file'!$B$4:$F$290,4,FALSE)","v":44},{"$f":"SaturdayHandicapTable[[#This Row],[Points2]]","v":0},{"$f":"IF(ISNA(VLOOKUP($C58,'Sat TT_01'!$C$4:$Q$152,15,FALSE)=$C58),0,VLOOKUP($C58,'Sat TT_01'!$C$4:$Q$152,15,FALSE))","v":0},{"$f":"IF(ISNA(VLOOKUP($C58,'Sat TT_02'!$C$4:$Q$152,15,FALSE)=$C58),0,VLOOKUP($C58,'Sat TT_02'!$C$4:$Q$152,15,FALSE))","v":0},{"$f":"IF(ISNA(VLOOKUP($C58,'Sat TT_03'!$C$4:$Q$152,15,FALSE)=$C58),0,VLOOKUP($C58,'Sat TT_03'!$C$4:$Q$152,15,FALSE))","v":0},{"$f":"IF(ISNA(VLOOKUP($C58,'Sat TT_04'!$C$4:$Q$152,15,FALSE)=$C58),0,VLOOKUP($C58,'Sat TT_04'!$C$4:$Q$152,15,FALSE))","v":0},{"$f":"IF(ISNA(VLOOKUP($C58,'Sat TT_05'!$C$4:$Q$152,15,FALSE)=$C58),0,VLOOKUP($C58,'Sat TT_05'!$C$4:$Q$152,15,FALSE))","v":0},{"$f":"IF(ISNA(VLOOKUP($C58,'Sat TT_06'!$C$4:$Q$152,15,FALSE)=$C58),0,VLOOKUP($C58,'Sat TT_06'!$C$4:$Q$152,15,FALSE))","v":0},{"$f":"IF(ISNA(VLOOKUP($C58,'Sat TT_07'!$C$4:$Q$152,15,FALSE)=$C58),0,VLOOKUP($C58,'Sat TT_07'!$C$4:$Q$152,15,FALSE))","v":0},{"$f":"IF(ISNA(VLOOKUP($C58,'Sat TT_08'!$C$4:$Q$152,15,FALSE)=$C58),0,VLOOKUP($C58,'Sat TT_08'!$C$4:$Q$152,15,FALSE))","v":0},0]
[{"$f":"VLOOKUP(C59,'Sheet 1'!C$1:D$96,2,FALSE)","v":1426},50,{"$f":"+'[1]Racing numbers file'!$B217","v":"Seán Bracken"},{"$f":"VLOOKUP(C59,'[1]Racing numbers file'!$B$4:$F$290,2,FALSE)","v":1960},{"$f":"VLOOKUP(C59,'[1]Racing numbers file'!$B$4:$F$290,4,FALSE)","v":56},{"$f":"SaturdayHandicapTable[[#This Row],[Points2]]","v":0},{"$f":"IF(ISNA(VLOOKUP($C59,'Sat TT_01'!$C$4:$Q$152,15,FALSE)=$C59),0,VLOOKUP($C59,'Sat TT_01'!$C$4:$Q$152,15,FALSE))","v":0},{"$f":"IF(ISNA(VLOOKUP($C59,'Sat TT_02'!$C$4:$Q$152,15,FALSE)=$C59),0,VLOOKUP($C59,'Sat TT_02'!$C$4:$Q$152,15,FALSE))","v":0},{"$f":"IF(ISNA(VLOOKUP($C59,'Sat TT_03'!$C$4:$Q$152,15,FALSE)=$C59),0,VLOOKUP($C59,'Sat TT_03'!$C$4:$Q$152,15,FALSE))","v":0},{"$f":"IF(ISNA(VLOOKUP($C59,'Sat TT_04'!$C$4:$Q$152,15,FALSE)=$C59),0,VLOOKUP($C59,'Sat TT_04'!$C$4:$Q$152,15,FALSE))","v":0},{"$f":"IF(ISNA(VLOOKUP($C59,'Sat TT_05'!$C$4:$Q$152,15,FALSE)=$C59),0,VLOOKUP($C59,'Sat TT_05'!$C$4:$Q$152,15,FALSE))","v":0},{"$f":"IF(ISNA(VLOOKUP($C59,'Sat TT_06'!$C$4:$Q$152,15,FALSE)=$C59),0,VLOOKUP($C59,'Sat TT_06'!$C$4:$Q$152,15,FALSE))","v":0},{"$f":"IF(ISNA(VLOOKUP($C59,'Sat TT_07'!$C$4:$Q$152,15,FALSE)=$C59),0,VLOOKUP($C59,'Sat TT_07'!$C$4:$Q$152,15,FALSE))","v":0},{"$f":"IF(ISNA(VLOOKUP($C59,'Sat TT_08'!$C$4:$Q$152,15,FALSE)=$C59),0,VLOOKUP($C59,'Sat TT_08'!$C$4:$Q$152,15,FALSE))","v":0},0]
[{"$f":"VLOOKUP(C60,'Sheet 1'!C$1:D$96,2,FALSE)","v":1137},51,{"$f":"+'[1]Racing numbers file'!$B64","v":"Karl Gallagher"},{"$f":"VLOOKUP(C60,'[1]Racing numbers file'!$B$4:$F$290,2,FALSE)","v":1958},{"$f":"VLOOKUP(C60,'[1]Racing numbers file'!$B$4:$F$290,4,FALSE)","v":58},{"$f":"SaturdayHandicapTable[[#This Row],[Points2]]","v":0},{"$f":"IF(ISNA(VLOOKUP($C60,'Sat TT_01'!$C$4:$Q$152,15,FALSE)=$C60),0,VLOOKUP($C60,'Sat TT_01'!$C$4:$Q$152,15,FALSE))","v":0},{"$f":"IF(ISNA(VLOOKUP($C60,'Sat TT_02'!$C$4:$Q$152,15,FALSE)=$C60),0,VLOOKUP($C60,'Sat TT_02'!$C$4:$Q$152,15,FALSE))","v":0},{"$f":"IF(ISNA(VLOOKUP($C60,'Sat TT_03'!$C$4:$Q$152,15,FALSE)=$C60),0,VLOOKUP($C60,'Sat TT_03'!$C$4:$Q$152,15,FALSE))","v":0},{"$f":"IF(ISNA(VLOOKUP($C60,'Sat TT_04'!$C$4:$Q$152,15,FALSE)=$C60),0,VLOOKUP($C60,'Sat TT_04'!$C$4:$Q$152,15,FALSE))","v":0},{"$f":"IF(ISNA(VLOOKUP($C60,'Sat TT_05'!$C$4:$Q$152,15,FALSE)=$C60),0,VLOOKUP($C60,'Sat TT_05'!$C$4:$Q$152,15,FALSE))","v":0},{"$f":"IF(ISNA(VLOOKUP($C60,'Sat TT_06'!$C$4:$Q$152,15,FALSE)=$C60),0,VLOOKUP($C60,'Sat TT_06'!$C$4:$Q$152,15,FALSE))","v":0},{"$f":"IF(ISNA(VLOOKUP($C60,'Sat TT_07'!$C$4:$Q$152,15,FALSE)=$C60),0,VLOOKUP($C60,'Sat TT_07'!$C$4:$Q$152,15,FALSE))","v":0},{"$f":"IF(ISNA(VLOOKUP($C60,'Sat TT_08'!$C$4:$Q$152,15,FALSE)=$C60),0,VLOOKUP($C60,'Sat TT_08'!$C$4:$Q$152,15,FALSE))","v":0},0]
[{"$f":"VLOOKUP(C61,'Sheet 1'!C$1:D$96,2,FALSE)","v":{"$error":"#N/A"}},52,{"$f":"+'[1]Racing numbers file'!$B158","v":"Erik Robson"},{"$f":"VLOOKUP(C61,'[1]Racing numbers file'!$B$4:$F$290,2,FALSE)","v":1970},{"$f":"VLOOKUP(C61,'[1]Racing numbers file'!$B$4:$F$290,4,FALSE)","v":46},{"$f":"SaturdayHandicapTable[[#This Row],[Points2]]","v":0},{"$f":"IF(ISNA(VLOOKUP($C61,'Sat TT_01'!$C$4:$Q$152,15,FALSE)=$C61),0,VLOOKUP($C61,'Sat TT_01'!$C$4:$Q$152,15,FALSE))","v":0},{"$f":"IF(ISNA(VLOOKUP($C61,'Sat TT_02'!$C$4:$Q$152,15,FALSE)=$C61),0,VLOOKUP($C61,'Sat TT_02'!$C$4:$Q$152,15,FALSE))","v":0},{"$f":"IF(ISNA(VLOOKUP($C61,'Sat TT_03'!$C$4:$Q$152,15,FALSE)=$C61),0,VLOOKUP($C61,'Sat TT_03'!$C$4:$Q$152,15,FALSE))","v":0},{"$f":"IF(ISNA(VLOOKUP($C61,'Sat TT_04'!$C$4:$Q$152,15,FALSE)=$C61),0,VLOOKUP($C61,'Sat TT_04'!$C$4:$Q$152,15,FALSE))","v":0},{"$f":"IF(ISNA(VLOOKUP($C61,'Sat TT_05'!$C$4:$Q$152,15,FALSE)=$C61),0,VLOOKUP($C61,'Sat TT_05'!$C$4:$Q$152,15,FALSE))","v":0},{"$f":"IF(ISNA(VLOOKUP($C61,'Sat TT_06'!$C$4:$Q$152,15,FALSE)=$C61),0,VLOOKUP($C61,'Sat TT_06'!$C$4:$Q$152,15,FALSE))","v":0},{"$f":"IF(ISNA(VLOOKUP($C61,'Sat TT_07'!$C$4:$Q$152,15,FALSE)=$C61),0,VLOOKUP($C61,'Sat TT_07'!$C$4:$Q$152,15,FALSE))","v":0},{"$f":"IF(ISNA(VLOOKUP($C61,'Sat TT_08'!$C$4:$Q$152,15,FALSE)=$C61),0,VLOOKUP($C61,'Sat TT_08'!$C$4:$Q$152,15,FALSE))","v":0},0]
[{"$f":"VLOOKUP(C62,'Sheet 1'!C$1:D$96,2,FALSE)","v":{"$error":"#N/A"}},53,{"$f":"+'[1]Racing numbers file'!$B88","v":{"$error":"#N/A"}},{"$f":"VLOOKUP(C62,'[1]Racing numbers file'!$B$4:$F$290,2,FALSE)","v":{"$error":"#N/A"}},{"$f":"VLOOKUP(C62,'[1]Racing numbers file'!$B$4:$F$290,4,FALSE)","v":{"$error":"#N/A"}},{"$f":"SaturdayHandicapTable[[#This Row],[Points2]]","v":0},{"$f":"IF(ISNA(VLOOKUP($C62,'Sat TT_01'!$C$4:$Q$152,15,FALSE)=$C62),0,VLOOKUP($C62,'Sat TT_01'!$C$4:$Q$152,15,FALSE))","v":0},{"$f":"IF(ISNA(VLOOKUP($C62,'Sat TT_02'!$C$4:$Q$152,15,FALSE)=$C62),0,VLOOKUP($C62,'Sat TT_02'!$C$4:$Q$152,15,FALSE))","v":0},{"$f":"IF(ISNA(VLOOKUP($C62,'Sat TT_03'!$C$4:$Q$152,15,FALSE)=$C62),0,VLOOKUP($C62,'Sat TT_03'!$C$4:$Q$152,15,FALSE))","v":0},{"$f":"IF(ISNA(VLOOKUP($C62,'Sat TT_04'!$C$4:$Q$152,15,FALSE)=$C62),0,VLOOKUP($C62,'Sat TT_04'!$C$4:$Q$152,15,FALSE))","v":0},{"$f":"IF(ISNA(VLOOKUP($C62,'Sat TT_05'!$C$4:$Q$152,15,FALSE)=$C62),0,VLOOKUP($C62,'Sat TT_05'!$C$4:$Q$152,15,FALSE))","v":0},{"$f":"IF(ISNA(VLOOKUP($C62,'Sat TT_06'!$C$4:$Q$152,15,FALSE)=$C62),0,VLOOKUP($C62,'Sat TT_06'!$C$4:$Q$152,15,FALSE))","v":0},{"$f":"IF(ISNA(VLOOKUP($C62,'Sat TT_07'!$C$4:$Q$152,15,FALSE)=$C62),0,VLOOKUP($C62,'Sat TT_07'!$C$4:$Q$152,15,FALSE))","v":0},{"$f":"IF(ISNA(VLOOKUP($C62,'Sat TT_08'!$C$4:$Q$152,15,FALSE)=$C62),0,VLOOKUP($C62,'Sat TT_08'!$C$4:$Q$152,15,FALSE))","v":0},0]
[{"$f":"VLOOKUP(C63,'Sheet 1'!C$1:D$96,2,FALSE)","v":1228},54,{"$f":"+'[1]Racing numbers file'!$B116","v":"William McGonagle"},{"$f":"VLOOKUP(C63,'[1]Racing numbers file'!$B$4:$F$290,2,FALSE)","v":1964},{"$f":"VLOOKUP(C63,'[1]Racing numbers file'!$B$4:$F$290,4,FALSE)","v":52},{"$f":"SaturdayHandicapTable[[#This Row],[Points2]]","v":0},{"$f":"IF(ISNA(VLOOKUP($C63,'Sat TT_01'!$C$4:$Q$152,15,FALSE)=$C63),0,VLOOKUP($C63,'Sat TT_01'!$C$4:$Q$152,15,FALSE))","v":0},{"$f":"IF(ISNA(VLOOKUP($C63,'Sat TT_02'!$C$4:$Q$152,15,FALSE)=$C63),0,VLOOKUP($C63,'Sat TT_02'!$C$4:$Q$152,15,FALSE))","v":0},{"$f":"IF(ISNA(VLOOKUP($C63,'Sat TT_03'!$C$4:$Q$152,15,FALSE)=$C63),0,VLOOKUP($C63,'Sat TT_03'!$C$4:$Q$152,15,FALSE))","v":0},{"$f":"IF(ISNA(VLOOKUP($C63,'Sat TT_04'!$C$4:$Q$152,15,FALSE)=$C63),0,VLOOKUP($C63,'Sat TT_04'!$C$4:$Q$152,15,FALSE))","v":0},{"$f":"IF(ISNA(VLOOKUP($C63,'Sat TT_05'!$C$4:$Q$152,15,FALSE)=$C63),0,VLOOKUP($C63,'Sat TT_05'!$C$4:$Q$152,15,FALSE))","v":0},{"$f":"IF(ISNA(VLOOKUP($C63,'Sat TT_06'!$C$4:$Q$152,15,FALSE)=$C63),0,VLOOKUP($C63,'Sat TT_06'!$C$4:$Q$152,15,FALSE))","v":0},{"$f":"IF(ISNA(VLOOKUP($C63,'Sat TT_07'!$C$4:$Q$152,15,FALSE)=$C63),0,VLOOKUP($C63,'Sat TT_07'!$C$4:$Q$152,15,FALSE))","v":0},{"$f":"IF(ISNA(VLOOKUP($C63,'Sat TT_08'!$C$4:$Q$152,15,FALSE)=$C63),0,VLOOKUP($C63,'Sat TT_08'!$C$4:$Q$152,15,FALSE))","v":0},0]
[{"$f":"VLOOKUP(C64,'Sheet 1'!C$1:D$96,2,FALSE)","v":1402},55,{"$f":"+'[1]Racing numbers file'!$B205","v":"Stephen Walsh"},{"$f":"VLOOKUP(C64,'[1]Racing numbers file'!$B$4:$F$290,2,FALSE)","v":1969},{"$f":"VLOOKUP(C64,'[1]Racing numbers file'!$B$4:$F$290,4,FALSE)","v":47},{"$f":"SaturdayHandicapTable[[#This Row],[Points2]]","v":0},{"$f":"IF(ISNA(VLOOKUP($C64,'Sat TT_01'!$C$4:$Q$152,15,FALSE)=$C64),0,VLOOKUP($C64,'Sat TT_01'!$C$4:$Q$152,15,FALSE))","v":0},{"$f":"IF(ISNA(VLOOKUP($C64,'Sat TT_02'!$C$4:$Q$152,15,FALSE)=$C64),0,VLOOKUP($C64,'Sat TT_02'!$C$4:$Q$152,15,FALSE))","v":0},{"$f":"IF(ISNA(VLOOKUP($C64,'Sat TT_03'!$C$4:$Q$152,15,FALSE)=$C64),0,VLOOKUP($C64,'Sat TT_03'!$C$4:$Q$152,15,FALSE))","v":0},{"$f":"IF(ISNA(VLOOKUP($C64,'Sat TT_04'!$C$4:$Q$152,15,FALSE)=$C64),0,VLOOKUP($C64,'Sat TT_04'!$C$4:$Q$152,15,FALSE))","v":0},{"$f":"IF(ISNA(VLOOKUP($C64,'Sat TT_05'!$C$4:$Q$152,15,FALSE)=$C64),0,VLOOKUP($C64,'Sat TT_05'!$C$4:$Q$152,15,FALSE))","v":0},{"$f":"IF(ISNA(VLOOKUP($C64,'Sat TT_06'!$C$4:$Q$152,15,FALSE)=$C64),0,VLOOKUP($C64,'Sat TT_06'!$C$4:$Q$152,15,FALSE))","v":0},{"$f":"IF(ISNA(VLOOKUP($C64,'Sat TT_07'!$C$4:$Q$152,15,FALSE)=$C64),0,VLOOKUP($C64,'Sat TT_07'!$C$4:$Q$152,15,FALSE))","v":0},{"$f":"IF(ISNA(VLOOKUP($C64,'Sat TT_08'!$C$4:$Q$152,15,FALSE)=$C64),0,VLOOKUP($C64,'Sat TT_08'!$C$4:$Q$152,15,FALSE))","v":0},0]
[{"$f":"VLOOKUP(C65,'Sheet 1'!C$1:D$96,2,FALSE)","v":{"$error":"#N/A"}},56,{"$f":"+'[1]Racing numbers file'!$B54","v":"Paul Deans"},{"$f":"VLOOKUP(C65,'[1]Racing numbers file'!$B$4:$F$290,2,FALSE)","v":1956},{"$f":"VLOOKUP(C65,'[1]Racing numbers file'!$B$4:$F$290,4,FALSE)","v":60},{"$f":"SaturdayHandicapTable[[#This Row],[Points2]]","v":0},{"$f":"IF(ISNA(VLOOKUP($C65,'Sat TT_01'!$C$4:$Q$152,15,FALSE)=$C65),0,VLOOKUP($C65,'Sat TT_01'!$C$4:$Q$152,15,FALSE))","v":0},{"$f":"IF(ISNA(VLOOKUP($C65,'Sat TT_02'!$C$4:$Q$152,15,FALSE)=$C65),0,VLOOKUP($C65,'Sat TT_02'!$C$4:$Q$152,15,FALSE))","v":0},{"$f":"IF(ISNA(VLOOKUP($C65,'Sat TT_03'!$C$4:$Q$152,15,FALSE)=$C65),0,VLOOKUP($C65,'Sat TT_03'!$C$4:$Q$152,15,FALSE))","v":0},{"$f":"IF(ISNA(VLOOKUP($C65,'Sat TT_04'!$C$4:$Q$152,15,FALSE)=$C65),0,VLOOKUP($C65,'Sat TT_04'!$C$4:$Q$152,15,FALSE))","v":0},{"$f":"IF(ISNA(VLOOKUP($C65,'Sat TT_05'!$C$4:$Q$152,15,FALSE)=$C65),0,VLOOKUP($C65,'Sat TT_05'!$C$4:$Q$152,15,FALSE))","v":0},{"$f":"IF(ISNA(VLOOKUP($C65,'Sat TT_06'!$C$4:$Q$152,15,FALSE)=$C65),0,VLOOKUP($C65,'Sat TT_06'!$C$4:$Q$152,15,FALSE))","v":0},{"$f":"IF(ISNA(VLOOKUP($C65,'Sat TT_07'!$C$4:$Q$152,15,FALSE)=$C65),0,VLOOKUP($C65,'Sat TT_07'!$C$4:$Q$152,15,FALSE))","v":0},{"$f":"IF(ISNA(VLOOKUP($C65,'Sat TT_08'!$C$4:$Q$152,15,FALSE)=$C65),0,VLOOKUP($C65,'Sat TT_08'!$C$4:$Q$152,15,FALSE))","v":0},0]
[{"$f":"VLOOKUP(C66,'Sheet 1'!C$1:D$96,2,FALSE)","v":{"$error":"#N/A"}},57,{"$f":"+'[1]Racing numbers file'!$B235","v":"Elaine Clarke"},{"$f":"VLOOKUP(C66,'[1]Racing numbers file'!$B$4:$F$290,2,FALSE)","v":1979},{"$f":"VLOOKUP(C66,'[1]Racing numbers file'!$B$4:$F$290,4,FALSE)","v":37},{"$f":"SaturdayHandicapTable[[#This Row],[Points2]]","v":0},{"$f":"IF(ISNA(VLOOKUP($C66,'Sat TT_01'!$C$4:$Q$152,15,FALSE)=$C66),0,VLOOKUP($C66,'Sat TT_01'!$C$4:$Q$152,15,FALSE))","v":0},{"$f":"IF(ISNA(VLOOKUP($C66,'Sat TT_02'!$C$4:$Q$152,15,FALSE)=$C66),0,VLOOKUP($C66,'Sat TT_02'!$C$4:$Q$152,15,FALSE))","v":0},{"$f":"IF(ISNA(VLOOKUP($C66,'Sat TT_03'!$C$4:$Q$152,15,FALSE)=$C66),0,VLOOKUP($C66,'Sat TT_03'!$C$4:$Q$152,15,FALSE))","v":0},{"$f":"IF(ISNA(VLOOKUP($C66,'Sat TT_04'!$C$4:$Q$152,15,FALSE)=$C66),0,VLOOKUP($C66,'Sat TT_04'!$C$4:$Q$152,15,FALSE))","v":0},{"$f":"IF(ISNA(VLOOKUP($C66,'Sat TT_05'!$C$4:$Q$152,15,FALSE)=$C66),0,VLOOKUP($C66,'Sat TT_05'!$C$4:$Q$152,15,FALSE))","v":0},{"$f":"IF(ISNA(VLOOKUP($C66,'Sat TT_06'!$C$4:$Q$152,15,FALSE)=$C66),0,VLOOKUP($C66,'Sat TT_06'!$C$4:$Q$152,15,FALSE))","v":0},{"$f":"IF(ISNA(VLOOKUP($C66,'Sat TT_07'!$C$4:$Q$152,15,FALSE)=$C66),0,VLOOKUP($C66,'Sat TT_07'!$C$4:$Q$152,15,FALSE))","v":0},{"$f":"IF(ISNA(VLOOKUP($C66,'Sat TT_08'!$C$4:$Q$152,15,FALSE)=$C66),0,VLOOKUP($C66,'Sat TT_08'!$C$4:$Q$152,15,FALSE))","v":0},0]
[{"$f":"VLOOKUP(C67,'Sheet 1'!C$1:D$96,2,FALSE)","v":{"$error":"#N/A"}},58,{"$f":"+'[1]Racing numbers file'!$B49","v":"Francis Coates"},{"$f":"VLOOKUP(C67,'[1]Racing numbers file'!$B$4:$F$290,2,FALSE)","v":1954},{"$f":"VLOOKUP(C67,'[1]Racing numbers file'!$B$4:$F$290,4,FALSE)","v":62},{"$f":"SaturdayHandicapTable[[#This Row],[Points2]]","v":0},{"$f":"IF(ISNA(VLOOKUP($C67,'Sat TT_01'!$C$4:$Q$152,15,FALSE)=$C67),0,VLOOKUP($C67,'Sat TT_01'!$C$4:$Q$152,15,FALSE))","v":0},{"$f":"IF(ISNA(VLOOKUP($C67,'Sat TT_02'!$C$4:$Q$152,15,FALSE)=$C67),0,VLOOKUP($C67,'Sat TT_02'!$C$4:$Q$152,15,FALSE))","v":0},{"$f":"IF(ISNA(VLOOKUP($C67,'Sat TT_03'!$C$4:$Q$152,15,FALSE)=$C67),0,VLOOKUP($C67,'Sat TT_03'!$C$4:$Q$152,15,FALSE))","v":0},{"$f":"IF(ISNA(VLOOKUP($C67,'Sat TT_04'!$C$4:$Q$152,15,FALSE)=$C67),0,VLOOKUP($C67,'Sat TT_04'!$C$4:$Q$152,15,FALSE))","v":0},{"$f":"IF(ISNA(VLOOKUP($C67,'Sat TT_05'!$C$4:$Q$152,15,FALSE)=$C67),0,VLOOKUP($C67,'Sat TT_05'!$C$4:$Q$152,15,FALSE))","v":0},{"$f":"IF(ISNA(VLOOKUP($C67,'Sat TT_06'!$C$4:$Q$152,15,FALSE)=$C67),0,VLOOKUP($C67,'Sat TT_06'!$C$4:$Q$152,15,FALSE))","v":0},{"$f":"IF(ISNA(VLOOKUP($C67,'Sat TT_07'!$C$4:$Q$152,15,FALSE)=$C67),0,VLOOKUP($C67,'Sat TT_07'!$C$4:$Q$152,15,FALSE))","v":0},{"$f":"IF(ISNA(VLOOKUP($C67,'Sat TT_08'!$C$4:$Q$152,15,FALSE)=$C67),0,VLOOKUP($C67,'Sat TT_08'!$C$4:$Q$152,15,FALSE))","v":0},0]
[{"$f":"VLOOKUP(C68,'Sheet 1'!C$1:D$96,2,FALSE)","v":{"$error":"#N/A"}},59,{"$f":"+'[1]Racing numbers file'!$B231","v":"Daniel Conroy"},{"$f":"VLOOKUP(C68,'[1]Racing numbers file'!$B$4:$F$290,2,FALSE)","v":1967},{"$f":"VLOOKUP(C68,'[1]Racing numbers file'!$B$4:$F$290,4,FALSE)","v":49},{"$f":"SaturdayHandicapTable[[#This Row],[Points2]]","v":0},{"$f":"IF(ISNA(VLOOKUP($C68,'Sat TT_01'!$C$4:$Q$152,15,FALSE)=$C68),0,VLOOKUP($C68,'Sat TT_01'!$C$4:$Q$152,15,FALSE))","v":0},{"$f":"IF(ISNA(VLOOKUP($C68,'Sat TT_02'!$C$4:$Q$152,15,FALSE)=$C68),0,VLOOKUP($C68,'Sat TT_02'!$C$4:$Q$152,15,FALSE))","v":0},{"$f":"IF(ISNA(VLOOKUP($C68,'Sat TT_03'!$C$4:$Q$152,15,FALSE)=$C68),0,VLOOKUP($C68,'Sat TT_03'!$C$4:$Q$152,15,FALSE))","v":0},{"$f":"IF(ISNA(VLOOKUP($C68,'Sat TT_04'!$C$4:$Q$152,15,FALSE)=$C68),0,VLOOKUP($C68,'Sat TT_04'!$C$4:$Q$152,15,FALSE))","v":0},{"$f":"IF(ISNA(VLOOKUP($C68,'Sat TT_05'!$C$4:$Q$152,15,FALSE)=$C68),0,VLOOKUP($C68,'Sat TT_05'!$C$4:$Q$152,15,FALSE))","v":0},{"$f":"IF(ISNA(VLOOKUP($C68,'Sat TT_06'!$C$4:$Q$152,15,FALSE)=$C68),0,VLOOKUP($C68,'Sat TT_06'!$C$4:$Q$152,15,FALSE))","v":0},{"$f":"IF(ISNA(VLOOKUP($C68,'Sat TT_07'!$C$4:$Q$152,15,FALSE)=$C68),0,VLOOKUP($C68,'Sat TT_07'!$C$4:$Q$152,15,FALSE))","v":0},{"$f":"IF(ISNA(VLOOKUP($C68,'Sat TT_08'!$C$4:$Q$152,15,FALSE)=$C68),0,VLOOKUP($C68,'Sat TT_08'!$C$4:$Q$152,15,FALSE))","v":0},0]
[{"$f":"VLOOKUP(C69,'Sheet 1'!C$1:D$96,2,FALSE)","v":{"$error":"#N/A"}},60,{"$f":"+'[1]Racing numbers file'!$B57","v":"John Shortt"},{"$f":"VLOOKUP(C69,'[1]Racing numbers file'!$B$4:$F$290,2,FALSE)","v":1957},{"$f":"VLOOKUP(C69,'[1]Racing numbers file'!$B$4:$F$290,4,FALSE)","v":59},{"$f":"SaturdayHandicapTable[[#This Row],[Points2]]","v":0},{"$f":"IF(ISNA(VLOOKUP($C69,'Sat TT_01'!$C$4:$Q$152,15,FALSE)=$C69),0,VLOOKUP($C69,'Sat TT_01'!$C$4:$Q$152,15,FALSE))","v":0},{"$f":"IF(ISNA(VLOOKUP($C69,'Sat TT_02'!$C$4:$Q$152,15,FALSE)=$C69),0,VLOOKUP($C69,'Sat TT_02'!$C$4:$Q$152,15,FALSE))","v":0},{"$f":"IF(ISNA(VLOOKUP($C69,'Sat TT_03'!$C$4:$Q$152,15,FALSE)=$C69),0,VLOOKUP($C69,'Sat TT_03'!$C$4:$Q$152,15,FALSE))","v":0},{"$f":"IF(ISNA(VLOOKUP($C69,'Sat TT_04'!$C$4:$Q$152,15,FALSE)=$C69),0,VLOOKUP($C69,'Sat TT_04'!$C$4:$Q$152,15,FALSE))","v":0},{"$f":"IF(ISNA(VLOOKUP($C69,'Sat TT_05'!$C$4:$Q$152,15,FALSE)=$C69),0,VLOOKUP($C69,'Sat TT_05'!$C$4:$Q$152,15,FALSE))","v":0},{"$f":"IF(ISNA(VLOOKUP($C69,'Sat TT_06'!$C$4:$Q$152,15,FALSE)=$C69),0,VLOOKUP($C69,'Sat TT_06'!$C$4:$Q$152,15,FALSE))","v":0},{"$f":"IF(ISNA(VLOOKUP($C69,'Sat TT_07'!$C$4:$Q$152,15,FALSE)=$C69),0,VLOOKUP($C69,'Sat TT_07'!$C$4:$Q$152,15,FALSE))","v":0},{"$f":"IF(ISNA(VLOOKUP($C69,'Sat TT_08'!$C$4:$Q$152,15,FALSE)=$C69),0,VLOOKUP($C69,'Sat TT_08'!$C$4:$Q$152,15,FALSE))","v":0},0]
[{"$f":"VLOOKUP(C70,'Sheet 1'!C$1:D$96,2,FALSE)","v":{"$error":"#N/A"}},61,{"$f":"+'[1]Racing numbers file'!$B193","v":"Dale Copas"},{"$f":"VLOOKUP(C70,'[1]Racing numbers file'!$B$4:$F$290,2,FALSE)","v":1968},{"$f":"VLOOKUP(C70,'[1]Racing numbers file'!$B$4:$F$290,4,FALSE)","v":48},{"$f":"SaturdayHandicapTable[[#This Row],[Points2]]","v":0},{"$f":"IF(ISNA(VLOOKUP($C70,'Sat TT_01'!$C$4:$Q$152,15,FALSE)=$C70),0,VLOOKUP($C70,'Sat TT_01'!$C$4:$Q$152,15,FALSE))","v":0},{"$f":"IF(ISNA(VLOOKUP($C70,'Sat TT_02'!$C$4:$Q$152,15,FALSE)=$C70),0,VLOOKUP($C70,'Sat TT_02'!$C$4:$Q$152,15,FALSE))","v":0},{"$f":"IF(ISNA(VLOOKUP($C70,'Sat TT_03'!$C$4:$Q$152,15,FALSE)=$C70),0,VLOOKUP($C70,'Sat TT_03'!$C$4:$Q$152,15,FALSE))","v":0},{"$f":"IF(ISNA(VLOOKUP($C70,'Sat TT_04'!$C$4:$Q$152,15,FALSE)=$C70),0,VLOOKUP($C70,'Sat TT_04'!$C$4:$Q$152,15,FALSE))","v":0},{"$f":"IF(ISNA(VLOOKUP($C70,'Sat TT_05'!$C$4:$Q$152,15,FALSE)=$C70),0,VLOOKUP($C70,'Sat TT_05'!$C$4:$Q$152,15,FALSE))","v":0},{"$f":"IF(ISNA(VLOOKUP($C70,'Sat TT_06'!$C$4:$Q$152,15,FALSE)=$C70),0,VLOOKUP($C70,'Sat TT_06'!$C$4:$Q$152,15,FALSE))","v":0},{"$f":"IF(ISNA(VLOOKUP($C70,'Sat TT_07'!$C$4:$Q$152,15,FALSE)=$C70),0,VLOOKUP($C70,'Sat TT_07'!$C$4:$Q$152,15,FALSE))","v":0},{"$f":"IF(ISNA(VLOOKUP($C70,'Sat TT_08'!$C$4:$Q$152,15,FALSE)=$C70),0,VLOOKUP($C70,'Sat TT_08'!$C$4:$Q$152,15,FALSE))","v":0},0]
[{"$f":"VLOOKUP(C71,'Sheet 1'!C$1:D$96,2,FALSE)","v":{"$error":"#N/A"}},62,{"$f":"+'[1]Racing numbers file'!$B254","v":"Conor Barry"},{"$f":"VLOOKUP(C71,'[1]Racing numbers file'!$B$4:$F$290,2,FALSE)","v":1973},{"$f":"VLOOKUP(C71,'[1]Racing numbers file'!$B$4:$F$290,4,FALSE)","v":43},{"$f":"SaturdayHandicapTable[[#This Row],[Points2]]","v":0},{"$f":"IF(ISNA(VLOOKUP($C71,'Sat TT_01'!$C$4:$Q$152,15,FALSE)=$C71),0,VLOOKUP($C71,'Sat TT_01'!$C$4:$Q$152,15,FALSE))","v":0},{"$f":"IF(ISNA(VLOOKUP($C71,'Sat TT_02'!$C$4:$Q$152,15,FALSE)=$C71),0,VLOOKUP($C71,'Sat TT_02'!$C$4:$Q$152,15,FALSE))","v":0},{"$f":"IF(ISNA(VLOOKUP($C71,'Sat TT_03'!$C$4:$Q$152,15,FALSE)=$C71),0,VLOOKUP($C71,'Sat TT_03'!$C$4:$Q$152,15,FALSE))","v":0},{"$f":"IF(ISNA(VLOOKUP($C71,'Sat TT_04'!$C$4:$Q$152,15,FALSE)=$C71),0,VLOOKUP($C71,'Sat TT_04'!$C$4:$Q$152,15,FALSE))","v":0},{"$f":"IF(ISNA(VLOOKUP($C71,'Sat TT_05'!$C$4:$Q$152,15,FALSE)=$C71),0,VLOOKUP($C71,'Sat TT_05'!$C$4:$Q$152,15,FALSE))","v":0},{"$f":"IF(ISNA(VLOOKUP($C71,'Sat TT_06'!$C$4:$Q$152,15,FALSE)=$C71),0,VLOOKUP($C71,'Sat TT_06'!$C$4:$Q$152,15,FALSE))","v":0},{"$f":"IF(ISNA(VLOOKUP($C71,'Sat TT_07'!$C$4:$Q$152,15,FALSE)=$C71),0,VLOOKUP($C71,'Sat TT_07'!$C$4:$Q$152,15,FALSE))","v":0},{"$f":"IF(ISNA(VLOOKUP($C71,'Sat TT_08'!$C$4:$Q$152,15,FALSE)=$C71),0,VLOOKUP($C71,'Sat TT_08'!$C$4:$Q$152,15,FALSE))","v":0},0]
[{"$f":"VLOOKUP(C72,'Sheet 1'!C$1:D$96,2,FALSE)","v":{"$error":"#N/A"}},63,{"$f":"+'[1]Racing numbers file'!$B200","v":"Stephen Murphy"},{"$f":"VLOOKUP(C72,'[1]Racing numbers file'!$B$4:$F$290,2,FALSE)","v":1966},{"$f":"VLOOKUP(C72,'[1]Racing numbers file'!$B$4:$F$290,4,FALSE)","v":50},{"$f":"SaturdayHandicapTable[[#This Row],[Points2]]","v":0},{"$f":"IF(ISNA(VLOOKUP($C72,'Sat TT_01'!$C$4:$Q$152,15,FALSE)=$C72),0,VLOOKUP($C72,'Sat TT_01'!$C$4:$Q$152,15,FALSE))","v":0},{"$f":"IF(ISNA(VLOOKUP($C72,'Sat TT_02'!$C$4:$Q$152,15,FALSE)=$C72),0,VLOOKUP($C72,'Sat TT_02'!$C$4:$Q$152,15,FALSE))","v":0},{"$f":"IF(ISNA(VLOOKUP($C72,'Sat TT_03'!$C$4:$Q$152,15,FALSE)=$C72),0,VLOOKUP($C72,'Sat TT_03'!$C$4:$Q$152,15,FALSE))","v":0},{"$f":"IF(ISNA(VLOOKUP($C72,'Sat TT_04'!$C$4:$Q$152,15,FALSE)=$C72),0,VLOOKUP($C72,'Sat TT_04'!$C$4:$Q$152,15,FALSE))","v":0},{"$f":"IF(ISNA(VLOOKUP($C72,'Sat TT_05'!$C$4:$Q$152,15,FALSE)=$C72),0,VLOOKUP($C72,'Sat TT_05'!$C$4:$Q$152,15,FALSE))","v":0},{"$f":"IF(ISNA(VLOOKUP($C72,'Sat TT_06'!$C$4:$Q$152,15,FALSE)=$C72),0,VLOOKUP($C72,'Sat TT_06'!$C$4:$Q$152,15,FALSE))","v":0},{"$f":"IF(ISNA(VLOOKUP($C72,'Sat TT_07'!$C$4:$Q$152,15,FALSE)=$C72),0,VLOOKUP($C72,'Sat TT_07'!$C$4:$Q$152,15,FALSE))","v":0},{"$f":"IF(ISNA(VLOOKUP($C72,'Sat TT_08'!$C$4:$Q$152,15,FALSE)=$C72),0,VLOOKUP($C72,'Sat TT_08'!$C$4:$Q$152,15,FALSE))","v":0},0]
[{"$f":"VLOOKUP(C73,'Sheet 1'!C$1:D$96,2,FALSE)","v":{"$error":"#N/A"}},64,{"$f":"+'[1]Racing numbers file'!$B167","v":"Quentin Jansen"},{"$f":"VLOOKUP(C73,'[1]Racing numbers file'!$B$4:$F$290,2,FALSE)","v":1971},{"$f":"VLOOKUP(C73,'[1]Racing numbers file'!$B$4:$F$290,4,FALSE)","v":45},{"$f":"SaturdayHandicapTable[[#This Row],[Points2]]","v":0},{"$f":"IF(ISNA(VLOOKUP($C73,'Sat TT_01'!$C$4:$Q$152,15,FALSE)=$C73),0,VLOOKUP($C73,'Sat TT_01'!$C$4:$Q$152,15,FALSE))","v":0},{"$f":"IF(ISNA(VLOOKUP($C73,'Sat TT_02'!$C$4:$Q$152,15,FALSE)=$C73),0,VLOOKUP($C73,'Sat TT_02'!$C$4:$Q$152,15,FALSE))","v":0},{"$f":"IF(ISNA(VLOOKUP($C73,'Sat TT_03'!$C$4:$Q$152,15,FALSE)=$C73),0,VLOOKUP($C73,'Sat TT_03'!$C$4:$Q$152,15,FALSE))","v":0},{"$f":"IF(ISNA(VLOOKUP($C73,'Sat TT_04'!$C$4:$Q$152,15,FALSE)=$C73),0,VLOOKUP($C73,'Sat TT_04'!$C$4:$Q$152,15,FALSE))","v":0},{"$f":"IF(ISNA(VLOOKUP($C73,'Sat TT_05'!$C$4:$Q$152,15,FALSE)=$C73),0,VLOOKUP($C73,'Sat TT_05'!$C$4:$Q$152,15,FALSE))","v":0},{"$f":"IF(ISNA(VLOOKUP($C73,'Sat TT_06'!$C$4:$Q$152,15,FALSE)=$C73),0,VLOOKUP($C73,'Sat TT_06'!$C$4:$Q$152,15,FALSE))","v":0},{"$f":"IF(ISNA(VLOOKUP($C73,'Sat TT_07'!$C$4:$Q$152,15,FALSE)=$C73),0,VLOOKUP($C73,'Sat TT_07'!$C$4:$Q$152,15,FALSE))","v":0},{"$f":"IF(ISNA(VLOOKUP($C73,'Sat TT_08'!$C$4:$Q$152,15,FALSE)=$C73),0,VLOOKUP($C73,'Sat TT_08'!$C$4:$Q$152,15,FALSE))","v":0},0]
[{"$f":"VLOOKUP(C74,'Sheet 1'!C$1:D$96,2,FALSE)","v":1259},65,{"$f":"+'[1]Racing numbers file'!$B133","v":"Mark Prendergast"},{"$f":"VLOOKUP(C74,'[1]Racing numbers file'!$B$4:$F$290,2,FALSE)","v":1967},{"$f":"VLOOKUP(C74,'[1]Racing numbers file'!$B$4:$F$290,4,FALSE)","v":49},{"$f":"SaturdayHandicapTable[[#This Row],[Points2]]","v":0},{"$f":"IF(ISNA(VLOOKUP($C74,'Sat TT_01'!$C$4:$Q$152,15,FALSE)=$C74),0,VLOOKUP($C74,'Sat TT_01'!$C$4:$Q$152,15,FALSE))","v":0},{"$f":"IF(ISNA(VLOOKUP($C74,'Sat TT_02'!$C$4:$Q$152,15,FALSE)=$C74),0,VLOOKUP($C74,'Sat TT_02'!$C$4:$Q$152,15,FALSE))","v":0},{"$f":"IF(ISNA(VLOOKUP($C74,'Sat TT_03'!$C$4:$Q$152,15,FALSE)=$C74),0,VLOOKUP($C74,'Sat TT_03'!$C$4:$Q$152,15,FALSE))","v":0},{"$f":"IF(ISNA(VLOOKUP($C74,'Sat TT_04'!$C$4:$Q$152,15,FALSE)=$C74),0,VLOOKUP($C74,'Sat TT_04'!$C$4:$Q$152,15,FALSE))","v":0},{"$f":"IF(ISNA(VLOOKUP($C74,'Sat TT_05'!$C$4:$Q$152,15,FALSE)=$C74),0,VLOOKUP($C74,'Sat TT_05'!$C$4:$Q$152,15,FALSE))","v":0},{"$f":"IF(ISNA(VLOOKUP($C74,'Sat TT_06'!$C$4:$Q$152,15,FALSE)=$C74),0,VLOOKUP($C74,'Sat TT_06'!$C$4:$Q$152,15,FALSE))","v":0},{"$f":"IF(ISNA(VLOOKUP($C74,'Sat TT_07'!$C$4:$Q$152,15,FALSE)=$C74),0,VLOOKUP($C74,'Sat TT_07'!$C$4:$Q$152,15,FALSE))","v":0},{"$f":"IF(ISNA(VLOOKUP($C74,'Sat TT_08'!$C$4:$Q$152,15,FALSE)=$C74),0,VLOOKUP($C74,'Sat TT_08'!$C$4:$Q$152,15,FALSE))","v":0},{"$f":"SUM(G74:N74)","v":0}]
[{"$f":"VLOOKUP(C75,'Sheet 1'!C$1:D$96,2,FALSE)","v":{"$error":"#N/A"}},66,{"$f":"+'[1]Racing numbers file'!$B276","v":"Richard Cattle"},{"$f":"VLOOKUP(C75,'[1]Racing numbers file'!$B$4:$F$290,2,FALSE)","v":1967},{"$f":"VLOOKUP(C75,'[1]Racing numbers file'!$B$4:$F$290,4,FALSE)","v":49},{"$f":"SaturdayHandicapTable[[#This Row],[Points2]]","v":0},{"$f":"IF(ISNA(VLOOKUP($C75,'Sat TT_01'!$C$4:$Q$152,15,FALSE)=$C75),0,VLOOKUP($C75,'Sat TT_01'!$C$4:$Q$152,15,FALSE))","v":0},{"$f":"IF(ISNA(VLOOKUP($C75,'Sat TT_02'!$C$4:$Q$152,15,FALSE)=$C75),0,VLOOKUP($C75,'Sat TT_02'!$C$4:$Q$152,15,FALSE))","v":0},{"$f":"IF(ISNA(VLOOKUP($C75,'Sat TT_03'!$C$4:$Q$152,15,FALSE)=$C75),0,VLOOKUP($C75,'Sat TT_03'!$C$4:$Q$152,15,FALSE))","v":0},{"$f":"IF(ISNA(VLOOKUP($C75,'Sat TT_04'!$C$4:$Q$152,15,FALSE)=$C75),0,VLOOKUP($C75,'Sat TT_04'!$C$4:$Q$152,15,FALSE))","v":0},{"$f":"IF(ISNA(VLOOKUP($C75,'Sat TT_05'!$C$4:$Q$152,15,FALSE)=$C75),0,VLOOKUP($C75,'Sat TT_05'!$C$4:$Q$152,15,FALSE))","v":0},{"$f":"IF(ISNA(VLOOKUP($C75,'Sat TT_06'!$C$4:$Q$152,15,FALSE)=$C75),0,VLOOKUP($C75,'Sat TT_06'!$C$4:$Q$152,15,FALSE))","v":0},{"$f":"IF(ISNA(VLOOKUP($C75,'Sat TT_07'!$C$4:$Q$152,15,FALSE)=$C75),0,VLOOKUP($C75,'Sat TT_07'!$C$4:$Q$152,15,FALSE))","v":0},{"$f":"IF(ISNA(VLOOKUP($C75,'Sat TT_08'!$C$4:$Q$152,15,FALSE)=$C75),0,VLOOKUP($C75,'Sat TT_08'!$C$4:$Q$152,15,FALSE))","v":0},0]
[{"$f":"VLOOKUP(C76,'Sheet 1'!C$1:D$96,2,FALSE)","v":{"$error":"#N/A"}},67,{"$f":"+'[1]Racing numbers file'!$B279","v":"David Ryan"},{"$f":"VLOOKUP(C76,'[1]Racing numbers file'!$B$4:$F$290,2,FALSE)","v":1960},{"$f":"VLOOKUP(C76,'[1]Racing numbers file'!$B$4:$F$290,4,FALSE)","v":56},{"$f":"SaturdayHandicapTable[[#This Row],[Points2]]","v":0},{"$f":"IF(ISNA(VLOOKUP($C76,'Sat TT_01'!$C$4:$Q$152,15,FALSE)=$C76),0,VLOOKUP($C76,'Sat TT_01'!$C$4:$Q$152,15,FALSE))","v":0},{"$f":"IF(ISNA(VLOOKUP($C76,'Sat TT_02'!$C$4:$Q$152,15,FALSE)=$C76),0,VLOOKUP($C76,'Sat TT_02'!$C$4:$Q$152,15,FALSE))","v":0},{"$f":"IF(ISNA(VLOOKUP($C76,'Sat TT_03'!$C$4:$Q$152,15,FALSE)=$C76),0,VLOOKUP($C76,'Sat TT_03'!$C$4:$Q$152,15,FALSE))","v":0},{"$f":"IF(ISNA(VLOOKUP($C76,'Sat TT_04'!$C$4:$Q$152,15,FALSE)=$C76),0,VLOOKUP($C76,'Sat TT_04'!$C$4:$Q$152,15,FALSE))","v":0},{"$f":"IF(ISNA(VLOOKUP($C76,'Sat TT_05'!$C$4:$Q$152,15,FALSE)=$C76),0,VLOOKUP($C76,'Sat TT_05'!$C$4:$Q$152,15,FALSE))","v":0},{"$f":"IF(ISNA(VLOOKUP($C76,'Sat TT_06'!$C$4:$Q$152,15,FALSE)=$C76),0,VLOOKUP($C76,'Sat TT_06'!$C$4:$Q$152,15,FALSE))","v":0},{"$f":"IF(ISNA(VLOOKUP($C76,'Sat TT_07'!$C$4:$Q$152,15,FALSE)=$C76),0,VLOOKUP($C76,'Sat TT_07'!$C$4:$Q$152,15,FALSE))","v":0},{"$f":"IF(ISNA(VLOOKUP($C76,'Sat TT_08'!$C$4:$Q$152,15,FALSE)=$C76),0,VLOOKUP($C76,'Sat TT_08'!$C$4:$Q$152,15,FALSE))","v":0},0]
[{"$f":"VLOOKUP(C77,'Sheet 1'!C$1:D$96,2,FALSE)","v":{"$error":"#N/A"}},68,{"$f":"+'[1]Racing numbers file'!$B123","v":"Greg Burke"},{"$f":"VLOOKUP(C77,'[1]Racing numbers file'!$B$4:$F$290,2,FALSE)","v":1966},{"$f":"VLOOKUP(C77,'[1]Racing numbers file'!$B$4:$F$290,4,FALSE)","v":50},{"$f":"SaturdayHandicapTable[[#This Row],[Points2]]","v":0},{"$f":"IF(ISNA(VLOOKUP($C77,'Sat TT_01'!$C$4:$Q$152,15,FALSE)=$C77),0,VLOOKUP($C77,'Sat TT_01'!$C$4:$Q$152,15,FALSE))","v":0},{"$f":"IF(ISNA(VLOOKUP($C77,'Sat TT_02'!$C$4:$Q$152,15,FALSE)=$C77),0,VLOOKUP($C77,'Sat TT_02'!$C$4:$Q$152,15,FALSE))","v":0},{"$f":"IF(ISNA(VLOOKUP($C77,'Sat TT_03'!$C$4:$Q$152,15,FALSE)=$C77),0,VLOOKUP($C77,'Sat TT_03'!$C$4:$Q$152,15,FALSE))","v":0},{"$f":"IF(ISNA(VLOOKUP($C77,'Sat TT_04'!$C$4:$Q$152,15,FALSE)=$C77),0,VLOOKUP($C77,'Sat TT_04'!$C$4:$Q$152,15,FALSE))","v":0},{"$f":"IF(ISNA(VLOOKUP($C77,'Sat TT_05'!$C$4:$Q$152,15,FALSE)=$C77),0,VLOOKUP($C77,'Sat TT_05'!$C$4:$Q$152,15,FALSE))","v":0},{"$f":"IF(ISNA(VLOOKUP($C77,'Sat TT_06'!$C$4:$Q$152,15,FALSE)=$C77),0,VLOOKUP($C77,'Sat TT_06'!$C$4:$Q$152,15,FALSE))","v":0},{"$f":"IF(ISNA(VLOOKUP($C77,'Sat TT_07'!$C$4:$Q$152,15,FALSE)=$C77),0,VLOOKUP($C77,'Sat TT_07'!$C$4:$Q$152,15,FALSE))","v":0},{"$f":"IF(ISNA(VLOOKUP($C77,'Sat TT_08'!$C$4:$Q$152,15,FALSE)=$C77),0,VLOOKUP($C77,'Sat TT_08'!$C$4:$Q$152,15,FALSE))","v":0},0]
[{"$f":"VLOOKUP(C78,'Sheet 1'!C$1:D$96,2,FALSE)","v":{"$error":"#N/A"}},69,{"$f":"+'[1]Racing numbers file'!$B83","v":"Mick Rock"},{"$f":"VLOOKUP(C78,'[1]Racing numbers file'!$B$4:$F$290,2,FALSE)","v":1960},{"$f":"VLOOKUP(C78,'[1]Racing numbers file'!$B$4:$F$290,4,FALSE)","v":56},{"$f":"SaturdayHandicapTable[[#This Row],[Points2]]","v":0},{"$f":"IF(ISNA(VLOOKUP($C78,'Sat TT_01'!$C$4:$Q$152,15,FALSE)=$C78),0,VLOOKUP($C78,'Sat TT_01'!$C$4:$Q$152,15,FALSE))","v":0},{"$f":"IF(ISNA(VLOOKUP($C78,'Sat TT_02'!$C$4:$Q$152,15,FALSE)=$C78),0,VLOOKUP($C78,'Sat TT_02'!$C$4:$Q$152,15,FALSE))","v":0},{"$f":"IF(ISNA(VLOOKUP($C78,'Sat TT_03'!$C$4:$Q$152,15,FALSE)=$C78),0,VLOOKUP($C78,'Sat TT_03'!$C$4:$Q$152,15,FALSE))","v":0},{"$f":"IF(ISNA(VLOOKUP($C78,'Sat TT_04'!$C$4:$Q$152,15,FALSE)=$C78),0,VLOOKUP($C78,'Sat TT_04'!$C$4:$Q$152,15,FALSE))","v":0},{"$f":"IF(ISNA(VLOOKUP($C78,'Sat TT_05'!$C$4:$Q$152,15,FALSE)=$C78),0,VLOOKUP($C78,'Sat TT_05'!$C$4:$Q$152,15,FALSE))","v":0},{"$f":"IF(ISNA(VLOOKUP($C78,'Sat TT_06'!$C$4:$Q$152,15,FALSE)=$C78),0,VLOOKUP($C78,'Sat TT_06'!$C$4:$Q$152,15,FALSE))","v":0},{"$f":"IF(ISNA(VLOOKUP($C78,'Sat TT_07'!$C$4:$Q$152,15,FALSE)=$C78),0,VLOOKUP($C78,'Sat TT_07'!$C$4:$Q$152,15,FALSE))","v":0},{"$f":"IF(ISNA(VLOOKUP($C78,'Sat TT_08'!$C$4:$Q$152,15,FALSE)=$C78),0,VLOOKUP($C78,'Sat TT_08'!$C$4:$Q$152,15,FALSE))","v":0},0]
[{"$f":"VLOOKUP(C79,'Sheet 1'!C$1:D$96,2,FALSE)","v":{"$error":"#N/A"}},70,{"$f":"+'[1]Racing numbers file'!$B95","v":"Tony Dunne"},{"$f":"VLOOKUP(C79,'[1]Racing numbers file'!$B$4:$F$290,2,FALSE)","v":1962},{"$f":"VLOOKUP(C79,'[1]Racing numbers file'!$B$4:$F$290,4,FALSE)","v":54},{"$f":"SaturdayHandicapTable[[#This Row],[Points2]]","v":0},{"$f":"IF(ISNA(VLOOKUP($C79,'Sat TT_01'!$C$4:$Q$152,15,FALSE)=$C79),0,VLOOKUP($C79,'Sat TT_01'!$C$4:$Q$152,15,FALSE))","v":0},{"$f":"IF(ISNA(VLOOKUP($C79,'Sat TT_02'!$C$4:$Q$152,15,FALSE)=$C79),0,VLOOKUP($C79,'Sat TT_02'!$C$4:$Q$152,15,FALSE))","v":0},{"$f":"IF(ISNA(VLOOKUP($C79,'Sat TT_03'!$C$4:$Q$152,15,FALSE)=$C79),0,VLOOKUP($C79,'Sat TT_03'!$C$4:$Q$152,15,FALSE))","v":0},{"$f":"IF(ISNA(VLOOKUP($C79,'Sat TT_04'!$C$4:$Q$152,15,FALSE)=$C79),0,VLOOKUP($C79,'Sat TT_04'!$C$4:$Q$152,15,FALSE))","v":0},{"$f":"IF(ISNA(VLOOKUP($C79,'Sat TT_05'!$C$4:$Q$152,15,FALSE)=$C79),0,VLOOKUP($C79,'Sat TT_05'!$C$4:$Q$152,15,FALSE))","v":0},{"$f":"IF(ISNA(VLOOKUP($C79,'Sat TT_06'!$C$4:$Q$152,15,FALSE)=$C79),0,VLOOKUP($C79,'Sat TT_06'!$C$4:$Q$152,15,FALSE))","v":0},{"$f":"IF(ISNA(VLOOKUP($C79,'Sat TT_07'!$C$4:$Q$152,15,FALSE)=$C79),0,VLOOKUP($C79,'Sat TT_07'!$C$4:$Q$152,15,FALSE))","v":0},{"$f":"IF(ISNA(VLOOKUP($C79,'Sat TT_08'!$C$4:$Q$152,15,FALSE)=$C79),0,VLOOKUP($C79,'Sat TT_08'!$C$4:$Q$152,15,FALSE))","v":0},0]
[{"$f":"VLOOKUP(C80,'Sheet 1'!C$1:D$96,2,FALSE)","v":{"$error":"#N/A"}},71,{"$f":"+'[1]Racing numbers file'!$B271","v":"Ian Cassidy"},{"$f":"VLOOKUP(C80,'[1]Racing numbers file'!$B$4:$F$290,2,FALSE)","v":1974},{"$f":"VLOOKUP(C80,'[1]Racing numbers file'!$B$4:$F$290,4,FALSE)","v":42},{"$f":"SaturdayHandicapTable[[#This Row],[Points2]]","v":0},{"$f":"IF(ISNA(VLOOKUP($C80,'Sat TT_01'!$C$4:$Q$152,15,FALSE)=$C80),0,VLOOKUP($C80,'Sat TT_01'!$C$4:$Q$152,15,FALSE))","v":0},{"$f":"IF(ISNA(VLOOKUP($C80,'Sat TT_02'!$C$4:$Q$152,15,FALSE)=$C80),0,VLOOKUP($C80,'Sat TT_02'!$C$4:$Q$152,15,FALSE))","v":0},{"$f":"IF(ISNA(VLOOKUP($C80,'Sat TT_03'!$C$4:$Q$152,15,FALSE)=$C80),0,VLOOKUP($C80,'Sat TT_03'!$C$4:$Q$152,15,FALSE))","v":0},{"$f":"IF(ISNA(VLOOKUP($C80,'Sat TT_04'!$C$4:$Q$152,15,FALSE)=$C80),0,VLOOKUP($C80,'Sat TT_04'!$C$4:$Q$152,15,FALSE))","v":0},{"$f":"IF(ISNA(VLOOKUP($C80,'Sat TT_05'!$C$4:$Q$152,15,FALSE)=$C80),0,VLOOKUP($C80,'Sat TT_05'!$C$4:$Q$152,15,FALSE))","v":0},{"$f":"IF(ISNA(VLOOKUP($C80,'Sat TT_06'!$C$4:$Q$152,15,FALSE)=$C80),0,VLOOKUP($C80,'Sat TT_06'!$C$4:$Q$152,15,FALSE))","v":0},{"$f":"IF(ISNA(VLOOKUP($C80,'Sat TT_07'!$C$4:$Q$152,15,FALSE)=$C80),0,VLOOKUP($C80,'Sat TT_07'!$C$4:$Q$152,15,FALSE))","v":0},{"$f":"IF(ISNA(VLOOKUP($C80,'Sat TT_08'!$C$4:$Q$152,15,FALSE)=$C80),0,VLOOKUP($C80,'Sat TT_08'!$C$4:$Q$152,15,FALSE))","v":0},0]
[{"$f":"VLOOKUP(C81,'Sheet 1'!C$1:D$96,2,FALSE)","v":1294},72,{"$f":"+'[1]Racing numbers file'!$B155","v":"Mark Kidd"},{"$f":"VLOOKUP(C81,'[1]Racing numbers file'!$B$4:$F$290,2,FALSE)","v":1969},{"$f":"VLOOKUP(C81,'[1]Racing numbers file'!$B$4:$F$290,4,FALSE)","v":47},{"$f":"SaturdayHandicapTable[[#This Row],[Points2]]","v":0},{"$f":"IF(ISNA(VLOOKUP($C81,'Sat TT_01'!$C$4:$Q$152,15,FALSE)=$C81),0,VLOOKUP($C81,'Sat TT_01'!$C$4:$Q$152,15,FALSE))","v":0},{"$f":"IF(ISNA(VLOOKUP($C81,'Sat TT_02'!$C$4:$Q$152,15,FALSE)=$C81),0,VLOOKUP($C81,'Sat TT_02'!$C$4:$Q$152,15,FALSE))","v":0},{"$f":"IF(ISNA(VLOOKUP($C81,'Sat TT_03'!$C$4:$Q$152,15,FALSE)=$C81),0,VLOOKUP($C81,'Sat TT_03'!$C$4:$Q$152,15,FALSE))","v":0},{"$f":"IF(ISNA(VLOOKUP($C81,'Sat TT_04'!$C$4:$Q$152,15,FALSE)=$C81),0,VLOOKUP($C81,'Sat TT_04'!$C$4:$Q$152,15,FALSE))","v":0},{"$f":"IF(ISNA(VLOOKUP($C81,'Sat TT_05'!$C$4:$Q$152,15,FALSE)=$C81),0,VLOOKUP($C81,'Sat TT_05'!$C$4:$Q$152,15,FALSE))","v":0},{"$f":"IF(ISNA(VLOOKUP($C81,'Sat TT_06'!$C$4:$Q$152,15,FALSE)=$C81),0,VLOOKUP($C81,'Sat TT_06'!$C$4:$Q$152,15,FALSE))","v":0},{"$f":"IF(ISNA(VLOOKUP($C81,'Sat TT_07'!$C$4:$Q$152,15,FALSE)=$C81),0,VLOOKUP($C81,'Sat TT_07'!$C$4:$Q$152,15,FALSE))","v":0},{"$f":"IF(ISNA(VLOOKUP($C81,'Sat TT_08'!$C$4:$Q$152,15,FALSE)=$C81),0,VLOOKUP($C81,'Sat TT_08'!$C$4:$Q$152,15,FALSE))","v":0},0]
[{"$f":"VLOOKUP(C82,'Sheet 1'!C$1:D$96,2,FALSE)","v":{"$error":"#N/A"}},73,{"$f":"+'[1]Racing numbers file'!$B252","v":"Gavin Dodd"},{"$f":"VLOOKUP(C82,'[1]Racing numbers file'!$B$4:$F$290,2,FALSE)","v":1974},{"$f":"VLOOKUP(C82,'[1]Racing numbers file'!$B$4:$F$290,4,FALSE)","v":42},{"$f":"SaturdayHandicapTable[[#This Row],[Points2]]","v":0},{"$f":"IF(ISNA(VLOOKUP($C82,'Sat TT_01'!$C$4:$Q$152,15,FALSE)=$C82),0,VLOOKUP($C82,'Sat TT_01'!$C$4:$Q$152,15,FALSE))","v":0},{"$f":"IF(ISNA(VLOOKUP($C82,'Sat TT_02'!$C$4:$Q$152,15,FALSE)=$C82),0,VLOOKUP($C82,'Sat TT_02'!$C$4:$Q$152,15,FALSE))","v":0},{"$f":"IF(ISNA(VLOOKUP($C82,'Sat TT_03'!$C$4:$Q$152,15,FALSE)=$C82),0,VLOOKUP($C82,'Sat TT_03'!$C$4:$Q$152,15,FALSE))","v":0},{"$f":"IF(ISNA(VLOOKUP($C82,'Sat TT_04'!$C$4:$Q$152,15,FALSE)=$C82),0,VLOOKUP($C82,'Sat TT_04'!$C$4:$Q$152,15,FALSE))","v":0},{"$f":"IF(ISNA(VLOOKUP($C82,'Sat TT_05'!$C$4:$Q$152,15,FALSE)=$C82),0,VLOOKUP($C82,'Sat TT_05'!$C$4:$Q$152,15,FALSE))","v":0},{"$f":"IF(ISNA(VLOOKUP($C82,'Sat TT_06'!$C$4:$Q$152,15,FALSE)=$C82),0,VLOOKUP($C82,'Sat TT_06'!$C$4:$Q$152,15,FALSE))","v":0},{"$f":"IF(ISNA(VLOOKUP($C82,'Sat TT_07'!$C$4:$Q$152,15,FALSE)=$C82),0,VLOOKUP($C82,'Sat TT_07'!$C$4:$Q$152,15,FALSE))","v":0},{"$f":"IF(ISNA(VLOOKUP($C82,'Sat TT_08'!$C$4:$Q$152,15,FALSE)=$C82),0,VLOOKUP($C82,'Sat TT_08'!$C$4:$Q$152,15,FALSE))","v":0},0]
[{"$f":"VLOOKUP(C83,'Sheet 1'!C$1:D$96,2,FALSE)","v":1213},74,{"$f":"+'[1]Racing numbers file'!$B107","v":"Lloyd Berry"},{"$f":"VLOOKUP(C83,'[1]Racing numbers file'!$B$4:$F$290,2,FALSE)","v":1964},{"$f":"VLOOKUP(C83,'[1]Racing numbers file'!$B$4:$F$290,4,FALSE)","v":52},{"$f":"SaturdayHandicapTable[[#This Row],[Points2]]","v":0},{"$f":"IF(ISNA(VLOOKUP($C83,'Sat TT_01'!$C$4:$Q$152,15,FALSE)=$C83),0,VLOOKUP($C83,'Sat TT_01'!$C$4:$Q$152,15,FALSE))","v":0},{"$f":"IF(ISNA(VLOOKUP($C83,'Sat TT_02'!$C$4:$Q$152,15,FALSE)=$C83),0,VLOOKUP($C83,'Sat TT_02'!$C$4:$Q$152,15,FALSE))","v":0},{"$f":"IF(ISNA(VLOOKUP($C83,'Sat TT_03'!$C$4:$Q$152,15,FALSE)=$C83),0,VLOOKUP($C83,'Sat TT_03'!$C$4:$Q$152,15,FALSE))","v":0},{"$f":"IF(ISNA(VLOOKUP($C83,'Sat TT_04'!$C$4:$Q$152,15,FALSE)=$C83),0,VLOOKUP($C83,'Sat TT_04'!$C$4:$Q$152,15,FALSE))","v":0},{"$f":"IF(ISNA(VLOOKUP($C83,'Sat TT_05'!$C$4:$Q$152,15,FALSE)=$C83),0,VLOOKUP($C83,'Sat TT_05'!$C$4:$Q$152,15,FALSE))","v":0},{"$f":"IF(ISNA(VLOOKUP($C83,'Sat TT_06'!$C$4:$Q$152,15,FALSE)=$C83),0,VLOOKUP($C83,'Sat TT_06'!$C$4:$Q$152,15,FALSE))","v":0},{"$f":"IF(ISNA(VLOOKUP($C83,'Sat TT_07'!$C$4:$Q$152,15,FALSE)=$C83),0,VLOOKUP($C83,'Sat TT_07'!$C$4:$Q$152,15,FALSE))","v":0},{"$f":"IF(ISNA(VLOOKUP($C83,'Sat TT_08'!$C$4:$Q$152,15,FALSE)=$C83),0,VLOOKUP($C83,'Sat TT_08'!$C$4:$Q$152,15,FALSE))","v":0},0]
[{"$f":"VLOOKUP(C84,'Sheet 1'!C$1:D$96,2,FALSE)","v":{"$error":"#N/A"}},75,{"$f":"+'[1]Racing numbers file'!$B250","v":"Declan Weldon"},{"$f":"VLOOKUP(C84,'[1]Racing numbers file'!$B$4:$F$290,2,FALSE)","v":1968},{"$f":"VLOOKUP(C84,'[1]Racing numbers file'!$B$4:$F$290,4,FALSE)","v":48},{"$f":"SaturdayHandicapTable[[#This Row],[Points2]]","v":0},{"$f":"IF(ISNA(VLOOKUP($C84,'Sat TT_01'!$C$4:$Q$152,15,FALSE)=$C84),0,VLOOKUP($C84,'Sat TT_01'!$C$4:$Q$152,15,FALSE))","v":0},{"$f":"IF(ISNA(VLOOKUP($C84,'Sat TT_02'!$C$4:$Q$152,15,FALSE)=$C84),0,VLOOKUP($C84,'Sat TT_02'!$C$4:$Q$152,15,FALSE))","v":0},{"$f":"IF(ISNA(VLOOKUP($C84,'Sat TT_03'!$C$4:$Q$152,15,FALSE)=$C84),0,VLOOKUP($C84,'Sat TT_03'!$C$4:$Q$152,15,FALSE))","v":0},{"$f":"IF(ISNA(VLOOKUP($C84,'Sat TT_04'!$C$4:$Q$152,15,FALSE)=$C84),0,VLOOKUP($C84,'Sat TT_04'!$C$4:$Q$152,15,FALSE))","v":0},{"$f":"IF(ISNA(VLOOKUP($C84,'Sat TT_05'!$C$4:$Q$152,15,FALSE)=$C84),0,VLOOKUP($C84,'Sat TT_05'!$C$4:$Q$152,15,FALSE))","v":0},{"$f":"IF(ISNA(VLOOKUP($C84,'Sat TT_06'!$C$4:$Q$152,15,FALSE)=$C84),0,VLOOKUP($C84,'Sat TT_06'!$C$4:$Q$152,15,FALSE))","v":0},{"$f":"IF(ISNA(VLOOKUP($C84,'Sat TT_07'!$C$4:$Q$152,15,FALSE)=$C84),0,VLOOKUP($C84,'Sat TT_07'!$C$4:$Q$152,15,FALSE))","v":0},{"$f":"IF(ISNA(VLOOKUP($C84,'Sat TT_08'!$C$4:$Q$152,15,FALSE)=$C84),0,VLOOKUP($C84,'Sat TT_08'!$C$4:$Q$152,15,FALSE))","v":0},0]
[{"$f":"VLOOKUP(C85,'Sheet 1'!C$1:D$96,2,FALSE)","v":{"$error":"#N/A"}},76,{"$f":"+'[1]Racing numbers file'!$B233","v":"Conor Feeney"},{"$f":"VLOOKUP(C85,'[1]Racing numbers file'!$B$4:$F$290,2,FALSE)","v":1972},{"$f":"VLOOKUP(C85,'[1]Racing numbers file'!$B$4:$F$290,4,FALSE)","v":44},{"$f":"SaturdayHandicapTable[[#This Row],[Points2]]","v":0},{"$f":"IF(ISNA(VLOOKUP($C85,'Sat TT_01'!$C$4:$Q$152,15,FALSE)=$C85),0,VLOOKUP($C85,'Sat TT_01'!$C$4:$Q$152,15,FALSE))","v":0},{"$f":"IF(ISNA(VLOOKUP($C85,'Sat TT_02'!$C$4:$Q$152,15,FALSE)=$C85),0,VLOOKUP($C85,'Sat TT_02'!$C$4:$Q$152,15,FALSE))","v":0},{"$f":"IF(ISNA(VLOOKUP($C85,'Sat TT_03'!$C$4:$Q$152,15,FALSE)=$C85),0,VLOOKUP($C85,'Sat TT_03'!$C$4:$Q$152,15,FALSE))","v":0},{"$f":"IF(ISNA(VLOOKUP($C85,'Sat TT_04'!$C$4:$Q$152,15,FALSE)=$C85),0,VLOOKUP($C85,'Sat TT_04'!$C$4:$Q$152,15,FALSE))","v":0},{"$f":"IF(ISNA(VLOOKUP($C85,'Sat TT_05'!$C$4:$Q$152,15,FALSE)=$C85),0,VLOOKUP($C85,'Sat TT_05'!$C$4:$Q$152,15,FALSE))","v":0},{"$f":"IF(ISNA(VLOOKUP($C85,'Sat TT_06'!$C$4:$Q$152,15,FALSE)=$C85),0,VLOOKUP($C85,'Sat TT_06'!$C$4:$Q$152,15,FALSE))","v":0},{"$f":"IF(ISNA(VLOOKUP($C85,'Sat TT_07'!$C$4:$Q$152,15,FALSE)=$C85),0,VLOOKUP($C85,'Sat TT_07'!$C$4:$Q$152,15,FALSE))","v":0},{"$f":"IF(ISNA(VLOOKUP($C85,'Sat TT_08'!$C$4:$Q$152,15,FALSE)=$C85),0,VLOOKUP($C85,'Sat TT_08'!$C$4:$Q$152,15,FALSE))","v":0},0]
[{"$f":"VLOOKUP(C86,'Sheet 1'!C$1:D$96,2,FALSE)","v":{"$error":"#N/A"}},77,{"$f":"+'[1]Racing numbers file'!$B92","v":"Tony Brady"},{"$f":"VLOOKUP(C86,'[1]Racing numbers file'!$B$4:$F$290,2,FALSE)","v":1962},{"$f":"VLOOKUP(C86,'[1]Racing numbers file'!$B$4:$F$290,4,FALSE)","v":54},{"$f":"SaturdayHandicapTable[[#This Row],[Points2]]","v":0},{"$f":"IF(ISNA(VLOOKUP($C86,'Sat TT_01'!$C$4:$Q$152,15,FALSE)=$C86),0,VLOOKUP($C86,'Sat TT_01'!$C$4:$Q$152,15,FALSE))","v":0},{"$f":"IF(ISNA(VLOOKUP($C86,'Sat TT_02'!$C$4:$Q$152,15,FALSE)=$C86),0,VLOOKUP($C86,'Sat TT_02'!$C$4:$Q$152,15,FALSE))","v":0},{"$f":"IF(ISNA(VLOOKUP($C86,'Sat TT_03'!$C$4:$Q$152,15,FALSE)=$C86),0,VLOOKUP($C86,'Sat TT_03'!$C$4:$Q$152,15,FALSE))","v":0},{"$f":"IF(ISNA(VLOOKUP($C86,'Sat TT_04'!$C$4:$Q$152,15,FALSE)=$C86),0,VLOOKUP($C86,'Sat TT_04'!$C$4:$Q$152,15,FALSE))","v":0},{"$f":"IF(ISNA(VLOOKUP($C86,'Sat TT_05'!$C$4:$Q$152,15,FALSE)=$C86),0,VLOOKUP($C86,'Sat TT_05'!$C$4:$Q$152,15,FALSE))","v":0},{"$f":"IF(ISNA(VLOOKUP($C86,'Sat TT_06'!$C$4:$Q$152,15,FALSE)=$C86),0,VLOOKUP($C86,'Sat TT_06'!$C$4:$Q$152,15,FALSE))","v":0},{"$f":"IF(ISNA(VLOOKUP($C86,'Sat TT_07'!$C$4:$Q$152,15,FALSE)=$C86),0,VLOOKUP($C86,'Sat TT_07'!$C$4:$Q$152,15,FALSE))","v":0},{"$f":"IF(ISNA(VLOOKUP($C86,'Sat TT_08'!$C$4:$Q$152,15,FALSE)=$C86),0,VLOOKUP($C86,'Sat TT_08'!$C$4:$Q$152,15,FALSE))","v":0},0]
[{"$f":"VLOOKUP(C87,'Sheet 1'!C$1:D$96,2,FALSE)","v":{"$error":"#N/A"}},78,"Bright","Oliver",69,{"$f":"SaturdayHandicapTable[[#This Row],[Points2]]","v":0},{"$f":"IF(ISNA(VLOOKUP($C87,'Sat TT_01'!$C$4:$Q$152,15,FALSE)=$C87),0,VLOOKUP($C87,'Sat TT_01'!$C$4:$Q$152,15,FALSE))","v":0},{"$f":"IF(ISNA(VLOOKUP($C87,'Sat TT_02'!$C$4:$Q$152,15,FALSE)=$C87),0,VLOOKUP($C87,'Sat TT_02'!$C$4:$Q$152,15,FALSE))","v":0},{"$f":"IF(ISNA(VLOOKUP($C87,'Sat TT_03'!$C$4:$Q$152,15,FALSE)=$C87),0,VLOOKUP($C87,'Sat TT_03'!$C$4:$Q$152,15,FALSE))","v":0},{"$f":"IF(ISNA(VLOOKUP($C87,'Sat TT_04'!$C$4:$Q$152,15,FALSE)=$C87),0,VLOOKUP($C87,'Sat TT_04'!$C$4:$Q$152,15,FALSE))","v":0},{"$f":"IF(ISNA(VLOOKUP($C87,'Sat TT_05'!$C$4:$Q$152,15,FALSE)=$C87),0,VLOOKUP($C87,'Sat TT_05'!$C$4:$Q$152,15,FALSE))","v":0},{"$f":"IF(ISNA(VLOOKUP($C87,'Sat TT_06'!$C$4:$Q$152,15,FALSE)=$C87),0,VLOOKUP($C87,'Sat TT_06'!$C$4:$Q$152,15,FALSE))","v":0},{"$f":"IF(ISNA(VLOOKUP($C87,'Sat TT_07'!$C$4:$Q$152,15,FALSE)=$C87),0,VLOOKUP($C87,'Sat TT_07'!$C$4:$Q$152,15,FALSE))","v":0},{"$f":"IF(ISNA(VLOOKUP($C87,'Sat TT_08'!$C$4:$Q$152,15,FALSE)=$C87),0,VLOOKUP($C87,'Sat TT_08'!$C$4:$Q$152,15,FALSE))","v":0},0]
[{"$f":"VLOOKUP(C88,'Sheet 1'!C$1:D$96,2,FALSE)","v":{"$error":"#N/A"}},79,{"$f":"+'[1]Racing numbers file'!$B244","v":"Mark Kiernan"},{"$f":"VLOOKUP(C88,'[1]Racing numbers file'!$B$4:$F$290,2,FALSE)","v":1969},{"$f":"VLOOKUP(C88,'[1]Racing numbers file'!$B$4:$F$290,4,FALSE)","v":47},{"$f":"SaturdayHandicapTable[[#This Row],[Points2]]","v":0},{"$f":"IF(ISNA(VLOOKUP($C88,'Sat TT_01'!$C$4:$Q$152,15,FALSE)=$C88),0,VLOOKUP($C88,'Sat TT_01'!$C$4:$Q$152,15,FALSE))","v":0},{"$f":"IF(ISNA(VLOOKUP($C88,'Sat TT_02'!$C$4:$Q$152,15,FALSE)=$C88),0,VLOOKUP($C88,'Sat TT_02'!$C$4:$Q$152,15,FALSE))","v":0},{"$f":"IF(ISNA(VLOOKUP($C88,'Sat TT_03'!$C$4:$Q$152,15,FALSE)=$C88),0,VLOOKUP($C88,'Sat TT_03'!$C$4:$Q$152,15,FALSE))","v":0},{"$f":"IF(ISNA(VLOOKUP($C88,'Sat TT_04'!$C$4:$Q$152,15,FALSE)=$C88),0,VLOOKUP($C88,'Sat TT_04'!$C$4:$Q$152,15,FALSE))","v":0},{"$f":"IF(ISNA(VLOOKUP($C88,'Sat TT_05'!$C$4:$Q$152,15,FALSE)=$C88),0,VLOOKUP($C88,'Sat TT_05'!$C$4:$Q$152,15,FALSE))","v":0},{"$f":"IF(ISNA(VLOOKUP($C88,'Sat TT_06'!$C$4:$Q$152,15,FALSE)=$C88),0,VLOOKUP($C88,'Sat TT_06'!$C$4:$Q$152,15,FALSE))","v":0},{"$f":"IF(ISNA(VLOOKUP($C88,'Sat TT_07'!$C$4:$Q$152,15,FALSE)=$C88),0,VLOOKUP($C88,'Sat TT_07'!$C$4:$Q$152,15,FALSE))","v":0},{"$f":"IF(ISNA(VLOOKUP($C88,'Sat TT_08'!$C$4:$Q$152,15,FALSE)=$C88),0,VLOOKUP($C88,'Sat TT_08'!$C$4:$Q$152,15,FALSE))","v":0},0]
[{"$f":"VLOOKUP(C89,'Sheet 1'!C$1:D$96,2,FALSE)","v":{"$error":"#N/A"}},80,{"$f":"+'[1]Racing numbers file'!$B125","v":"David Tansey"},{"$f":"VLOOKUP(C89,'[1]Racing numbers file'!$B$4:$F$290,2,FALSE)","v":1966},{"$f":"VLOOKUP(C89,'[1]Racing numbers file'!$B$4:$F$290,4,FALSE)","v":50},{"$f":"SaturdayHandicapTable[[#This Row],[Points2]]","v":0},{"$f":"IF(ISNA(VLOOKUP($C89,'Sat TT_01'!$C$4:$Q$152,15,FALSE)=$C89),0,VLOOKUP($C89,'Sat TT_01'!$C$4:$Q$152,15,FALSE))","v":0},{"$f":"IF(ISNA(VLOOKUP($C89,'Sat TT_02'!$C$4:$Q$152,15,FALSE)=$C89),0,VLOOKUP($C89,'Sat TT_02'!$C$4:$Q$152,15,FALSE))","v":0},{"$f":"IF(ISNA(VLOOKUP($C89,'Sat TT_03'!$C$4:$Q$152,15,FALSE)=$C89),0,VLOOKUP($C89,'Sat TT_03'!$C$4:$Q$152,15,FALSE))","v":0},{"$f":"IF(ISNA(VLOOKUP($C89,'Sat TT_04'!$C$4:$Q$152,15,FALSE)=$C89),0,VLOOKUP($C89,'Sat TT_04'!$C$4:$Q$152,15,FALSE))","v":0},{"$f":"IF(ISNA(VLOOKUP($C89,'Sat TT_05'!$C$4:$Q$152,15,FALSE)=$C89),0,VLOOKUP($C89,'Sat TT_05'!$C$4:$Q$152,15,FALSE))","v":0},{"$f":"IF(ISNA(VLOOKUP($C89,'Sat TT_06'!$C$4:$Q$152,15,FALSE)=$C89),0,VLOOKUP($C89,'Sat TT_06'!$C$4:$Q$152,15,FALSE))","v":0},{"$f":"IF(ISNA(VLOOKUP($C89,'Sat TT_07'!$C$4:$Q$152,15,FALSE)=$C89),0,VLOOKUP($C89,'Sat TT_07'!$C$4:$Q$152,15,FALSE))","v":0},{"$f":"IF(ISNA(VLOOKUP($C89,'Sat TT_08'!$C$4:$Q$152,15,FALSE)=$C89),0,VLOOKUP($C89,'Sat TT_08'!$C$4:$Q$152,15,FALSE))","v":0},0]
[{"$f":"VLOOKUP(C90,'Sheet 1'!C$1:D$96,2,FALSE)","v":{"$error":"#N/A"}},81,{"$f":"+'[1]Racing numbers file'!$B99","v":"Eamonn Walsh"},{"$f":"VLOOKUP(C90,'[1]Racing numbers file'!$B$4:$F$290,2,FALSE)","v":1962},{"$f":"VLOOKUP(C90,'[1]Racing numbers file'!$B$4:$F$290,4,FALSE)","v":54},{"$f":"SaturdayHandicapTable[[#This Row],[Points2]]","v":0},{"$f":"IF(ISNA(VLOOKUP($C90,'Sat TT_01'!$C$4:$Q$152,15,FALSE)=$C90),0,VLOOKUP($C90,'Sat TT_01'!$C$4:$Q$152,15,FALSE))","v":0},{"$f":"IF(ISNA(VLOOKUP($C90,'Sat TT_02'!$C$4:$Q$152,15,FALSE)=$C90),0,VLOOKUP($C90,'Sat TT_02'!$C$4:$Q$152,15,FALSE))","v":0},{"$f":"IF(ISNA(VLOOKUP($C90,'Sat TT_03'!$C$4:$Q$152,15,FALSE)=$C90),0,VLOOKUP($C90,'Sat TT_03'!$C$4:$Q$152,15,FALSE))","v":0},{"$f":"IF(ISNA(VLOOKUP($C90,'Sat TT_04'!$C$4:$Q$152,15,FALSE)=$C90),0,VLOOKUP($C90,'Sat TT_04'!$C$4:$Q$152,15,FALSE))","v":0},{"$f":"IF(ISNA(VLOOKUP($C90,'Sat TT_05'!$C$4:$Q$152,15,FALSE)=$C90),0,VLOOKUP($C90,'Sat TT_05'!$C$4:$Q$152,15,FALSE))","v":0},{"$f":"IF(ISNA(VLOOKUP($C90,'Sat TT_06'!$C$4:$Q$152,15,FALSE)=$C90),0,VLOOKUP($C90,'Sat TT_06'!$C$4:$Q$152,15,FALSE))","v":0},{"$f":"IF(ISNA(VLOOKUP($C90,'Sat TT_07'!$C$4:$Q$152,15,FALSE)=$C90),0,VLOOKUP($C90,'Sat TT_07'!$C$4:$Q$152,15,FALSE))","v":0},{"$f":"IF(ISNA(VLOOKUP($C90,'Sat TT_08'!$C$4:$Q$152,15,FALSE)=$C90),0,VLOOKUP($C90,'Sat TT_08'!$C$4:$Q$152,15,FALSE))","v":0},0]
[{"$f":"VLOOKUP(C91,'Sheet 1'!C$1:D$96,2,FALSE)","v":{"$error":"#N/A"}},82,{"$f":"+'[1]Racing numbers file'!$B38","v":"Damien Lyle-Stirling"},{"$f":"VLOOKUP(C91,'[1]Racing numbers file'!$B$4:$F$290,2,FALSE)","v":1952},{"$f":"VLOOKUP(C91,'[1]Racing numbers file'!$B$4:$F$290,4,FALSE)","v":64},{"$f":"SaturdayHandicapTable[[#This Row],[Points2]]","v":0},{"$f":"IF(ISNA(VLOOKUP($C91,'Sat TT_01'!$C$4:$Q$152,15,FALSE)=$C91),0,VLOOKUP($C91,'Sat TT_01'!$C$4:$Q$152,15,FALSE))","v":0},{"$f":"IF(ISNA(VLOOKUP($C91,'Sat TT_02'!$C$4:$Q$152,15,FALSE)=$C91),0,VLOOKUP($C91,'Sat TT_02'!$C$4:$Q$152,15,FALSE))","v":0},{"$f":"IF(ISNA(VLOOKUP($C91,'Sat TT_03'!$C$4:$Q$152,15,FALSE)=$C91),0,VLOOKUP($C91,'Sat TT_03'!$C$4:$Q$152,15,FALSE))","v":0},{"$f":"IF(ISNA(VLOOKUP($C91,'Sat TT_04'!$C$4:$Q$152,15,FALSE)=$C91),0,VLOOKUP($C91,'Sat TT_04'!$C$4:$Q$152,15,FALSE))","v":0},{"$f":"IF(ISNA(VLOOKUP($C91,'Sat TT_05'!$C$4:$Q$152,15,FALSE)=$C91),0,VLOOKUP($C91,'Sat TT_05'!$C$4:$Q$152,15,FALSE))","v":0},{"$f":"IF(ISNA(VLOOKUP($C91,'Sat TT_06'!$C$4:$Q$152,15,FALSE)=$C91),0,VLOOKUP($C91,'Sat TT_06'!$C$4:$Q$152,15,FALSE))","v":0},{"$f":"IF(ISNA(VLOOKUP($C91,'Sat TT_07'!$C$4:$Q$152,15,FALSE)=$C91),0,VLOOKUP($C91,'Sat TT_07'!$C$4:$Q$152,15,FALSE))","v":0},{"$f":"IF(ISNA(VLOOKUP($C91,'Sat TT_08'!$C$4:$Q$152,15,FALSE)=$C91),0,VLOOKUP($C91,'Sat TT_08'!$C$4:$Q$152,15,FALSE))","v":0},0]
[{"$f":"VLOOKUP(C92,'Sheet 1'!C$1:D$96,2,FALSE)","v":{"$error":"#N/A"}},83,"Byrne aj","Adrian J.P.",60,{"$f":"SaturdayHandicapTable[[#This Row],[Points2]]","v":0},{"$f":"IF(ISNA(VLOOKUP($C92,'Sat TT_01'!$C$4:$Q$152,15,FALSE)=$C92),0,VLOOKUP($C92,'Sat TT_01'!$C$4:$Q$152,15,FALSE))","v":0},{"$f":"IF(ISNA(VLOOKUP($C92,'Sat TT_02'!$C$4:$Q$152,15,FALSE)=$C92),0,VLOOKUP($C92,'Sat TT_02'!$C$4:$Q$152,15,FALSE))","v":0},{"$f":"IF(ISNA(VLOOKUP($C92,'Sat TT_03'!$C$4:$Q$152,15,FALSE)=$C92),0,VLOOKUP($C92,'Sat TT_03'!$C$4:$Q$152,15,FALSE))","v":0},{"$f":"IF(ISNA(VLOOKUP($C92,'Sat TT_04'!$C$4:$Q$152,15,FALSE)=$C92),0,VLOOKUP($C92,'Sat TT_04'!$C$4:$Q$152,15,FALSE))","v":0},{"$f":"IF(ISNA(VLOOKUP($C92,'Sat TT_05'!$C$4:$Q$152,15,FALSE)=$C92),0,VLOOKUP($C92,'Sat TT_05'!$C$4:$Q$152,15,FALSE))","v":0},{"$f":"IF(ISNA(VLOOKUP($C92,'Sat TT_06'!$C$4:$Q$152,15,FALSE)=$C92),0,VLOOKUP($C92,'Sat TT_06'!$C$4:$Q$152,15,FALSE))","v":0},{"$f":"IF(ISNA(VLOOKUP($C92,'Sat TT_07'!$C$4:$Q$152,15,FALSE)=$C92),0,VLOOKUP($C92,'Sat TT_07'!$C$4:$Q$152,15,FALSE))","v":0},{"$f":"IF(ISNA(VLOOKUP($C92,'Sat TT_08'!$C$4:$Q$152,15,FALSE)=$C92),0,VLOOKUP($C92,'Sat TT_08'!$C$4:$Q$152,15,FALSE))","v":0},0]
[{"$f":"VLOOKUP(C93,'Sheet 1'!C$1:D$96,2,FALSE)","v":{"$error":"#N/A"}},84,{"$f":"+'[1]Racing numbers file'!$B68","v":"Hugh Byrne"},{"$f":"VLOOKUP(C93,'[1]Racing numbers file'!$B$4:$F$290,2,FALSE)","v":1959},{"$f":"VLOOKUP(C93,'[1]Racing numbers file'!$B$4:$F$290,4,FALSE)","v":57},{"$f":"SaturdayHandicapTable[[#This Row],[Points2]]","v":0},{"$f":"IF(ISNA(VLOOKUP($C93,'Sat TT_01'!$C$4:$Q$152,15,FALSE)=$C93),0,VLOOKUP($C93,'Sat TT_01'!$C$4:$Q$152,15,FALSE))","v":0},{"$f":"IF(ISNA(VLOOKUP($C93,'Sat TT_02'!$C$4:$Q$152,15,FALSE)=$C93),0,VLOOKUP($C93,'Sat TT_02'!$C$4:$Q$152,15,FALSE))","v":0},{"$f":"IF(ISNA(VLOOKUP($C93,'Sat TT_03'!$C$4:$Q$152,15,FALSE)=$C93),0,VLOOKUP($C93,'Sat TT_03'!$C$4:$Q$152,15,FALSE))","v":0},{"$f":"IF(ISNA(VLOOKUP($C93,'Sat TT_04'!$C$4:$Q$152,15,FALSE)=$C93),0,VLOOKUP($C93,'Sat TT_04'!$C$4:$Q$152,15,FALSE))","v":0},{"$f":"IF(ISNA(VLOOKUP($C93,'Sat TT_05'!$C$4:$Q$152,15,FALSE)=$C93),0,VLOOKUP($C93,'Sat TT_05'!$C$4:$Q$152,15,FALSE))","v":0},{"$f":"IF(ISNA(VLOOKUP($C93,'Sat TT_06'!$C$4:$Q$152,15,FALSE)=$C93),0,VLOOKUP($C93,'Sat TT_06'!$C$4:$Q$152,15,FALSE))","v":0},{"$f":"IF(ISNA(VLOOKUP($C93,'Sat TT_07'!$C$4:$Q$152,15,FALSE)=$C93),0,VLOOKUP($C93,'Sat TT_07'!$C$4:$Q$152,15,FALSE))","v":0},{"$f":"IF(ISNA(VLOOKUP($C93,'Sat TT_08'!$C$4:$Q$152,15,FALSE)=$C93),0,VLOOKUP($C93,'Sat TT_08'!$C$4:$Q$152,15,FALSE))","v":0},0]
[{"$f":"VLOOKUP(C94,'Sheet 1'!C$1:D$96,2,FALSE)","v":1398},85,{"$f":"+'[1]Racing numbers file'!$B203","v":"Aidan Yates"},{"$f":"VLOOKUP(C94,'[1]Racing numbers file'!$B$4:$F$290,2,FALSE)","v":1974},{"$f":"VLOOKUP(C94,'[1]Racing numbers file'!$B$4:$F$290,4,FALSE)","v":42},{"$f":"SaturdayHandicapTable[[#This Row],[Points2]]","v":0},{"$f":"IF(ISNA(VLOOKUP($C94,'Sat TT_01'!$C$4:$Q$152,15,FALSE)=$C94),0,VLOOKUP($C94,'Sat TT_01'!$C$4:$Q$152,15,FALSE))","v":0},{"$f":"IF(ISNA(VLOOKUP($C94,'Sat TT_02'!$C$4:$Q$152,15,FALSE)=$C94),0,VLOOKUP($C94,'Sat TT_02'!$C$4:$Q$152,15,FALSE))","v":0},{"$f":"IF(ISNA(VLOOKUP($C94,'Sat TT_03'!$C$4:$Q$152,15,FALSE)=$C94),0,VLOOKUP($C94,'Sat TT_03'!$C$4:$Q$152,15,FALSE))","v":0},{"$f":"IF(ISNA(VLOOKUP($C94,'Sat TT_04'!$C$4:$Q$152,15,FALSE)=$C94),0,VLOOKUP($C94,'Sat TT_04'!$C$4:$Q$152,15,FALSE))","v":0},{"$f":"IF(ISNA(VLOOKUP($C94,'Sat TT_05'!$C$4:$Q$152,15,FALSE)=$C94),0,VLOOKUP($C94,'Sat TT_05'!$C$4:$Q$152,15,FALSE))","v":0},{"$f":"IF(ISNA(VLOOKUP($C94,'Sat TT_06'!$C$4:$Q$152,15,FALSE)=$C94),0,VLOOKUP($C94,'Sat TT_06'!$C$4:$Q$152,15,FALSE))","v":0},{"$f":"IF(ISNA(VLOOKUP($C94,'Sat TT_07'!$C$4:$Q$152,15,FALSE)=$C94),0,VLOOKUP($C94,'Sat TT_07'!$C$4:$Q$152,15,FALSE))","v":0},{"$f":"IF(ISNA(VLOOKUP($C94,'Sat TT_08'!$C$4:$Q$152,15,FALSE)=$C94),0,VLOOKUP($C94,'Sat TT_08'!$C$4:$Q$152,15,FALSE))","v":0},0]
[{"$f":"VLOOKUP(C95,'Sheet 1'!C$1:D$96,2,FALSE)","v":{"$error":"#N/A"}},86,{"$f":"+'[1]Racing numbers file'!$B162","v":"Conor McGrane"},{"$f":"VLOOKUP(C95,'[1]Racing numbers file'!$B$4:$F$290,2,FALSE)","v":1970},{"$f":"VLOOKUP(C95,'[1]Racing numbers file'!$B$4:$F$290,4,FALSE)","v":46},{"$f":"SaturdayHandicapTable[[#This Row],[Points2]]","v":0},{"$f":"IF(ISNA(VLOOKUP($C95,'Sat TT_01'!$C$4:$Q$152,15,FALSE)=$C95),0,VLOOKUP($C95,'Sat TT_01'!$C$4:$Q$152,15,FALSE))","v":0},{"$f":"IF(ISNA(VLOOKUP($C95,'Sat TT_02'!$C$4:$Q$152,15,FALSE)=$C95),0,VLOOKUP($C95,'Sat TT_02'!$C$4:$Q$152,15,FALSE))","v":0},{"$f":"IF(ISNA(VLOOKUP($C95,'Sat TT_03'!$C$4:$Q$152,15,FALSE)=$C95),0,VLOOKUP($C95,'Sat TT_03'!$C$4:$Q$152,15,FALSE))","v":0},{"$f":"IF(ISNA(VLOOKUP($C95,'Sat TT_04'!$C$4:$Q$152,15,FALSE)=$C95),0,VLOOKUP($C95,'Sat TT_04'!$C$4:$Q$152,15,FALSE))","v":0},{"$f":"IF(ISNA(VLOOKUP($C95,'Sat TT_05'!$C$4:$Q$152,15,FALSE)=$C95),0,VLOOKUP($C95,'Sat TT_05'!$C$4:$Q$152,15,FALSE))","v":0},{"$f":"IF(ISNA(VLOOKUP($C95,'Sat TT_06'!$C$4:$Q$152,15,FALSE)=$C95),0,VLOOKUP($C95,'Sat TT_06'!$C$4:$Q$152,15,FALSE))","v":0},{"$f":"IF(ISNA(VLOOKUP($C95,'Sat TT_07'!$C$4:$Q$152,15,FALSE)=$C95),0,VLOOKUP($C95,'Sat TT_07'!$C$4:$Q$152,15,FALSE))","v":0},{"$f":"IF(ISNA(VLOOKUP($C95,'Sat TT_08'!$C$4:$Q$152,15,FALSE)=$C95),0,VLOOKUP($C95,'Sat TT_08'!$C$4:$Q$152,15,FALSE))","v":0},0]
[{"$f":"VLOOKUP(C96,'Sheet 1'!C$1:D$96,2,FALSE)","v":{"$error":"#N/A"}},87,{"$f":"+'[1]Racing numbers file'!$B269","v":"Kiaran Sweeney"},{"$f":"VLOOKUP(C96,'[1]Racing numbers file'!$B$4:$F$290,2,FALSE)","v":1967},{"$f":"VLOOKUP(C96,'[1]Racing numbers file'!$B$4:$F$290,4,FALSE)","v":49},{"$f":"SaturdayHandicapTable[[#This Row],[Points2]]","v":0},{"$f":"IF(ISNA(VLOOKUP($C96,'Sat TT_01'!$C$4:$Q$152,15,FALSE)=$C96),0,VLOOKUP($C96,'Sat TT_01'!$C$4:$Q$152,15,FALSE))","v":0},{"$f":"IF(ISNA(VLOOKUP($C96,'Sat TT_02'!$C$4:$Q$152,15,FALSE)=$C96),0,VLOOKUP($C96,'Sat TT_02'!$C$4:$Q$152,15,FALSE))","v":0},{"$f":"IF(ISNA(VLOOKUP($C96,'Sat TT_03'!$C$4:$Q$152,15,FALSE)=$C96),0,VLOOKUP($C96,'Sat TT_03'!$C$4:$Q$152,15,FALSE))","v":0},{"$f":"IF(ISNA(VLOOKUP($C96,'Sat TT_04'!$C$4:$Q$152,15,FALSE)=$C96),0,VLOOKUP($C96,'Sat TT_04'!$C$4:$Q$152,15,FALSE))","v":0},{"$f":"IF(ISNA(VLOOKUP($C96,'Sat TT_05'!$C$4:$Q$152,15,FALSE)=$C96),0,VLOOKUP($C96,'Sat TT_05'!$C$4:$Q$152,15,FALSE))","v":0},{"$f":"IF(ISNA(VLOOKUP($C96,'Sat TT_06'!$C$4:$Q$152,15,FALSE)=$C96),0,VLOOKUP($C96,'Sat TT_06'!$C$4:$Q$152,15,FALSE))","v":0},{"$f":"IF(ISNA(VLOOKUP($C96,'Sat TT_07'!$C$4:$Q$152,15,FALSE)=$C96),0,VLOOKUP($C96,'Sat TT_07'!$C$4:$Q$152,15,FALSE))","v":0},{"$f":"IF(ISNA(VLOOKUP($C96,'Sat TT_08'!$C$4:$Q$152,15,FALSE)=$C96),0,VLOOKUP($C96,'Sat TT_08'!$C$4:$Q$152,15,FALSE))","v":0},0]
[{"$f":"VLOOKUP(C97,'Sheet 1'!C$1:D$96,2,FALSE)","v":{"$error":"#N/A"}},88,"Cassidy c","Colm",56,{"$f":"SaturdayHandicapTable[[#This Row],[Points2]]","v":0},{"$f":"IF(ISNA(VLOOKUP($C97,'Sat TT_01'!$C$4:$Q$152,15,FALSE)=$C97),0,VLOOKUP($C97,'Sat TT_01'!$C$4:$Q$152,15,FALSE))","v":0},{"$f":"IF(ISNA(VLOOKUP($C97,'Sat TT_02'!$C$4:$Q$152,15,FALSE)=$C97),0,VLOOKUP($C97,'Sat TT_02'!$C$4:$Q$152,15,FALSE))","v":0},{"$f":"IF(ISNA(VLOOKUP($C97,'Sat TT_03'!$C$4:$Q$152,15,FALSE)=$C97),0,VLOOKUP($C97,'Sat TT_03'!$C$4:$Q$152,15,FALSE))","v":0},{"$f":"IF(ISNA(VLOOKUP($C97,'Sat TT_04'!$C$4:$Q$152,15,FALSE)=$C97),0,VLOOKUP($C97,'Sat TT_04'!$C$4:$Q$152,15,FALSE))","v":0},{"$f":"IF(ISNA(VLOOKUP($C97,'Sat TT_05'!$C$4:$Q$152,15,FALSE)=$C97),0,VLOOKUP($C97,'Sat TT_05'!$C$4:$Q$152,15,FALSE))","v":0},{"$f":"IF(ISNA(VLOOKUP($C97,'Sat TT_06'!$C$4:$Q$152,15,FALSE)=$C97),0,VLOOKUP($C97,'Sat TT_06'!$C$4:$Q$152,15,FALSE))","v":0},{"$f":"IF(ISNA(VLOOKUP($C97,'Sat TT_07'!$C$4:$Q$152,15,FALSE)=$C97),0,VLOOKUP($C97,'Sat TT_07'!$C$4:$Q$152,15,FALSE))","v":0},{"$f":"IF(ISNA(VLOOKUP($C97,'Sat TT_08'!$C$4:$Q$152,15,FALSE)=$C97),0,VLOOKUP($C97,'Sat TT_08'!$C$4:$Q$152,15,FALSE))","v":0},0]
[{"$f":"VLOOKUP(C98,'Sheet 1'!C$1:D$96,2,FALSE)","v":{"$error":"#N/A"}},89,{"$f":"+'[1]Racing numbers file'!$B147","v":"Brian Kilbride"},{"$f":"VLOOKUP(C98,'[1]Racing numbers file'!$B$4:$F$290,2,FALSE)","v":1968},{"$f":"VLOOKUP(C98,'[1]Racing numbers file'!$B$4:$F$290,4,FALSE)","v":48},{"$f":"SaturdayHandicapTable[[#This Row],[Points2]]","v":0},{"$f":"IF(ISNA(VLOOKUP($C98,'Sat TT_01'!$C$4:$Q$152,15,FALSE)=$C98),0,VLOOKUP($C98,'Sat TT_01'!$C$4:$Q$152,15,FALSE))","v":0},{"$f":"IF(ISNA(VLOOKUP($C98,'Sat TT_02'!$C$4:$Q$152,15,FALSE)=$C98),0,VLOOKUP($C98,'Sat TT_02'!$C$4:$Q$152,15,FALSE))","v":0},{"$f":"IF(ISNA(VLOOKUP($C98,'Sat TT_03'!$C$4:$Q$152,15,FALSE)=$C98),0,VLOOKUP($C98,'Sat TT_03'!$C$4:$Q$152,15,FALSE))","v":0},{"$f":"IF(ISNA(VLOOKUP($C98,'Sat TT_04'!$C$4:$Q$152,15,FALSE)=$C98),0,VLOOKUP($C98,'Sat TT_04'!$C$4:$Q$152,15,FALSE))","v":0},{"$f":"IF(ISNA(VLOOKUP($C98,'Sat TT_05'!$C$4:$Q$152,15,FALSE)=$C98),0,VLOOKUP($C98,'Sat TT_05'!$C$4:$Q$152,15,FALSE))","v":0},{"$f":"IF(ISNA(VLOOKUP($C98,'Sat TT_06'!$C$4:$Q$152,15,FALSE)=$C98),0,VLOOKUP($C98,'Sat TT_06'!$C$4:$Q$152,15,FALSE))","v":0},{"$f":"IF(ISNA(VLOOKUP($C98,'Sat TT_07'!$C$4:$Q$152,15,FALSE)=$C98),0,VLOOKUP($C98,'Sat TT_07'!$C$4:$Q$152,15,FALSE))","v":0},{"$f":"IF(ISNA(VLOOKUP($C98,'Sat TT_08'!$C$4:$Q$152,15,FALSE)=$C98),0,VLOOKUP($C98,'Sat TT_08'!$C$4:$Q$152,15,FALSE))","v":0},0]
[{"$f":"VLOOKUP(C99,'Sheet 1'!C$1:D$96,2,FALSE)","v":{"$error":"#N/A"}},90,{"$f":"+'[1]Racing numbers file'!$B146","v":"Michael Moore"},{"$f":"VLOOKUP(C99,'[1]Racing numbers file'!$B$4:$F$290,2,FALSE)","v":1968},{"$f":"VLOOKUP(C99,'[1]Racing numbers file'!$B$4:$F$290,4,FALSE)","v":48},{"$f":"SaturdayHandicapTable[[#This Row],[Points2]]","v":0},{"$f":"IF(ISNA(VLOOKUP($C99,'Sat TT_01'!$C$4:$Q$152,15,FALSE)=$C99),0,VLOOKUP($C99,'Sat TT_01'!$C$4:$Q$152,15,FALSE))","v":0},{"$f":"IF(ISNA(VLOOKUP($C99,'Sat TT_02'!$C$4:$Q$152,15,FALSE)=$C99),0,VLOOKUP($C99,'Sat TT_02'!$C$4:$Q$152,15,FALSE))","v":0},{"$f":"IF(ISNA(VLOOKUP($C99,'Sat TT_03'!$C$4:$Q$152,15,FALSE)=$C99),0,VLOOKUP($C99,'Sat TT_03'!$C$4:$Q$152,15,FALSE))","v":0},{"$f":"IF(ISNA(VLOOKUP($C99,'Sat TT_04'!$C$4:$Q$152,15,FALSE)=$C99),0,VLOOKUP($C99,'Sat TT_04'!$C$4:$Q$152,15,FALSE))","v":0},{"$f":"IF(ISNA(VLOOKUP($C99,'Sat TT_05'!$C$4:$Q$152,15,FALSE)=$C99),0,VLOOKUP($C99,'Sat TT_05'!$C$4:$Q$152,15,FALSE))","v":0},{"$f":"IF(ISNA(VLOOKUP($C99,'Sat TT_06'!$C$4:$Q$152,15,FALSE)=$C99),0,VLOOKUP($C99,'Sat TT_06'!$C$4:$Q$152,15,FALSE))","v":0},{"$f":"IF(ISNA(VLOOKUP($C99,'Sat TT_07'!$C$4:$Q$152,15,FALSE)=$C99),0,VLOOKUP($C99,'Sat TT_07'!$C$4:$Q$152,15,FALSE))","v":0},{"$f":"IF(ISNA(VLOOKUP($C99,'Sat TT_08'!$C$4:$Q$152,15,FALSE)=$C99),0,VLOOKUP($C99,'Sat TT_08'!$C$4:$Q$152,15,FALSE))","v":0},0]
[{"$f":"VLOOKUP(C100,'Sheet 1'!C$1:D$96,2,FALSE)","v":{"$error":"#N/A"}},91,{"$f":"+'[1]Racing numbers file'!$B266","v":"Ciaran Ruane"},{"$f":"VLOOKUP(C100,'[1]Racing numbers file'!$B$4:$F$290,2,FALSE)","v":1971},{"$f":"VLOOKUP(C100,'[1]Racing numbers file'!$B$4:$F$290,4,FALSE)","v":45},{"$f":"SaturdayHandicapTable[[#This Row],[Points2]]","v":0},{"$f":"IF(ISNA(VLOOKUP($C100,'Sat TT_01'!$C$4:$Q$152,15,FALSE)=$C100),0,VLOOKUP($C100,'Sat TT_01'!$C$4:$Q$152,15,FALSE))","v":0},{"$f":"IF(ISNA(VLOOKUP($C100,'Sat TT_02'!$C$4:$Q$152,15,FALSE)=$C100),0,VLOOKUP($C100,'Sat TT_02'!$C$4:$Q$152,15,FALSE))","v":0},{"$f":"IF(ISNA(VLOOKUP($C100,'Sat TT_03'!$C$4:$Q$152,15,FALSE)=$C100),0,VLOOKUP($C100,'Sat TT_03'!$C$4:$Q$152,15,FALSE))","v":0},{"$f":"IF(ISNA(VLOOKUP($C100,'Sat TT_04'!$C$4:$Q$152,15,FALSE)=$C100),0,VLOOKUP($C100,'Sat TT_04'!$C$4:$Q$152,15,FALSE))","v":0},{"$f":"IF(ISNA(VLOOKUP($C100,'Sat TT_05'!$C$4:$Q$152,15,FALSE)=$C100),0,VLOOKUP($C100,'Sat TT_05'!$C$4:$Q$152,15,FALSE))","v":0},{"$f":"IF(ISNA(VLOOKUP($C100,'Sat TT_06'!$C$4:$Q$152,15,FALSE)=$C100),0,VLOOKUP($C100,'Sat TT_06'!$C$4:$Q$152,15,FALSE))","v":0},{"$f":"IF(ISNA(VLOOKUP($C100,'Sat TT_07'!$C$4:$Q$152,15,FALSE)=$C100),0,VLOOKUP($C100,'Sat TT_07'!$C$4:$Q$152,15,FALSE))","v":0},{"$f":"IF(ISNA(VLOOKUP($C100,'Sat TT_08'!$C$4:$Q$152,15,FALSE)=$C100),0,VLOOKUP($C100,'Sat TT_08'!$C$4:$Q$152,15,FALSE))","v":0},0]
[{"$f":"VLOOKUP(C101,'Sheet 1'!C$1:D$96,2,FALSE)","v":1451},92,{"$f":"+'[1]Racing numbers file'!$B230","v":"Andreas Voigt"},{"$f":"VLOOKUP(C101,'[1]Racing numbers file'!$B$4:$F$290,2,FALSE)","v":1972},{"$f":"VLOOKUP(C101,'[1]Racing numbers file'!$B$4:$F$290,4,FALSE)","v":44},{"$f":"SaturdayHandicapTable[[#This Row],[Points2]]","v":0},{"$f":"IF(ISNA(VLOOKUP($C101,'Sat TT_01'!$C$4:$Q$152,15,FALSE)=$C101),0,VLOOKUP($C101,'Sat TT_01'!$C$4:$Q$152,15,FALSE))","v":0},{"$f":"IF(ISNA(VLOOKUP($C101,'Sat TT_02'!$C$4:$Q$152,15,FALSE)=$C101),0,VLOOKUP($C101,'Sat TT_02'!$C$4:$Q$152,15,FALSE))","v":0},{"$f":"IF(ISNA(VLOOKUP($C101,'Sat TT_03'!$C$4:$Q$152,15,FALSE)=$C101),0,VLOOKUP($C101,'Sat TT_03'!$C$4:$Q$152,15,FALSE))","v":0},{"$f":"IF(ISNA(VLOOKUP($C101,'Sat TT_04'!$C$4:$Q$152,15,FALSE)=$C101),0,VLOOKUP($C101,'Sat TT_04'!$C$4:$Q$152,15,FALSE))","v":0},{"$f":"IF(ISNA(VLOOKUP($C101,'Sat TT_05'!$C$4:$Q$152,15,FALSE)=$C101),0,VLOOKUP($C101,'Sat TT_05'!$C$4:$Q$152,15,FALSE))","v":0},{"$f":"IF(ISNA(VLOOKUP($C101,'Sat TT_06'!$C$4:$Q$152,15,FALSE)=$C101),0,VLOOKUP($C101,'Sat TT_06'!$C$4:$Q$152,15,FALSE))","v":0},{"$f":"IF(ISNA(VLOOKUP($C101,'Sat TT_07'!$C$4:$Q$152,15,FALSE)=$C101),0,VLOOKUP($C101,'Sat TT_07'!$C$4:$Q$152,15,FALSE))","v":0},{"$f":"IF(ISNA(VLOOKUP($C101,'Sat TT_08'!$C$4:$Q$152,15,FALSE)=$C101),0,VLOOKUP($C101,'Sat TT_08'!$C$4:$Q$152,15,FALSE))","v":0},0]
[{"$f":"VLOOKUP(C102,'Sheet 1'!C$1:D$96,2,FALSE)","v":{"$error":"#N/A"}},93,{"$f":"+'[1]Racing numbers file'!$B47","v":"Patrick Troy"},{"$f":"VLOOKUP(C102,'[1]Racing numbers file'!$B$4:$F$290,2,FALSE)","v":1954},{"$f":"VLOOKUP(C102,'[1]Racing numbers file'!$B$4:$F$290,4,FALSE)","v":62},{"$f":"SaturdayHandicapTable[[#This Row],[Points2]]","v":0},{"$f":"IF(ISNA(VLOOKUP($C102,'Sat TT_01'!$C$4:$Q$152,15,FALSE)=$C102),0,VLOOKUP($C102,'Sat TT_01'!$C$4:$Q$152,15,FALSE))","v":0},{"$f":"IF(ISNA(VLOOKUP($C102,'Sat TT_02'!$C$4:$Q$152,15,FALSE)=$C102),0,VLOOKUP($C102,'Sat TT_02'!$C$4:$Q$152,15,FALSE))","v":0},{"$f":"IF(ISNA(VLOOKUP($C102,'Sat TT_03'!$C$4:$Q$152,15,FALSE)=$C102),0,VLOOKUP($C102,'Sat TT_03'!$C$4:$Q$152,15,FALSE))","v":0},{"$f":"IF(ISNA(VLOOKUP($C102,'Sat TT_04'!$C$4:$Q$152,15,FALSE)=$C102),0,VLOOKUP($C102,'Sat TT_04'!$C$4:$Q$152,15,FALSE))","v":0},{"$f":"IF(ISNA(VLOOKUP($C102,'Sat TT_05'!$C$4:$Q$152,15,FALSE)=$C102),0,VLOOKUP($C102,'Sat TT_05'!$C$4:$Q$152,15,FALSE))","v":0},{"$f":"IF(ISNA(VLOOKUP($C102,'Sat TT_06'!$C$4:$Q$152,15,FALSE)=$C102),0,VLOOKUP($C102,'Sat TT_06'!$C$4:$Q$152,15,FALSE))","v":0},{"$f":"IF(ISNA(VLOOKUP($C102,'Sat TT_07'!$C$4:$Q$152,15,FALSE)=$C102),0,VLOOKUP($C102,'Sat TT_07'!$C$4:$Q$152,15,FALSE))","v":0},{"$f":"IF(ISNA(VLOOKUP($C102,'Sat TT_08'!$C$4:$Q$152,15,FALSE)=$C102),0,VLOOKUP($C102,'Sat TT_08'!$C$4:$Q$152,15,FALSE))","v":0},0]
[{"$f":"VLOOKUP(C103,'Sheet 1'!C$1:D$96,2,FALSE)","v":{"$error":"#N/A"}},94,{"$f":"+'[1]Racing numbers file'!$B263","v":"Declan Quigley"},{"$f":"VLOOKUP(C103,'[1]Racing numbers file'!$B$4:$F$290,2,FALSE)","v":1966},{"$f":"VLOOKUP(C103,'[1]Racing numbers file'!$B$4:$F$290,4,FALSE)","v":50},{"$f":"SaturdayHandicapTable[[#This Row],[Points2]]","v":0},{"$f":"IF(ISNA(VLOOKUP($C103,'Sat TT_01'!$C$4:$Q$152,15,FALSE)=$C103),0,VLOOKUP($C103,'Sat TT_01'!$C$4:$Q$152,15,FALSE))","v":0},{"$f":"IF(ISNA(VLOOKUP($C103,'Sat TT_02'!$C$4:$Q$152,15,FALSE)=$C103),0,VLOOKUP($C103,'Sat TT_02'!$C$4:$Q$152,15,FALSE))","v":0},{"$f":"IF(ISNA(VLOOKUP($C103,'Sat TT_03'!$C$4:$Q$152,15,FALSE)=$C103),0,VLOOKUP($C103,'Sat TT_03'!$C$4:$Q$152,15,FALSE))","v":0},{"$f":"IF(ISNA(VLOOKUP($C103,'Sat TT_04'!$C$4:$Q$152,15,FALSE)=$C103),0,VLOOKUP($C103,'Sat TT_04'!$C$4:$Q$152,15,FALSE))","v":0},{"$f":"IF(ISNA(VLOOKUP($C103,'Sat TT_05'!$C$4:$Q$152,15,FALSE)=$C103),0,VLOOKUP($C103,'Sat TT_05'!$C$4:$Q$152,15,FALSE))","v":0},{"$f":"IF(ISNA(VLOOKUP($C103,'Sat TT_06'!$C$4:$Q$152,15,FALSE)=$C103),0,VLOOKUP($C103,'Sat TT_06'!$C$4:$Q$152,15,FALSE))","v":0},{"$f":"IF(ISNA(VLOOKUP($C103,'Sat TT_07'!$C$4:$Q$152,15,FALSE)=$C103),0,VLOOKUP($C103,'Sat TT_07'!$C$4:$Q$152,15,FALSE))","v":0},{"$f":"IF(ISNA(VLOOKUP($C103,'Sat TT_08'!$C$4:$Q$152,15,FALSE)=$C103),0,VLOOKUP($C103,'Sat TT_08'!$C$4:$Q$152,15,FALSE))","v":0},0]
[{"$f":"VLOOKUP(C104,'Sheet 1'!C$1:D$96,2,FALSE)","v":1169},95,{"$f":"+'[1]Racing numbers file'!$B82","v":"Paul Atkinson"},{"$f":"VLOOKUP(C104,'[1]Racing numbers file'!$B$4:$F$290,2,FALSE)","v":1960},{"$f":"VLOOKUP(C104,'[1]Racing numbers file'!$B$4:$F$290,4,FALSE)","v":56},{"$f":"SaturdayHandicapTable[[#This Row],[Points2]]","v":0},{"$f":"IF(ISNA(VLOOKUP($C104,'Sat TT_01'!$C$4:$Q$152,15,FALSE)=$C104),0,VLOOKUP($C104,'Sat TT_01'!$C$4:$Q$152,15,FALSE))","v":0},{"$f":"IF(ISNA(VLOOKUP($C104,'Sat TT_02'!$C$4:$Q$152,15,FALSE)=$C104),0,VLOOKUP($C104,'Sat TT_02'!$C$4:$Q$152,15,FALSE))","v":0},{"$f":"IF(ISNA(VLOOKUP($C104,'Sat TT_03'!$C$4:$Q$152,15,FALSE)=$C104),0,VLOOKUP($C104,'Sat TT_03'!$C$4:$Q$152,15,FALSE))","v":0},{"$f":"IF(ISNA(VLOOKUP($C104,'Sat TT_04'!$C$4:$Q$152,15,FALSE)=$C104),0,VLOOKUP($C104,'Sat TT_04'!$C$4:$Q$152,15,FALSE))","v":0},{"$f":"IF(ISNA(VLOOKUP($C104,'Sat TT_05'!$C$4:$Q$152,15,FALSE)=$C104),0,VLOOKUP($C104,'Sat TT_05'!$C$4:$Q$152,15,FALSE))","v":0},{"$f":"IF(ISNA(VLOOKUP($C104,'Sat TT_06'!$C$4:$Q$152,15,FALSE)=$C104),0,VLOOKUP($C104,'Sat TT_06'!$C$4:$Q$152,15,FALSE))","v":0},{"$f":"IF(ISNA(VLOOKUP($C104,'Sat TT_07'!$C$4:$Q$152,15,FALSE)=$C104),0,VLOOKUP($C104,'Sat TT_07'!$C$4:$Q$152,15,FALSE))","v":0},{"$f":"IF(ISNA(VLOOKUP($C104,'Sat TT_08'!$C$4:$Q$152,15,FALSE)=$C104),0,VLOOKUP($C104,'Sat TT_08'!$C$4:$Q$152,15,FALSE))","v":0},0]
[{"$f":"VLOOKUP(C105,'Sheet 1'!C$1:D$96,2,FALSE)","v":{"$error":"#N/A"}},96,{"$f":"+'[1]Racing numbers file'!$B110","v":"Thomas Coleman"},{"$f":"VLOOKUP(C105,'[1]Racing numbers file'!$B$4:$F$290,2,FALSE)","v":1964},{"$f":"VLOOKUP(C105,'[1]Racing numbers file'!$B$4:$F$290,4,FALSE)","v":52},{"$f":"SaturdayHandicapTable[[#This Row],[Points2]]","v":0},{"$f":"IF(ISNA(VLOOKUP($C105,'Sat TT_01'!$C$4:$Q$152,15,FALSE)=$C105),0,VLOOKUP($C105,'Sat TT_01'!$C$4:$Q$152,15,FALSE))","v":0},{"$f":"IF(ISNA(VLOOKUP($C105,'Sat TT_02'!$C$4:$Q$152,15,FALSE)=$C105),0,VLOOKUP($C105,'Sat TT_02'!$C$4:$Q$152,15,FALSE))","v":0},{"$f":"IF(ISNA(VLOOKUP($C105,'Sat TT_03'!$C$4:$Q$152,15,FALSE)=$C105),0,VLOOKUP($C105,'Sat TT_03'!$C$4:$Q$152,15,FALSE))","v":0},{"$f":"IF(ISNA(VLOOKUP($C105,'Sat TT_04'!$C$4:$Q$152,15,FALSE)=$C105),0,VLOOKUP($C105,'Sat TT_04'!$C$4:$Q$152,15,FALSE))","v":0},{"$f":"IF(ISNA(VLOOKUP($C105,'Sat TT_05'!$C$4:$Q$152,15,FALSE)=$C105),0,VLOOKUP($C105,'Sat TT_05'!$C$4:$Q$152,15,FALSE))","v":0},{"$f":"IF(ISNA(VLOOKUP($C105,'Sat TT_06'!$C$4:$Q$152,15,FALSE)=$C105),0,VLOOKUP($C105,'Sat TT_06'!$C$4:$Q$152,15,FALSE))","v":0},{"$f":"IF(ISNA(VLOOKUP($C105,'Sat TT_07'!$C$4:$Q$152,15,FALSE)=$C105),0,VLOOKUP($C105,'Sat TT_07'!$C$4:$Q$152,15,FALSE))","v":0},{"$f":"IF(ISNA(VLOOKUP($C105,'Sat TT_08'!$C$4:$Q$152,15,FALSE)=$C105),0,VLOOKUP($C105,'Sat TT_08'!$C$4:$Q$152,15,FALSE))","v":0},0]
[{"$f":"VLOOKUP(C106,'Sheet 1'!C$1:D$96,2,FALSE)","v":{"$error":"#N/A"}},97,{"$f":"+'[1]Racing numbers file'!$B224","v":"Charlie Sheridan"},{"$f":"VLOOKUP(C106,'[1]Racing numbers file'!$B$4:$F$290,2,FALSE)","v":1971},{"$f":"VLOOKUP(C106,'[1]Racing numbers file'!$B$4:$F$290,4,FALSE)","v":45},{"$f":"SaturdayHandicapTable[[#This Row],[Points2]]","v":0},{"$f":"IF(ISNA(VLOOKUP($C106,'Sat TT_01'!$C$4:$Q$152,15,FALSE)=$C106),0,VLOOKUP($C106,'Sat TT_01'!$C$4:$Q$152,15,FALSE))","v":0},{"$f":"IF(ISNA(VLOOKUP($C106,'Sat TT_02'!$C$4:$Q$152,15,FALSE)=$C106),0,VLOOKUP($C106,'Sat TT_02'!$C$4:$Q$152,15,FALSE))","v":0},{"$f":"IF(ISNA(VLOOKUP($C106,'Sat TT_03'!$C$4:$Q$152,15,FALSE)=$C106),0,VLOOKUP($C106,'Sat TT_03'!$C$4:$Q$152,15,FALSE))","v":0},{"$f":"IF(ISNA(VLOOKUP($C106,'Sat TT_04'!$C$4:$Q$152,15,FALSE)=$C106),0,VLOOKUP($C106,'Sat TT_04'!$C$4:$Q$152,15,FALSE))","v":0},{"$f":"IF(ISNA(VLOOKUP($C106,'Sat TT_05'!$C$4:$Q$152,15,FALSE)=$C106),0,VLOOKUP($C106,'Sat TT_05'!$C$4:$Q$152,15,FALSE))","v":0},{"$f":"IF(ISNA(VLOOKUP($C106,'Sat TT_06'!$C$4:$Q$152,15,FALSE)=$C106),0,VLOOKUP($C106,'Sat TT_06'!$C$4:$Q$152,15,FALSE))","v":0},{"$f":"IF(ISNA(VLOOKUP($C106,'Sat TT_07'!$C$4:$Q$152,15,FALSE)=$C106),0,VLOOKUP($C106,'Sat TT_07'!$C$4:$Q$152,15,FALSE))","v":0},{"$f":"IF(ISNA(VLOOKUP($C106,'Sat TT_08'!$C$4:$Q$152,15,FALSE)=$C106),0,VLOOKUP($C106,'Sat TT_08'!$C$4:$Q$152,15,FALSE))","v":0},0]
[{"$f":"VLOOKUP(C107,'Sheet 1'!C$1:D$96,2,FALSE)","v":{"$error":"#N/A"}},98,{"$f":"+'[1]Racing numbers file'!$B259","v":"Stephen McGovern"},{"$f":"VLOOKUP(C107,'[1]Racing numbers file'!$B$4:$F$290,2,FALSE)","v":1976},{"$f":"VLOOKUP(C107,'[1]Racing numbers file'!$B$4:$F$290,4,FALSE)","v":40},{"$f":"SaturdayHandicapTable[[#This Row],[Points2]]","v":0},{"$f":"IF(ISNA(VLOOKUP($C107,'Sat TT_01'!$C$4:$Q$152,15,FALSE)=$C107),0,VLOOKUP($C107,'Sat TT_01'!$C$4:$Q$152,15,FALSE))","v":0},{"$f":"IF(ISNA(VLOOKUP($C107,'Sat TT_02'!$C$4:$Q$152,15,FALSE)=$C107),0,VLOOKUP($C107,'Sat TT_02'!$C$4:$Q$152,15,FALSE))","v":0},{"$f":"IF(ISNA(VLOOKUP($C107,'Sat TT_03'!$C$4:$Q$152,15,FALSE)=$C107),0,VLOOKUP($C107,'Sat TT_03'!$C$4:$Q$152,15,FALSE))","v":0},{"$f":"IF(ISNA(VLOOKUP($C107,'Sat TT_04'!$C$4:$Q$152,15,FALSE)=$C107),0,VLOOKUP($C107,'Sat TT_04'!$C$4:$Q$152,15,FALSE))","v":0},{"$f":"IF(ISNA(VLOOKUP($C107,'Sat TT_05'!$C$4:$Q$152,15,FALSE)=$C107),0,VLOOKUP($C107,'Sat TT_05'!$C$4:$Q$152,15,FALSE))","v":0},{"$f":"IF(ISNA(VLOOKUP($C107,'Sat TT_06'!$C$4:$Q$152,15,FALSE)=$C107),0,VLOOKUP($C107,'Sat TT_06'!$C$4:$Q$152,15,FALSE))","v":0},{"$f":"IF(ISNA(VLOOKUP($C107,'Sat TT_07'!$C$4:$Q$152,15,FALSE)=$C107),0,VLOOKUP($C107,'Sat TT_07'!$C$4:$Q$152,15,FALSE))","v":0},{"$f":"IF(ISNA(VLOOKUP($C107,'Sat TT_08'!$C$4:$Q$152,15,FALSE)=$C107),0,VLOOKUP($C107,'Sat TT_08'!$C$4:$Q$152,15,FALSE))","v":0},0]
[{"$f":"VLOOKUP(C108,'Sheet 1'!C$1:D$96,2,FALSE)","v":{"$error":"#N/A"}},99,{"$f":"+'[1]Racing numbers file'!$B156","v":"Keith O'Rourke"},{"$f":"VLOOKUP(C108,'[1]Racing numbers file'!$B$4:$F$290,2,FALSE)","v":1969},{"$f":"VLOOKUP(C108,'[1]Racing numbers file'!$B$4:$F$290,4,FALSE)","v":47},{"$f":"SaturdayHandicapTable[[#This Row],[Points2]]","v":0},{"$f":"IF(ISNA(VLOOKUP($C108,'Sat TT_01'!$C$4:$Q$152,15,FALSE)=$C108),0,VLOOKUP($C108,'Sat TT_01'!$C$4:$Q$152,15,FALSE))","v":0},{"$f":"IF(ISNA(VLOOKUP($C108,'Sat TT_02'!$C$4:$Q$152,15,FALSE)=$C108),0,VLOOKUP($C108,'Sat TT_02'!$C$4:$Q$152,15,FALSE))","v":0},{"$f":"IF(ISNA(VLOOKUP($C108,'Sat TT_03'!$C$4:$Q$152,15,FALSE)=$C108),0,VLOOKUP($C108,'Sat TT_03'!$C$4:$Q$152,15,FALSE))","v":0},{"$f":"IF(ISNA(VLOOKUP($C108,'Sat TT_04'!$C$4:$Q$152,15,FALSE)=$C108),0,VLOOKUP($C108,'Sat TT_04'!$C$4:$Q$152,15,FALSE))","v":0},{"$f":"IF(ISNA(VLOOKUP($C108,'Sat TT_05'!$C$4:$Q$152,15,FALSE)=$C108),0,VLOOKUP($C108,'Sat TT_05'!$C$4:$Q$152,15,FALSE))","v":0},{"$f":"IF(ISNA(VLOOKUP($C108,'Sat TT_06'!$C$4:$Q$152,15,FALSE)=$C108),0,VLOOKUP($C108,'Sat TT_06'!$C$4:$Q$152,15,FALSE))","v":0},{"$f":"IF(ISNA(VLOOKUP($C108,'Sat TT_07'!$C$4:$Q$152,15,FALSE)=$C108),0,VLOOKUP($C108,'Sat TT_07'!$C$4:$Q$152,15,FALSE))","v":0},{"$f":"IF(ISNA(VLOOKUP($C108,'Sat TT_08'!$C$4:$Q$152,15,FALSE)=$C108),0,VLOOKUP($C108,'Sat TT_08'!$C$4:$Q$152,15,FALSE))","v":0},0]
[{"$f":"VLOOKUP(C109,'Sheet 1'!C$1:D$96,2,FALSE)","v":{"$error":"#N/A"}},100,"Conway c","Colm",61,{"$f":"SaturdayHandicapTable[[#This Row],[Points2]]","v":0},{"$f":"IF(ISNA(VLOOKUP($C109,'Sat TT_01'!$C$4:$Q$152,15,FALSE)=$C109),0,VLOOKUP($C109,'Sat TT_01'!$C$4:$Q$152,15,FALSE))","v":0},{"$f":"IF(ISNA(VLOOKUP($C109,'Sat TT_02'!$C$4:$Q$152,15,FALSE)=$C109),0,VLOOKUP($C109,'Sat TT_02'!$C$4:$Q$152,15,FALSE))","v":0},{"$f":"IF(ISNA(VLOOKUP($C109,'Sat TT_03'!$C$4:$Q$152,15,FALSE)=$C109),0,VLOOKUP($C109,'Sat TT_03'!$C$4:$Q$152,15,FALSE))","v":0},{"$f":"IF(ISNA(VLOOKUP($C109,'Sat TT_04'!$C$4:$Q$152,15,FALSE)=$C109),0,VLOOKUP($C109,'Sat TT_04'!$C$4:$Q$152,15,FALSE))","v":0},{"$f":"IF(ISNA(VLOOKUP($C109,'Sat TT_05'!$C$4:$Q$152,15,FALSE)=$C109),0,VLOOKUP($C109,'Sat TT_05'!$C$4:$Q$152,15,FALSE))","v":0},{"$f":"IF(ISNA(VLOOKUP($C109,'Sat TT_06'!$C$4:$Q$152,15,FALSE)=$C109),0,VLOOKUP($C109,'Sat TT_06'!$C$4:$Q$152,15,FALSE))","v":0},{"$f":"IF(ISNA(VLOOKUP($C109,'Sat TT_07'!$C$4:$Q$152,15,FALSE)=$C109),0,VLOOKUP($C109,'Sat TT_07'!$C$4:$Q$152,15,FALSE))","v":0},{"$f":"IF(ISNA(VLOOKUP($C109,'Sat TT_08'!$C$4:$Q$152,15,FALSE)=$C109),0,VLOOKUP($C109,'Sat TT_08'!$C$4:$Q$152,15,FALSE))","v":0},0]
[{"$f":"VLOOKUP(C110,'Sheet 1'!C$1:D$96,2,FALSE)","v":1083},101,{"$f":"+'[1]Racing numbers file'!$B35","v":"Seán Darragh"},{"$f":"VLOOKUP(C110,'[1]Racing numbers file'!$B$4:$F$290,2,FALSE)","v":1951},{"$f":"VLOOKUP(C110,'[1]Racing numbers file'!$B$4:$F$290,4,FALSE)","v":65},{"$f":"SaturdayHandicapTable[[#This Row],[Points2]]","v":0},{"$f":"IF(ISNA(VLOOKUP($C110,'Sat TT_01'!$C$4:$Q$152,15,FALSE)=$C110),0,VLOOKUP($C110,'Sat TT_01'!$C$4:$Q$152,15,FALSE))","v":0},{"$f":"IF(ISNA(VLOOKUP($C110,'Sat TT_02'!$C$4:$Q$152,15,FALSE)=$C110),0,VLOOKUP($C110,'Sat TT_02'!$C$4:$Q$152,15,FALSE))","v":0},{"$f":"IF(ISNA(VLOOKUP($C110,'Sat TT_03'!$C$4:$Q$152,15,FALSE)=$C110),0,VLOOKUP($C110,'Sat TT_03'!$C$4:$Q$152,15,FALSE))","v":0},{"$f":"IF(ISNA(VLOOKUP($C110,'Sat TT_04'!$C$4:$Q$152,15,FALSE)=$C110),0,VLOOKUP($C110,'Sat TT_04'!$C$4:$Q$152,15,FALSE))","v":0},{"$f":"IF(ISNA(VLOOKUP($C110,'Sat TT_05'!$C$4:$Q$152,15,FALSE)=$C110),0,VLOOKUP($C110,'Sat TT_05'!$C$4:$Q$152,15,FALSE))","v":0},{"$f":"IF(ISNA(VLOOKUP($C110,'Sat TT_06'!$C$4:$Q$152,15,FALSE)=$C110),0,VLOOKUP($C110,'Sat TT_06'!$C$4:$Q$152,15,FALSE))","v":0},{"$f":"IF(ISNA(VLOOKUP($C110,'Sat TT_07'!$C$4:$Q$152,15,FALSE)=$C110),0,VLOOKUP($C110,'Sat TT_07'!$C$4:$Q$152,15,FALSE))","v":0},{"$f":"IF(ISNA(VLOOKUP($C110,'Sat TT_08'!$C$4:$Q$152,15,FALSE)=$C110),0,VLOOKUP($C110,'Sat TT_08'!$C$4:$Q$152,15,FALSE))","v":0},0]
[{"$f":"VLOOKUP(C111,'Sheet 1'!C$1:D$96,2,FALSE)","v":{"$error":"#N/A"}},102,{"$f":"+'[1]Racing numbers file'!$B204","v":"Patrick Deegan"},{"$f":"VLOOKUP(C111,'[1]Racing numbers file'!$B$4:$F$290,2,FALSE)","v":1970},{"$f":"VLOOKUP(C111,'[1]Racing numbers file'!$B$4:$F$290,4,FALSE)","v":46},{"$f":"SaturdayHandicapTable[[#This Row],[Points2]]","v":0},{"$f":"IF(ISNA(VLOOKUP($C111,'Sat TT_01'!$C$4:$Q$152,15,FALSE)=$C111),0,VLOOKUP($C111,'Sat TT_01'!$C$4:$Q$152,15,FALSE))","v":0},{"$f":"IF(ISNA(VLOOKUP($C111,'Sat TT_02'!$C$4:$Q$152,15,FALSE)=$C111),0,VLOOKUP($C111,'Sat TT_02'!$C$4:$Q$152,15,FALSE))","v":0},{"$f":"IF(ISNA(VLOOKUP($C111,'Sat TT_03'!$C$4:$Q$152,15,FALSE)=$C111),0,VLOOKUP($C111,'Sat TT_03'!$C$4:$Q$152,15,FALSE))","v":0},{"$f":"IF(ISNA(VLOOKUP($C111,'Sat TT_04'!$C$4:$Q$152,15,FALSE)=$C111),0,VLOOKUP($C111,'Sat TT_04'!$C$4:$Q$152,15,FALSE))","v":0},{"$f":"IF(ISNA(VLOOKUP($C111,'Sat TT_05'!$C$4:$Q$152,15,FALSE)=$C111),0,VLOOKUP($C111,'Sat TT_05'!$C$4:$Q$152,15,FALSE))","v":0},{"$f":"IF(ISNA(VLOOKUP($C111,'Sat TT_06'!$C$4:$Q$152,15,FALSE)=$C111),0,VLOOKUP($C111,'Sat TT_06'!$C$4:$Q$152,15,FALSE))","v":0},{"$f":"IF(ISNA(VLOOKUP($C111,'Sat TT_07'!$C$4:$Q$152,15,FALSE)=$C111),0,VLOOKUP($C111,'Sat TT_07'!$C$4:$Q$152,15,FALSE))","v":0},{"$f":"IF(ISNA(VLOOKUP($C111,'Sat TT_08'!$C$4:$Q$152,15,FALSE)=$C111),0,VLOOKUP($C111,'Sat TT_08'!$C$4:$Q$152,15,FALSE))","v":0},0]
[{"$f":"VLOOKUP(C112,'Sheet 1'!C$1:D$96,2,FALSE)","v":{"$error":"#N/A"}},103,{"$f":"+'[1]Racing numbers file'!$B84","v":"Dave Cormack"},{"$f":"VLOOKUP(C112,'[1]Racing numbers file'!$B$4:$F$290,2,FALSE)","v":1961},{"$f":"VLOOKUP(C112,'[1]Racing numbers file'!$B$4:$F$290,4,FALSE)","v":55},{"$f":"SaturdayHandicapTable[[#This Row],[Points2]]","v":0},{"$f":"IF(ISNA(VLOOKUP($C112,'Sat TT_01'!$C$4:$Q$152,15,FALSE)=$C112),0,VLOOKUP($C112,'Sat TT_01'!$C$4:$Q$152,15,FALSE))","v":0},{"$f":"IF(ISNA(VLOOKUP($C112,'Sat TT_02'!$C$4:$Q$152,15,FALSE)=$C112),0,VLOOKUP($C112,'Sat TT_02'!$C$4:$Q$152,15,FALSE))","v":0},{"$f":"IF(ISNA(VLOOKUP($C112,'Sat TT_03'!$C$4:$Q$152,15,FALSE)=$C112),0,VLOOKUP($C112,'Sat TT_03'!$C$4:$Q$152,15,FALSE))","v":0},{"$f":"IF(ISNA(VLOOKUP($C112,'Sat TT_04'!$C$4:$Q$152,15,FALSE)=$C112),0,VLOOKUP($C112,'Sat TT_04'!$C$4:$Q$152,15,FALSE))","v":0},{"$f":"IF(ISNA(VLOOKUP($C112,'Sat TT_05'!$C$4:$Q$152,15,FALSE)=$C112),0,VLOOKUP($C112,'Sat TT_05'!$C$4:$Q$152,15,FALSE))","v":0},{"$f":"IF(ISNA(VLOOKUP($C112,'Sat TT_06'!$C$4:$Q$152,15,FALSE)=$C112),0,VLOOKUP($C112,'Sat TT_06'!$C$4:$Q$152,15,FALSE))","v":0},{"$f":"IF(ISNA(VLOOKUP($C112,'Sat TT_07'!$C$4:$Q$152,15,FALSE)=$C112),0,VLOOKUP($C112,'Sat TT_07'!$C$4:$Q$152,15,FALSE))","v":0},{"$f":"IF(ISNA(VLOOKUP($C112,'Sat TT_08'!$C$4:$Q$152,15,FALSE)=$C112),0,VLOOKUP($C112,'Sat TT_08'!$C$4:$Q$152,15,FALSE))","v":0},0]
[{"$f":"VLOOKUP(C113,'Sheet 1'!C$1:D$96,2,FALSE)","v":1231},104,{"$f":"+'[1]Racing numbers file'!$B118","v":"Billy Bourke"},{"$f":"VLOOKUP(C113,'[1]Racing numbers file'!$B$4:$F$290,2,FALSE)","v":1965},{"$f":"VLOOKUP(C113,'[1]Racing numbers file'!$B$4:$F$290,4,FALSE)","v":51},{"$f":"SaturdayHandicapTable[[#This Row],[Points2]]","v":0},{"$f":"IF(ISNA(VLOOKUP($C113,'Sat TT_01'!$C$4:$Q$152,15,FALSE)=$C113),0,VLOOKUP($C113,'Sat TT_01'!$C$4:$Q$152,15,FALSE))","v":0},{"$f":"IF(ISNA(VLOOKUP($C113,'Sat TT_02'!$C$4:$Q$152,15,FALSE)=$C113),0,VLOOKUP($C113,'Sat TT_02'!$C$4:$Q$152,15,FALSE))","v":0},{"$f":"IF(ISNA(VLOOKUP($C113,'Sat TT_03'!$C$4:$Q$152,15,FALSE)=$C113),0,VLOOKUP($C113,'Sat TT_03'!$C$4:$Q$152,15,FALSE))","v":0},{"$f":"IF(ISNA(VLOOKUP($C113,'Sat TT_04'!$C$4:$Q$152,15,FALSE)=$C113),0,VLOOKUP($C113,'Sat TT_04'!$C$4:$Q$152,15,FALSE))","v":0},{"$f":"IF(ISNA(VLOOKUP($C113,'Sat TT_05'!$C$4:$Q$152,15,FALSE)=$C113),0,VLOOKUP($C113,'Sat TT_05'!$C$4:$Q$152,15,FALSE))","v":0},{"$f":"IF(ISNA(VLOOKUP($C113,'Sat TT_06'!$C$4:$Q$152,15,FALSE)=$C113),0,VLOOKUP($C113,'Sat TT_06'!$C$4:$Q$152,15,FALSE))","v":0},{"$f":"IF(ISNA(VLOOKUP($C113,'Sat TT_07'!$C$4:$Q$152,15,FALSE)=$C113),0,VLOOKUP($C113,'Sat TT_07'!$C$4:$Q$152,15,FALSE))","v":0},{"$f":"IF(ISNA(VLOOKUP($C113,'Sat TT_08'!$C$4:$Q$152,15,FALSE)=$C113),0,VLOOKUP($C113,'Sat TT_08'!$C$4:$Q$152,15,FALSE))","v":0},0]
[{"$f":"VLOOKUP(C114,'Sheet 1'!C$1:D$96,2,FALSE)","v":{"$error":"#N/A"}},105,{"$f":"+'[1]Racing numbers file'!$B273","v":"Fearghal Regan"},{"$f":"VLOOKUP(C114,'[1]Racing numbers file'!$B$4:$F$290,2,FALSE)","v":1970},{"$f":"VLOOKUP(C114,'[1]Racing numbers file'!$B$4:$F$290,4,FALSE)","v":46},{"$f":"SaturdayHandicapTable[[#This Row],[Points2]]","v":0},{"$f":"IF(ISNA(VLOOKUP($C114,'Sat TT_01'!$C$4:$Q$152,15,FALSE)=$C114),0,VLOOKUP($C114,'Sat TT_01'!$C$4:$Q$152,15,FALSE))","v":0},{"$f":"IF(ISNA(VLOOKUP($C114,'Sat TT_02'!$C$4:$Q$152,15,FALSE)=$C114),0,VLOOKUP($C114,'Sat TT_02'!$C$4:$Q$152,15,FALSE))","v":0},{"$f":"IF(ISNA(VLOOKUP($C114,'Sat TT_03'!$C$4:$Q$152,15,FALSE)=$C114),0,VLOOKUP($C114,'Sat TT_03'!$C$4:$Q$152,15,FALSE))","v":0},{"$f":"IF(ISNA(VLOOKUP($C114,'Sat TT_04'!$C$4:$Q$152,15,FALSE)=$C114),0,VLOOKUP($C114,'Sat TT_04'!$C$4:$Q$152,15,FALSE))","v":0},{"$f":"IF(ISNA(VLOOKUP($C114,'Sat TT_05'!$C$4:$Q$152,15,FALSE)=$C114),0,VLOOKUP($C114,'Sat TT_05'!$C$4:$Q$152,15,FALSE))","v":0},{"$f":"IF(ISNA(VLOOKUP($C114,'Sat TT_06'!$C$4:$Q$152,15,FALSE)=$C114),0,VLOOKUP($C114,'Sat TT_06'!$C$4:$Q$152,15,FALSE))","v":0},{"$f":"IF(ISNA(VLOOKUP($C114,'Sat TT_07'!$C$4:$Q$152,15,FALSE)=$C114),0,VLOOKUP($C114,'Sat TT_07'!$C$4:$Q$152,15,FALSE))","v":0},{"$f":"IF(ISNA(VLOOKUP($C114,'Sat TT_08'!$C$4:$Q$152,15,FALSE)=$C114),0,VLOOKUP($C114,'Sat TT_08'!$C$4:$Q$152,15,FALSE))","v":0},0]
[{"$f":"VLOOKUP(C115,'Sheet 1'!C$1:D$96,2,FALSE)","v":{"$error":"#N/A"}},106,{"$f":"+'[1]Racing numbers file'!$B140","v":"Darragh Murphy"},{"$f":"VLOOKUP(C115,'[1]Racing numbers file'!$B$4:$F$290,2,FALSE)","v":1968},{"$f":"VLOOKUP(C115,'[1]Racing numbers file'!$B$4:$F$290,4,FALSE)","v":48},{"$f":"SaturdayHandicapTable[[#This Row],[Points2]]","v":0},{"$f":"IF(ISNA(VLOOKUP($C115,'Sat TT_01'!$C$4:$Q$152,15,FALSE)=$C115),0,VLOOKUP($C115,'Sat TT_01'!$C$4:$Q$152,15,FALSE))","v":0},{"$f":"IF(ISNA(VLOOKUP($C115,'Sat TT_02'!$C$4:$Q$152,15,FALSE)=$C115),0,VLOOKUP($C115,'Sat TT_02'!$C$4:$Q$152,15,FALSE))","v":0},{"$f":"IF(ISNA(VLOOKUP($C115,'Sat TT_03'!$C$4:$Q$152,15,FALSE)=$C115),0,VLOOKUP($C115,'Sat TT_03'!$C$4:$Q$152,15,FALSE))","v":0},{"$f":"IF(ISNA(VLOOKUP($C115,'Sat TT_04'!$C$4:$Q$152,15,FALSE)=$C115),0,VLOOKUP($C115,'Sat TT_04'!$C$4:$Q$152,15,FALSE))","v":0},{"$f":"IF(ISNA(VLOOKUP($C115,'Sat TT_05'!$C$4:$Q$152,15,FALSE)=$C115),0,VLOOKUP($C115,'Sat TT_05'!$C$4:$Q$152,15,FALSE))","v":0},{"$f":"IF(ISNA(VLOOKUP($C115,'Sat TT_06'!$C$4:$Q$152,15,FALSE)=$C115),0,VLOOKUP($C115,'Sat TT_06'!$C$4:$Q$152,15,FALSE))","v":0},{"$f":"IF(ISNA(VLOOKUP($C115,'Sat TT_07'!$C$4:$Q$152,15,FALSE)=$C115),0,VLOOKUP($C115,'Sat TT_07'!$C$4:$Q$152,15,FALSE))","v":0},{"$f":"IF(ISNA(VLOOKUP($C115,'Sat TT_08'!$C$4:$Q$152,15,FALSE)=$C115),0,VLOOKUP($C115,'Sat TT_08'!$C$4:$Q$152,15,FALSE))","v":0},0]
[{"$f":"VLOOKUP(C116,'Sheet 1'!C$1:D$96,2,FALSE)","v":{"$error":"#N/A"}},107,{"$f":"+'[1]Racing numbers file'!$B177","v":"Anthony Crean"},{"$f":"VLOOKUP(C116,'[1]Racing numbers file'!$B$4:$F$290,2,FALSE)","v":1972},{"$f":"VLOOKUP(C116,'[1]Racing numbers file'!$B$4:$F$290,4,FALSE)","v":44},{"$f":"SaturdayHandicapTable[[#This Row],[Points2]]","v":0},{"$f":"IF(ISNA(VLOOKUP($C116,'Sat TT_01'!$C$4:$Q$152,15,FALSE)=$C116),0,VLOOKUP($C116,'Sat TT_01'!$C$4:$Q$152,15,FALSE))","v":0},{"$f":"IF(ISNA(VLOOKUP($C116,'Sat TT_02'!$C$4:$Q$152,15,FALSE)=$C116),0,VLOOKUP($C116,'Sat TT_02'!$C$4:$Q$152,15,FALSE))","v":0},{"$f":"IF(ISNA(VLOOKUP($C116,'Sat TT_03'!$C$4:$Q$152,15,FALSE)=$C116),0,VLOOKUP($C116,'Sat TT_03'!$C$4:$Q$152,15,FALSE))","v":0},{"$f":"IF(ISNA(VLOOKUP($C116,'Sat TT_04'!$C$4:$Q$152,15,FALSE)=$C116),0,VLOOKUP($C116,'Sat TT_04'!$C$4:$Q$152,15,FALSE))","v":0},{"$f":"IF(ISNA(VLOOKUP($C116,'Sat TT_05'!$C$4:$Q$152,15,FALSE)=$C116),0,VLOOKUP($C116,'Sat TT_05'!$C$4:$Q$152,15,FALSE))","v":0},{"$f":"IF(ISNA(VLOOKUP($C116,'Sat TT_06'!$C$4:$Q$152,15,FALSE)=$C116),0,VLOOKUP($C116,'Sat TT_06'!$C$4:$Q$152,15,FALSE))","v":0},{"$f":"IF(ISNA(VLOOKUP($C116,'Sat TT_07'!$C$4:$Q$152,15,FALSE)=$C116),0,VLOOKUP($C116,'Sat TT_07'!$C$4:$Q$152,15,FALSE))","v":0},{"$f":"IF(ISNA(VLOOKUP($C116,'Sat TT_08'!$C$4:$Q$152,15,FALSE)=$C116),0,VLOOKUP($C116,'Sat TT_08'!$C$4:$Q$152,15,FALSE))","v":0},0]
[{"$f":"VLOOKUP(C117,'Sheet 1'!C$1:D$96,2,FALSE)","v":{"$error":"#N/A"}},108,"Darragh","Sean",62,{"$f":"SaturdayHandicapTable[[#This Row],[Points2]]","v":0},{"$f":"IF(ISNA(VLOOKUP($C117,'Sat TT_01'!$C$4:$Q$152,15,FALSE)=$C117),0,VLOOKUP($C117,'Sat TT_01'!$C$4:$Q$152,15,FALSE))","v":0},{"$f":"IF(ISNA(VLOOKUP($C117,'Sat TT_02'!$C$4:$Q$152,15,FALSE)=$C117),0,VLOOKUP($C117,'Sat TT_02'!$C$4:$Q$152,15,FALSE))","v":0},{"$f":"IF(ISNA(VLOOKUP($C117,'Sat TT_03'!$C$4:$Q$152,15,FALSE)=$C117),0,VLOOKUP($C117,'Sat TT_03'!$C$4:$Q$152,15,FALSE))","v":0},{"$f":"IF(ISNA(VLOOKUP($C117,'Sat TT_04'!$C$4:$Q$152,15,FALSE)=$C117),0,VLOOKUP($C117,'Sat TT_04'!$C$4:$Q$152,15,FALSE))","v":0},{"$f":"IF(ISNA(VLOOKUP($C117,'Sat TT_05'!$C$4:$Q$152,15,FALSE)=$C117),0,VLOOKUP($C117,'Sat TT_05'!$C$4:$Q$152,15,FALSE))","v":0},{"$f":"IF(ISNA(VLOOKUP($C117,'Sat TT_06'!$C$4:$Q$152,15,FALSE)=$C117),0,VLOOKUP($C117,'Sat TT_06'!$C$4:$Q$152,15,FALSE))","v":0},{"$f":"IF(ISNA(VLOOKUP($C117,'Sat TT_07'!$C$4:$Q$152,15,FALSE)=$C117),0,VLOOKUP($C117,'Sat TT_07'!$C$4:$Q$152,15,FALSE))","v":0},{"$f":"IF(ISNA(VLOOKUP($C117,'Sat TT_08'!$C$4:$Q$152,15,FALSE)=$C117),0,VLOOKUP($C117,'Sat TT_08'!$C$4:$Q$152,15,FALSE))","v":0},0]
[{"$f":"VLOOKUP(C118,'Sheet 1'!C$1:D$96,2,FALSE)","v":{"$error":"#N/A"}},109,{"$f":"+'[1]Racing numbers file'!$B257","v":"Eamon Finn"},{"$f":"VLOOKUP(C118,'[1]Racing numbers file'!$B$4:$F$290,2,FALSE)","v":1965},{"$f":"VLOOKUP(C118,'[1]Racing numbers file'!$B$4:$F$290,4,FALSE)","v":51},{"$f":"SaturdayHandicapTable[[#This Row],[Points2]]","v":0},{"$f":"IF(ISNA(VLOOKUP($C118,'Sat TT_01'!$C$4:$Q$152,15,FALSE)=$C118),0,VLOOKUP($C118,'Sat TT_01'!$C$4:$Q$152,15,FALSE))","v":0},{"$f":"IF(ISNA(VLOOKUP($C118,'Sat TT_02'!$C$4:$Q$152,15,FALSE)=$C118),0,VLOOKUP($C118,'Sat TT_02'!$C$4:$Q$152,15,FALSE))","v":0},{"$f":"IF(ISNA(VLOOKUP($C118,'Sat TT_03'!$C$4:$Q$152,15,FALSE)=$C118),0,VLOOKUP($C118,'Sat TT_03'!$C$4:$Q$152,15,FALSE))","v":0},{"$f":"IF(ISNA(VLOOKUP($C118,'Sat TT_04'!$C$4:$Q$152,15,FALSE)=$C118),0,VLOOKUP($C118,'Sat TT_04'!$C$4:$Q$152,15,FALSE))","v":0},{"$f":"IF(ISNA(VLOOKUP($C118,'Sat TT_05'!$C$4:$Q$152,15,FALSE)=$C118),0,VLOOKUP($C118,'Sat TT_05'!$C$4:$Q$152,15,FALSE))","v":0},{"$f":"IF(ISNA(VLOOKUP($C118,'Sat TT_06'!$C$4:$Q$152,15,FALSE)=$C118),0,VLOOKUP($C118,'Sat TT_06'!$C$4:$Q$152,15,FALSE))","v":0},{"$f":"IF(ISNA(VLOOKUP($C118,'Sat TT_07'!$C$4:$Q$152,15,FALSE)=$C118),0,VLOOKUP($C118,'Sat TT_07'!$C$4:$Q$152,15,FALSE))","v":0},{"$f":"IF(ISNA(VLOOKUP($C118,'Sat TT_08'!$C$4:$Q$152,15,FALSE)=$C118),0,VLOOKUP($C118,'Sat TT_08'!$C$4:$Q$152,15,FALSE))","v":0},0]
[{"$f":"VLOOKUP(C119,'Sheet 1'!C$1:D$96,2,FALSE)","v":{"$error":"#N/A"}},110,"Davis h","Hugh",66,{"$f":"SaturdayHandicapTable[[#This Row],[Points2]]","v":0},{"$f":"IF(ISNA(VLOOKUP($C119,'Sat TT_01'!$C$4:$Q$152,15,FALSE)=$C119),0,VLOOKUP($C119,'Sat TT_01'!$C$4:$Q$152,15,FALSE))","v":0},{"$f":"IF(ISNA(VLOOKUP($C119,'Sat TT_02'!$C$4:$Q$152,15,FALSE)=$C119),0,VLOOKUP($C119,'Sat TT_02'!$C$4:$Q$152,15,FALSE))","v":0},{"$f":"IF(ISNA(VLOOKUP($C119,'Sat TT_03'!$C$4:$Q$152,15,FALSE)=$C119),0,VLOOKUP($C119,'Sat TT_03'!$C$4:$Q$152,15,FALSE))","v":0},{"$f":"IF(ISNA(VLOOKUP($C119,'Sat TT_04'!$C$4:$Q$152,15,FALSE)=$C119),0,VLOOKUP($C119,'Sat TT_04'!$C$4:$Q$152,15,FALSE))","v":0},{"$f":"IF(ISNA(VLOOKUP($C119,'Sat TT_05'!$C$4:$Q$152,15,FALSE)=$C119),0,VLOOKUP($C119,'Sat TT_05'!$C$4:$Q$152,15,FALSE))","v":0},{"$f":"IF(ISNA(VLOOKUP($C119,'Sat TT_06'!$C$4:$Q$152,15,FALSE)=$C119),0,VLOOKUP($C119,'Sat TT_06'!$C$4:$Q$152,15,FALSE))","v":0},{"$f":"IF(ISNA(VLOOKUP($C119,'Sat TT_07'!$C$4:$Q$152,15,FALSE)=$C119),0,VLOOKUP($C119,'Sat TT_07'!$C$4:$Q$152,15,FALSE))","v":0},{"$f":"IF(ISNA(VLOOKUP($C119,'Sat TT_08'!$C$4:$Q$152,15,FALSE)=$C119),0,VLOOKUP($C119,'Sat TT_08'!$C$4:$Q$152,15,FALSE))","v":0},0]
[{"$f":"VLOOKUP(C120,'Sheet 1'!C$1:D$96,2,FALSE)","v":{"$error":"#N/A"}},111,"Davis m","Michael",68,{"$f":"SaturdayHandicapTable[[#This Row],[Points2]]","v":0},{"$f":"IF(ISNA(VLOOKUP($C120,'Sat TT_01'!$C$4:$Q$152,15,FALSE)=$C120),0,VLOOKUP($C120,'Sat TT_01'!$C$4:$Q$152,15,FALSE))","v":0},{"$f":"IF(ISNA(VLOOKUP($C120,'Sat TT_02'!$C$4:$Q$152,15,FALSE)=$C120),0,VLOOKUP($C120,'Sat TT_02'!$C$4:$Q$152,15,FALSE))","v":0},{"$f":"IF(ISNA(VLOOKUP($C120,'Sat TT_03'!$C$4:$Q$152,15,FALSE)=$C120),0,VLOOKUP($C120,'Sat TT_03'!$C$4:$Q$152,15,FALSE))","v":0},{"$f":"IF(ISNA(VLOOKUP($C120,'Sat TT_04'!$C$4:$Q$152,15,FALSE)=$C120),0,VLOOKUP($C120,'Sat TT_04'!$C$4:$Q$152,15,FALSE))","v":0},{"$f":"IF(ISNA(VLOOKUP($C120,'Sat TT_05'!$C$4:$Q$152,15,FALSE)=$C120),0,VLOOKUP($C120,'Sat TT_05'!$C$4:$Q$152,15,FALSE))","v":0},{"$f":"IF(ISNA(VLOOKUP($C120,'Sat TT_06'!$C$4:$Q$152,15,FALSE)=$C120),0,VLOOKUP($C120,'Sat TT_06'!$C$4:$Q$152,15,FALSE))","v":0},{"$f":"IF(ISNA(VLOOKUP($C120,'Sat TT_07'!$C$4:$Q$152,15,FALSE)=$C120),0,VLOOKUP($C120,'Sat TT_07'!$C$4:$Q$152,15,FALSE))","v":0},{"$f":"IF(ISNA(VLOOKUP($C120,'Sat TT_08'!$C$4:$Q$152,15,FALSE)=$C120),0,VLOOKUP($C120,'Sat TT_08'!$C$4:$Q$152,15,FALSE))","v":0},0]
[{"$f":"VLOOKUP(C121,'Sheet 1'!C$1:D$96,2,FALSE)","v":{"$error":"#N/A"}},112,"Davis p","Patrick",70,{"$f":"SaturdayHandicapTable[[#This Row],[Points2]]","v":0},{"$f":"IF(ISNA(VLOOKUP($C121,'Sat TT_01'!$C$4:$Q$152,15,FALSE)=$C121),0,VLOOKUP($C121,'Sat TT_01'!$C$4:$Q$152,15,FALSE))","v":0},{"$f":"IF(ISNA(VLOOKUP($C121,'Sat TT_02'!$C$4:$Q$152,15,FALSE)=$C121),0,VLOOKUP($C121,'Sat TT_02'!$C$4:$Q$152,15,FALSE))","v":0},{"$f":"IF(ISNA(VLOOKUP($C121,'Sat TT_03'!$C$4:$Q$152,15,FALSE)=$C121),0,VLOOKUP($C121,'Sat TT_03'!$C$4:$Q$152,15,FALSE))","v":0},{"$f":"IF(ISNA(VLOOKUP($C121,'Sat TT_04'!$C$4:$Q$152,15,FALSE)=$C121),0,VLOOKUP($C121,'Sat TT_04'!$C$4:$Q$152,15,FALSE))","v":0},{"$f":"IF(ISNA(VLOOKUP($C121,'Sat TT_05'!$C$4:$Q$152,15,FALSE)=$C121),0,VLOOKUP($C121,'Sat TT_05'!$C$4:$Q$152,15,FALSE))","v":0},{"$f":"IF(ISNA(VLOOKUP($C121,'Sat TT_06'!$C$4:$Q$152,15,FALSE)=$C121),0,VLOOKUP($C121,'Sat TT_06'!$C$4:$Q$152,15,FALSE))","v":0},{"$f":"IF(ISNA(VLOOKUP($C121,'Sat TT_07'!$C$4:$Q$152,15,FALSE)=$C121),0,VLOOKUP($C121,'Sat TT_07'!$C$4:$Q$152,15,FALSE))","v":0},{"$f":"IF(ISNA(VLOOKUP($C121,'Sat TT_08'!$C$4:$Q$152,15,FALSE)=$C121),0,VLOOKUP($C121,'Sat TT_08'!$C$4:$Q$152,15,FALSE))","v":0},0]
[{"$f":"VLOOKUP(C122,'Sheet 1'!C$1:D$96,2,FALSE)","v":{"$error":"#N/A"}},113,{"$f":"+'[1]Racing numbers file'!$B216","v":"Barry Timmins"},{"$f":"VLOOKUP(C122,'[1]Racing numbers file'!$B$4:$F$290,2,FALSE)","v":1965},{"$f":"VLOOKUP(C122,'[1]Racing numbers file'!$B$4:$F$290,4,FALSE)","v":51},{"$f":"SaturdayHandicapTable[[#This Row],[Points2]]","v":0},{"$f":"IF(ISNA(VLOOKUP($C122,'Sat TT_01'!$C$4:$Q$152,15,FALSE)=$C122),0,VLOOKUP($C122,'Sat TT_01'!$C$4:$Q$152,15,FALSE))","v":0},{"$f":"IF(ISNA(VLOOKUP($C122,'Sat TT_02'!$C$4:$Q$152,15,FALSE)=$C122),0,VLOOKUP($C122,'Sat TT_02'!$C$4:$Q$152,15,FALSE))","v":0},{"$f":"IF(ISNA(VLOOKUP($C122,'Sat TT_03'!$C$4:$Q$152,15,FALSE)=$C122),0,VLOOKUP($C122,'Sat TT_03'!$C$4:$Q$152,15,FALSE))","v":0},{"$f":"IF(ISNA(VLOOKUP($C122,'Sat TT_04'!$C$4:$Q$152,15,FALSE)=$C122),0,VLOOKUP($C122,'Sat TT_04'!$C$4:$Q$152,15,FALSE))","v":0},{"$f":"IF(ISNA(VLOOKUP($C122,'Sat TT_05'!$C$4:$Q$152,15,FALSE)=$C122),0,VLOOKUP($C122,'Sat TT_05'!$C$4:$Q$152,15,FALSE))","v":0},{"$f":"IF(ISNA(VLOOKUP($C122,'Sat TT_06'!$C$4:$Q$152,15,FALSE)=$C122),0,VLOOKUP($C122,'Sat TT_06'!$C$4:$Q$152,15,FALSE))","v":0},{"$f":"IF(ISNA(VLOOKUP($C122,'Sat TT_07'!$C$4:$Q$152,15,FALSE)=$C122),0,VLOOKUP($C122,'Sat TT_07'!$C$4:$Q$152,15,FALSE))","v":0},{"$f":"IF(ISNA(VLOOKUP($C122,'Sat TT_08'!$C$4:$Q$152,15,FALSE)=$C122),0,VLOOKUP($C122,'Sat TT_08'!$C$4:$Q$152,15,FALSE))","v":0},0]
[{"$f":"VLOOKUP(C123,'Sheet 1'!C$1:D$96,2,FALSE)","v":{"$error":"#N/A"}},114,{"$f":"+'[1]Racing numbers file'!$B52","v":"Jimmy Flynn"},{"$f":"VLOOKUP(C123,'[1]Racing numbers file'!$B$4:$F$290,2,FALSE)","v":1956},{"$f":"VLOOKUP(C123,'[1]Racing numbers file'!$B$4:$F$290,4,FALSE)","v":60},{"$f":"SaturdayHandicapTable[[#This Row],[Points2]]","v":0},{"$f":"IF(ISNA(VLOOKUP($C123,'Sat TT_01'!$C$4:$Q$152,15,FALSE)=$C123),0,VLOOKUP($C123,'Sat TT_01'!$C$4:$Q$152,15,FALSE))","v":0},{"$f":"IF(ISNA(VLOOKUP($C123,'Sat TT_02'!$C$4:$Q$152,15,FALSE)=$C123),0,VLOOKUP($C123,'Sat TT_02'!$C$4:$Q$152,15,FALSE))","v":0},{"$f":"IF(ISNA(VLOOKUP($C123,'Sat TT_03'!$C$4:$Q$152,15,FALSE)=$C123),0,VLOOKUP($C123,'Sat TT_03'!$C$4:$Q$152,15,FALSE))","v":0},{"$f":"IF(ISNA(VLOOKUP($C123,'Sat TT_04'!$C$4:$Q$152,15,FALSE)=$C123),0,VLOOKUP($C123,'Sat TT_04'!$C$4:$Q$152,15,FALSE))","v":0},{"$f":"IF(ISNA(VLOOKUP($C123,'Sat TT_05'!$C$4:$Q$152,15,FALSE)=$C123),0,VLOOKUP($C123,'Sat TT_05'!$C$4:$Q$152,15,FALSE))","v":0},{"$f":"IF(ISNA(VLOOKUP($C123,'Sat TT_06'!$C$4:$Q$152,15,FALSE)=$C123),0,VLOOKUP($C123,'Sat TT_06'!$C$4:$Q$152,15,FALSE))","v":0},{"$f":"IF(ISNA(VLOOKUP($C123,'Sat TT_07'!$C$4:$Q$152,15,FALSE)=$C123),0,VLOOKUP($C123,'Sat TT_07'!$C$4:$Q$152,15,FALSE))","v":0},{"$f":"IF(ISNA(VLOOKUP($C123,'Sat TT_08'!$C$4:$Q$152,15,FALSE)=$C123),0,VLOOKUP($C123,'Sat TT_08'!$C$4:$Q$152,15,FALSE))","v":0},0]
[{"$f":"VLOOKUP(C124,'Sheet 1'!C$1:D$96,2,FALSE)","v":{"$error":"#N/A"}},115,{"$f":"+'[1]Racing numbers file'!$B247","v":"Ken O'Neill"},{"$f":"VLOOKUP(C124,'[1]Racing numbers file'!$B$4:$F$290,2,FALSE)","v":1971},{"$f":"VLOOKUP(C124,'[1]Racing numbers file'!$B$4:$F$290,4,FALSE)","v":45},{"$f":"SaturdayHandicapTable[[#This Row],[Points2]]","v":0},{"$f":"IF(ISNA(VLOOKUP($C124,'Sat TT_01'!$C$4:$Q$152,15,FALSE)=$C124),0,VLOOKUP($C124,'Sat TT_01'!$C$4:$Q$152,15,FALSE))","v":0},{"$f":"IF(ISNA(VLOOKUP($C124,'Sat TT_02'!$C$4:$Q$152,15,FALSE)=$C124),0,VLOOKUP($C124,'Sat TT_02'!$C$4:$Q$152,15,FALSE))","v":0},{"$f":"IF(ISNA(VLOOKUP($C124,'Sat TT_03'!$C$4:$Q$152,15,FALSE)=$C124),0,VLOOKUP($C124,'Sat TT_03'!$C$4:$Q$152,15,FALSE))","v":0},{"$f":"IF(ISNA(VLOOKUP($C124,'Sat TT_04'!$C$4:$Q$152,15,FALSE)=$C124),0,VLOOKUP($C124,'Sat TT_04'!$C$4:$Q$152,15,FALSE))","v":0},{"$f":"IF(ISNA(VLOOKUP($C124,'Sat TT_05'!$C$4:$Q$152,15,FALSE)=$C124),0,VLOOKUP($C124,'Sat TT_05'!$C$4:$Q$152,15,FALSE))","v":0},{"$f":"IF(ISNA(VLOOKUP($C124,'Sat TT_06'!$C$4:$Q$152,15,FALSE)=$C124),0,VLOOKUP($C124,'Sat TT_06'!$C$4:$Q$152,15,FALSE))","v":0},{"$f":"IF(ISNA(VLOOKUP($C124,'Sat TT_07'!$C$4:$Q$152,15,FALSE)=$C124),0,VLOOKUP($C124,'Sat TT_07'!$C$4:$Q$152,15,FALSE))","v":0},{"$f":"IF(ISNA(VLOOKUP($C124,'Sat TT_08'!$C$4:$Q$152,15,FALSE)=$C124),0,VLOOKUP($C124,'Sat TT_08'!$C$4:$Q$152,15,FALSE))","v":0},0]
[{"$f":"VLOOKUP(C125,'Sheet 1'!C$1:D$96,2,FALSE)","v":{"$error":"#N/A"}},116,{"$f":"+'[1]Racing numbers file'!$B268","v":"Sean Dunne"},{"$f":"VLOOKUP(C125,'[1]Racing numbers file'!$B$4:$F$290,2,FALSE)","v":1966},{"$f":"VLOOKUP(C125,'[1]Racing numbers file'!$B$4:$F$290,4,FALSE)","v":50},{"$f":"SaturdayHandicapTable[[#This Row],[Points2]]","v":0},{"$f":"IF(ISNA(VLOOKUP($C125,'Sat TT_01'!$C$4:$Q$152,15,FALSE)=$C125),0,VLOOKUP($C125,'Sat TT_01'!$C$4:$Q$152,15,FALSE))","v":0},{"$f":"IF(ISNA(VLOOKUP($C125,'Sat TT_02'!$C$4:$Q$152,15,FALSE)=$C125),0,VLOOKUP($C125,'Sat TT_02'!$C$4:$Q$152,15,FALSE))","v":0},{"$f":"IF(ISNA(VLOOKUP($C125,'Sat TT_03'!$C$4:$Q$152,15,FALSE)=$C125),0,VLOOKUP($C125,'Sat TT_03'!$C$4:$Q$152,15,FALSE))","v":0},{"$f":"IF(ISNA(VLOOKUP($C125,'Sat TT_04'!$C$4:$Q$152,15,FALSE)=$C125),0,VLOOKUP($C125,'Sat TT_04'!$C$4:$Q$152,15,FALSE))","v":0},{"$f":"IF(ISNA(VLOOKUP($C125,'Sat TT_05'!$C$4:$Q$152,15,FALSE)=$C125),0,VLOOKUP($C125,'Sat TT_05'!$C$4:$Q$152,15,FALSE))","v":0},{"$f":"IF(ISNA(VLOOKUP($C125,'Sat TT_06'!$C$4:$Q$152,15,FALSE)=$C125),0,VLOOKUP($C125,'Sat TT_06'!$C$4:$Q$152,15,FALSE))","v":0},{"$f":"IF(ISNA(VLOOKUP($C125,'Sat TT_07'!$C$4:$Q$152,15,FALSE)=$C125),0,VLOOKUP($C125,'Sat TT_07'!$C$4:$Q$152,15,FALSE))","v":0},{"$f":"IF(ISNA(VLOOKUP($C125,'Sat TT_08'!$C$4:$Q$152,15,FALSE)=$C125),0,VLOOKUP($C125,'Sat TT_08'!$C$4:$Q$152,15,FALSE))","v":0},0]
[{"$f":"VLOOKUP(C126,'Sheet 1'!C$1:D$96,2,FALSE)","v":{"$error":"#N/A"}},117,{"$f":"+'[1]Racing numbers file'!$B245","v":"Mark Mearns"},{"$f":"VLOOKUP(C126,'[1]Racing numbers file'!$B$4:$F$290,2,FALSE)","v":1976},{"$f":"VLOOKUP(C126,'[1]Racing numbers file'!$B$4:$F$290,4,FALSE)","v":40},{"$f":"SaturdayHandicapTable[[#This Row],[Points2]]","v":0},{"$f":"IF(ISNA(VLOOKUP($C126,'Sat TT_01'!$C$4:$Q$152,15,FALSE)=$C126),0,VLOOKUP($C126,'Sat TT_01'!$C$4:$Q$152,15,FALSE))","v":0},{"$f":"IF(ISNA(VLOOKUP($C126,'Sat TT_02'!$C$4:$Q$152,15,FALSE)=$C126),0,VLOOKUP($C126,'Sat TT_02'!$C$4:$Q$152,15,FALSE))","v":0},{"$f":"IF(ISNA(VLOOKUP($C126,'Sat TT_03'!$C$4:$Q$152,15,FALSE)=$C126),0,VLOOKUP($C126,'Sat TT_03'!$C$4:$Q$152,15,FALSE))","v":0},{"$f":"IF(ISNA(VLOOKUP($C126,'Sat TT_04'!$C$4:$Q$152,15,FALSE)=$C126),0,VLOOKUP($C126,'Sat TT_04'!$C$4:$Q$152,15,FALSE))","v":0},{"$f":"IF(ISNA(VLOOKUP($C126,'Sat TT_05'!$C$4:$Q$152,15,FALSE)=$C126),0,VLOOKUP($C126,'Sat TT_05'!$C$4:$Q$152,15,FALSE))","v":0},{"$f":"IF(ISNA(VLOOKUP($C126,'Sat TT_06'!$C$4:$Q$152,15,FALSE)=$C126),0,VLOOKUP($C126,'Sat TT_06'!$C$4:$Q$152,15,FALSE))","v":0},{"$f":"IF(ISNA(VLOOKUP($C126,'Sat TT_07'!$C$4:$Q$152,15,FALSE)=$C126),0,VLOOKUP($C126,'Sat TT_07'!$C$4:$Q$152,15,FALSE))","v":0},{"$f":"IF(ISNA(VLOOKUP($C126,'Sat TT_08'!$C$4:$Q$152,15,FALSE)=$C126),0,VLOOKUP($C126,'Sat TT_08'!$C$4:$Q$152,15,FALSE))","v":0},0]
[{"$f":"VLOOKUP(C127,'Sheet 1'!C$1:D$96,2,FALSE)","v":{"$error":"#N/A"}},118,{"$f":"+'[1]Racing numbers file'!$B141","v":"Emmet Reilly"},{"$f":"VLOOKUP(C127,'[1]Racing numbers file'!$B$4:$F$290,2,FALSE)","v":1968},{"$f":"VLOOKUP(C127,'[1]Racing numbers file'!$B$4:$F$290,4,FALSE)","v":48},{"$f":"SaturdayHandicapTable[[#This Row],[Points2]]","v":0},{"$f":"IF(ISNA(VLOOKUP($C127,'Sat TT_01'!$C$4:$Q$152,15,FALSE)=$C127),0,VLOOKUP($C127,'Sat TT_01'!$C$4:$Q$152,15,FALSE))","v":0},{"$f":"IF(ISNA(VLOOKUP($C127,'Sat TT_02'!$C$4:$Q$152,15,FALSE)=$C127),0,VLOOKUP($C127,'Sat TT_02'!$C$4:$Q$152,15,FALSE))","v":0},{"$f":"IF(ISNA(VLOOKUP($C127,'Sat TT_03'!$C$4:$Q$152,15,FALSE)=$C127),0,VLOOKUP($C127,'Sat TT_03'!$C$4:$Q$152,15,FALSE))","v":0},{"$f":"IF(ISNA(VLOOKUP($C127,'Sat TT_04'!$C$4:$Q$152,15,FALSE)=$C127),0,VLOOKUP($C127,'Sat TT_04'!$C$4:$Q$152,15,FALSE))","v":0},{"$f":"IF(ISNA(VLOOKUP($C127,'Sat TT_05'!$C$4:$Q$152,15,FALSE)=$C127),0,VLOOKUP($C127,'Sat TT_05'!$C$4:$Q$152,15,FALSE))","v":0},{"$f":"IF(ISNA(VLOOKUP($C127,'Sat TT_06'!$C$4:$Q$152,15,FALSE)=$C127),0,VLOOKUP($C127,'Sat TT_06'!$C$4:$Q$152,15,FALSE))","v":0},{"$f":"IF(ISNA(VLOOKUP($C127,'Sat TT_07'!$C$4:$Q$152,15,FALSE)=$C127),0,VLOOKUP($C127,'Sat TT_07'!$C$4:$Q$152,15,FALSE))","v":0},{"$f":"IF(ISNA(VLOOKUP($C127,'Sat TT_08'!$C$4:$Q$152,15,FALSE)=$C127),0,VLOOKUP($C127,'Sat TT_08'!$C$4:$Q$152,15,FALSE))","v":0},0]
[{"$f":"VLOOKUP(C128,'Sheet 1'!C$1:D$96,2,FALSE)","v":{"$error":"#N/A"}},119,{"$f":"+'[1]Racing numbers file'!$B165","v":"Dermot Hickey"},{"$f":"VLOOKUP(C128,'[1]Racing numbers file'!$B$4:$F$290,2,FALSE)","v":1971},{"$f":"VLOOKUP(C128,'[1]Racing numbers file'!$B$4:$F$290,4,FALSE)","v":45},{"$f":"SaturdayHandicapTable[[#This Row],[Points2]]","v":0},{"$f":"IF(ISNA(VLOOKUP($C128,'Sat TT_01'!$C$4:$Q$152,15,FALSE)=$C128),0,VLOOKUP($C128,'Sat TT_01'!$C$4:$Q$152,15,FALSE))","v":0},{"$f":"IF(ISNA(VLOOKUP($C128,'Sat TT_02'!$C$4:$Q$152,15,FALSE)=$C128),0,VLOOKUP($C128,'Sat TT_02'!$C$4:$Q$152,15,FALSE))","v":0},{"$f":"IF(ISNA(VLOOKUP($C128,'Sat TT_03'!$C$4:$Q$152,15,FALSE)=$C128),0,VLOOKUP($C128,'Sat TT_03'!$C$4:$Q$152,15,FALSE))","v":0},{"$f":"IF(ISNA(VLOOKUP($C128,'Sat TT_04'!$C$4:$Q$152,15,FALSE)=$C128),0,VLOOKUP($C128,'Sat TT_04'!$C$4:$Q$152,15,FALSE))","v":0},{"$f":"IF(ISNA(VLOOKUP($C128,'Sat TT_05'!$C$4:$Q$152,15,FALSE)=$C128),0,VLOOKUP($C128,'Sat TT_05'!$C$4:$Q$152,15,FALSE))","v":0},{"$f":"IF(ISNA(VLOOKUP($C128,'Sat TT_06'!$C$4:$Q$152,15,FALSE)=$C128),0,VLOOKUP($C128,'Sat TT_06'!$C$4:$Q$152,15,FALSE))","v":0},{"$f":"IF(ISNA(VLOOKUP($C128,'Sat TT_07'!$C$4:$Q$152,15,FALSE)=$C128),0,VLOOKUP($C128,'Sat TT_07'!$C$4:$Q$152,15,FALSE))","v":0},{"$f":"IF(ISNA(VLOOKUP($C128,'Sat TT_08'!$C$4:$Q$152,15,FALSE)=$C128),0,VLOOKUP($C128,'Sat TT_08'!$C$4:$Q$152,15,FALSE))","v":0},0]
[{"$f":"VLOOKUP(C129,'Sheet 1'!C$1:D$96,2,FALSE)","v":{"$error":"#N/A"}},120,{"$f":"+'[1]Racing numbers file'!$B208","v":"Aidan Somerville"},{"$f":"VLOOKUP(C129,'[1]Racing numbers file'!$B$4:$F$290,2,FALSE)","v":1973},{"$f":"VLOOKUP(C129,'[1]Racing numbers file'!$B$4:$F$290,4,FALSE)","v":43},{"$f":"SaturdayHandicapTable[[#This Row],[Points2]]","v":0},{"$f":"IF(ISNA(VLOOKUP($C129,'Sat TT_01'!$C$4:$Q$152,15,FALSE)=$C129),0,VLOOKUP($C129,'Sat TT_01'!$C$4:$Q$152,15,FALSE))","v":0},{"$f":"IF(ISNA(VLOOKUP($C129,'Sat TT_02'!$C$4:$Q$152,15,FALSE)=$C129),0,VLOOKUP($C129,'Sat TT_02'!$C$4:$Q$152,15,FALSE))","v":0},{"$f":"IF(ISNA(VLOOKUP($C129,'Sat TT_03'!$C$4:$Q$152,15,FALSE)=$C129),0,VLOOKUP($C129,'Sat TT_03'!$C$4:$Q$152,15,FALSE))","v":0},{"$f":"IF(ISNA(VLOOKUP($C129,'Sat TT_04'!$C$4:$Q$152,15,FALSE)=$C129),0,VLOOKUP($C129,'Sat TT_04'!$C$4:$Q$152,15,FALSE))","v":0},{"$f":"IF(ISNA(VLOOKUP($C129,'Sat TT_05'!$C$4:$Q$152,15,FALSE)=$C129),0,VLOOKUP($C129,'Sat TT_05'!$C$4:$Q$152,15,FALSE))","v":0},{"$f":"IF(ISNA(VLOOKUP($C129,'Sat TT_06'!$C$4:$Q$152,15,FALSE)=$C129),0,VLOOKUP($C129,'Sat TT_06'!$C$4:$Q$152,15,FALSE))","v":0},{"$f":"IF(ISNA(VLOOKUP($C129,'Sat TT_07'!$C$4:$Q$152,15,FALSE)=$C129),0,VLOOKUP($C129,'Sat TT_07'!$C$4:$Q$152,15,FALSE))","v":0},{"$f":"IF(ISNA(VLOOKUP($C129,'Sat TT_08'!$C$4:$Q$152,15,FALSE)=$C129),0,VLOOKUP($C129,'Sat TT_08'!$C$4:$Q$152,15,FALSE))","v":0},0]
[{"$f":"VLOOKUP(C130,'Sheet 1'!C$1:D$96,2,FALSE)","v":{"$error":"#N/A"}},121,"Dunne e","Eddie",69,{"$f":"SaturdayHandicapTable[[#This Row],[Points2]]","v":0},{"$f":"IF(ISNA(VLOOKUP($C130,'Sat TT_01'!$C$4:$Q$152,15,FALSE)=$C130),0,VLOOKUP($C130,'Sat TT_01'!$C$4:$Q$152,15,FALSE))","v":0},{"$f":"IF(ISNA(VLOOKUP($C130,'Sat TT_02'!$C$4:$Q$152,15,FALSE)=$C130),0,VLOOKUP($C130,'Sat TT_02'!$C$4:$Q$152,15,FALSE))","v":0},{"$f":"IF(ISNA(VLOOKUP($C130,'Sat TT_03'!$C$4:$Q$152,15,FALSE)=$C130),0,VLOOKUP($C130,'Sat TT_03'!$C$4:$Q$152,15,FALSE))","v":0},{"$f":"IF(ISNA(VLOOKUP($C130,'Sat TT_04'!$C$4:$Q$152,15,FALSE)=$C130),0,VLOOKUP($C130,'Sat TT_04'!$C$4:$Q$152,15,FALSE))","v":0},{"$f":"IF(ISNA(VLOOKUP($C130,'Sat TT_05'!$C$4:$Q$152,15,FALSE)=$C130),0,VLOOKUP($C130,'Sat TT_05'!$C$4:$Q$152,15,FALSE))","v":0},{"$f":"IF(ISNA(VLOOKUP($C130,'Sat TT_06'!$C$4:$Q$152,15,FALSE)=$C130),0,VLOOKUP($C130,'Sat TT_06'!$C$4:$Q$152,15,FALSE))","v":0},{"$f":"IF(ISNA(VLOOKUP($C130,'Sat TT_07'!$C$4:$Q$152,15,FALSE)=$C130),0,VLOOKUP($C130,'Sat TT_07'!$C$4:$Q$152,15,FALSE))","v":0},{"$f":"IF(ISNA(VLOOKUP($C130,'Sat TT_08'!$C$4:$Q$152,15,FALSE)=$C130),0,VLOOKUP($C130,'Sat TT_08'!$C$4:$Q$152,15,FALSE))","v":0},0]
[{"$f":"VLOOKUP(C131,'Sheet 1'!C$1:D$96,2,FALSE)","v":1446},122,{"$f":"+'[1]Racing numbers file'!$B227","v":"David McDonald"},{"$f":"VLOOKUP(C131,'[1]Racing numbers file'!$B$4:$F$290,2,FALSE)","v":1972},{"$f":"VLOOKUP(C131,'[1]Racing numbers file'!$B$4:$F$290,4,FALSE)","v":44},{"$f":"SaturdayHandicapTable[[#This Row],[Points2]]","v":0},{"$f":"IF(ISNA(VLOOKUP($C131,'Sat TT_01'!$C$4:$Q$152,15,FALSE)=$C131),0,VLOOKUP($C131,'Sat TT_01'!$C$4:$Q$152,15,FALSE))","v":0},{"$f":"IF(ISNA(VLOOKUP($C131,'Sat TT_02'!$C$4:$Q$152,15,FALSE)=$C131),0,VLOOKUP($C131,'Sat TT_02'!$C$4:$Q$152,15,FALSE))","v":0},{"$f":"IF(ISNA(VLOOKUP($C131,'Sat TT_03'!$C$4:$Q$152,15,FALSE)=$C131),0,VLOOKUP($C131,'Sat TT_03'!$C$4:$Q$152,15,FALSE))","v":0},{"$f":"IF(ISNA(VLOOKUP($C131,'Sat TT_04'!$C$4:$Q$152,15,FALSE)=$C131),0,VLOOKUP($C131,'Sat TT_04'!$C$4:$Q$152,15,FALSE))","v":0},{"$f":"IF(ISNA(VLOOKUP($C131,'Sat TT_05'!$C$4:$Q$152,15,FALSE)=$C131),0,VLOOKUP($C131,'Sat TT_05'!$C$4:$Q$152,15,FALSE))","v":0},{"$f":"IF(ISNA(VLOOKUP($C131,'Sat TT_06'!$C$4:$Q$152,15,FALSE)=$C131),0,VLOOKUP($C131,'Sat TT_06'!$C$4:$Q$152,15,FALSE))","v":0},{"$f":"IF(ISNA(VLOOKUP($C131,'Sat TT_07'!$C$4:$Q$152,15,FALSE)=$C131),0,VLOOKUP($C131,'Sat TT_07'!$C$4:$Q$152,15,FALSE))","v":0},{"$f":"IF(ISNA(VLOOKUP($C131,'Sat TT_08'!$C$4:$Q$152,15,FALSE)=$C131),0,VLOOKUP($C131,'Sat TT_08'!$C$4:$Q$152,15,FALSE))","v":0},0]
[{"$f":"VLOOKUP(C132,'Sheet 1'!C$1:D$96,2,FALSE)","v":{"$error":"#N/A"}},123,{"$f":"+'[1]Racing numbers file'!$B94","v":"Albert Morrow"},{"$f":"VLOOKUP(C132,'[1]Racing numbers file'!$B$4:$F$290,2,FALSE)","v":1962},{"$f":"VLOOKUP(C132,'[1]Racing numbers file'!$B$4:$F$290,4,FALSE)","v":54},{"$f":"SaturdayHandicapTable[[#This Row],[Points2]]","v":0},{"$f":"IF(ISNA(VLOOKUP($C132,'Sat TT_01'!$C$4:$Q$152,15,FALSE)=$C132),0,VLOOKUP($C132,'Sat TT_01'!$C$4:$Q$152,15,FALSE))","v":0},{"$f":"IF(ISNA(VLOOKUP($C132,'Sat TT_02'!$C$4:$Q$152,15,FALSE)=$C132),0,VLOOKUP($C132,'Sat TT_02'!$C$4:$Q$152,15,FALSE))","v":0},{"$f":"IF(ISNA(VLOOKUP($C132,'Sat TT_03'!$C$4:$Q$152,15,FALSE)=$C132),0,VLOOKUP($C132,'Sat TT_03'!$C$4:$Q$152,15,FALSE))","v":0},{"$f":"IF(ISNA(VLOOKUP($C132,'Sat TT_04'!$C$4:$Q$152,15,FALSE)=$C132),0,VLOOKUP($C132,'Sat TT_04'!$C$4:$Q$152,15,FALSE))","v":0},{"$f":"IF(ISNA(VLOOKUP($C132,'Sat TT_05'!$C$4:$Q$152,15,FALSE)=$C132),0,VLOOKUP($C132,'Sat TT_05'!$C$4:$Q$152,15,FALSE))","v":0},{"$f":"IF(ISNA(VLOOKUP($C132,'Sat TT_06'!$C$4:$Q$152,15,FALSE)=$C132),0,VLOOKUP($C132,'Sat TT_06'!$C$4:$Q$152,15,FALSE))","v":0},{"$f":"IF(ISNA(VLOOKUP($C132,'Sat TT_07'!$C$4:$Q$152,15,FALSE)=$C132),0,VLOOKUP($C132,'Sat TT_07'!$C$4:$Q$152,15,FALSE))","v":0},{"$f":"IF(ISNA(VLOOKUP($C132,'Sat TT_08'!$C$4:$Q$152,15,FALSE)=$C132),0,VLOOKUP($C132,'Sat TT_08'!$C$4:$Q$152,15,FALSE))","v":0},0]
[{"$f":"VLOOKUP(C133,'Sheet 1'!C$1:D$96,2,FALSE)","v":{"$error":"#N/A"}},124,{"$f":"+'[1]Racing numbers file'!$B181","v":"Aidan Richardson"},{"$f":"VLOOKUP(C133,'[1]Racing numbers file'!$B$4:$F$290,2,FALSE)","v":1954},{"$f":"VLOOKUP(C133,'[1]Racing numbers file'!$B$4:$F$290,4,FALSE)","v":62},{"$f":"SaturdayHandicapTable[[#This Row],[Points2]]","v":0},{"$f":"IF(ISNA(VLOOKUP($C133,'Sat TT_01'!$C$4:$Q$152,15,FALSE)=$C133),0,VLOOKUP($C133,'Sat TT_01'!$C$4:$Q$152,15,FALSE))","v":0},{"$f":"IF(ISNA(VLOOKUP($C133,'Sat TT_02'!$C$4:$Q$152,15,FALSE)=$C133),0,VLOOKUP($C133,'Sat TT_02'!$C$4:$Q$152,15,FALSE))","v":0},{"$f":"IF(ISNA(VLOOKUP($C133,'Sat TT_03'!$C$4:$Q$152,15,FALSE)=$C133),0,VLOOKUP($C133,'Sat TT_03'!$C$4:$Q$152,15,FALSE))","v":0},{"$f":"IF(ISNA(VLOOKUP($C133,'Sat TT_04'!$C$4:$Q$152,15,FALSE)=$C133),0,VLOOKUP($C133,'Sat TT_04'!$C$4:$Q$152,15,FALSE))","v":0},{"$f":"IF(ISNA(VLOOKUP($C133,'Sat TT_05'!$C$4:$Q$152,15,FALSE)=$C133),0,VLOOKUP($C133,'Sat TT_05'!$C$4:$Q$152,15,FALSE))","v":0},{"$f":"IF(ISNA(VLOOKUP($C133,'Sat TT_06'!$C$4:$Q$152,15,FALSE)=$C133),0,VLOOKUP($C133,'Sat TT_06'!$C$4:$Q$152,15,FALSE))","v":0},{"$f":"IF(ISNA(VLOOKUP($C133,'Sat TT_07'!$C$4:$Q$152,15,FALSE)=$C133),0,VLOOKUP($C133,'Sat TT_07'!$C$4:$Q$152,15,FALSE))","v":0},{"$f":"IF(ISNA(VLOOKUP($C133,'Sat TT_08'!$C$4:$Q$152,15,FALSE)=$C133),0,VLOOKUP($C133,'Sat TT_08'!$C$4:$Q$152,15,FALSE))","v":0},0]
[{"$f":"VLOOKUP(C134,'Sheet 1'!C$1:D$96,2,FALSE)","v":{"$error":"#N/A"}},125,{"$f":"+'[1]Racing numbers file'!$B69","v":"Arthur Ebbs"},{"$f":"VLOOKUP(C134,'[1]Racing numbers file'!$B$4:$F$290,2,FALSE)","v":1959},{"$f":"VLOOKUP(C134,'[1]Racing numbers file'!$B$4:$F$290,4,FALSE)","v":57},{"$f":"SaturdayHandicapTable[[#This Row],[Points2]]","v":0},{"$f":"IF(ISNA(VLOOKUP($C134,'Sat TT_01'!$C$4:$Q$152,15,FALSE)=$C134),0,VLOOKUP($C134,'Sat TT_01'!$C$4:$Q$152,15,FALSE))","v":0},{"$f":"IF(ISNA(VLOOKUP($C134,'Sat TT_02'!$C$4:$Q$152,15,FALSE)=$C134),0,VLOOKUP($C134,'Sat TT_02'!$C$4:$Q$152,15,FALSE))","v":0},{"$f":"IF(ISNA(VLOOKUP($C134,'Sat TT_03'!$C$4:$Q$152,15,FALSE)=$C134),0,VLOOKUP($C134,'Sat TT_03'!$C$4:$Q$152,15,FALSE))","v":0},{"$f":"IF(ISNA(VLOOKUP($C134,'Sat TT_04'!$C$4:$Q$152,15,FALSE)=$C134),0,VLOOKUP($C134,'Sat TT_04'!$C$4:$Q$152,15,FALSE))","v":0},{"$f":"IF(ISNA(VLOOKUP($C134,'Sat TT_05'!$C$4:$Q$152,15,FALSE)=$C134),0,VLOOKUP($C134,'Sat TT_05'!$C$4:$Q$152,15,FALSE))","v":0},{"$f":"IF(ISNA(VLOOKUP($C134,'Sat TT_06'!$C$4:$Q$152,15,FALSE)=$C134),0,VLOOKUP($C134,'Sat TT_06'!$C$4:$Q$152,15,FALSE))","v":0},{"$f":"IF(ISNA(VLOOKUP($C134,'Sat TT_07'!$C$4:$Q$152,15,FALSE)=$C134),0,VLOOKUP($C134,'Sat TT_07'!$C$4:$Q$152,15,FALSE))","v":0},{"$f":"IF(ISNA(VLOOKUP($C134,'Sat TT_08'!$C$4:$Q$152,15,FALSE)=$C134),0,VLOOKUP($C134,'Sat TT_08'!$C$4:$Q$152,15,FALSE))","v":0},0]
[{"$f":"VLOOKUP(C135,'Sheet 1'!C$1:D$96,2,FALSE)","v":{"$error":"#N/A"}},126,{"$f":"+'[1]Racing numbers file'!$B221","v":"Norman Shine"},{"$f":"VLOOKUP(C135,'[1]Racing numbers file'!$B$4:$F$290,2,FALSE)","v":1975},{"$f":"VLOOKUP(C135,'[1]Racing numbers file'!$B$4:$F$290,4,FALSE)","v":41},{"$f":"SaturdayHandicapTable[[#This Row],[Points2]]","v":0},{"$f":"IF(ISNA(VLOOKUP($C135,'Sat TT_01'!$C$4:$Q$152,15,FALSE)=$C135),0,VLOOKUP($C135,'Sat TT_01'!$C$4:$Q$152,15,FALSE))","v":0},{"$f":"IF(ISNA(VLOOKUP($C135,'Sat TT_02'!$C$4:$Q$152,15,FALSE)=$C135),0,VLOOKUP($C135,'Sat TT_02'!$C$4:$Q$152,15,FALSE))","v":0},{"$f":"IF(ISNA(VLOOKUP($C135,'Sat TT_03'!$C$4:$Q$152,15,FALSE)=$C135),0,VLOOKUP($C135,'Sat TT_03'!$C$4:$Q$152,15,FALSE))","v":0},{"$f":"IF(ISNA(VLOOKUP($C135,'Sat TT_04'!$C$4:$Q$152,15,FALSE)=$C135),0,VLOOKUP($C135,'Sat TT_04'!$C$4:$Q$152,15,FALSE))","v":0},{"$f":"IF(ISNA(VLOOKUP($C135,'Sat TT_05'!$C$4:$Q$152,15,FALSE)=$C135),0,VLOOKUP($C135,'Sat TT_05'!$C$4:$Q$152,15,FALSE))","v":0},{"$f":"IF(ISNA(VLOOKUP($C135,'Sat TT_06'!$C$4:$Q$152,15,FALSE)=$C135),0,VLOOKUP($C135,'Sat TT_06'!$C$4:$Q$152,15,FALSE))","v":0},{"$f":"IF(ISNA(VLOOKUP($C135,'Sat TT_07'!$C$4:$Q$152,15,FALSE)=$C135),0,VLOOKUP($C135,'Sat TT_07'!$C$4:$Q$152,15,FALSE))","v":0},{"$f":"IF(ISNA(VLOOKUP($C135,'Sat TT_08'!$C$4:$Q$152,15,FALSE)=$C135),0,VLOOKUP($C135,'Sat TT_08'!$C$4:$Q$152,15,FALSE))","v":0},0]
[{"$f":"VLOOKUP(C136,'Sheet 1'!C$1:D$96,2,FALSE)","v":{"$error":"#N/A"}},127,{"$f":"+'[1]Racing numbers file'!$B275","v":"Alan Quinn"},{"$f":"VLOOKUP(C136,'[1]Racing numbers file'!$B$4:$F$290,2,FALSE)","v":1976},{"$f":"VLOOKUP(C136,'[1]Racing numbers file'!$B$4:$F$290,4,FALSE)","v":40},{"$f":"SaturdayHandicapTable[[#This Row],[Points2]]","v":0},{"$f":"IF(ISNA(VLOOKUP($C136,'Sat TT_01'!$C$4:$Q$152,15,FALSE)=$C136),0,VLOOKUP($C136,'Sat TT_01'!$C$4:$Q$152,15,FALSE))","v":0},{"$f":"IF(ISNA(VLOOKUP($C136,'Sat TT_02'!$C$4:$Q$152,15,FALSE)=$C136),0,VLOOKUP($C136,'Sat TT_02'!$C$4:$Q$152,15,FALSE))","v":0},{"$f":"IF(ISNA(VLOOKUP($C136,'Sat TT_03'!$C$4:$Q$152,15,FALSE)=$C136),0,VLOOKUP($C136,'Sat TT_03'!$C$4:$Q$152,15,FALSE))","v":0},{"$f":"IF(ISNA(VLOOKUP($C136,'Sat TT_04'!$C$4:$Q$152,15,FALSE)=$C136),0,VLOOKUP($C136,'Sat TT_04'!$C$4:$Q$152,15,FALSE))","v":0},{"$f":"IF(ISNA(VLOOKUP($C136,'Sat TT_05'!$C$4:$Q$152,15,FALSE)=$C136),0,VLOOKUP($C136,'Sat TT_05'!$C$4:$Q$152,15,FALSE))","v":0},{"$f":"IF(ISNA(VLOOKUP($C136,'Sat TT_06'!$C$4:$Q$152,15,FALSE)=$C136),0,VLOOKUP($C136,'Sat TT_06'!$C$4:$Q$152,15,FALSE))","v":0},{"$f":"IF(ISNA(VLOOKUP($C136,'Sat TT_07'!$C$4:$Q$152,15,FALSE)=$C136),0,VLOOKUP($C136,'Sat TT_07'!$C$4:$Q$152,15,FALSE))","v":0},{"$f":"IF(ISNA(VLOOKUP($C136,'Sat TT_08'!$C$4:$Q$152,15,FALSE)=$C136),0,VLOOKUP($C136,'Sat TT_08'!$C$4:$Q$152,15,FALSE))","v":0},0]
[{"$f":"VLOOKUP(C137,'Sheet 1'!C$1:D$96,2,FALSE)","v":{"$error":"#N/A"}},128,{"$f":"+'[1]Racing numbers file'!$B124","v":"Declan Looby"},{"$f":"VLOOKUP(C137,'[1]Racing numbers file'!$B$4:$F$290,2,FALSE)","v":1966},{"$f":"VLOOKUP(C137,'[1]Racing numbers file'!$B$4:$F$290,4,FALSE)","v":50},{"$f":"SaturdayHandicapTable[[#This Row],[Points2]]","v":0},{"$f":"IF(ISNA(VLOOKUP($C137,'Sat TT_01'!$C$4:$Q$152,15,FALSE)=$C137),0,VLOOKUP($C137,'Sat TT_01'!$C$4:$Q$152,15,FALSE))","v":0},{"$f":"IF(ISNA(VLOOKUP($C137,'Sat TT_02'!$C$4:$Q$152,15,FALSE)=$C137),0,VLOOKUP($C137,'Sat TT_02'!$C$4:$Q$152,15,FALSE))","v":0},{"$f":"IF(ISNA(VLOOKUP($C137,'Sat TT_03'!$C$4:$Q$152,15,FALSE)=$C137),0,VLOOKUP($C137,'Sat TT_03'!$C$4:$Q$152,15,FALSE))","v":0},{"$f":"IF(ISNA(VLOOKUP($C137,'Sat TT_04'!$C$4:$Q$152,15,FALSE)=$C137),0,VLOOKUP($C137,'Sat TT_04'!$C$4:$Q$152,15,FALSE))","v":0},{"$f":"IF(ISNA(VLOOKUP($C137,'Sat TT_05'!$C$4:$Q$152,15,FALSE)=$C137),0,VLOOKUP($C137,'Sat TT_05'!$C$4:$Q$152,15,FALSE))","v":0},{"$f":"IF(ISNA(VLOOKUP($C137,'Sat TT_06'!$C$4:$Q$152,15,FALSE)=$C137),0,VLOOKUP($C137,'Sat TT_06'!$C$4:$Q$152,15,FALSE))","v":0},{"$f":"IF(ISNA(VLOOKUP($C137,'Sat TT_07'!$C$4:$Q$152,15,FALSE)=$C137),0,VLOOKUP($C137,'Sat TT_07'!$C$4:$Q$152,15,FALSE))","v":0},{"$f":"IF(ISNA(VLOOKUP($C137,'Sat TT_08'!$C$4:$Q$152,15,FALSE)=$C137),0,VLOOKUP($C137,'Sat TT_08'!$C$4:$Q$152,15,FALSE))","v":0},0]
[{"$f":"VLOOKUP(C138,'Sheet 1'!C$1:D$96,2,FALSE)","v":{"$error":"#N/A"}},129,"Farrelly","Martin",55,{"$f":"SaturdayHandicapTable[[#This Row],[Points2]]","v":0},{"$f":"IF(ISNA(VLOOKUP($C138,'Sat TT_01'!$C$4:$Q$152,15,FALSE)=$C138),0,VLOOKUP($C138,'Sat TT_01'!$C$4:$Q$152,15,FALSE))","v":0},{"$f":"IF(ISNA(VLOOKUP($C138,'Sat TT_02'!$C$4:$Q$152,15,FALSE)=$C138),0,VLOOKUP($C138,'Sat TT_02'!$C$4:$Q$152,15,FALSE))","v":0},{"$f":"IF(ISNA(VLOOKUP($C138,'Sat TT_03'!$C$4:$Q$152,15,FALSE)=$C138),0,VLOOKUP($C138,'Sat TT_03'!$C$4:$Q$152,15,FALSE))","v":0},{"$f":"IF(ISNA(VLOOKUP($C138,'Sat TT_04'!$C$4:$Q$152,15,FALSE)=$C138),0,VLOOKUP($C138,'Sat TT_04'!$C$4:$Q$152,15,FALSE))","v":0},{"$f":"IF(ISNA(VLOOKUP($C138,'Sat TT_05'!$C$4:$Q$152,15,FALSE)=$C138),0,VLOOKUP($C138,'Sat TT_05'!$C$4:$Q$152,15,FALSE))","v":0},{"$f":"IF(ISNA(VLOOKUP($C138,'Sat TT_06'!$C$4:$Q$152,15,FALSE)=$C138),0,VLOOKUP($C138,'Sat TT_06'!$C$4:$Q$152,15,FALSE))","v":0},{"$f":"IF(ISNA(VLOOKUP($C138,'Sat TT_07'!$C$4:$Q$152,15,FALSE)=$C138),0,VLOOKUP($C138,'Sat TT_07'!$C$4:$Q$152,15,FALSE))","v":0},{"$f":"IF(ISNA(VLOOKUP($C138,'Sat TT_08'!$C$4:$Q$152,15,FALSE)=$C138),0,VLOOKUP($C138,'Sat TT_08'!$C$4:$Q$152,15,FALSE))","v":0},{"$f":"SUM(G138:N138)","v":0}]
[{"$f":"VLOOKUP(C139,'Sheet 1'!C$1:D$96,2,FALSE)","v":{"$error":"#N/A"}},130,{"$f":"+'[1]Racing numbers file'!$B214","v":"Paul O'Connell"},{"$f":"VLOOKUP(C139,'[1]Racing numbers file'!$B$4:$F$290,2,FALSE)","v":1945},{"$f":"VLOOKUP(C139,'[1]Racing numbers file'!$B$4:$F$290,4,FALSE)","v":71},{"$f":"SaturdayHandicapTable[[#This Row],[Points2]]","v":0},{"$f":"IF(ISNA(VLOOKUP($C139,'Sat TT_01'!$C$4:$Q$152,15,FALSE)=$C139),0,VLOOKUP($C139,'Sat TT_01'!$C$4:$Q$152,15,FALSE))","v":0},{"$f":"IF(ISNA(VLOOKUP($C139,'Sat TT_02'!$C$4:$Q$152,15,FALSE)=$C139),0,VLOOKUP($C139,'Sat TT_02'!$C$4:$Q$152,15,FALSE))","v":0},{"$f":"IF(ISNA(VLOOKUP($C139,'Sat TT_03'!$C$4:$Q$152,15,FALSE)=$C139),0,VLOOKUP($C139,'Sat TT_03'!$C$4:$Q$152,15,FALSE))","v":0},{"$f":"IF(ISNA(VLOOKUP($C139,'Sat TT_04'!$C$4:$Q$152,15,FALSE)=$C139),0,VLOOKUP($C139,'Sat TT_04'!$C$4:$Q$152,15,FALSE))","v":0},{"$f":"IF(ISNA(VLOOKUP($C139,'Sat TT_05'!$C$4:$Q$152,15,FALSE)=$C139),0,VLOOKUP($C139,'Sat TT_05'!$C$4:$Q$152,15,FALSE))","v":0},{"$f":"IF(ISNA(VLOOKUP($C139,'Sat TT_06'!$C$4:$Q$152,15,FALSE)=$C139),0,VLOOKUP($C139,'Sat TT_06'!$C$4:$Q$152,15,FALSE))","v":0},{"$f":"IF(ISNA(VLOOKUP($C139,'Sat TT_07'!$C$4:$Q$152,15,FALSE)=$C139),0,VLOOKUP($C139,'Sat TT_07'!$C$4:$Q$152,15,FALSE))","v":0},{"$f":"IF(ISNA(VLOOKUP($C139,'Sat TT_08'!$C$4:$Q$152,15,FALSE)=$C139),0,VLOOKUP($C139,'Sat TT_08'!$C$4:$Q$152,15,FALSE))","v":0},0]
[{"$f":"VLOOKUP(C140,'Sheet 1'!C$1:D$96,2,FALSE)","v":{"$error":"#N/A"}},131,{"$f":"+'[1]Racing numbers file'!$B153","v":"Valerie Considine"},{"$f":"VLOOKUP(C140,'[1]Racing numbers file'!$B$4:$F$290,2,FALSE)","v":1969},{"$f":"VLOOKUP(C140,'[1]Racing numbers file'!$B$4:$F$290,4,FALSE)","v":47},{"$f":"SaturdayHandicapTable[[#This Row],[Points2]]","v":0},{"$f":"IF(ISNA(VLOOKUP($C140,'Sat TT_01'!$C$4:$Q$152,15,FALSE)=$C140),0,VLOOKUP($C140,'Sat TT_01'!$C$4:$Q$152,15,FALSE))","v":0},{"$f":"IF(ISNA(VLOOKUP($C140,'Sat TT_02'!$C$4:$Q$152,15,FALSE)=$C140),0,VLOOKUP($C140,'Sat TT_02'!$C$4:$Q$152,15,FALSE))","v":0},{"$f":"IF(ISNA(VLOOKUP($C140,'Sat TT_03'!$C$4:$Q$152,15,FALSE)=$C140),0,VLOOKUP($C140,'Sat TT_03'!$C$4:$Q$152,15,FALSE))","v":0},{"$f":"IF(ISNA(VLOOKUP($C140,'Sat TT_04'!$C$4:$Q$152,15,FALSE)=$C140),0,VLOOKUP($C140,'Sat TT_04'!$C$4:$Q$152,15,FALSE))","v":0},{"$f":"IF(ISNA(VLOOKUP($C140,'Sat TT_05'!$C$4:$Q$152,15,FALSE)=$C140),0,VLOOKUP($C140,'Sat TT_05'!$C$4:$Q$152,15,FALSE))","v":0},{"$f":"IF(ISNA(VLOOKUP($C140,'Sat TT_06'!$C$4:$Q$152,15,FALSE)=$C140),0,VLOOKUP($C140,'Sat TT_06'!$C$4:$Q$152,15,FALSE))","v":0},{"$f":"IF(ISNA(VLOOKUP($C140,'Sat TT_07'!$C$4:$Q$152,15,FALSE)=$C140),0,VLOOKUP($C140,'Sat TT_07'!$C$4:$Q$152,15,FALSE))","v":0},{"$f":"IF(ISNA(VLOOKUP($C140,'Sat TT_08'!$C$4:$Q$152,15,FALSE)=$C140),0,VLOOKUP($C140,'Sat TT_08'!$C$4:$Q$152,15,FALSE))","v":0},0]
[{"$f":"VLOOKUP(C141,'Sheet 1'!C$1:D$96,2,FALSE)","v":1363},132,{"$f":"+'[1]Racing numbers file'!$B183","v":"Paul Faherty"},{"$f":"VLOOKUP(C141,'[1]Racing numbers file'!$B$4:$F$290,2,FALSE)","v":1974},{"$f":"VLOOKUP(C141,'[1]Racing numbers file'!$B$4:$F$290,4,FALSE)","v":42},{"$f":"SaturdayHandicapTable[[#This Row],[Points2]]","v":0},{"$f":"IF(ISNA(VLOOKUP($C141,'Sat TT_01'!$C$4:$Q$152,15,FALSE)=$C141),0,VLOOKUP($C141,'Sat TT_01'!$C$4:$Q$152,15,FALSE))","v":0},{"$f":"IF(ISNA(VLOOKUP($C141,'Sat TT_02'!$C$4:$Q$152,15,FALSE)=$C141),0,VLOOKUP($C141,'Sat TT_02'!$C$4:$Q$152,15,FALSE))","v":0},{"$f":"IF(ISNA(VLOOKUP($C141,'Sat TT_03'!$C$4:$Q$152,15,FALSE)=$C141),0,VLOOKUP($C141,'Sat TT_03'!$C$4:$Q$152,15,FALSE))","v":0},{"$f":"IF(ISNA(VLOOKUP($C141,'Sat TT_04'!$C$4:$Q$152,15,FALSE)=$C141),0,VLOOKUP($C141,'Sat TT_04'!$C$4:$Q$152,15,FALSE))","v":0},{"$f":"IF(ISNA(VLOOKUP($C141,'Sat TT_05'!$C$4:$Q$152,15,FALSE)=$C141),0,VLOOKUP($C141,'Sat TT_05'!$C$4:$Q$152,15,FALSE))","v":0},{"$f":"IF(ISNA(VLOOKUP($C141,'Sat TT_06'!$C$4:$Q$152,15,FALSE)=$C141),0,VLOOKUP($C141,'Sat TT_06'!$C$4:$Q$152,15,FALSE))","v":0},{"$f":"IF(ISNA(VLOOKUP($C141,'Sat TT_07'!$C$4:$Q$152,15,FALSE)=$C141),0,VLOOKUP($C141,'Sat TT_07'!$C$4:$Q$152,15,FALSE))","v":0},{"$f":"IF(ISNA(VLOOKUP($C141,'Sat TT_08'!$C$4:$Q$152,15,FALSE)=$C141),0,VLOOKUP($C141,'Sat TT_08'!$C$4:$Q$152,15,FALSE))","v":0},0]
[{"$f":"VLOOKUP(C142,'Sheet 1'!C$1:D$96,2,FALSE)","v":{"$error":"#N/A"}},133,{"$f":"+'[1]Racing numbers file'!$B262","v":"Alan Cody"},{"$f":"VLOOKUP(C142,'[1]Racing numbers file'!$B$4:$F$290,2,FALSE)","v":1976},{"$f":"VLOOKUP(C142,'[1]Racing numbers file'!$B$4:$F$290,4,FALSE)","v":40},{"$f":"SaturdayHandicapTable[[#This Row],[Points2]]","v":0},{"$f":"IF(ISNA(VLOOKUP($C142,'Sat TT_01'!$C$4:$Q$152,15,FALSE)=$C142),0,VLOOKUP($C142,'Sat TT_01'!$C$4:$Q$152,15,FALSE))","v":0},{"$f":"IF(ISNA(VLOOKUP($C142,'Sat TT_02'!$C$4:$Q$152,15,FALSE)=$C142),0,VLOOKUP($C142,'Sat TT_02'!$C$4:$Q$152,15,FALSE))","v":0},{"$f":"IF(ISNA(VLOOKUP($C142,'Sat TT_03'!$C$4:$Q$152,15,FALSE)=$C142),0,VLOOKUP($C142,'Sat TT_03'!$C$4:$Q$152,15,FALSE))","v":0},{"$f":"IF(ISNA(VLOOKUP($C142,'Sat TT_04'!$C$4:$Q$152,15,FALSE)=$C142),0,VLOOKUP($C142,'Sat TT_04'!$C$4:$Q$152,15,FALSE))","v":0},{"$f":"IF(ISNA(VLOOKUP($C142,'Sat TT_05'!$C$4:$Q$152,15,FALSE)=$C142),0,VLOOKUP($C142,'Sat TT_05'!$C$4:$Q$152,15,FALSE))","v":0},{"$f":"IF(ISNA(VLOOKUP($C142,'Sat TT_06'!$C$4:$Q$152,15,FALSE)=$C142),0,VLOOKUP($C142,'Sat TT_06'!$C$4:$Q$152,15,FALSE))","v":0},{"$f":"IF(ISNA(VLOOKUP($C142,'Sat TT_07'!$C$4:$Q$152,15,FALSE)=$C142),0,VLOOKUP($C142,'Sat TT_07'!$C$4:$Q$152,15,FALSE))","v":0},{"$f":"IF(ISNA(VLOOKUP($C142,'Sat TT_08'!$C$4:$Q$152,15,FALSE)=$C142),0,VLOOKUP($C142,'Sat TT_08'!$C$4:$Q$152,15,FALSE))","v":0},0]
[{"$f":"VLOOKUP(C143,'Sheet 1'!C$1:D$96,2,FALSE)","v":1114},134,{"$f":"+'[1]Racing numbers file'!$B51","v":"Jimmy Murphy"},{"$f":"VLOOKUP(C143,'[1]Racing numbers file'!$B$4:$F$290,2,FALSE)","v":1956},{"$f":"VLOOKUP(C143,'[1]Racing numbers file'!$B$4:$F$290,4,FALSE)","v":60},{"$f":"SaturdayHandicapTable[[#This Row],[Points2]]","v":0},{"$f":"IF(ISNA(VLOOKUP($C143,'Sat TT_01'!$C$4:$Q$152,15,FALSE)=$C143),0,VLOOKUP($C143,'Sat TT_01'!$C$4:$Q$152,15,FALSE))","v":0},{"$f":"IF(ISNA(VLOOKUP($C143,'Sat TT_02'!$C$4:$Q$152,15,FALSE)=$C143),0,VLOOKUP($C143,'Sat TT_02'!$C$4:$Q$152,15,FALSE))","v":0},{"$f":"IF(ISNA(VLOOKUP($C143,'Sat TT_03'!$C$4:$Q$152,15,FALSE)=$C143),0,VLOOKUP($C143,'Sat TT_03'!$C$4:$Q$152,15,FALSE))","v":0},{"$f":"IF(ISNA(VLOOKUP($C143,'Sat TT_04'!$C$4:$Q$152,15,FALSE)=$C143),0,VLOOKUP($C143,'Sat TT_04'!$C$4:$Q$152,15,FALSE))","v":0},{"$f":"IF(ISNA(VLOOKUP($C143,'Sat TT_05'!$C$4:$Q$152,15,FALSE)=$C143),0,VLOOKUP($C143,'Sat TT_05'!$C$4:$Q$152,15,FALSE))","v":0},{"$f":"IF(ISNA(VLOOKUP($C143,'Sat TT_06'!$C$4:$Q$152,15,FALSE)=$C143),0,VLOOKUP($C143,'Sat TT_06'!$C$4:$Q$152,15,FALSE))","v":0},{"$f":"IF(ISNA(VLOOKUP($C143,'Sat TT_07'!$C$4:$Q$152,15,FALSE)=$C143),0,VLOOKUP($C143,'Sat TT_07'!$C$4:$Q$152,15,FALSE))","v":0},{"$f":"IF(ISNA(VLOOKUP($C143,'Sat TT_08'!$C$4:$Q$152,15,FALSE)=$C143),0,VLOOKUP($C143,'Sat TT_08'!$C$4:$Q$152,15,FALSE))","v":0},0]
[{"$f":"VLOOKUP(C144,'Sheet 1'!C$1:D$96,2,FALSE)","v":{"$error":"#N/A"}},135,{"$f":"+'[1]Racing numbers file'!$B174","v":"Noel Murphy"},{"$f":"VLOOKUP(C144,'[1]Racing numbers file'!$B$4:$F$290,2,FALSE)","v":1972},{"$f":"VLOOKUP(C144,'[1]Racing numbers file'!$B$4:$F$290,4,FALSE)","v":44},{"$f":"SaturdayHandicapTable[[#This Row],[Points2]]","v":0},{"$f":"IF(ISNA(VLOOKUP($C144,'Sat TT_01'!$C$4:$Q$152,15,FALSE)=$C144),0,VLOOKUP($C144,'Sat TT_01'!$C$4:$Q$152,15,FALSE))","v":0},{"$f":"IF(ISNA(VLOOKUP($C144,'Sat TT_02'!$C$4:$Q$152,15,FALSE)=$C144),0,VLOOKUP($C144,'Sat TT_02'!$C$4:$Q$152,15,FALSE))","v":0},{"$f":"IF(ISNA(VLOOKUP($C144,'Sat TT_03'!$C$4:$Q$152,15,FALSE)=$C144),0,VLOOKUP($C144,'Sat TT_03'!$C$4:$Q$152,15,FALSE))","v":0},{"$f":"IF(ISNA(VLOOKUP($C144,'Sat TT_04'!$C$4:$Q$152,15,FALSE)=$C144),0,VLOOKUP($C144,'Sat TT_04'!$C$4:$Q$152,15,FALSE))","v":0},{"$f":"IF(ISNA(VLOOKUP($C144,'Sat TT_05'!$C$4:$Q$152,15,FALSE)=$C144),0,VLOOKUP($C144,'Sat TT_05'!$C$4:$Q$152,15,FALSE))","v":0},{"$f":"IF(ISNA(VLOOKUP($C144,'Sat TT_06'!$C$4:$Q$152,15,FALSE)=$C144),0,VLOOKUP($C144,'Sat TT_06'!$C$4:$Q$152,15,FALSE))","v":0},{"$f":"IF(ISNA(VLOOKUP($C144,'Sat TT_07'!$C$4:$Q$152,15,FALSE)=$C144),0,VLOOKUP($C144,'Sat TT_07'!$C$4:$Q$152,15,FALSE))","v":0},{"$f":"IF(ISNA(VLOOKUP($C144,'Sat TT_08'!$C$4:$Q$152,15,FALSE)=$C144),0,VLOOKUP($C144,'Sat TT_08'!$C$4:$Q$152,15,FALSE))","v":0},0]
[{"$f":"VLOOKUP(C145,'Sheet 1'!C$1:D$96,2,FALSE)","v":{"$error":"#N/A"}},136,"Fitzsimons pat","Patsy",79,{"$f":"SaturdayHandicapTable[[#This Row],[Points2]]","v":0},{"$f":"IF(ISNA(VLOOKUP($C145,'Sat TT_01'!$C$4:$Q$152,15,FALSE)=$C145),0,VLOOKUP($C145,'Sat TT_01'!$C$4:$Q$152,15,FALSE))","v":0},{"$f":"IF(ISNA(VLOOKUP($C145,'Sat TT_02'!$C$4:$Q$152,15,FALSE)=$C145),0,VLOOKUP($C145,'Sat TT_02'!$C$4:$Q$152,15,FALSE))","v":0},{"$f":"IF(ISNA(VLOOKUP($C145,'Sat TT_03'!$C$4:$Q$152,15,FALSE)=$C145),0,VLOOKUP($C145,'Sat TT_03'!$C$4:$Q$152,15,FALSE))","v":0},{"$f":"IF(ISNA(VLOOKUP($C145,'Sat TT_04'!$C$4:$Q$152,15,FALSE)=$C145),0,VLOOKUP($C145,'Sat TT_04'!$C$4:$Q$152,15,FALSE))","v":0},{"$f":"IF(ISNA(VLOOKUP($C145,'Sat TT_05'!$C$4:$Q$152,15,FALSE)=$C145),0,VLOOKUP($C145,'Sat TT_05'!$C$4:$Q$152,15,FALSE))","v":0},{"$f":"IF(ISNA(VLOOKUP($C145,'Sat TT_06'!$C$4:$Q$152,15,FALSE)=$C145),0,VLOOKUP($C145,'Sat TT_06'!$C$4:$Q$152,15,FALSE))","v":0},{"$f":"IF(ISNA(VLOOKUP($C145,'Sat TT_07'!$C$4:$Q$152,15,FALSE)=$C145),0,VLOOKUP($C145,'Sat TT_07'!$C$4:$Q$152,15,FALSE))","v":0},{"$f":"IF(ISNA(VLOOKUP($C145,'Sat TT_08'!$C$4:$Q$152,15,FALSE)=$C145),0,VLOOKUP($C145,'Sat TT_08'!$C$4:$Q$152,15,FALSE))","v":0},0]
[{"$f":"VLOOKUP(C146,'Sheet 1'!C$1:D$96,2,FALSE)","v":{"$error":"#N/A"}},137,{"$f":"+'[1]Racing numbers file'!$B105","v":"Seán Gaine"},{"$f":"VLOOKUP(C146,'[1]Racing numbers file'!$B$4:$F$290,2,FALSE)","v":1964},{"$f":"VLOOKUP(C146,'[1]Racing numbers file'!$B$4:$F$290,4,FALSE)","v":52},{"$f":"SaturdayHandicapTable[[#This Row],[Points2]]","v":0},{"$f":"IF(ISNA(VLOOKUP($C146,'Sat TT_01'!$C$4:$Q$152,15,FALSE)=$C146),0,VLOOKUP($C146,'Sat TT_01'!$C$4:$Q$152,15,FALSE))","v":0},{"$f":"IF(ISNA(VLOOKUP($C146,'Sat TT_02'!$C$4:$Q$152,15,FALSE)=$C146),0,VLOOKUP($C146,'Sat TT_02'!$C$4:$Q$152,15,FALSE))","v":0},{"$f":"IF(ISNA(VLOOKUP($C146,'Sat TT_03'!$C$4:$Q$152,15,FALSE)=$C146),0,VLOOKUP($C146,'Sat TT_03'!$C$4:$Q$152,15,FALSE))","v":0},{"$f":"IF(ISNA(VLOOKUP($C146,'Sat TT_04'!$C$4:$Q$152,15,FALSE)=$C146),0,VLOOKUP($C146,'Sat TT_04'!$C$4:$Q$152,15,FALSE))","v":0},{"$f":"IF(ISNA(VLOOKUP($C146,'Sat TT_05'!$C$4:$Q$152,15,FALSE)=$C146),0,VLOOKUP($C146,'Sat TT_05'!$C$4:$Q$152,15,FALSE))","v":0},{"$f":"IF(ISNA(VLOOKUP($C146,'Sat TT_06'!$C$4:$Q$152,15,FALSE)=$C146),0,VLOOKUP($C146,'Sat TT_06'!$C$4:$Q$152,15,FALSE))","v":0},{"$f":"IF(ISNA(VLOOKUP($C146,'Sat TT_07'!$C$4:$Q$152,15,FALSE)=$C146),0,VLOOKUP($C146,'Sat TT_07'!$C$4:$Q$152,15,FALSE))","v":0},{"$f":"IF(ISNA(VLOOKUP($C146,'Sat TT_08'!$C$4:$Q$152,15,FALSE)=$C146),0,VLOOKUP($C146,'Sat TT_08'!$C$4:$Q$152,15,FALSE))","v":0},0]
[{"$f":"VLOOKUP(C147,'Sheet 1'!C$1:D$96,2,FALSE)","v":1405},138,{"$f":"+'[1]Racing numbers file'!$B207","v":"Anthony O'Malley"},{"$f":"VLOOKUP(C147,'[1]Racing numbers file'!$B$4:$F$290,2,FALSE)","v":1968},{"$f":"VLOOKUP(C147,'[1]Racing numbers file'!$B$4:$F$290,4,FALSE)","v":48},{"$f":"SaturdayHandicapTable[[#This Row],[Points2]]","v":0},{"$f":"IF(ISNA(VLOOKUP($C147,'Sat TT_01'!$C$4:$Q$152,15,FALSE)=$C147),0,VLOOKUP($C147,'Sat TT_01'!$C$4:$Q$152,15,FALSE))","v":0},{"$f":"IF(ISNA(VLOOKUP($C147,'Sat TT_02'!$C$4:$Q$152,15,FALSE)=$C147),0,VLOOKUP($C147,'Sat TT_02'!$C$4:$Q$152,15,FALSE))","v":0},{"$f":"IF(ISNA(VLOOKUP($C147,'Sat TT_03'!$C$4:$Q$152,15,FALSE)=$C147),0,VLOOKUP($C147,'Sat TT_03'!$C$4:$Q$152,15,FALSE))","v":0},{"$f":"IF(ISNA(VLOOKUP($C147,'Sat TT_04'!$C$4:$Q$152,15,FALSE)=$C147),0,VLOOKUP($C147,'Sat TT_04'!$C$4:$Q$152,15,FALSE))","v":0},{"$f":"IF(ISNA(VLOOKUP($C147,'Sat TT_05'!$C$4:$Q$152,15,FALSE)=$C147),0,VLOOKUP($C147,'Sat TT_05'!$C$4:$Q$152,15,FALSE))","v":0},{"$f":"IF(ISNA(VLOOKUP($C147,'Sat TT_06'!$C$4:$Q$152,15,FALSE)=$C147),0,VLOOKUP($C147,'Sat TT_06'!$C$4:$Q$152,15,FALSE))","v":0},{"$f":"IF(ISNA(VLOOKUP($C147,'Sat TT_07'!$C$4:$Q$152,15,FALSE)=$C147),0,VLOOKUP($C147,'Sat TT_07'!$C$4:$Q$152,15,FALSE))","v":0},{"$f":"IF(ISNA(VLOOKUP($C147,'Sat TT_08'!$C$4:$Q$152,15,FALSE)=$C147),0,VLOOKUP($C147,'Sat TT_08'!$C$4:$Q$152,15,FALSE))","v":0},0]
[{"$f":"VLOOKUP(C148,'Sheet 1'!C$1:D$96,2,FALSE)","v":{"$error":"#N/A"}},139,"Gaston","Gerard",59,{"$f":"SaturdayHandicapTable[[#This Row],[Points2]]","v":0},{"$f":"IF(ISNA(VLOOKUP($C148,'Sat TT_01'!$C$4:$Q$152,15,FALSE)=$C148),0,VLOOKUP($C148,'Sat TT_01'!$C$4:$Q$152,15,FALSE))","v":0},{"$f":"IF(ISNA(VLOOKUP($C148,'Sat TT_02'!$C$4:$Q$152,15,FALSE)=$C148),0,VLOOKUP($C148,'Sat TT_02'!$C$4:$Q$152,15,FALSE))","v":0},{"$f":"IF(ISNA(VLOOKUP($C148,'Sat TT_03'!$C$4:$Q$152,15,FALSE)=$C148),0,VLOOKUP($C148,'Sat TT_03'!$C$4:$Q$152,15,FALSE))","v":0},{"$f":"IF(ISNA(VLOOKUP($C148,'Sat TT_04'!$C$4:$Q$152,15,FALSE)=$C148),0,VLOOKUP($C148,'Sat TT_04'!$C$4:$Q$152,15,FALSE))","v":0},{"$f":"IF(ISNA(VLOOKUP($C148,'Sat TT_05'!$C$4:$Q$152,15,FALSE)=$C148),0,VLOOKUP($C148,'Sat TT_05'!$C$4:$Q$152,15,FALSE))","v":0},{"$f":"IF(ISNA(VLOOKUP($C148,'Sat TT_06'!$C$4:$Q$152,15,FALSE)=$C148),0,VLOOKUP($C148,'Sat TT_06'!$C$4:$Q$152,15,FALSE))","v":0},{"$f":"IF(ISNA(VLOOKUP($C148,'Sat TT_07'!$C$4:$Q$152,15,FALSE)=$C148),0,VLOOKUP($C148,'Sat TT_07'!$C$4:$Q$152,15,FALSE))","v":0},{"$f":"IF(ISNA(VLOOKUP($C148,'Sat TT_08'!$C$4:$Q$152,15,FALSE)=$C148),0,VLOOKUP($C148,'Sat TT_08'!$C$4:$Q$152,15,FALSE))","v":0},0]
[{"$f":"VLOOKUP(C149,'Sheet 1'!C$1:D$96,2,FALSE)","v":{"$error":"#N/A"}},140,{"$f":"+'[1]Racing numbers file'!$B253","v":"Fergus Craddock"},{"$f":"VLOOKUP(C149,'[1]Racing numbers file'!$B$4:$F$290,2,FALSE)","v":1975},{"$f":"VLOOKUP(C149,'[1]Racing numbers file'!$B$4:$F$290,4,FALSE)","v":41},{"$f":"SaturdayHandicapTable[[#This Row],[Points2]]","v":0},{"$f":"IF(ISNA(VLOOKUP($C149,'Sat TT_01'!$C$4:$Q$152,15,FALSE)=$C149),0,VLOOKUP($C149,'Sat TT_01'!$C$4:$Q$152,15,FALSE))","v":0},{"$f":"IF(ISNA(VLOOKUP($C149,'Sat TT_02'!$C$4:$Q$152,15,FALSE)=$C149),0,VLOOKUP($C149,'Sat TT_02'!$C$4:$Q$152,15,FALSE))","v":0},{"$f":"IF(ISNA(VLOOKUP($C149,'Sat TT_03'!$C$4:$Q$152,15,FALSE)=$C149),0,VLOOKUP($C149,'Sat TT_03'!$C$4:$Q$152,15,FALSE))","v":0},{"$f":"IF(ISNA(VLOOKUP($C149,'Sat TT_04'!$C$4:$Q$152,15,FALSE)=$C149),0,VLOOKUP($C149,'Sat TT_04'!$C$4:$Q$152,15,FALSE))","v":0},{"$f":"IF(ISNA(VLOOKUP($C149,'Sat TT_05'!$C$4:$Q$152,15,FALSE)=$C149),0,VLOOKUP($C149,'Sat TT_05'!$C$4:$Q$152,15,FALSE))","v":0},{"$f":"IF(ISNA(VLOOKUP($C149,'Sat TT_06'!$C$4:$Q$152,15,FALSE)=$C149),0,VLOOKUP($C149,'Sat TT_06'!$C$4:$Q$152,15,FALSE))","v":0},{"$f":"IF(ISNA(VLOOKUP($C149,'Sat TT_07'!$C$4:$Q$152,15,FALSE)=$C149),0,VLOOKUP($C149,'Sat TT_07'!$C$4:$Q$152,15,FALSE))","v":0},{"$f":"IF(ISNA(VLOOKUP($C149,'Sat TT_08'!$C$4:$Q$152,15,FALSE)=$C149),0,VLOOKUP($C149,'Sat TT_08'!$C$4:$Q$152,15,FALSE))","v":0},0]
[{"$f":"VLOOKUP(C150,'Sheet 1'!C$1:D$96,2,FALSE)","v":{"$error":"#N/A"}},141,{"$f":"+'[1]Racing numbers file'!$B172","v":"Mark McCabe"},{"$f":"VLOOKUP(C150,'[1]Racing numbers file'!$B$4:$F$290,2,FALSE)","v":1971},{"$f":"VLOOKUP(C150,'[1]Racing numbers file'!$B$4:$F$290,4,FALSE)","v":45},{"$f":"SaturdayHandicapTable[[#This Row],[Points2]]","v":0},{"$f":"IF(ISNA(VLOOKUP($C150,'Sat TT_01'!$C$4:$Q$152,15,FALSE)=$C150),0,VLOOKUP($C150,'Sat TT_01'!$C$4:$Q$152,15,FALSE))","v":0},{"$f":"IF(ISNA(VLOOKUP($C150,'Sat TT_02'!$C$4:$Q$152,15,FALSE)=$C150),0,VLOOKUP($C150,'Sat TT_02'!$C$4:$Q$152,15,FALSE))","v":0},{"$f":"IF(ISNA(VLOOKUP($C150,'Sat TT_03'!$C$4:$Q$152,15,FALSE)=$C150),0,VLOOKUP($C150,'Sat TT_03'!$C$4:$Q$152,15,FALSE))","v":0},{"$f":"IF(ISNA(VLOOKUP($C150,'Sat TT_04'!$C$4:$Q$152,15,FALSE)=$C150),0,VLOOKUP($C150,'Sat TT_04'!$C$4:$Q$152,15,FALSE))","v":0},{"$f":"IF(ISNA(VLOOKUP($C150,'Sat TT_05'!$C$4:$Q$152,15,FALSE)=$C150),0,VLOOKUP($C150,'Sat TT_05'!$C$4:$Q$152,15,FALSE))","v":0},{"$f":"IF(ISNA(VLOOKUP($C150,'Sat TT_06'!$C$4:$Q$152,15,FALSE)=$C150),0,VLOOKUP($C150,'Sat TT_06'!$C$4:$Q$152,15,FALSE))","v":0},{"$f":"IF(ISNA(VLOOKUP($C150,'Sat TT_07'!$C$4:$Q$152,15,FALSE)=$C150),0,VLOOKUP($C150,'Sat TT_07'!$C$4:$Q$152,15,FALSE))","v":0},{"$f":"IF(ISNA(VLOOKUP($C150,'Sat TT_08'!$C$4:$Q$152,15,FALSE)=$C150),0,VLOOKUP($C150,'Sat TT_08'!$C$4:$Q$152,15,FALSE))","v":0},0]
[{"$f":"VLOOKUP(C151,'Sheet 1'!C$1:D$96,2,FALSE)","v":1120},142,{"$f":"+'[1]Racing numbers file'!$B56","v":"Dermot O'Gorman"},{"$f":"VLOOKUP(C151,'[1]Racing numbers file'!$B$4:$F$290,2,FALSE)","v":1956},{"$f":"VLOOKUP(C151,'[1]Racing numbers file'!$B$4:$F$290,4,FALSE)","v":60},{"$f":"SaturdayHandicapTable[[#This Row],[Points2]]","v":0},{"$f":"IF(ISNA(VLOOKUP($C151,'Sat TT_01'!$C$4:$Q$152,15,FALSE)=$C151),0,VLOOKUP($C151,'Sat TT_01'!$C$4:$Q$152,15,FALSE))","v":0},{"$f":"IF(ISNA(VLOOKUP($C151,'Sat TT_02'!$C$4:$Q$152,15,FALSE)=$C151),0,VLOOKUP($C151,'Sat TT_02'!$C$4:$Q$152,15,FALSE))","v":0},{"$f":"IF(ISNA(VLOOKUP($C151,'Sat TT_03'!$C$4:$Q$152,15,FALSE)=$C151),0,VLOOKUP($C151,'Sat TT_03'!$C$4:$Q$152,15,FALSE))","v":0},{"$f":"IF(ISNA(VLOOKUP($C151,'Sat TT_04'!$C$4:$Q$152,15,FALSE)=$C151),0,VLOOKUP($C151,'Sat TT_04'!$C$4:$Q$152,15,FALSE))","v":0},{"$f":"IF(ISNA(VLOOKUP($C151,'Sat TT_05'!$C$4:$Q$152,15,FALSE)=$C151),0,VLOOKUP($C151,'Sat TT_05'!$C$4:$Q$152,15,FALSE))","v":0},{"$f":"IF(ISNA(VLOOKUP($C151,'Sat TT_06'!$C$4:$Q$152,15,FALSE)=$C151),0,VLOOKUP($C151,'Sat TT_06'!$C$4:$Q$152,15,FALSE))","v":0},{"$f":"IF(ISNA(VLOOKUP($C151,'Sat TT_07'!$C$4:$Q$152,15,FALSE)=$C151),0,VLOOKUP($C151,'Sat TT_07'!$C$4:$Q$152,15,FALSE))","v":0},{"$f":"IF(ISNA(VLOOKUP($C151,'Sat TT_08'!$C$4:$Q$152,15,FALSE)=$C151),0,VLOOKUP($C151,'Sat TT_08'!$C$4:$Q$152,15,FALSE))","v":0},0]
[{"$f":"VLOOKUP(C152,'Sheet 1'!C$1:D$96,2,FALSE)","v":{"$error":"#N/A"}},143,{"$f":"+'[1]Racing numbers file'!$B267","v":"Diarmuid Collins"},{"$f":"VLOOKUP(C152,'[1]Racing numbers file'!$B$4:$F$290,2,FALSE)","v":1975},{"$f":"VLOOKUP(C152,'[1]Racing numbers file'!$B$4:$F$290,4,FALSE)","v":41},{"$f":"SaturdayHandicapTable[[#This Row],[Points2]]","v":0},{"$f":"IF(ISNA(VLOOKUP($C152,'Sat TT_01'!$C$4:$Q$152,15,FALSE)=$C152),0,VLOOKUP($C152,'Sat TT_01'!$C$4:$Q$152,15,FALSE))","v":0},{"$f":"IF(ISNA(VLOOKUP($C152,'Sat TT_02'!$C$4:$Q$152,15,FALSE)=$C152),0,VLOOKUP($C152,'Sat TT_02'!$C$4:$Q$152,15,FALSE))","v":0},{"$f":"IF(ISNA(VLOOKUP($C152,'Sat TT_03'!$C$4:$Q$152,15,FALSE)=$C152),0,VLOOKUP($C152,'Sat TT_03'!$C$4:$Q$152,15,FALSE))","v":0},{"$f":"IF(ISNA(VLOOKUP($C152,'Sat TT_04'!$C$4:$Q$152,15,FALSE)=$C152),0,VLOOKUP($C152,'Sat TT_04'!$C$4:$Q$152,15,FALSE))","v":0},{"$f":"IF(ISNA(VLOOKUP($C152,'Sat TT_05'!$C$4:$Q$152,15,FALSE)=$C152),0,VLOOKUP($C152,'Sat TT_05'!$C$4:$Q$152,15,FALSE))","v":0},{"$f":"IF(ISNA(VLOOKUP($C152,'Sat TT_06'!$C$4:$Q$152,15,FALSE)=$C152),0,VLOOKUP($C152,'Sat TT_06'!$C$4:$Q$152,15,FALSE))","v":0},{"$f":"IF(ISNA(VLOOKUP($C152,'Sat TT_07'!$C$4:$Q$152,15,FALSE)=$C152),0,VLOOKUP($C152,'Sat TT_07'!$C$4:$Q$152,15,FALSE))","v":0},{"$f":"IF(ISNA(VLOOKUP($C152,'Sat TT_08'!$C$4:$Q$152,15,FALSE)=$C152),0,VLOOKUP($C152,'Sat TT_08'!$C$4:$Q$152,15,FALSE))","v":0},0]
[{"$f":"VLOOKUP(C153,'Sheet 1'!C$1:D$96,2,FALSE)","v":{"$error":"#N/A"}},144,{"$f":"+'[1]Racing numbers file'!$B109","v":"Padraic Hamrock"},{"$f":"VLOOKUP(C153,'[1]Racing numbers file'!$B$4:$F$290,2,FALSE)","v":1964},{"$f":"VLOOKUP(C153,'[1]Racing numbers file'!$B$4:$F$290,4,FALSE)","v":52},{"$f":"SaturdayHandicapTable[[#This Row],[Points2]]","v":0},{"$f":"IF(ISNA(VLOOKUP($C153,'Sat TT_01'!$C$4:$Q$152,15,FALSE)=$C153),0,VLOOKUP($C153,'Sat TT_01'!$C$4:$Q$152,15,FALSE))","v":0},{"$f":"IF(ISNA(VLOOKUP($C153,'Sat TT_02'!$C$4:$Q$152,15,FALSE)=$C153),0,VLOOKUP($C153,'Sat TT_02'!$C$4:$Q$152,15,FALSE))","v":0},{"$f":"IF(ISNA(VLOOKUP($C153,'Sat TT_03'!$C$4:$Q$152,15,FALSE)=$C153),0,VLOOKUP($C153,'Sat TT_03'!$C$4:$Q$152,15,FALSE))","v":0},{"$f":"IF(ISNA(VLOOKUP($C153,'Sat TT_04'!$C$4:$Q$152,15,FALSE)=$C153),0,VLOOKUP($C153,'Sat TT_04'!$C$4:$Q$152,15,FALSE))","v":0},{"$f":"IF(ISNA(VLOOKUP($C153,'Sat TT_05'!$C$4:$Q$152,15,FALSE)=$C153),0,VLOOKUP($C153,'Sat TT_05'!$C$4:$Q$152,15,FALSE))","v":0},{"$f":"IF(ISNA(VLOOKUP($C153,'Sat TT_06'!$C$4:$Q$152,15,FALSE)=$C153),0,VLOOKUP($C153,'Sat TT_06'!$C$4:$Q$152,15,FALSE))","v":0},{"$f":"IF(ISNA(VLOOKUP($C153,'Sat TT_07'!$C$4:$Q$152,15,FALSE)=$C153),0,VLOOKUP($C153,'Sat TT_07'!$C$4:$Q$152,15,FALSE))","v":0},{"$f":"IF(ISNA(VLOOKUP($C153,'Sat TT_08'!$C$4:$Q$152,15,FALSE)=$C153),0,VLOOKUP($C153,'Sat TT_08'!$C$4:$Q$152,15,FALSE))","v":0},0]
[{"$f":"VLOOKUP(C154,'Sheet 1'!C$1:D$96,2,FALSE)","v":1196},145,{"$f":"+'[1]Racing numbers file'!$B97","v":"Tom Barber"},{"$f":"VLOOKUP(C154,'[1]Racing numbers file'!$B$4:$F$290,2,FALSE)","v":1962},{"$f":"VLOOKUP(C154,'[1]Racing numbers file'!$B$4:$F$290,4,FALSE)","v":54},{"$f":"SaturdayHandicapTable[[#This Row],[Points2]]","v":0},{"$f":"IF(ISNA(VLOOKUP($C154,'Sat TT_01'!$C$4:$Q$152,15,FALSE)=$C154),0,VLOOKUP($C154,'Sat TT_01'!$C$4:$Q$152,15,FALSE))","v":0},{"$f":"IF(ISNA(VLOOKUP($C154,'Sat TT_02'!$C$4:$Q$152,15,FALSE)=$C154),0,VLOOKUP($C154,'Sat TT_02'!$C$4:$Q$152,15,FALSE))","v":0},{"$f":"IF(ISNA(VLOOKUP($C154,'Sat TT_03'!$C$4:$Q$152,15,FALSE)=$C154),0,VLOOKUP($C154,'Sat TT_03'!$C$4:$Q$152,15,FALSE))","v":0},{"$f":"IF(ISNA(VLOOKUP($C154,'Sat TT_04'!$C$4:$Q$152,15,FALSE)=$C154),0,VLOOKUP($C154,'Sat TT_04'!$C$4:$Q$152,15,FALSE))","v":0},{"$f":"IF(ISNA(VLOOKUP($C154,'Sat TT_05'!$C$4:$Q$152,15,FALSE)=$C154),0,VLOOKUP($C154,'Sat TT_05'!$C$4:$Q$152,15,FALSE))","v":0},{"$f":"IF(ISNA(VLOOKUP($C154,'Sat TT_06'!$C$4:$Q$152,15,FALSE)=$C154),0,VLOOKUP($C154,'Sat TT_06'!$C$4:$Q$152,15,FALSE))","v":0},{"$f":"IF(ISNA(VLOOKUP($C154,'Sat TT_07'!$C$4:$Q$152,15,FALSE)=$C154),0,VLOOKUP($C154,'Sat TT_07'!$C$4:$Q$152,15,FALSE))","v":0},{"$f":"IF(ISNA(VLOOKUP($C154,'Sat TT_08'!$C$4:$Q$152,15,FALSE)=$C154),0,VLOOKUP($C154,'Sat TT_08'!$C$4:$Q$152,15,FALSE))","v":0},0]
[{"$f":"VLOOKUP(C155,'Sheet 1'!C$1:D$96,2,FALSE)","v":{"$error":"#N/A"}},146,{"$f":"+'[1]Racing numbers file'!$B106","v":"Nathan Hannigan"},{"$f":"VLOOKUP(C155,'[1]Racing numbers file'!$B$4:$F$290,2,FALSE)","v":1964},{"$f":"VLOOKUP(C155,'[1]Racing numbers file'!$B$4:$F$290,4,FALSE)","v":52},{"$f":"SaturdayHandicapTable[[#This Row],[Points2]]","v":0},{"$f":"IF(ISNA(VLOOKUP($C155,'Sat TT_01'!$C$4:$Q$152,15,FALSE)=$C155),0,VLOOKUP($C155,'Sat TT_01'!$C$4:$Q$152,15,FALSE))","v":0},{"$f":"IF(ISNA(VLOOKUP($C155,'Sat TT_02'!$C$4:$Q$152,15,FALSE)=$C155),0,VLOOKUP($C155,'Sat TT_02'!$C$4:$Q$152,15,FALSE))","v":0},{"$f":"IF(ISNA(VLOOKUP($C155,'Sat TT_03'!$C$4:$Q$152,15,FALSE)=$C155),0,VLOOKUP($C155,'Sat TT_03'!$C$4:$Q$152,15,FALSE))","v":0},{"$f":"IF(ISNA(VLOOKUP($C155,'Sat TT_04'!$C$4:$Q$152,15,FALSE)=$C155),0,VLOOKUP($C155,'Sat TT_04'!$C$4:$Q$152,15,FALSE))","v":0},{"$f":"IF(ISNA(VLOOKUP($C155,'Sat TT_05'!$C$4:$Q$152,15,FALSE)=$C155),0,VLOOKUP($C155,'Sat TT_05'!$C$4:$Q$152,15,FALSE))","v":0},{"$f":"IF(ISNA(VLOOKUP($C155,'Sat TT_06'!$C$4:$Q$152,15,FALSE)=$C155),0,VLOOKUP($C155,'Sat TT_06'!$C$4:$Q$152,15,FALSE))","v":0},{"$f":"IF(ISNA(VLOOKUP($C155,'Sat TT_07'!$C$4:$Q$152,15,FALSE)=$C155),0,VLOOKUP($C155,'Sat TT_07'!$C$4:$Q$152,15,FALSE))","v":0},{"$f":"IF(ISNA(VLOOKUP($C155,'Sat TT_08'!$C$4:$Q$152,15,FALSE)=$C155),0,VLOOKUP($C155,'Sat TT_08'!$C$4:$Q$152,15,FALSE))","v":0},0]
[{"$f":"VLOOKUP(C156,'Sheet 1'!C$1:D$96,2,FALSE)","v":{"$error":"#N/A"}},147,"Harte f","Fred",74,{"$f":"SaturdayHandicapTable[[#This Row],[Points2]]","v":0},{"$f":"IF(ISNA(VLOOKUP($C156,'Sat TT_01'!$C$4:$Q$152,15,FALSE)=$C156),0,VLOOKUP($C156,'Sat TT_01'!$C$4:$Q$152,15,FALSE))","v":0},{"$f":"IF(ISNA(VLOOKUP($C156,'Sat TT_02'!$C$4:$Q$152,15,FALSE)=$C156),0,VLOOKUP($C156,'Sat TT_02'!$C$4:$Q$152,15,FALSE))","v":0},{"$f":"IF(ISNA(VLOOKUP($C156,'Sat TT_03'!$C$4:$Q$152,15,FALSE)=$C156),0,VLOOKUP($C156,'Sat TT_03'!$C$4:$Q$152,15,FALSE))","v":0},{"$f":"IF(ISNA(VLOOKUP($C156,'Sat TT_04'!$C$4:$Q$152,15,FALSE)=$C156),0,VLOOKUP($C156,'Sat TT_04'!$C$4:$Q$152,15,FALSE))","v":0},{"$f":"IF(ISNA(VLOOKUP($C156,'Sat TT_05'!$C$4:$Q$152,15,FALSE)=$C156),0,VLOOKUP($C156,'Sat TT_05'!$C$4:$Q$152,15,FALSE))","v":0},{"$f":"IF(ISNA(VLOOKUP($C156,'Sat TT_06'!$C$4:$Q$152,15,FALSE)=$C156),0,VLOOKUP($C156,'Sat TT_06'!$C$4:$Q$152,15,FALSE))","v":0},{"$f":"IF(ISNA(VLOOKUP($C156,'Sat TT_07'!$C$4:$Q$152,15,FALSE)=$C156),0,VLOOKUP($C156,'Sat TT_07'!$C$4:$Q$152,15,FALSE))","v":0},{"$f":"IF(ISNA(VLOOKUP($C156,'Sat TT_08'!$C$4:$Q$152,15,FALSE)=$C156),0,VLOOKUP($C156,'Sat TT_08'!$C$4:$Q$152,15,FALSE))","v":0},0]
[{"$f":"VLOOKUP(C157,'Sheet 1'!C$1:D$96,2,FALSE)","v":{"$error":"#N/A"}},148,{"$f":"+'[1]Racing numbers file'!$B126","v":"Alan Sheppard"},{"$f":"VLOOKUP(C157,'[1]Racing numbers file'!$B$4:$F$290,2,FALSE)","v":1966},{"$f":"VLOOKUP(C157,'[1]Racing numbers file'!$B$4:$F$290,4,FALSE)","v":50},{"$f":"SaturdayHandicapTable[[#This Row],[Points2]]","v":0},{"$f":"IF(ISNA(VLOOKUP($C157,'Sat TT_01'!$C$4:$Q$152,15,FALSE)=$C157),0,VLOOKUP($C157,'Sat TT_01'!$C$4:$Q$152,15,FALSE))","v":0},{"$f":"IF(ISNA(VLOOKUP($C157,'Sat TT_02'!$C$4:$Q$152,15,FALSE)=$C157),0,VLOOKUP($C157,'Sat TT_02'!$C$4:$Q$152,15,FALSE))","v":0},{"$f":"IF(ISNA(VLOOKUP($C157,'Sat TT_03'!$C$4:$Q$152,15,FALSE)=$C157),0,VLOOKUP($C157,'Sat TT_03'!$C$4:$Q$152,15,FALSE))","v":0},{"$f":"IF(ISNA(VLOOKUP($C157,'Sat TT_04'!$C$4:$Q$152,15,FALSE)=$C157),0,VLOOKUP($C157,'Sat TT_04'!$C$4:$Q$152,15,FALSE))","v":0},{"$f":"IF(ISNA(VLOOKUP($C157,'Sat TT_05'!$C$4:$Q$152,15,FALSE)=$C157),0,VLOOKUP($C157,'Sat TT_05'!$C$4:$Q$152,15,FALSE))","v":0},{"$f":"IF(ISNA(VLOOKUP($C157,'Sat TT_06'!$C$4:$Q$152,15,FALSE)=$C157),0,VLOOKUP($C157,'Sat TT_06'!$C$4:$Q$152,15,FALSE))","v":0},{"$f":"IF(ISNA(VLOOKUP($C157,'Sat TT_07'!$C$4:$Q$152,15,FALSE)=$C157),0,VLOOKUP($C157,'Sat TT_07'!$C$4:$Q$152,15,FALSE))","v":0},{"$f":"IF(ISNA(VLOOKUP($C157,'Sat TT_08'!$C$4:$Q$152,15,FALSE)=$C157),0,VLOOKUP($C157,'Sat TT_08'!$C$4:$Q$152,15,FALSE))","v":0},0]
[{"$f":"VLOOKUP(C158,'Sheet 1'!C$1:D$96,2,FALSE)","v":1472},149,{"$f":"+'[1]Racing numbers file'!$B240","v":"Caroline Martinez"},{"$f":"VLOOKUP(C158,'[1]Racing numbers file'!$B$4:$F$290,2,FALSE)","v":1979},{"$f":"VLOOKUP(C158,'[1]Racing numbers file'!$B$4:$F$290,4,FALSE)","v":37},{"$f":"SaturdayHandicapTable[[#This Row],[Points2]]","v":0},{"$f":"IF(ISNA(VLOOKUP($C158,'Sat TT_01'!$C$4:$Q$152,15,FALSE)=$C158),0,VLOOKUP($C158,'Sat TT_01'!$C$4:$Q$152,15,FALSE))","v":0},{"$f":"IF(ISNA(VLOOKUP($C158,'Sat TT_02'!$C$4:$Q$152,15,FALSE)=$C158),0,VLOOKUP($C158,'Sat TT_02'!$C$4:$Q$152,15,FALSE))","v":0},{"$f":"IF(ISNA(VLOOKUP($C158,'Sat TT_03'!$C$4:$Q$152,15,FALSE)=$C158),0,VLOOKUP($C158,'Sat TT_03'!$C$4:$Q$152,15,FALSE))","v":0},{"$f":"IF(ISNA(VLOOKUP($C158,'Sat TT_04'!$C$4:$Q$152,15,FALSE)=$C158),0,VLOOKUP($C158,'Sat TT_04'!$C$4:$Q$152,15,FALSE))","v":0},{"$f":"IF(ISNA(VLOOKUP($C158,'Sat TT_05'!$C$4:$Q$152,15,FALSE)=$C158),0,VLOOKUP($C158,'Sat TT_05'!$C$4:$Q$152,15,FALSE))","v":0},{"$f":"IF(ISNA(VLOOKUP($C158,'Sat TT_06'!$C$4:$Q$152,15,FALSE)=$C158),0,VLOOKUP($C158,'Sat TT_06'!$C$4:$Q$152,15,FALSE))","v":0},{"$f":"IF(ISNA(VLOOKUP($C158,'Sat TT_07'!$C$4:$Q$152,15,FALSE)=$C158),0,VLOOKUP($C158,'Sat TT_07'!$C$4:$Q$152,15,FALSE))","v":0},{"$f":"IF(ISNA(VLOOKUP($C158,'Sat TT_08'!$C$4:$Q$152,15,FALSE)=$C158),0,VLOOKUP($C158,'Sat TT_08'!$C$4:$Q$152,15,FALSE))","v":0},0]
[{"$f":"VLOOKUP(C159,'Sheet 1'!C$1:D$96,2,FALSE)","v":{"$error":"#N/A"}},150,{"$f":"+'[1]Racing numbers file'!$B142","v":"Andy Brady"},{"$f":"VLOOKUP(C159,'[1]Racing numbers file'!$B$4:$F$290,2,FALSE)","v":1968},{"$f":"VLOOKUP(C159,'[1]Racing numbers file'!$B$4:$F$290,4,FALSE)","v":48},{"$f":"SaturdayHandicapTable[[#This Row],[Points2]]","v":0},{"$f":"IF(ISNA(VLOOKUP($C159,'Sat TT_01'!$C$4:$Q$152,15,FALSE)=$C159),0,VLOOKUP($C159,'Sat TT_01'!$C$4:$Q$152,15,FALSE))","v":0},{"$f":"IF(ISNA(VLOOKUP($C159,'Sat TT_02'!$C$4:$Q$152,15,FALSE)=$C159),0,VLOOKUP($C159,'Sat TT_02'!$C$4:$Q$152,15,FALSE))","v":0},{"$f":"IF(ISNA(VLOOKUP($C159,'Sat TT_03'!$C$4:$Q$152,15,FALSE)=$C159),0,VLOOKUP($C159,'Sat TT_03'!$C$4:$Q$152,15,FALSE))","v":0},{"$f":"IF(ISNA(VLOOKUP($C159,'Sat TT_04'!$C$4:$Q$152,15,FALSE)=$C159),0,VLOOKUP($C159,'Sat TT_04'!$C$4:$Q$152,15,FALSE))","v":0},{"$f":"IF(ISNA(VLOOKUP($C159,'Sat TT_05'!$C$4:$Q$152,15,FALSE)=$C159),0,VLOOKUP($C159,'Sat TT_05'!$C$4:$Q$152,15,FALSE))","v":0},{"$f":"IF(ISNA(VLOOKUP($C159,'Sat TT_06'!$C$4:$Q$152,15,FALSE)=$C159),0,VLOOKUP($C159,'Sat TT_06'!$C$4:$Q$152,15,FALSE))","v":0},{"$f":"IF(ISNA(VLOOKUP($C159,'Sat TT_07'!$C$4:$Q$152,15,FALSE)=$C159),0,VLOOKUP($C159,'Sat TT_07'!$C$4:$Q$152,15,FALSE))","v":0},{"$f":"IF(ISNA(VLOOKUP($C159,'Sat TT_08'!$C$4:$Q$152,15,FALSE)=$C159),0,VLOOKUP($C159,'Sat TT_08'!$C$4:$Q$152,15,FALSE))","v":0},0]
[{"$f":"VLOOKUP(C160,'Sheet 1'!C$1:D$96,2,FALSE)","v":{"$error":"#N/A"}},151,{"$f":"+'[1]Racing numbers file'!$B60","v":"Paul Tansey"},{"$f":"VLOOKUP(C160,'[1]Racing numbers file'!$B$4:$F$290,2,FALSE)","v":1957},{"$f":"VLOOKUP(C160,'[1]Racing numbers file'!$B$4:$F$290,4,FALSE)","v":59},{"$f":"SaturdayHandicapTable[[#This Row],[Points2]]","v":0},{"$f":"IF(ISNA(VLOOKUP($C160,'Sat TT_01'!$C$4:$Q$152,15,FALSE)=$C160),0,VLOOKUP($C160,'Sat TT_01'!$C$4:$Q$152,15,FALSE))","v":0},{"$f":"IF(ISNA(VLOOKUP($C160,'Sat TT_02'!$C$4:$Q$152,15,FALSE)=$C160),0,VLOOKUP($C160,'Sat TT_02'!$C$4:$Q$152,15,FALSE))","v":0},{"$f":"IF(ISNA(VLOOKUP($C160,'Sat TT_03'!$C$4:$Q$152,15,FALSE)=$C160),0,VLOOKUP($C160,'Sat TT_03'!$C$4:$Q$152,15,FALSE))","v":0},{"$f":"IF(ISNA(VLOOKUP($C160,'Sat TT_04'!$C$4:$Q$152,15,FALSE)=$C160),0,VLOOKUP($C160,'Sat TT_04'!$C$4:$Q$152,15,FALSE))","v":0},{"$f":"IF(ISNA(VLOOKUP($C160,'Sat TT_05'!$C$4:$Q$152,15,FALSE)=$C160),0,VLOOKUP($C160,'Sat TT_05'!$C$4:$Q$152,15,FALSE))","v":0},{"$f":"IF(ISNA(VLOOKUP($C160,'Sat TT_06'!$C$4:$Q$152,15,FALSE)=$C160),0,VLOOKUP($C160,'Sat TT_06'!$C$4:$Q$152,15,FALSE))","v":0},{"$f":"IF(ISNA(VLOOKUP($C160,'Sat TT_07'!$C$4:$Q$152,15,FALSE)=$C160),0,VLOOKUP($C160,'Sat TT_07'!$C$4:$Q$152,15,FALSE))","v":0},{"$f":"IF(ISNA(VLOOKUP($C160,'Sat TT_08'!$C$4:$Q$152,15,FALSE)=$C160),0,VLOOKUP($C160,'Sat TT_08'!$C$4:$Q$152,15,FALSE))","v":0},0]
[{"$f":"VLOOKUP(C161,'Sheet 1'!C$1:D$96,2,FALSE)","v":{"$error":"#N/A"}},152,{"$f":"+'[1]Racing numbers file'!$B77","v":"John Hogan"},{"$f":"VLOOKUP(C161,'[1]Racing numbers file'!$B$4:$F$290,2,FALSE)","v":1960},{"$f":"VLOOKUP(C161,'[1]Racing numbers file'!$B$4:$F$290,4,FALSE)","v":56},{"$f":"SaturdayHandicapTable[[#This Row],[Points2]]","v":0},{"$f":"IF(ISNA(VLOOKUP($C161,'Sat TT_01'!$C$4:$Q$152,15,FALSE)=$C161),0,VLOOKUP($C161,'Sat TT_01'!$C$4:$Q$152,15,FALSE))","v":0},{"$f":"IF(ISNA(VLOOKUP($C161,'Sat TT_02'!$C$4:$Q$152,15,FALSE)=$C161),0,VLOOKUP($C161,'Sat TT_02'!$C$4:$Q$152,15,FALSE))","v":0},{"$f":"IF(ISNA(VLOOKUP($C161,'Sat TT_03'!$C$4:$Q$152,15,FALSE)=$C161),0,VLOOKUP($C161,'Sat TT_03'!$C$4:$Q$152,15,FALSE))","v":0},{"$f":"IF(ISNA(VLOOKUP($C161,'Sat TT_04'!$C$4:$Q$152,15,FALSE)=$C161),0,VLOOKUP($C161,'Sat TT_04'!$C$4:$Q$152,15,FALSE))","v":0},{"$f":"IF(ISNA(VLOOKUP($C161,'Sat TT_05'!$C$4:$Q$152,15,FALSE)=$C161),0,VLOOKUP($C161,'Sat TT_05'!$C$4:$Q$152,15,FALSE))","v":0},{"$f":"IF(ISNA(VLOOKUP($C161,'Sat TT_06'!$C$4:$Q$152,15,FALSE)=$C161),0,VLOOKUP($C161,'Sat TT_06'!$C$4:$Q$152,15,FALSE))","v":0},{"$f":"IF(ISNA(VLOOKUP($C161,'Sat TT_07'!$C$4:$Q$152,15,FALSE)=$C161),0,VLOOKUP($C161,'Sat TT_07'!$C$4:$Q$152,15,FALSE))","v":0},{"$f":"IF(ISNA(VLOOKUP($C161,'Sat TT_08'!$C$4:$Q$152,15,FALSE)=$C161),0,VLOOKUP($C161,'Sat TT_08'!$C$4:$Q$152,15,FALSE))","v":0},0]
[{"$f":"VLOOKUP(C162,'Sheet 1'!C$1:D$96,2,FALSE)","v":{"$error":"#N/A"}},153,{"$f":"+'[1]Racing numbers file'!$B73","v":"Peter McDunphy"},{"$f":"VLOOKUP(C162,'[1]Racing numbers file'!$B$4:$F$290,2,FALSE)","v":1959},{"$f":"VLOOKUP(C162,'[1]Racing numbers file'!$B$4:$F$290,4,FALSE)","v":57},{"$f":"SaturdayHandicapTable[[#This Row],[Points2]]","v":0},{"$f":"IF(ISNA(VLOOKUP($C162,'Sat TT_01'!$C$4:$Q$152,15,FALSE)=$C162),0,VLOOKUP($C162,'Sat TT_01'!$C$4:$Q$152,15,FALSE))","v":0},{"$f":"IF(ISNA(VLOOKUP($C162,'Sat TT_02'!$C$4:$Q$152,15,FALSE)=$C162),0,VLOOKUP($C162,'Sat TT_02'!$C$4:$Q$152,15,FALSE))","v":0},{"$f":"IF(ISNA(VLOOKUP($C162,'Sat TT_03'!$C$4:$Q$152,15,FALSE)=$C162),0,VLOOKUP($C162,'Sat TT_03'!$C$4:$Q$152,15,FALSE))","v":0},{"$f":"IF(ISNA(VLOOKUP($C162,'Sat TT_04'!$C$4:$Q$152,15,FALSE)=$C162),0,VLOOKUP($C162,'Sat TT_04'!$C$4:$Q$152,15,FALSE))","v":0},{"$f":"IF(ISNA(VLOOKUP($C162,'Sat TT_05'!$C$4:$Q$152,15,FALSE)=$C162),0,VLOOKUP($C162,'Sat TT_05'!$C$4:$Q$152,15,FALSE))","v":0},{"$f":"IF(ISNA(VLOOKUP($C162,'Sat TT_06'!$C$4:$Q$152,15,FALSE)=$C162),0,VLOOKUP($C162,'Sat TT_06'!$C$4:$Q$152,15,FALSE))","v":0},{"$f":"IF(ISNA(VLOOKUP($C162,'Sat TT_07'!$C$4:$Q$152,15,FALSE)=$C162),0,VLOOKUP($C162,'Sat TT_07'!$C$4:$Q$152,15,FALSE))","v":0},{"$f":"IF(ISNA(VLOOKUP($C162,'Sat TT_08'!$C$4:$Q$152,15,FALSE)=$C162),0,VLOOKUP($C162,'Sat TT_08'!$C$4:$Q$152,15,FALSE))","v":0},0]
[{"$f":"VLOOKUP(C163,'Sheet 1'!C$1:D$96,2,FALSE)","v":{"$error":"#N/A"}},154,{"$f":"+'[1]Racing numbers file'!$B81","v":"Joseph Coleman"},{"$f":"VLOOKUP(C163,'[1]Racing numbers file'!$B$4:$F$290,2,FALSE)","v":1960},{"$f":"VLOOKUP(C163,'[1]Racing numbers file'!$B$4:$F$290,4,FALSE)","v":56},{"$f":"SaturdayHandicapTable[[#This Row],[Points2]]","v":0},{"$f":"IF(ISNA(VLOOKUP($C163,'Sat TT_01'!$C$4:$Q$152,15,FALSE)=$C163),0,VLOOKUP($C163,'Sat TT_01'!$C$4:$Q$152,15,FALSE))","v":0},{"$f":"IF(ISNA(VLOOKUP($C163,'Sat TT_02'!$C$4:$Q$152,15,FALSE)=$C163),0,VLOOKUP($C163,'Sat TT_02'!$C$4:$Q$152,15,FALSE))","v":0},{"$f":"IF(ISNA(VLOOKUP($C163,'Sat TT_03'!$C$4:$Q$152,15,FALSE)=$C163),0,VLOOKUP($C163,'Sat TT_03'!$C$4:$Q$152,15,FALSE))","v":0},{"$f":"IF(ISNA(VLOOKUP($C163,'Sat TT_04'!$C$4:$Q$152,15,FALSE)=$C163),0,VLOOKUP($C163,'Sat TT_04'!$C$4:$Q$152,15,FALSE))","v":0},{"$f":"IF(ISNA(VLOOKUP($C163,'Sat TT_05'!$C$4:$Q$152,15,FALSE)=$C163),0,VLOOKUP($C163,'Sat TT_05'!$C$4:$Q$152,15,FALSE))","v":0},{"$f":"IF(ISNA(VLOOKUP($C163,'Sat TT_06'!$C$4:$Q$152,15,FALSE)=$C163),0,VLOOKUP($C163,'Sat TT_06'!$C$4:$Q$152,15,FALSE))","v":0},{"$f":"IF(ISNA(VLOOKUP($C163,'Sat TT_07'!$C$4:$Q$152,15,FALSE)=$C163),0,VLOOKUP($C163,'Sat TT_07'!$C$4:$Q$152,15,FALSE))","v":0},{"$f":"IF(ISNA(VLOOKUP($C163,'Sat TT_08'!$C$4:$Q$152,15,FALSE)=$C163),0,VLOOKUP($C163,'Sat TT_08'!$C$4:$Q$152,15,FALSE))","v":0},0]
[{"$f":"VLOOKUP(C164,'Sheet 1'!C$1:D$96,2,FALSE)","v":{"$error":"#N/A"}},155,{"$f":"+'[1]Racing numbers file'!$B270","v":"Sean Hynes"},{"$f":"VLOOKUP(C164,'[1]Racing numbers file'!$B$4:$F$290,2,FALSE)","v":1964},{"$f":"VLOOKUP(C164,'[1]Racing numbers file'!$B$4:$F$290,4,FALSE)","v":52},{"$f":"SaturdayHandicapTable[[#This Row],[Points2]]","v":0},{"$f":"IF(ISNA(VLOOKUP($C164,'Sat TT_01'!$C$4:$Q$152,15,FALSE)=$C164),0,VLOOKUP($C164,'Sat TT_01'!$C$4:$Q$152,15,FALSE))","v":0},{"$f":"IF(ISNA(VLOOKUP($C164,'Sat TT_02'!$C$4:$Q$152,15,FALSE)=$C164),0,VLOOKUP($C164,'Sat TT_02'!$C$4:$Q$152,15,FALSE))","v":0},{"$f":"IF(ISNA(VLOOKUP($C164,'Sat TT_03'!$C$4:$Q$152,15,FALSE)=$C164),0,VLOOKUP($C164,'Sat TT_03'!$C$4:$Q$152,15,FALSE))","v":0},{"$f":"IF(ISNA(VLOOKUP($C164,'Sat TT_04'!$C$4:$Q$152,15,FALSE)=$C164),0,VLOOKUP($C164,'Sat TT_04'!$C$4:$Q$152,15,FALSE))","v":0},{"$f":"IF(ISNA(VLOOKUP($C164,'Sat TT_05'!$C$4:$Q$152,15,FALSE)=$C164),0,VLOOKUP($C164,'Sat TT_05'!$C$4:$Q$152,15,FALSE))","v":0},{"$f":"IF(ISNA(VLOOKUP($C164,'Sat TT_06'!$C$4:$Q$152,15,FALSE)=$C164),0,VLOOKUP($C164,'Sat TT_06'!$C$4:$Q$152,15,FALSE))","v":0},{"$f":"IF(ISNA(VLOOKUP($C164,'Sat TT_07'!$C$4:$Q$152,15,FALSE)=$C164),0,VLOOKUP($C164,'Sat TT_07'!$C$4:$Q$152,15,FALSE))","v":0},{"$f":"IF(ISNA(VLOOKUP($C164,'Sat TT_08'!$C$4:$Q$152,15,FALSE)=$C164),0,VLOOKUP($C164,'Sat TT_08'!$C$4:$Q$152,15,FALSE))","v":0},0]
[{"$f":"VLOOKUP(C165,'Sheet 1'!C$1:D$96,2,FALSE)","v":{"$error":"#N/A"}},156,{"$f":"+'[1]Racing numbers file'!$B178","v":"Gavin Kelly"},{"$f":"VLOOKUP(C165,'[1]Racing numbers file'!$B$4:$F$290,2,FALSE)","v":1973},{"$f":"VLOOKUP(C165,'[1]Racing numbers file'!$B$4:$F$290,4,FALSE)","v":43},{"$f":"SaturdayHandicapTable[[#This Row],[Points2]]","v":0},{"$f":"IF(ISNA(VLOOKUP($C165,'Sat TT_01'!$C$4:$Q$152,15,FALSE)=$C165),0,VLOOKUP($C165,'Sat TT_01'!$C$4:$Q$152,15,FALSE))","v":0},{"$f":"IF(ISNA(VLOOKUP($C165,'Sat TT_02'!$C$4:$Q$152,15,FALSE)=$C165),0,VLOOKUP($C165,'Sat TT_02'!$C$4:$Q$152,15,FALSE))","v":0},{"$f":"IF(ISNA(VLOOKUP($C165,'Sat TT_03'!$C$4:$Q$152,15,FALSE)=$C165),0,VLOOKUP($C165,'Sat TT_03'!$C$4:$Q$152,15,FALSE))","v":0},{"$f":"IF(ISNA(VLOOKUP($C165,'Sat TT_04'!$C$4:$Q$152,15,FALSE)=$C165),0,VLOOKUP($C165,'Sat TT_04'!$C$4:$Q$152,15,FALSE))","v":0},{"$f":"IF(ISNA(VLOOKUP($C165,'Sat TT_05'!$C$4:$Q$152,15,FALSE)=$C165),0,VLOOKUP($C165,'Sat TT_05'!$C$4:$Q$152,15,FALSE))","v":0},{"$f":"IF(ISNA(VLOOKUP($C165,'Sat TT_06'!$C$4:$Q$152,15,FALSE)=$C165),0,VLOOKUP($C165,'Sat TT_06'!$C$4:$Q$152,15,FALSE))","v":0},{"$f":"IF(ISNA(VLOOKUP($C165,'Sat TT_07'!$C$4:$Q$152,15,FALSE)=$C165),0,VLOOKUP($C165,'Sat TT_07'!$C$4:$Q$152,15,FALSE))","v":0},{"$f":"IF(ISNA(VLOOKUP($C165,'Sat TT_08'!$C$4:$Q$152,15,FALSE)=$C165),0,VLOOKUP($C165,'Sat TT_08'!$C$4:$Q$152,15,FALSE))","v":0},0]
[{"$f":"VLOOKUP(C166,'Sheet 1'!C$1:D$96,2,FALSE)","v":{"$error":"#N/A"}},157,{"$f":"+'[1]Racing numbers file'!$B260","v":"Gerard Murphy"},{"$f":"VLOOKUP(C166,'[1]Racing numbers file'!$B$4:$F$290,2,FALSE)","v":1970},{"$f":"VLOOKUP(C166,'[1]Racing numbers file'!$B$4:$F$290,4,FALSE)","v":46},{"$f":"SaturdayHandicapTable[[#This Row],[Points2]]","v":0},{"$f":"IF(ISNA(VLOOKUP($C166,'Sat TT_01'!$C$4:$Q$152,15,FALSE)=$C166),0,VLOOKUP($C166,'Sat TT_01'!$C$4:$Q$152,15,FALSE))","v":0},{"$f":"IF(ISNA(VLOOKUP($C166,'Sat TT_02'!$C$4:$Q$152,15,FALSE)=$C166),0,VLOOKUP($C166,'Sat TT_02'!$C$4:$Q$152,15,FALSE))","v":0},{"$f":"IF(ISNA(VLOOKUP($C166,'Sat TT_03'!$C$4:$Q$152,15,FALSE)=$C166),0,VLOOKUP($C166,'Sat TT_03'!$C$4:$Q$152,15,FALSE))","v":0},{"$f":"IF(ISNA(VLOOKUP($C166,'Sat TT_04'!$C$4:$Q$152,15,FALSE)=$C166),0,VLOOKUP($C166,'Sat TT_04'!$C$4:$Q$152,15,FALSE))","v":0},{"$f":"IF(ISNA(VLOOKUP($C166,'Sat TT_05'!$C$4:$Q$152,15,FALSE)=$C166),0,VLOOKUP($C166,'Sat TT_05'!$C$4:$Q$152,15,FALSE))","v":0},{"$f":"IF(ISNA(VLOOKUP($C166,'Sat TT_06'!$C$4:$Q$152,15,FALSE)=$C166),0,VLOOKUP($C166,'Sat TT_06'!$C$4:$Q$152,15,FALSE))","v":0},{"$f":"IF(ISNA(VLOOKUP($C166,'Sat TT_07'!$C$4:$Q$152,15,FALSE)=$C166),0,VLOOKUP($C166,'Sat TT_07'!$C$4:$Q$152,15,FALSE))","v":0},{"$f":"IF(ISNA(VLOOKUP($C166,'Sat TT_08'!$C$4:$Q$152,15,FALSE)=$C166),0,VLOOKUP($C166,'Sat TT_08'!$C$4:$Q$152,15,FALSE))","v":0},0]
[{"$f":"VLOOKUP(C167,'Sheet 1'!C$1:D$96,2,FALSE)","v":{"$error":"#N/A"}},158,{"$f":"+'[1]Racing numbers file'!$B272","v":"Liam Cullen"},{"$f":"VLOOKUP(C167,'[1]Racing numbers file'!$B$4:$F$290,2,FALSE)","v":1974},{"$f":"VLOOKUP(C167,'[1]Racing numbers file'!$B$4:$F$290,4,FALSE)","v":42},{"$f":"SaturdayHandicapTable[[#This Row],[Points2]]","v":0},{"$f":"IF(ISNA(VLOOKUP($C167,'Sat TT_01'!$C$4:$Q$152,15,FALSE)=$C167),0,VLOOKUP($C167,'Sat TT_01'!$C$4:$Q$152,15,FALSE))","v":0},{"$f":"IF(ISNA(VLOOKUP($C167,'Sat TT_02'!$C$4:$Q$152,15,FALSE)=$C167),0,VLOOKUP($C167,'Sat TT_02'!$C$4:$Q$152,15,FALSE))","v":0},{"$f":"IF(ISNA(VLOOKUP($C167,'Sat TT_03'!$C$4:$Q$152,15,FALSE)=$C167),0,VLOOKUP($C167,'Sat TT_03'!$C$4:$Q$152,15,FALSE))","v":0},{"$f":"IF(ISNA(VLOOKUP($C167,'Sat TT_04'!$C$4:$Q$152,15,FALSE)=$C167),0,VLOOKUP($C167,'Sat TT_04'!$C$4:$Q$152,15,FALSE))","v":0},{"$f":"IF(ISNA(VLOOKUP($C167,'Sat TT_05'!$C$4:$Q$152,15,FALSE)=$C167),0,VLOOKUP($C167,'Sat TT_05'!$C$4:$Q$152,15,FALSE))","v":0},{"$f":"IF(ISNA(VLOOKUP($C167,'Sat TT_06'!$C$4:$Q$152,15,FALSE)=$C167),0,VLOOKUP($C167,'Sat TT_06'!$C$4:$Q$152,15,FALSE))","v":0},{"$f":"IF(ISNA(VLOOKUP($C167,'Sat TT_07'!$C$4:$Q$152,15,FALSE)=$C167),0,VLOOKUP($C167,'Sat TT_07'!$C$4:$Q$152,15,FALSE))","v":0},{"$f":"IF(ISNA(VLOOKUP($C167,'Sat TT_08'!$C$4:$Q$152,15,FALSE)=$C167),0,VLOOKUP($C167,'Sat TT_08'!$C$4:$Q$152,15,FALSE))","v":0},0]
[{"$f":"VLOOKUP(C168,'Sheet 1'!C$1:D$96,2,FALSE)","v":{"$error":"#N/A"}},159,{"$f":"+'[1]Racing numbers file'!$B154","v":"Brian Lenehan"},{"$f":"VLOOKUP(C168,'[1]Racing numbers file'!$B$4:$F$290,2,FALSE)","v":1969},{"$f":"VLOOKUP(C168,'[1]Racing numbers file'!$B$4:$F$290,4,FALSE)","v":47},{"$f":"SaturdayHandicapTable[[#This Row],[Points2]]","v":0},{"$f":"IF(ISNA(VLOOKUP($C168,'Sat TT_01'!$C$4:$Q$152,15,FALSE)=$C168),0,VLOOKUP($C168,'Sat TT_01'!$C$4:$Q$152,15,FALSE))","v":0},{"$f":"IF(ISNA(VLOOKUP($C168,'Sat TT_02'!$C$4:$Q$152,15,FALSE)=$C168),0,VLOOKUP($C168,'Sat TT_02'!$C$4:$Q$152,15,FALSE))","v":0},{"$f":"IF(ISNA(VLOOKUP($C168,'Sat TT_03'!$C$4:$Q$152,15,FALSE)=$C168),0,VLOOKUP($C168,'Sat TT_03'!$C$4:$Q$152,15,FALSE))","v":0},{"$f":"IF(ISNA(VLOOKUP($C168,'Sat TT_04'!$C$4:$Q$152,15,FALSE)=$C168),0,VLOOKUP($C168,'Sat TT_04'!$C$4:$Q$152,15,FALSE))","v":0},{"$f":"IF(ISNA(VLOOKUP($C168,'Sat TT_05'!$C$4:$Q$152,15,FALSE)=$C168),0,VLOOKUP($C168,'Sat TT_05'!$C$4:$Q$152,15,FALSE))","v":0},{"$f":"IF(ISNA(VLOOKUP($C168,'Sat TT_06'!$C$4:$Q$152,15,FALSE)=$C168),0,VLOOKUP($C168,'Sat TT_06'!$C$4:$Q$152,15,FALSE))","v":0},{"$f":"IF(ISNA(VLOOKUP($C168,'Sat TT_07'!$C$4:$Q$152,15,FALSE)=$C168),0,VLOOKUP($C168,'Sat TT_07'!$C$4:$Q$152,15,FALSE))","v":0},{"$f":"IF(ISNA(VLOOKUP($C168,'Sat TT_08'!$C$4:$Q$152,15,FALSE)=$C168),0,VLOOKUP($C168,'Sat TT_08'!$C$4:$Q$152,15,FALSE))","v":0},0]
[{"$f":"VLOOKUP(C169,'Sheet 1'!C$1:D$96,2,FALSE)","v":{"$error":"#N/A"}},160,{"$f":"+'[1]Racing numbers file'!$B175","v":"Ray Fedigan"},{"$f":"VLOOKUP(C169,'[1]Racing numbers file'!$B$4:$F$290,2,FALSE)","v":1972},{"$f":"VLOOKUP(C169,'[1]Racing numbers file'!$B$4:$F$290,4,FALSE)","v":44},{"$f":"SaturdayHandicapTable[[#This Row],[Points2]]","v":0},{"$f":"IF(ISNA(VLOOKUP($C169,'Sat TT_01'!$C$4:$Q$152,15,FALSE)=$C169),0,VLOOKUP($C169,'Sat TT_01'!$C$4:$Q$152,15,FALSE))","v":0},{"$f":"IF(ISNA(VLOOKUP($C169,'Sat TT_02'!$C$4:$Q$152,15,FALSE)=$C169),0,VLOOKUP($C169,'Sat TT_02'!$C$4:$Q$152,15,FALSE))","v":0},{"$f":"IF(ISNA(VLOOKUP($C169,'Sat TT_03'!$C$4:$Q$152,15,FALSE)=$C169),0,VLOOKUP($C169,'Sat TT_03'!$C$4:$Q$152,15,FALSE))","v":0},{"$f":"IF(ISNA(VLOOKUP($C169,'Sat TT_04'!$C$4:$Q$152,15,FALSE)=$C169),0,VLOOKUP($C169,'Sat TT_04'!$C$4:$Q$152,15,FALSE))","v":0},{"$f":"IF(ISNA(VLOOKUP($C169,'Sat TT_05'!$C$4:$Q$152,15,FALSE)=$C169),0,VLOOKUP($C169,'Sat TT_05'!$C$4:$Q$152,15,FALSE))","v":0},{"$f":"IF(ISNA(VLOOKUP($C169,'Sat TT_06'!$C$4:$Q$152,15,FALSE)=$C169),0,VLOOKUP($C169,'Sat TT_06'!$C$4:$Q$152,15,FALSE))","v":0},{"$f":"IF(ISNA(VLOOKUP($C169,'Sat TT_07'!$C$4:$Q$152,15,FALSE)=$C169),0,VLOOKUP($C169,'Sat TT_07'!$C$4:$Q$152,15,FALSE))","v":0},{"$f":"IF(ISNA(VLOOKUP($C169,'Sat TT_08'!$C$4:$Q$152,15,FALSE)=$C169),0,VLOOKUP($C169,'Sat TT_08'!$C$4:$Q$152,15,FALSE))","v":0},0]
[{"$f":"VLOOKUP(C170,'Sheet 1'!C$1:D$96,2,FALSE)","v":{"$error":"#N/A"}},161,{"$f":"+'[1]Racing numbers file'!$B191","v":"Seán G Lally"},{"$f":"VLOOKUP(C170,'[1]Racing numbers file'!$B$4:$F$290,2,FALSE)","v":1963},{"$f":"VLOOKUP(C170,'[1]Racing numbers file'!$B$4:$F$290,4,FALSE)","v":53},{"$f":"SaturdayHandicapTable[[#This Row],[Points2]]","v":0},{"$f":"IF(ISNA(VLOOKUP($C170,'Sat TT_01'!$C$4:$Q$152,15,FALSE)=$C170),0,VLOOKUP($C170,'Sat TT_01'!$C$4:$Q$152,15,FALSE))","v":0},{"$f":"IF(ISNA(VLOOKUP($C170,'Sat TT_02'!$C$4:$Q$152,15,FALSE)=$C170),0,VLOOKUP($C170,'Sat TT_02'!$C$4:$Q$152,15,FALSE))","v":0},{"$f":"IF(ISNA(VLOOKUP($C170,'Sat TT_03'!$C$4:$Q$152,15,FALSE)=$C170),0,VLOOKUP($C170,'Sat TT_03'!$C$4:$Q$152,15,FALSE))","v":0},{"$f":"IF(ISNA(VLOOKUP($C170,'Sat TT_04'!$C$4:$Q$152,15,FALSE)=$C170),0,VLOOKUP($C170,'Sat TT_04'!$C$4:$Q$152,15,FALSE))","v":0},{"$f":"IF(ISNA(VLOOKUP($C170,'Sat TT_05'!$C$4:$Q$152,15,FALSE)=$C170),0,VLOOKUP($C170,'Sat TT_05'!$C$4:$Q$152,15,FALSE))","v":0},{"$f":"IF(ISNA(VLOOKUP($C170,'Sat TT_06'!$C$4:$Q$152,15,FALSE)=$C170),0,VLOOKUP($C170,'Sat TT_06'!$C$4:$Q$152,15,FALSE))","v":0},{"$f":"IF(ISNA(VLOOKUP($C170,'Sat TT_07'!$C$4:$Q$152,15,FALSE)=$C170),0,VLOOKUP($C170,'Sat TT_07'!$C$4:$Q$152,15,FALSE))","v":0},{"$f":"IF(ISNA(VLOOKUP($C170,'Sat TT_08'!$C$4:$Q$152,15,FALSE)=$C170),0,VLOOKUP($C170,'Sat TT_08'!$C$4:$Q$152,15,FALSE))","v":0},0]
[{"$f":"VLOOKUP(C171,'Sheet 1'!C$1:D$96,2,FALSE)","v":{"$error":"#N/A"}},162,{"$f":"+'[1]Racing numbers file'!$B226","v":"Denis Gleeson"},{"$f":"VLOOKUP(C171,'[1]Racing numbers file'!$B$4:$F$290,2,FALSE)","v":1953},{"$f":"VLOOKUP(C171,'[1]Racing numbers file'!$B$4:$F$290,4,FALSE)","v":63},{"$f":"SaturdayHandicapTable[[#This Row],[Points2]]","v":0},{"$f":"IF(ISNA(VLOOKUP($C171,'Sat TT_01'!$C$4:$Q$152,15,FALSE)=$C171),0,VLOOKUP($C171,'Sat TT_01'!$C$4:$Q$152,15,FALSE))","v":0},{"$f":"IF(ISNA(VLOOKUP($C171,'Sat TT_02'!$C$4:$Q$152,15,FALSE)=$C171),0,VLOOKUP($C171,'Sat TT_02'!$C$4:$Q$152,15,FALSE))","v":0},{"$f":"IF(ISNA(VLOOKUP($C171,'Sat TT_03'!$C$4:$Q$152,15,FALSE)=$C171),0,VLOOKUP($C171,'Sat TT_03'!$C$4:$Q$152,15,FALSE))","v":0},{"$f":"IF(ISNA(VLOOKUP($C171,'Sat TT_04'!$C$4:$Q$152,15,FALSE)=$C171),0,VLOOKUP($C171,'Sat TT_04'!$C$4:$Q$152,15,FALSE))","v":0},{"$f":"IF(ISNA(VLOOKUP($C171,'Sat TT_05'!$C$4:$Q$152,15,FALSE)=$C171),0,VLOOKUP($C171,'Sat TT_05'!$C$4:$Q$152,15,FALSE))","v":0},{"$f":"IF(ISNA(VLOOKUP($C171,'Sat TT_06'!$C$4:$Q$152,15,FALSE)=$C171),0,VLOOKUP($C171,'Sat TT_06'!$C$4:$Q$152,15,FALSE))","v":0},{"$f":"IF(ISNA(VLOOKUP($C171,'Sat TT_07'!$C$4:$Q$152,15,FALSE)=$C171),0,VLOOKUP($C171,'Sat TT_07'!$C$4:$Q$152,15,FALSE))","v":0},{"$f":"IF(ISNA(VLOOKUP($C171,'Sat TT_08'!$C$4:$Q$152,15,FALSE)=$C171),0,VLOOKUP($C171,'Sat TT_08'!$C$4:$Q$152,15,FALSE))","v":0},0]
[{"$f":"VLOOKUP(C172,'Sheet 1'!C$1:D$96,2,FALSE)","v":{"$error":"#N/A"}},163,{"$f":"+'[1]Racing numbers file'!$B186","v":"Dylan Rafter"},{"$f":"VLOOKUP(C172,'[1]Racing numbers file'!$B$4:$F$290,2,FALSE)","v":1974},{"$f":"VLOOKUP(C172,'[1]Racing numbers file'!$B$4:$F$290,4,FALSE)","v":42},{"$f":"SaturdayHandicapTable[[#This Row],[Points2]]","v":0},{"$f":"IF(ISNA(VLOOKUP($C172,'Sat TT_01'!$C$4:$Q$152,15,FALSE)=$C172),0,VLOOKUP($C172,'Sat TT_01'!$C$4:$Q$152,15,FALSE))","v":0},{"$f":"IF(ISNA(VLOOKUP($C172,'Sat TT_02'!$C$4:$Q$152,15,FALSE)=$C172),0,VLOOKUP($C172,'Sat TT_02'!$C$4:$Q$152,15,FALSE))","v":0},{"$f":"IF(ISNA(VLOOKUP($C172,'Sat TT_03'!$C$4:$Q$152,15,FALSE)=$C172),0,VLOOKUP($C172,'Sat TT_03'!$C$4:$Q$152,15,FALSE))","v":0},{"$f":"IF(ISNA(VLOOKUP($C172,'Sat TT_04'!$C$4:$Q$152,15,FALSE)=$C172),0,VLOOKUP($C172,'Sat TT_04'!$C$4:$Q$152,15,FALSE))","v":0},{"$f":"IF(ISNA(VLOOKUP($C172,'Sat TT_05'!$C$4:$Q$152,15,FALSE)=$C172),0,VLOOKUP($C172,'Sat TT_05'!$C$4:$Q$152,15,FALSE))","v":0},{"$f":"IF(ISNA(VLOOKUP($C172,'Sat TT_06'!$C$4:$Q$152,15,FALSE)=$C172),0,VLOOKUP($C172,'Sat TT_06'!$C$4:$Q$152,15,FALSE))","v":0},{"$f":"IF(ISNA(VLOOKUP($C172,'Sat TT_07'!$C$4:$Q$152,15,FALSE)=$C172),0,VLOOKUP($C172,'Sat TT_07'!$C$4:$Q$152,15,FALSE))","v":0},{"$f":"IF(ISNA(VLOOKUP($C172,'Sat TT_08'!$C$4:$Q$152,15,FALSE)=$C172),0,VLOOKUP($C172,'Sat TT_08'!$C$4:$Q$152,15,FALSE))","v":0},0]
[{"$f":"VLOOKUP(C173,'Sheet 1'!C$1:D$96,2,FALSE)","v":1303},164,{"$f":"+'[1]Racing numbers file'!$B160","v":"Richard Dufficy"},{"$f":"VLOOKUP(C173,'[1]Racing numbers file'!$B$4:$F$290,2,FALSE)","v":1970},{"$f":"VLOOKUP(C173,'[1]Racing numbers file'!$B$4:$F$290,4,FALSE)","v":46},{"$f":"SaturdayHandicapTable[[#This Row],[Points2]]","v":0},{"$f":"IF(ISNA(VLOOKUP($C173,'Sat TT_01'!$C$4:$Q$152,15,FALSE)=$C173),0,VLOOKUP($C173,'Sat TT_01'!$C$4:$Q$152,15,FALSE))","v":0},{"$f":"IF(ISNA(VLOOKUP($C173,'Sat TT_02'!$C$4:$Q$152,15,FALSE)=$C173),0,VLOOKUP($C173,'Sat TT_02'!$C$4:$Q$152,15,FALSE))","v":0},{"$f":"IF(ISNA(VLOOKUP($C173,'Sat TT_03'!$C$4:$Q$152,15,FALSE)=$C173),0,VLOOKUP($C173,'Sat TT_03'!$C$4:$Q$152,15,FALSE))","v":0},{"$f":"IF(ISNA(VLOOKUP($C173,'Sat TT_04'!$C$4:$Q$152,15,FALSE)=$C173),0,VLOOKUP($C173,'Sat TT_04'!$C$4:$Q$152,15,FALSE))","v":0},{"$f":"IF(ISNA(VLOOKUP($C173,'Sat TT_05'!$C$4:$Q$152,15,FALSE)=$C173),0,VLOOKUP($C173,'Sat TT_05'!$C$4:$Q$152,15,FALSE))","v":0},{"$f":"IF(ISNA(VLOOKUP($C173,'Sat TT_06'!$C$4:$Q$152,15,FALSE)=$C173),0,VLOOKUP($C173,'Sat TT_06'!$C$4:$Q$152,15,FALSE))","v":0},{"$f":"IF(ISNA(VLOOKUP($C173,'Sat TT_07'!$C$4:$Q$152,15,FALSE)=$C173),0,VLOOKUP($C173,'Sat TT_07'!$C$4:$Q$152,15,FALSE))","v":0},{"$f":"IF(ISNA(VLOOKUP($C173,'Sat TT_08'!$C$4:$Q$152,15,FALSE)=$C173),0,VLOOKUP($C173,'Sat TT_08'!$C$4:$Q$152,15,FALSE))","v":0},0]
[{"$f":"VLOOKUP(C174,'Sheet 1'!C$1:D$96,2,FALSE)","v":{"$error":"#N/A"}},165,{"$f":"+'[1]Racing numbers file'!$B75","v":"Noel Kelly"},{"$f":"VLOOKUP(C174,'[1]Racing numbers file'!$B$4:$F$290,2,FALSE)","v":1959},{"$f":"VLOOKUP(C174,'[1]Racing numbers file'!$B$4:$F$290,4,FALSE)","v":57},{"$f":"SaturdayHandicapTable[[#This Row],[Points2]]","v":0},{"$f":"IF(ISNA(VLOOKUP($C174,'Sat TT_01'!$C$4:$Q$152,15,FALSE)=$C174),0,VLOOKUP($C174,'Sat TT_01'!$C$4:$Q$152,15,FALSE))","v":0},{"$f":"IF(ISNA(VLOOKUP($C174,'Sat TT_02'!$C$4:$Q$152,15,FALSE)=$C174),0,VLOOKUP($C174,'Sat TT_02'!$C$4:$Q$152,15,FALSE))","v":0},{"$f":"IF(ISNA(VLOOKUP($C174,'Sat TT_03'!$C$4:$Q$152,15,FALSE)=$C174),0,VLOOKUP($C174,'Sat TT_03'!$C$4:$Q$152,15,FALSE))","v":0},{"$f":"IF(ISNA(VLOOKUP($C174,'Sat TT_04'!$C$4:$Q$152,15,FALSE)=$C174),0,VLOOKUP($C174,'Sat TT_04'!$C$4:$Q$152,15,FALSE))","v":0},{"$f":"IF(ISNA(VLOOKUP($C174,'Sat TT_05'!$C$4:$Q$152,15,FALSE)=$C174),0,VLOOKUP($C174,'Sat TT_05'!$C$4:$Q$152,15,FALSE))","v":0},{"$f":"IF(ISNA(VLOOKUP($C174,'Sat TT_06'!$C$4:$Q$152,15,FALSE)=$C174),0,VLOOKUP($C174,'Sat TT_06'!$C$4:$Q$152,15,FALSE))","v":0},{"$f":"IF(ISNA(VLOOKUP($C174,'Sat TT_07'!$C$4:$Q$152,15,FALSE)=$C174),0,VLOOKUP($C174,'Sat TT_07'!$C$4:$Q$152,15,FALSE))","v":0},{"$f":"IF(ISNA(VLOOKUP($C174,'Sat TT_08'!$C$4:$Q$152,15,FALSE)=$C174),0,VLOOKUP($C174,'Sat TT_08'!$C$4:$Q$152,15,FALSE))","v":0},0]
[{"$f":"VLOOKUP(C175,'Sheet 1'!C$1:D$96,2,FALSE)","v":1387},166,{"$f":"+'[1]Racing numbers file'!$B197","v":"Tony O'Malley"},{"$f":"VLOOKUP(C175,'[1]Racing numbers file'!$B$4:$F$290,2,FALSE)","v":1972},{"$f":"VLOOKUP(C175,'[1]Racing numbers file'!$B$4:$F$290,4,FALSE)","v":44},{"$f":"SaturdayHandicapTable[[#This Row],[Points2]]","v":0},{"$f":"IF(ISNA(VLOOKUP($C175,'Sat TT_01'!$C$4:$Q$152,15,FALSE)=$C175),0,VLOOKUP($C175,'Sat TT_01'!$C$4:$Q$152,15,FALSE))","v":0},{"$f":"IF(ISNA(VLOOKUP($C175,'Sat TT_02'!$C$4:$Q$152,15,FALSE)=$C175),0,VLOOKUP($C175,'Sat TT_02'!$C$4:$Q$152,15,FALSE))","v":0},{"$f":"IF(ISNA(VLOOKUP($C175,'Sat TT_03'!$C$4:$Q$152,15,FALSE)=$C175),0,VLOOKUP($C175,'Sat TT_03'!$C$4:$Q$152,15,FALSE))","v":0},{"$f":"IF(ISNA(VLOOKUP($C175,'Sat TT_04'!$C$4:$Q$152,15,FALSE)=$C175),0,VLOOKUP($C175,'Sat TT_04'!$C$4:$Q$152,15,FALSE))","v":0},{"$f":"IF(ISNA(VLOOKUP($C175,'Sat TT_05'!$C$4:$Q$152,15,FALSE)=$C175),0,VLOOKUP($C175,'Sat TT_05'!$C$4:$Q$152,15,FALSE))","v":0},{"$f":"IF(ISNA(VLOOKUP($C175,'Sat TT_06'!$C$4:$Q$152,15,FALSE)=$C175),0,VLOOKUP($C175,'Sat TT_06'!$C$4:$Q$152,15,FALSE))","v":0},{"$f":"IF(ISNA(VLOOKUP($C175,'Sat TT_07'!$C$4:$Q$152,15,FALSE)=$C175),0,VLOOKUP($C175,'Sat TT_07'!$C$4:$Q$152,15,FALSE))","v":0},{"$f":"IF(ISNA(VLOOKUP($C175,'Sat TT_08'!$C$4:$Q$152,15,FALSE)=$C175),0,VLOOKUP($C175,'Sat TT_08'!$C$4:$Q$152,15,FALSE))","v":0},0]
[{"$f":"VLOOKUP(C176,'Sheet 1'!C$1:D$96,2,FALSE)","v":{"$error":"#N/A"}},167,{"$f":"+'[1]Racing numbers file'!$B76","v":"Martin Kennedy"},{"$f":"VLOOKUP(C176,'[1]Racing numbers file'!$B$4:$F$290,2,FALSE)","v":1960},{"$f":"VLOOKUP(C176,'[1]Racing numbers file'!$B$4:$F$290,4,FALSE)","v":56},{"$f":"SaturdayHandicapTable[[#This Row],[Points2]]","v":0},{"$f":"IF(ISNA(VLOOKUP($C176,'Sat TT_01'!$C$4:$Q$152,15,FALSE)=$C176),0,VLOOKUP($C176,'Sat TT_01'!$C$4:$Q$152,15,FALSE))","v":0},{"$f":"IF(ISNA(VLOOKUP($C176,'Sat TT_02'!$C$4:$Q$152,15,FALSE)=$C176),0,VLOOKUP($C176,'Sat TT_02'!$C$4:$Q$152,15,FALSE))","v":0},{"$f":"IF(ISNA(VLOOKUP($C176,'Sat TT_03'!$C$4:$Q$152,15,FALSE)=$C176),0,VLOOKUP($C176,'Sat TT_03'!$C$4:$Q$152,15,FALSE))","v":0},{"$f":"IF(ISNA(VLOOKUP($C176,'Sat TT_04'!$C$4:$Q$152,15,FALSE)=$C176),0,VLOOKUP($C176,'Sat TT_04'!$C$4:$Q$152,15,FALSE))","v":0},{"$f":"IF(ISNA(VLOOKUP($C176,'Sat TT_05'!$C$4:$Q$152,15,FALSE)=$C176),0,VLOOKUP($C176,'Sat TT_05'!$C$4:$Q$152,15,FALSE))","v":0},{"$f":"IF(ISNA(VLOOKUP($C176,'Sat TT_06'!$C$4:$Q$152,15,FALSE)=$C176),0,VLOOKUP($C176,'Sat TT_06'!$C$4:$Q$152,15,FALSE))","v":0},{"$f":"IF(ISNA(VLOOKUP($C176,'Sat TT_07'!$C$4:$Q$152,15,FALSE)=$C176),0,VLOOKUP($C176,'Sat TT_07'!$C$4:$Q$152,15,FALSE))","v":0},{"$f":"IF(ISNA(VLOOKUP($C176,'Sat TT_08'!$C$4:$Q$152,15,FALSE)=$C176),0,VLOOKUP($C176,'Sat TT_08'!$C$4:$Q$152,15,FALSE))","v":0},0]
[{"$f":"VLOOKUP(C177,'Sheet 1'!C$1:D$96,2,FALSE)","v":{"$error":"#N/A"}},168,{"$f":"+'[1]Racing numbers file'!$B149","v":"Tom O'Connell"},{"$f":"VLOOKUP(C177,'[1]Racing numbers file'!$B$4:$F$290,2,FALSE)","v":1969},{"$f":"VLOOKUP(C177,'[1]Racing numbers file'!$B$4:$F$290,4,FALSE)","v":47},{"$f":"SaturdayHandicapTable[[#This Row],[Points2]]","v":0},{"$f":"IF(ISNA(VLOOKUP($C177,'Sat TT_01'!$C$4:$Q$152,15,FALSE)=$C177),0,VLOOKUP($C177,'Sat TT_01'!$C$4:$Q$152,15,FALSE))","v":0},{"$f":"IF(ISNA(VLOOKUP($C177,'Sat TT_02'!$C$4:$Q$152,15,FALSE)=$C177),0,VLOOKUP($C177,'Sat TT_02'!$C$4:$Q$152,15,FALSE))","v":0},{"$f":"IF(ISNA(VLOOKUP($C177,'Sat TT_03'!$C$4:$Q$152,15,FALSE)=$C177),0,VLOOKUP($C177,'Sat TT_03'!$C$4:$Q$152,15,FALSE))","v":0},{"$f":"IF(ISNA(VLOOKUP($C177,'Sat TT_04'!$C$4:$Q$152,15,FALSE)=$C177),0,VLOOKUP($C177,'Sat TT_04'!$C$4:$Q$152,15,FALSE))","v":0},{"$f":"IF(ISNA(VLOOKUP($C177,'Sat TT_05'!$C$4:$Q$152,15,FALSE)=$C177),0,VLOOKUP($C177,'Sat TT_05'!$C$4:$Q$152,15,FALSE))","v":0},{"$f":"IF(ISNA(VLOOKUP($C177,'Sat TT_06'!$C$4:$Q$152,15,FALSE)=$C177),0,VLOOKUP($C177,'Sat TT_06'!$C$4:$Q$152,15,FALSE))","v":0},{"$f":"IF(ISNA(VLOOKUP($C177,'Sat TT_07'!$C$4:$Q$152,15,FALSE)=$C177),0,VLOOKUP($C177,'Sat TT_07'!$C$4:$Q$152,15,FALSE))","v":0},{"$f":"IF(ISNA(VLOOKUP($C177,'Sat TT_08'!$C$4:$Q$152,15,FALSE)=$C177),0,VLOOKUP($C177,'Sat TT_08'!$C$4:$Q$152,15,FALSE))","v":0},0]
[{"$f":"VLOOKUP(C178,'Sheet 1'!C$1:D$96,2,FALSE)","v":{"$error":"#N/A"}},169,{"$f":"+'[1]Racing numbers file'!$B242","v":"Paul Reid"},{"$f":"VLOOKUP(C178,'[1]Racing numbers file'!$B$4:$F$290,2,FALSE)","v":1970},{"$f":"VLOOKUP(C178,'[1]Racing numbers file'!$B$4:$F$290,4,FALSE)","v":46},{"$f":"SaturdayHandicapTable[[#This Row],[Points2]]","v":0},{"$f":"IF(ISNA(VLOOKUP($C178,'Sat TT_01'!$C$4:$Q$152,15,FALSE)=$C178),0,VLOOKUP($C178,'Sat TT_01'!$C$4:$Q$152,15,FALSE))","v":0},{"$f":"IF(ISNA(VLOOKUP($C178,'Sat TT_02'!$C$4:$Q$152,15,FALSE)=$C178),0,VLOOKUP($C178,'Sat TT_02'!$C$4:$Q$152,15,FALSE))","v":0},{"$f":"IF(ISNA(VLOOKUP($C178,'Sat TT_03'!$C$4:$Q$152,15,FALSE)=$C178),0,VLOOKUP($C178,'Sat TT_03'!$C$4:$Q$152,15,FALSE))","v":0},{"$f":"IF(ISNA(VLOOKUP($C178,'Sat TT_04'!$C$4:$Q$152,15,FALSE)=$C178),0,VLOOKUP($C178,'Sat TT_04'!$C$4:$Q$152,15,FALSE))","v":0},{"$f":"IF(ISNA(VLOOKUP($C178,'Sat TT_05'!$C$4:$Q$152,15,FALSE)=$C178),0,VLOOKUP($C178,'Sat TT_05'!$C$4:$Q$152,15,FALSE))","v":0},{"$f":"IF(ISNA(VLOOKUP($C178,'Sat TT_06'!$C$4:$Q$152,15,FALSE)=$C178),0,VLOOKUP($C178,'Sat TT_06'!$C$4:$Q$152,15,FALSE))","v":0},{"$f":"IF(ISNA(VLOOKUP($C178,'Sat TT_07'!$C$4:$Q$152,15,FALSE)=$C178),0,VLOOKUP($C178,'Sat TT_07'!$C$4:$Q$152,15,FALSE))","v":0},{"$f":"IF(ISNA(VLOOKUP($C178,'Sat TT_08'!$C$4:$Q$152,15,FALSE)=$C178),0,VLOOKUP($C178,'Sat TT_08'!$C$4:$Q$152,15,FALSE))","v":0},0]
[{"$f":"VLOOKUP(C179,'Sheet 1'!C$1:D$96,2,FALSE)","v":1390},170,{"$f":"+'[1]Racing numbers file'!$B199","v":"Donagh McArdle"},{"$f":"VLOOKUP(C179,'[1]Racing numbers file'!$B$4:$F$290,2,FALSE)","v":1968},{"$f":"VLOOKUP(C179,'[1]Racing numbers file'!$B$4:$F$290,4,FALSE)","v":48},{"$f":"SaturdayHandicapTable[[#This Row],[Points2]]","v":0},{"$f":"IF(ISNA(VLOOKUP($C179,'Sat TT_01'!$C$4:$Q$152,15,FALSE)=$C179),0,VLOOKUP($C179,'Sat TT_01'!$C$4:$Q$152,15,FALSE))","v":0},{"$f":"IF(ISNA(VLOOKUP($C179,'Sat TT_02'!$C$4:$Q$152,15,FALSE)=$C179),0,VLOOKUP($C179,'Sat TT_02'!$C$4:$Q$152,15,FALSE))","v":0},{"$f":"IF(ISNA(VLOOKUP($C179,'Sat TT_03'!$C$4:$Q$152,15,FALSE)=$C179),0,VLOOKUP($C179,'Sat TT_03'!$C$4:$Q$152,15,FALSE))","v":0},{"$f":"IF(ISNA(VLOOKUP($C179,'Sat TT_04'!$C$4:$Q$152,15,FALSE)=$C179),0,VLOOKUP($C179,'Sat TT_04'!$C$4:$Q$152,15,FALSE))","v":0},{"$f":"IF(ISNA(VLOOKUP($C179,'Sat TT_05'!$C$4:$Q$152,15,FALSE)=$C179),0,VLOOKUP($C179,'Sat TT_05'!$C$4:$Q$152,15,FALSE))","v":0},{"$f":"IF(ISNA(VLOOKUP($C179,'Sat TT_06'!$C$4:$Q$152,15,FALSE)=$C179),0,VLOOKUP($C179,'Sat TT_06'!$C$4:$Q$152,15,FALSE))","v":0},{"$f":"IF(ISNA(VLOOKUP($C179,'Sat TT_07'!$C$4:$Q$152,15,FALSE)=$C179),0,VLOOKUP($C179,'Sat TT_07'!$C$4:$Q$152,15,FALSE))","v":0},{"$f":"IF(ISNA(VLOOKUP($C179,'Sat TT_08'!$C$4:$Q$152,15,FALSE)=$C179),0,VLOOKUP($C179,'Sat TT_08'!$C$4:$Q$152,15,FALSE))","v":0},0]
[{"$f":"VLOOKUP(C180,'Sheet 1'!C$1:D$96,2,FALSE)","v":{"$error":"#N/A"}},171,{"$f":"+'[1]Racing numbers file'!$B166","v":"Jonathan Grimes"},{"$f":"VLOOKUP(C180,'[1]Racing numbers file'!$B$4:$F$290,2,FALSE)","v":1971},{"$f":"VLOOKUP(C180,'[1]Racing numbers file'!$B$4:$F$290,4,FALSE)","v":45},{"$f":"SaturdayHandicapTable[[#This Row],[Points2]]","v":0},{"$f":"IF(ISNA(VLOOKUP($C180,'Sat TT_01'!$C$4:$Q$152,15,FALSE)=$C180),0,VLOOKUP($C180,'Sat TT_01'!$C$4:$Q$152,15,FALSE))","v":0},{"$f":"IF(ISNA(VLOOKUP($C180,'Sat TT_02'!$C$4:$Q$152,15,FALSE)=$C180),0,VLOOKUP($C180,'Sat TT_02'!$C$4:$Q$152,15,FALSE))","v":0},{"$f":"IF(ISNA(VLOOKUP($C180,'Sat TT_03'!$C$4:$Q$152,15,FALSE)=$C180),0,VLOOKUP($C180,'Sat TT_03'!$C$4:$Q$152,15,FALSE))","v":0},{"$f":"IF(ISNA(VLOOKUP($C180,'Sat TT_04'!$C$4:$Q$152,15,FALSE)=$C180),0,VLOOKUP($C180,'Sat TT_04'!$C$4:$Q$152,15,FALSE))","v":0},{"$f":"IF(ISNA(VLOOKUP($C180,'Sat TT_05'!$C$4:$Q$152,15,FALSE)=$C180),0,VLOOKUP($C180,'Sat TT_05'!$C$4:$Q$152,15,FALSE))","v":0},{"$f":"IF(ISNA(VLOOKUP($C180,'Sat TT_06'!$C$4:$Q$152,15,FALSE)=$C180),0,VLOOKUP($C180,'Sat TT_06'!$C$4:$Q$152,15,FALSE))","v":0},{"$f":"IF(ISNA(VLOOKUP($C180,'Sat TT_07'!$C$4:$Q$152,15,FALSE)=$C180),0,VLOOKUP($C180,'Sat TT_07'!$C$4:$Q$152,15,FALSE))","v":0},{"$f":"IF(ISNA(VLOOKUP($C180,'Sat TT_08'!$C$4:$Q$152,15,FALSE)=$C180),0,VLOOKUP($C180,'Sat TT_08'!$C$4:$Q$152,15,FALSE))","v":0},0]
[{"$f":"VLOOKUP(C181,'Sheet 1'!C$1:D$96,2,FALSE)","v":1396},172,{"$f":"+'[1]Racing numbers file'!$B202","v":"Cathal Murray"},{"$f":"VLOOKUP(C181,'[1]Racing numbers file'!$B$4:$F$290,2,FALSE)","v":1972},{"$f":"VLOOKUP(C181,'[1]Racing numbers file'!$B$4:$F$290,4,FALSE)","v":44},{"$f":"SaturdayHandicapTable[[#This Row],[Points2]]","v":0},{"$f":"IF(ISNA(VLOOKUP($C181,'Sat TT_01'!$C$4:$Q$152,15,FALSE)=$C181),0,VLOOKUP($C181,'Sat TT_01'!$C$4:$Q$152,15,FALSE))","v":0},{"$f":"IF(ISNA(VLOOKUP($C181,'Sat TT_02'!$C$4:$Q$152,15,FALSE)=$C181),0,VLOOKUP($C181,'Sat TT_02'!$C$4:$Q$152,15,FALSE))","v":0},{"$f":"IF(ISNA(VLOOKUP($C181,'Sat TT_03'!$C$4:$Q$152,15,FALSE)=$C181),0,VLOOKUP($C181,'Sat TT_03'!$C$4:$Q$152,15,FALSE))","v":0},{"$f":"IF(ISNA(VLOOKUP($C181,'Sat TT_04'!$C$4:$Q$152,15,FALSE)=$C181),0,VLOOKUP($C181,'Sat TT_04'!$C$4:$Q$152,15,FALSE))","v":0},{"$f":"IF(ISNA(VLOOKUP($C181,'Sat TT_05'!$C$4:$Q$152,15,FALSE)=$C181),0,VLOOKUP($C181,'Sat TT_05'!$C$4:$Q$152,15,FALSE))","v":0},{"$f":"IF(ISNA(VLOOKUP($C181,'Sat TT_06'!$C$4:$Q$152,15,FALSE)=$C181),0,VLOOKUP($C181,'Sat TT_06'!$C$4:$Q$152,15,FALSE))","v":0},{"$f":"IF(ISNA(VLOOKUP($C181,'Sat TT_07'!$C$4:$Q$152,15,FALSE)=$C181),0,VLOOKUP($C181,'Sat TT_07'!$C$4:$Q$152,15,FALSE))","v":0},{"$f":"IF(ISNA(VLOOKUP($C181,'Sat TT_08'!$C$4:$Q$152,15,FALSE)=$C181),0,VLOOKUP($C181,'Sat TT_08'!$C$4:$Q$152,15,FALSE))","v":0},0]
[{"$f":"VLOOKUP(C182,'Sheet 1'!C$1:D$96,2,FALSE)","v":{"$error":"#N/A"}},173,{"$f":"+'[1]Racing numbers file'!$B90","v":"Keith Lambourne"},{"$f":"VLOOKUP(C182,'[1]Racing numbers file'!$B$4:$F$290,2,FALSE)","v":1961},{"$f":"VLOOKUP(C182,'[1]Racing numbers file'!$B$4:$F$290,4,FALSE)","v":55},{"$f":"SaturdayHandicapTable[[#This Row],[Points2]]","v":0},{"$f":"IF(ISNA(VLOOKUP($C182,'Sat TT_01'!$C$4:$Q$152,15,FALSE)=$C182),0,VLOOKUP($C182,'Sat TT_01'!$C$4:$Q$152,15,FALSE))","v":0},{"$f":"IF(ISNA(VLOOKUP($C182,'Sat TT_02'!$C$4:$Q$152,15,FALSE)=$C182),0,VLOOKUP($C182,'Sat TT_02'!$C$4:$Q$152,15,FALSE))","v":0},{"$f":"IF(ISNA(VLOOKUP($C182,'Sat TT_03'!$C$4:$Q$152,15,FALSE)=$C182),0,VLOOKUP($C182,'Sat TT_03'!$C$4:$Q$152,15,FALSE))","v":0},{"$f":"IF(ISNA(VLOOKUP($C182,'Sat TT_04'!$C$4:$Q$152,15,FALSE)=$C182),0,VLOOKUP($C182,'Sat TT_04'!$C$4:$Q$152,15,FALSE))","v":0},{"$f":"IF(ISNA(VLOOKUP($C182,'Sat TT_05'!$C$4:$Q$152,15,FALSE)=$C182),0,VLOOKUP($C182,'Sat TT_05'!$C$4:$Q$152,15,FALSE))","v":0},{"$f":"IF(ISNA(VLOOKUP($C182,'Sat TT_06'!$C$4:$Q$152,15,FALSE)=$C182),0,VLOOKUP($C182,'Sat TT_06'!$C$4:$Q$152,15,FALSE))","v":0},{"$f":"IF(ISNA(VLOOKUP($C182,'Sat TT_07'!$C$4:$Q$152,15,FALSE)=$C182),0,VLOOKUP($C182,'Sat TT_07'!$C$4:$Q$152,15,FALSE))","v":0},{"$f":"IF(ISNA(VLOOKUP($C182,'Sat TT_08'!$C$4:$Q$152,15,FALSE)=$C182),0,VLOOKUP($C182,'Sat TT_08'!$C$4:$Q$152,15,FALSE))","v":0},0]
[{"$f":"VLOOKUP(C183,'Sheet 1'!C$1:D$96,2,FALSE)","v":1258},174,{"$f":"+'[1]Racing numbers file'!$B132","v":"Rodney Joyce"},{"$f":"VLOOKUP(C183,'[1]Racing numbers file'!$B$4:$F$290,2,FALSE)","v":1967},{"$f":"VLOOKUP(C183,'[1]Racing numbers file'!$B$4:$F$290,4,FALSE)","v":49},{"$f":"SaturdayHandicapTable[[#This Row],[Points2]]","v":0},{"$f":"IF(ISNA(VLOOKUP($C183,'Sat TT_01'!$C$4:$Q$152,15,FALSE)=$C183),0,VLOOKUP($C183,'Sat TT_01'!$C$4:$Q$152,15,FALSE))","v":0},{"$f":"IF(ISNA(VLOOKUP($C183,'Sat TT_02'!$C$4:$Q$152,15,FALSE)=$C183),0,VLOOKUP($C183,'Sat TT_02'!$C$4:$Q$152,15,FALSE))","v":0},{"$f":"IF(ISNA(VLOOKUP($C183,'Sat TT_03'!$C$4:$Q$152,15,FALSE)=$C183),0,VLOOKUP($C183,'Sat TT_03'!$C$4:$Q$152,15,FALSE))","v":0},{"$f":"IF(ISNA(VLOOKUP($C183,'Sat TT_04'!$C$4:$Q$152,15,FALSE)=$C183),0,VLOOKUP($C183,'Sat TT_04'!$C$4:$Q$152,15,FALSE))","v":0},{"$f":"IF(ISNA(VLOOKUP($C183,'Sat TT_05'!$C$4:$Q$152,15,FALSE)=$C183),0,VLOOKUP($C183,'Sat TT_05'!$C$4:$Q$152,15,FALSE))","v":0},{"$f":"IF(ISNA(VLOOKUP($C183,'Sat TT_06'!$C$4:$Q$152,15,FALSE)=$C183),0,VLOOKUP($C183,'Sat TT_06'!$C$4:$Q$152,15,FALSE))","v":0},{"$f":"IF(ISNA(VLOOKUP($C183,'Sat TT_07'!$C$4:$Q$152,15,FALSE)=$C183),0,VLOOKUP($C183,'Sat TT_07'!$C$4:$Q$152,15,FALSE))","v":0},{"$f":"IF(ISNA(VLOOKUP($C183,'Sat TT_08'!$C$4:$Q$152,15,FALSE)=$C183),0,VLOOKUP($C183,'Sat TT_08'!$C$4:$Q$152,15,FALSE))","v":0},0]
[{"$f":"VLOOKUP(C184,'Sheet 1'!C$1:D$96,2,FALSE)","v":1096},175,{"$f":"+'[1]Racing numbers file'!$B41","v":"Peter Raftery"},{"$f":"VLOOKUP(C184,'[1]Racing numbers file'!$B$4:$F$290,2,FALSE)","v":1953},{"$f":"VLOOKUP(C184,'[1]Racing numbers file'!$B$4:$F$290,4,FALSE)","v":63},{"$f":"SaturdayHandicapTable[[#This Row],[Points2]]","v":0},{"$f":"IF(ISNA(VLOOKUP($C184,'Sat TT_01'!$C$4:$Q$152,15,FALSE)=$C184),0,VLOOKUP($C184,'Sat TT_01'!$C$4:$Q$152,15,FALSE))","v":0},{"$f":"IF(ISNA(VLOOKUP($C184,'Sat TT_02'!$C$4:$Q$152,15,FALSE)=$C184),0,VLOOKUP($C184,'Sat TT_02'!$C$4:$Q$152,15,FALSE))","v":0},{"$f":"IF(ISNA(VLOOKUP($C184,'Sat TT_03'!$C$4:$Q$152,15,FALSE)=$C184),0,VLOOKUP($C184,'Sat TT_03'!$C$4:$Q$152,15,FALSE))","v":0},{"$f":"IF(ISNA(VLOOKUP($C184,'Sat TT_04'!$C$4:$Q$152,15,FALSE)=$C184),0,VLOOKUP($C184,'Sat TT_04'!$C$4:$Q$152,15,FALSE))","v":0},{"$f":"IF(ISNA(VLOOKUP($C184,'Sat TT_05'!$C$4:$Q$152,15,FALSE)=$C184),0,VLOOKUP($C184,'Sat TT_05'!$C$4:$Q$152,15,FALSE))","v":0},{"$f":"IF(ISNA(VLOOKUP($C184,'Sat TT_06'!$C$4:$Q$152,15,FALSE)=$C184),0,VLOOKUP($C184,'Sat TT_06'!$C$4:$Q$152,15,FALSE))","v":0},{"$f":"IF(ISNA(VLOOKUP($C184,'Sat TT_07'!$C$4:$Q$152,15,FALSE)=$C184),0,VLOOKUP($C184,'Sat TT_07'!$C$4:$Q$152,15,FALSE))","v":0},{"$f":"IF(ISNA(VLOOKUP($C184,'Sat TT_08'!$C$4:$Q$152,15,FALSE)=$C184),0,VLOOKUP($C184,'Sat TT_08'!$C$4:$Q$152,15,FALSE))","v":0},0]
[{"$f":"VLOOKUP(C185,'Sheet 1'!C$1:D$96,2,FALSE)","v":{"$error":"#N/A"}},176,{"$f":"+'[1]Racing numbers file'!$B87","v":"John Lawless"},{"$f":"VLOOKUP(C185,'[1]Racing numbers file'!$B$4:$F$290,2,FALSE)","v":1961},{"$f":"VLOOKUP(C185,'[1]Racing numbers file'!$B$4:$F$290,4,FALSE)","v":55},{"$f":"SaturdayHandicapTable[[#This Row],[Points2]]","v":0},{"$f":"IF(ISNA(VLOOKUP($C185,'Sat TT_01'!$C$4:$Q$152,15,FALSE)=$C185),0,VLOOKUP($C185,'Sat TT_01'!$C$4:$Q$152,15,FALSE))","v":0},{"$f":"IF(ISNA(VLOOKUP($C185,'Sat TT_02'!$C$4:$Q$152,15,FALSE)=$C185),0,VLOOKUP($C185,'Sat TT_02'!$C$4:$Q$152,15,FALSE))","v":0},{"$f":"IF(ISNA(VLOOKUP($C185,'Sat TT_03'!$C$4:$Q$152,15,FALSE)=$C185),0,VLOOKUP($C185,'Sat TT_03'!$C$4:$Q$152,15,FALSE))","v":0},{"$f":"IF(ISNA(VLOOKUP($C185,'Sat TT_04'!$C$4:$Q$152,15,FALSE)=$C185),0,VLOOKUP($C185,'Sat TT_04'!$C$4:$Q$152,15,FALSE))","v":0},{"$f":"IF(ISNA(VLOOKUP($C185,'Sat TT_05'!$C$4:$Q$152,15,FALSE)=$C185),0,VLOOKUP($C185,'Sat TT_05'!$C$4:$Q$152,15,FALSE))","v":0},{"$f":"IF(ISNA(VLOOKUP($C185,'Sat TT_06'!$C$4:$Q$152,15,FALSE)=$C185),0,VLOOKUP($C185,'Sat TT_06'!$C$4:$Q$152,15,FALSE))","v":0},{"$f":"IF(ISNA(VLOOKUP($C185,'Sat TT_07'!$C$4:$Q$152,15,FALSE)=$C185),0,VLOOKUP($C185,'Sat TT_07'!$C$4:$Q$152,15,FALSE))","v":0},{"$f":"IF(ISNA(VLOOKUP($C185,'Sat TT_08'!$C$4:$Q$152,15,FALSE)=$C185),0,VLOOKUP($C185,'Sat TT_08'!$C$4:$Q$152,15,FALSE))","v":0},0]
[{"$f":"VLOOKUP(C186,'Sheet 1'!C$1:D$96,2,FALSE)","v":{"$error":"#N/A"}},177,{"$f":"+'[1]Racing numbers file'!$B111","v":"Michael Lee"},{"$f":"VLOOKUP(C186,'[1]Racing numbers file'!$B$4:$F$290,2,FALSE)","v":1964},{"$f":"VLOOKUP(C186,'[1]Racing numbers file'!$B$4:$F$290,4,FALSE)","v":52},{"$f":"SaturdayHandicapTable[[#This Row],[Points2]]","v":0},{"$f":"IF(ISNA(VLOOKUP($C186,'Sat TT_01'!$C$4:$Q$152,15,FALSE)=$C186),0,VLOOKUP($C186,'Sat TT_01'!$C$4:$Q$152,15,FALSE))","v":0},{"$f":"IF(ISNA(VLOOKUP($C186,'Sat TT_02'!$C$4:$Q$152,15,FALSE)=$C186),0,VLOOKUP($C186,'Sat TT_02'!$C$4:$Q$152,15,FALSE))","v":0},{"$f":"IF(ISNA(VLOOKUP($C186,'Sat TT_03'!$C$4:$Q$152,15,FALSE)=$C186),0,VLOOKUP($C186,'Sat TT_03'!$C$4:$Q$152,15,FALSE))","v":0},{"$f":"IF(ISNA(VLOOKUP($C186,'Sat TT_04'!$C$4:$Q$152,15,FALSE)=$C186),0,VLOOKUP($C186,'Sat TT_04'!$C$4:$Q$152,15,FALSE))","v":0},{"$f":"IF(ISNA(VLOOKUP($C186,'Sat TT_05'!$C$4:$Q$152,15,FALSE)=$C186),0,VLOOKUP($C186,'Sat TT_05'!$C$4:$Q$152,15,FALSE))","v":0},{"$f":"IF(ISNA(VLOOKUP($C186,'Sat TT_06'!$C$4:$Q$152,15,FALSE)=$C186),0,VLOOKUP($C186,'Sat TT_06'!$C$4:$Q$152,15,FALSE))","v":0},{"$f":"IF(ISNA(VLOOKUP($C186,'Sat TT_07'!$C$4:$Q$152,15,FALSE)=$C186),0,VLOOKUP($C186,'Sat TT_07'!$C$4:$Q$152,15,FALSE))","v":0},{"$f":"IF(ISNA(VLOOKUP($C186,'Sat TT_08'!$C$4:$Q$152,15,FALSE)=$C186),0,VLOOKUP($C186,'Sat TT_08'!$C$4:$Q$152,15,FALSE))","v":0},0]
[{"$f":"VLOOKUP(C187,'Sheet 1'!C$1:D$96,2,FALSE)","v":{"$error":"#N/A"}},178,{"$f":"+'[1]Racing numbers file'!$B157","v":"Jason Kelly"},{"$f":"VLOOKUP(C187,'[1]Racing numbers file'!$B$4:$F$290,2,FALSE)","v":1970},{"$f":"VLOOKUP(C187,'[1]Racing numbers file'!$B$4:$F$290,4,FALSE)","v":46},{"$f":"SaturdayHandicapTable[[#This Row],[Points2]]","v":0},{"$f":"IF(ISNA(VLOOKUP($C187,'Sat TT_01'!$C$4:$Q$152,15,FALSE)=$C187),0,VLOOKUP($C187,'Sat TT_01'!$C$4:$Q$152,15,FALSE))","v":0},{"$f":"IF(ISNA(VLOOKUP($C187,'Sat TT_02'!$C$4:$Q$152,15,FALSE)=$C187),0,VLOOKUP($C187,'Sat TT_02'!$C$4:$Q$152,15,FALSE))","v":0},{"$f":"IF(ISNA(VLOOKUP($C187,'Sat TT_03'!$C$4:$Q$152,15,FALSE)=$C187),0,VLOOKUP($C187,'Sat TT_03'!$C$4:$Q$152,15,FALSE))","v":0},{"$f":"IF(ISNA(VLOOKUP($C187,'Sat TT_04'!$C$4:$Q$152,15,FALSE)=$C187),0,VLOOKUP($C187,'Sat TT_04'!$C$4:$Q$152,15,FALSE))","v":0},{"$f":"IF(ISNA(VLOOKUP($C187,'Sat TT_05'!$C$4:$Q$152,15,FALSE)=$C187),0,VLOOKUP($C187,'Sat TT_05'!$C$4:$Q$152,15,FALSE))","v":0},{"$f":"IF(ISNA(VLOOKUP($C187,'Sat TT_06'!$C$4:$Q$152,15,FALSE)=$C187),0,VLOOKUP($C187,'Sat TT_06'!$C$4:$Q$152,15,FALSE))","v":0},{"$f":"IF(ISNA(VLOOKUP($C187,'Sat TT_07'!$C$4:$Q$152,15,FALSE)=$C187),0,VLOOKUP($C187,'Sat TT_07'!$C$4:$Q$152,15,FALSE))","v":0},{"$f":"IF(ISNA(VLOOKUP($C187,'Sat TT_08'!$C$4:$Q$152,15,FALSE)=$C187),0,VLOOKUP($C187,'Sat TT_08'!$C$4:$Q$152,15,FALSE))","v":0},0]
[{"$f":"VLOOKUP(C188,'Sheet 1'!C$1:D$96,2,FALSE)","v":1252},179,{"$f":"+'[1]Racing numbers file'!$B127","v":"Barry Swan"},{"$f":"VLOOKUP(C188,'[1]Racing numbers file'!$B$4:$F$290,2,FALSE)","v":1967},{"$f":"VLOOKUP(C188,'[1]Racing numbers file'!$B$4:$F$290,4,FALSE)","v":49},{"$f":"SaturdayHandicapTable[[#This Row],[Points2]]","v":0},{"$f":"IF(ISNA(VLOOKUP($C188,'Sat TT_01'!$C$4:$Q$152,15,FALSE)=$C188),0,VLOOKUP($C188,'Sat TT_01'!$C$4:$Q$152,15,FALSE))","v":0},{"$f":"IF(ISNA(VLOOKUP($C188,'Sat TT_02'!$C$4:$Q$152,15,FALSE)=$C188),0,VLOOKUP($C188,'Sat TT_02'!$C$4:$Q$152,15,FALSE))","v":0},{"$f":"IF(ISNA(VLOOKUP($C188,'Sat TT_03'!$C$4:$Q$152,15,FALSE)=$C188),0,VLOOKUP($C188,'Sat TT_03'!$C$4:$Q$152,15,FALSE))","v":0},{"$f":"IF(ISNA(VLOOKUP($C188,'Sat TT_04'!$C$4:$Q$152,15,FALSE)=$C188),0,VLOOKUP($C188,'Sat TT_04'!$C$4:$Q$152,15,FALSE))","v":0},{"$f":"IF(ISNA(VLOOKUP($C188,'Sat TT_05'!$C$4:$Q$152,15,FALSE)=$C188),0,VLOOKUP($C188,'Sat TT_05'!$C$4:$Q$152,15,FALSE))","v":0},{"$f":"IF(ISNA(VLOOKUP($C188,'Sat TT_06'!$C$4:$Q$152,15,FALSE)=$C188),0,VLOOKUP($C188,'Sat TT_06'!$C$4:$Q$152,15,FALSE))","v":0},{"$f":"IF(ISNA(VLOOKUP($C188,'Sat TT_07'!$C$4:$Q$152,15,FALSE)=$C188),0,VLOOKUP($C188,'Sat TT_07'!$C$4:$Q$152,15,FALSE))","v":0},{"$f":"IF(ISNA(VLOOKUP($C188,'Sat TT_08'!$C$4:$Q$152,15,FALSE)=$C188),0,VLOOKUP($C188,'Sat TT_08'!$C$4:$Q$152,15,FALSE))","v":0},0]
[{"$f":"VLOOKUP(C189,'Sheet 1'!C$1:D$96,2,FALSE)","v":{"$error":"#N/A"}},180,{"$f":"+'[1]Racing numbers file'!$B62","v":"Tom Lucas"},{"$f":"VLOOKUP(C189,'[1]Racing numbers file'!$B$4:$F$290,2,FALSE)","v":1958},{"$f":"VLOOKUP(C189,'[1]Racing numbers file'!$B$4:$F$290,4,FALSE)","v":58},{"$f":"SaturdayHandicapTable[[#This Row],[Points2]]","v":0},{"$f":"IF(ISNA(VLOOKUP($C189,'Sat TT_01'!$C$4:$Q$152,15,FALSE)=$C189),0,VLOOKUP($C189,'Sat TT_01'!$C$4:$Q$152,15,FALSE))","v":0},{"$f":"IF(ISNA(VLOOKUP($C189,'Sat TT_02'!$C$4:$Q$152,15,FALSE)=$C189),0,VLOOKUP($C189,'Sat TT_02'!$C$4:$Q$152,15,FALSE))","v":0},{"$f":"IF(ISNA(VLOOKUP($C189,'Sat TT_03'!$C$4:$Q$152,15,FALSE)=$C189),0,VLOOKUP($C189,'Sat TT_03'!$C$4:$Q$152,15,FALSE))","v":0},{"$f":"IF(ISNA(VLOOKUP($C189,'Sat TT_04'!$C$4:$Q$152,15,FALSE)=$C189),0,VLOOKUP($C189,'Sat TT_04'!$C$4:$Q$152,15,FALSE))","v":0},{"$f":"IF(ISNA(VLOOKUP($C189,'Sat TT_05'!$C$4:$Q$152,15,FALSE)=$C189),0,VLOOKUP($C189,'Sat TT_05'!$C$4:$Q$152,15,FALSE))","v":0},{"$f":"IF(ISNA(VLOOKUP($C189,'Sat TT_06'!$C$4:$Q$152,15,FALSE)=$C189),0,VLOOKUP($C189,'Sat TT_06'!$C$4:$Q$152,15,FALSE))","v":0},{"$f":"IF(ISNA(VLOOKUP($C189,'Sat TT_07'!$C$4:$Q$152,15,FALSE)=$C189),0,VLOOKUP($C189,'Sat TT_07'!$C$4:$Q$152,15,FALSE))","v":0},{"$f":"IF(ISNA(VLOOKUP($C189,'Sat TT_08'!$C$4:$Q$152,15,FALSE)=$C189),0,VLOOKUP($C189,'Sat TT_08'!$C$4:$Q$152,15,FALSE))","v":0},0]
[{"$f":"VLOOKUP(C190,'Sheet 1'!C$1:D$96,2,FALSE)","v":1163},181,{"$f":"+'[1]Racing numbers file'!$B79","v":"Eddie Lynch"},{"$f":"VLOOKUP(C190,'[1]Racing numbers file'!$B$4:$F$290,2,FALSE)","v":1960},{"$f":"VLOOKUP(C190,'[1]Racing numbers file'!$B$4:$F$290,4,FALSE)","v":56},{"$f":"SaturdayHandicapTable[[#This Row],[Points2]]","v":0},{"$f":"IF(ISNA(VLOOKUP($C190,'Sat TT_01'!$C$4:$Q$152,15,FALSE)=$C190),0,VLOOKUP($C190,'Sat TT_01'!$C$4:$Q$152,15,FALSE))","v":0},{"$f":"IF(ISNA(VLOOKUP($C190,'Sat TT_02'!$C$4:$Q$152,15,FALSE)=$C190),0,VLOOKUP($C190,'Sat TT_02'!$C$4:$Q$152,15,FALSE))","v":0},{"$f":"IF(ISNA(VLOOKUP($C190,'Sat TT_03'!$C$4:$Q$152,15,FALSE)=$C190),0,VLOOKUP($C190,'Sat TT_03'!$C$4:$Q$152,15,FALSE))","v":0},{"$f":"IF(ISNA(VLOOKUP($C190,'Sat TT_04'!$C$4:$Q$152,15,FALSE)=$C190),0,VLOOKUP($C190,'Sat TT_04'!$C$4:$Q$152,15,FALSE))","v":0},{"$f":"IF(ISNA(VLOOKUP($C190,'Sat TT_05'!$C$4:$Q$152,15,FALSE)=$C190),0,VLOOKUP($C190,'Sat TT_05'!$C$4:$Q$152,15,FALSE))","v":0},{"$f":"IF(ISNA(VLOOKUP($C190,'Sat TT_06'!$C$4:$Q$152,15,FALSE)=$C190),0,VLOOKUP($C190,'Sat TT_06'!$C$4:$Q$152,15,FALSE))","v":0},{"$f":"IF(ISNA(VLOOKUP($C190,'Sat TT_07'!$C$4:$Q$152,15,FALSE)=$C190),0,VLOOKUP($C190,'Sat TT_07'!$C$4:$Q$152,15,FALSE))","v":0},{"$f":"IF(ISNA(VLOOKUP($C190,'Sat TT_08'!$C$4:$Q$152,15,FALSE)=$C190),0,VLOOKUP($C190,'Sat TT_08'!$C$4:$Q$152,15,FALSE))","v":0},0]
[{"$f":"VLOOKUP(C191,'Sheet 1'!C$1:D$96,2,FALSE)","v":{"$error":"#N/A"}},182,{"$f":"+'[1]Racing numbers file'!$B219","v":"Barry Roden"},{"$f":"VLOOKUP(C191,'[1]Racing numbers file'!$B$4:$F$290,2,FALSE)","v":1970},{"$f":"VLOOKUP(C191,'[1]Racing numbers file'!$B$4:$F$290,4,FALSE)","v":46},{"$f":"SaturdayHandicapTable[[#This Row],[Points2]]","v":0},{"$f":"IF(ISNA(VLOOKUP($C191,'Sat TT_01'!$C$4:$Q$152,15,FALSE)=$C191),0,VLOOKUP($C191,'Sat TT_01'!$C$4:$Q$152,15,FALSE))","v":0},{"$f":"IF(ISNA(VLOOKUP($C191,'Sat TT_02'!$C$4:$Q$152,15,FALSE)=$C191),0,VLOOKUP($C191,'Sat TT_02'!$C$4:$Q$152,15,FALSE))","v":0},{"$f":"IF(ISNA(VLOOKUP($C191,'Sat TT_03'!$C$4:$Q$152,15,FALSE)=$C191),0,VLOOKUP($C191,'Sat TT_03'!$C$4:$Q$152,15,FALSE))","v":0},{"$f":"IF(ISNA(VLOOKUP($C191,'Sat TT_04'!$C$4:$Q$152,15,FALSE)=$C191),0,VLOOKUP($C191,'Sat TT_04'!$C$4:$Q$152,15,FALSE))","v":0},{"$f":"IF(ISNA(VLOOKUP($C191,'Sat TT_05'!$C$4:$Q$152,15,FALSE)=$C191),0,VLOOKUP($C191,'Sat TT_05'!$C$4:$Q$152,15,FALSE))","v":0},{"$f":"IF(ISNA(VLOOKUP($C191,'Sat TT_06'!$C$4:$Q$152,15,FALSE)=$C191),0,VLOOKUP($C191,'Sat TT_06'!$C$4:$Q$152,15,FALSE))","v":0},{"$f":"IF(ISNA(VLOOKUP($C191,'Sat TT_07'!$C$4:$Q$152,15,FALSE)=$C191),0,VLOOKUP($C191,'Sat TT_07'!$C$4:$Q$152,15,FALSE))","v":0},{"$f":"IF(ISNA(VLOOKUP($C191,'Sat TT_08'!$C$4:$Q$152,15,FALSE)=$C191),0,VLOOKUP($C191,'Sat TT_08'!$C$4:$Q$152,15,FALSE))","v":0},0]
[{"$f":"VLOOKUP(C192,'Sheet 1'!C$1:D$96,2,FALSE)","v":1164},183,{"$f":"+'[1]Racing numbers file'!$B80","v":"Eunan Malone"},{"$f":"VLOOKUP(C192,'[1]Racing numbers file'!$B$4:$F$290,2,FALSE)","v":1960},{"$f":"VLOOKUP(C192,'[1]Racing numbers file'!$B$4:$F$290,4,FALSE)","v":56},{"$f":"SaturdayHandicapTable[[#This Row],[Points2]]","v":0},{"$f":"IF(ISNA(VLOOKUP($C192,'Sat TT_01'!$C$4:$Q$152,15,FALSE)=$C192),0,VLOOKUP($C192,'Sat TT_01'!$C$4:$Q$152,15,FALSE))","v":0},{"$f":"IF(ISNA(VLOOKUP($C192,'Sat TT_02'!$C$4:$Q$152,15,FALSE)=$C192),0,VLOOKUP($C192,'Sat TT_02'!$C$4:$Q$152,15,FALSE))","v":0},{"$f":"IF(ISNA(VLOOKUP($C192,'Sat TT_03'!$C$4:$Q$152,15,FALSE)=$C192),0,VLOOKUP($C192,'Sat TT_03'!$C$4:$Q$152,15,FALSE))","v":0},{"$f":"IF(ISNA(VLOOKUP($C192,'Sat TT_04'!$C$4:$Q$152,15,FALSE)=$C192),0,VLOOKUP($C192,'Sat TT_04'!$C$4:$Q$152,15,FALSE))","v":0},{"$f":"IF(ISNA(VLOOKUP($C192,'Sat TT_05'!$C$4:$Q$152,15,FALSE)=$C192),0,VLOOKUP($C192,'Sat TT_05'!$C$4:$Q$152,15,FALSE))","v":0},{"$f":"IF(ISNA(VLOOKUP($C192,'Sat TT_06'!$C$4:$Q$152,15,FALSE)=$C192),0,VLOOKUP($C192,'Sat TT_06'!$C$4:$Q$152,15,FALSE))","v":0},{"$f":"IF(ISNA(VLOOKUP($C192,'Sat TT_07'!$C$4:$Q$152,15,FALSE)=$C192),0,VLOOKUP($C192,'Sat TT_07'!$C$4:$Q$152,15,FALSE))","v":0},{"$f":"IF(ISNA(VLOOKUP($C192,'Sat TT_08'!$C$4:$Q$152,15,FALSE)=$C192),0,VLOOKUP($C192,'Sat TT_08'!$C$4:$Q$152,15,FALSE))","v":0},0]
[{"$f":"VLOOKUP(C193,'Sheet 1'!C$1:D$96,2,FALSE)","v":{"$error":"#N/A"}},184,"Malone t","Tom",55,{"$f":"SaturdayHandicapTable[[#This Row],[Points2]]","v":0},{"$f":"IF(ISNA(VLOOKUP($C193,'Sat TT_01'!$C$4:$Q$152,15,FALSE)=$C193),0,VLOOKUP($C193,'Sat TT_01'!$C$4:$Q$152,15,FALSE))","v":0},{"$f":"IF(ISNA(VLOOKUP($C193,'Sat TT_02'!$C$4:$Q$152,15,FALSE)=$C193),0,VLOOKUP($C193,'Sat TT_02'!$C$4:$Q$152,15,FALSE))","v":0},{"$f":"IF(ISNA(VLOOKUP($C193,'Sat TT_03'!$C$4:$Q$152,15,FALSE)=$C193),0,VLOOKUP($C193,'Sat TT_03'!$C$4:$Q$152,15,FALSE))","v":0},{"$f":"IF(ISNA(VLOOKUP($C193,'Sat TT_04'!$C$4:$Q$152,15,FALSE)=$C193),0,VLOOKUP($C193,'Sat TT_04'!$C$4:$Q$152,15,FALSE))","v":0},{"$f":"IF(ISNA(VLOOKUP($C193,'Sat TT_05'!$C$4:$Q$152,15,FALSE)=$C193),0,VLOOKUP($C193,'Sat TT_05'!$C$4:$Q$152,15,FALSE))","v":0},{"$f":"IF(ISNA(VLOOKUP($C193,'Sat TT_06'!$C$4:$Q$152,15,FALSE)=$C193),0,VLOOKUP($C193,'Sat TT_06'!$C$4:$Q$152,15,FALSE))","v":0},{"$f":"IF(ISNA(VLOOKUP($C193,'Sat TT_07'!$C$4:$Q$152,15,FALSE)=$C193),0,VLOOKUP($C193,'Sat TT_07'!$C$4:$Q$152,15,FALSE))","v":0},{"$f":"IF(ISNA(VLOOKUP($C193,'Sat TT_08'!$C$4:$Q$152,15,FALSE)=$C193),0,VLOOKUP($C193,'Sat TT_08'!$C$4:$Q$152,15,FALSE))","v":0},0]
[{"$f":"VLOOKUP(C194,'Sheet 1'!C$1:D$96,2,FALSE)","v":{"$error":"#N/A"}},185,"McArdle","James (Sam)",49,{"$f":"SaturdayHandicapTable[[#This Row],[Points2]]","v":0},{"$f":"IF(ISNA(VLOOKUP($C194,'Sat TT_01'!$C$4:$Q$152,15,FALSE)=$C194),0,VLOOKUP($C194,'Sat TT_01'!$C$4:$Q$152,15,FALSE))","v":0},{"$f":"IF(ISNA(VLOOKUP($C194,'Sat TT_02'!$C$4:$Q$152,15,FALSE)=$C194),0,VLOOKUP($C194,'Sat TT_02'!$C$4:$Q$152,15,FALSE))","v":0},{"$f":"IF(ISNA(VLOOKUP($C194,'Sat TT_03'!$C$4:$Q$152,15,FALSE)=$C194),0,VLOOKUP($C194,'Sat TT_03'!$C$4:$Q$152,15,FALSE))","v":0},{"$f":"IF(ISNA(VLOOKUP($C194,'Sat TT_04'!$C$4:$Q$152,15,FALSE)=$C194),0,VLOOKUP($C194,'Sat TT_04'!$C$4:$Q$152,15,FALSE))","v":0},{"$f":"IF(ISNA(VLOOKUP($C194,'Sat TT_05'!$C$4:$Q$152,15,FALSE)=$C194),0,VLOOKUP($C194,'Sat TT_05'!$C$4:$Q$152,15,FALSE))","v":0},{"$f":"IF(ISNA(VLOOKUP($C194,'Sat TT_06'!$C$4:$Q$152,15,FALSE)=$C194),0,VLOOKUP($C194,'Sat TT_06'!$C$4:$Q$152,15,FALSE))","v":0},{"$f":"IF(ISNA(VLOOKUP($C194,'Sat TT_07'!$C$4:$Q$152,15,FALSE)=$C194),0,VLOOKUP($C194,'Sat TT_07'!$C$4:$Q$152,15,FALSE))","v":0},{"$f":"IF(ISNA(VLOOKUP($C194,'Sat TT_08'!$C$4:$Q$152,15,FALSE)=$C194),0,VLOOKUP($C194,'Sat TT_08'!$C$4:$Q$152,15,FALSE))","v":0},0]
[{"$f":"VLOOKUP(C195,'Sheet 1'!C$1:D$96,2,FALSE)","v":{"$error":"#N/A"}},186,{"$f":"+'[1]Racing numbers file'!$B212","v":"Derek Gormley"},{"$f":"VLOOKUP(C195,'[1]Racing numbers file'!$B$4:$F$290,2,FALSE)","v":1973},{"$f":"VLOOKUP(C195,'[1]Racing numbers file'!$B$4:$F$290,4,FALSE)","v":43},{"$f":"SaturdayHandicapTable[[#This Row],[Points2]]","v":0},{"$f":"IF(ISNA(VLOOKUP($C195,'Sat TT_01'!$C$4:$Q$152,15,FALSE)=$C195),0,VLOOKUP($C195,'Sat TT_01'!$C$4:$Q$152,15,FALSE))","v":0},{"$f":"IF(ISNA(VLOOKUP($C195,'Sat TT_02'!$C$4:$Q$152,15,FALSE)=$C195),0,VLOOKUP($C195,'Sat TT_02'!$C$4:$Q$152,15,FALSE))","v":0},{"$f":"IF(ISNA(VLOOKUP($C195,'Sat TT_03'!$C$4:$Q$152,15,FALSE)=$C195),0,VLOOKUP($C195,'Sat TT_03'!$C$4:$Q$152,15,FALSE))","v":0},{"$f":"IF(ISNA(VLOOKUP($C195,'Sat TT_04'!$C$4:$Q$152,15,FALSE)=$C195),0,VLOOKUP($C195,'Sat TT_04'!$C$4:$Q$152,15,FALSE))","v":0},{"$f":"IF(ISNA(VLOOKUP($C195,'Sat TT_05'!$C$4:$Q$152,15,FALSE)=$C195),0,VLOOKUP($C195,'Sat TT_05'!$C$4:$Q$152,15,FALSE))","v":0},{"$f":"IF(ISNA(VLOOKUP($C195,'Sat TT_06'!$C$4:$Q$152,15,FALSE)=$C195),0,VLOOKUP($C195,'Sat TT_06'!$C$4:$Q$152,15,FALSE))","v":0},{"$f":"IF(ISNA(VLOOKUP($C195,'Sat TT_07'!$C$4:$Q$152,15,FALSE)=$C195),0,VLOOKUP($C195,'Sat TT_07'!$C$4:$Q$152,15,FALSE))","v":0},{"$f":"IF(ISNA(VLOOKUP($C195,'Sat TT_08'!$C$4:$Q$152,15,FALSE)=$C195),0,VLOOKUP($C195,'Sat TT_08'!$C$4:$Q$152,15,FALSE))","v":0},0]
[{"$f":"VLOOKUP(C196,'Sheet 1'!C$1:D$96,2,FALSE)","v":1227},187,{"$f":"+'[1]Racing numbers file'!$B115","v":"Linus Devlin"},{"$f":"VLOOKUP(C196,'[1]Racing numbers file'!$B$4:$F$290,2,FALSE)","v":1964},{"$f":"VLOOKUP(C196,'[1]Racing numbers file'!$B$4:$F$290,4,FALSE)","v":52},{"$f":"SaturdayHandicapTable[[#This Row],[Points2]]","v":0},{"$f":"IF(ISNA(VLOOKUP($C196,'Sat TT_01'!$C$4:$Q$152,15,FALSE)=$C196),0,VLOOKUP($C196,'Sat TT_01'!$C$4:$Q$152,15,FALSE))","v":0},{"$f":"IF(ISNA(VLOOKUP($C196,'Sat TT_02'!$C$4:$Q$152,15,FALSE)=$C196),0,VLOOKUP($C196,'Sat TT_02'!$C$4:$Q$152,15,FALSE))","v":0},{"$f":"IF(ISNA(VLOOKUP($C196,'Sat TT_03'!$C$4:$Q$152,15,FALSE)=$C196),0,VLOOKUP($C196,'Sat TT_03'!$C$4:$Q$152,15,FALSE))","v":0},{"$f":"IF(ISNA(VLOOKUP($C196,'Sat TT_04'!$C$4:$Q$152,15,FALSE)=$C196),0,VLOOKUP($C196,'Sat TT_04'!$C$4:$Q$152,15,FALSE))","v":0},{"$f":"IF(ISNA(VLOOKUP($C196,'Sat TT_05'!$C$4:$Q$152,15,FALSE)=$C196),0,VLOOKUP($C196,'Sat TT_05'!$C$4:$Q$152,15,FALSE))","v":0},{"$f":"IF(ISNA(VLOOKUP($C196,'Sat TT_06'!$C$4:$Q$152,15,FALSE)=$C196),0,VLOOKUP($C196,'Sat TT_06'!$C$4:$Q$152,15,FALSE))","v":0},{"$f":"IF(ISNA(VLOOKUP($C196,'Sat TT_07'!$C$4:$Q$152,15,FALSE)=$C196),0,VLOOKUP($C196,'Sat TT_07'!$C$4:$Q$152,15,FALSE))","v":0},{"$f":"IF(ISNA(VLOOKUP($C196,'Sat TT_08'!$C$4:$Q$152,15,FALSE)=$C196),0,VLOOKUP($C196,'Sat TT_08'!$C$4:$Q$152,15,FALSE))","v":0},0]
[{"$f":"VLOOKUP(C197,'Sheet 1'!C$1:D$96,2,FALSE)","v":{"$error":"#N/A"}},188,{"$f":"+'[1]Racing numbers file'!$B274","v":"Ken Tobin"},{"$f":"VLOOKUP(C197,'[1]Racing numbers file'!$B$4:$F$290,2,FALSE)","v":1975},{"$f":"VLOOKUP(C197,'[1]Racing numbers file'!$B$4:$F$290,4,FALSE)","v":41},{"$f":"SaturdayHandicapTable[[#This Row],[Points2]]","v":0},{"$f":"IF(ISNA(VLOOKUP($C197,'Sat TT_01'!$C$4:$Q$152,15,FALSE)=$C197),0,VLOOKUP($C197,'Sat TT_01'!$C$4:$Q$152,15,FALSE))","v":0},{"$f":"IF(ISNA(VLOOKUP($C197,'Sat TT_02'!$C$4:$Q$152,15,FALSE)=$C197),0,VLOOKUP($C197,'Sat TT_02'!$C$4:$Q$152,15,FALSE))","v":0},{"$f":"IF(ISNA(VLOOKUP($C197,'Sat TT_03'!$C$4:$Q$152,15,FALSE)=$C197),0,VLOOKUP($C197,'Sat TT_03'!$C$4:$Q$152,15,FALSE))","v":0},{"$f":"IF(ISNA(VLOOKUP($C197,'Sat TT_04'!$C$4:$Q$152,15,FALSE)=$C197),0,VLOOKUP($C197,'Sat TT_04'!$C$4:$Q$152,15,FALSE))","v":0},{"$f":"IF(ISNA(VLOOKUP($C197,'Sat TT_05'!$C$4:$Q$152,15,FALSE)=$C197),0,VLOOKUP($C197,'Sat TT_05'!$C$4:$Q$152,15,FALSE))","v":0},{"$f":"IF(ISNA(VLOOKUP($C197,'Sat TT_06'!$C$4:$Q$152,15,FALSE)=$C197),0,VLOOKUP($C197,'Sat TT_06'!$C$4:$Q$152,15,FALSE))","v":0},{"$f":"IF(ISNA(VLOOKUP($C197,'Sat TT_07'!$C$4:$Q$152,15,FALSE)=$C197),0,VLOOKUP($C197,'Sat TT_07'!$C$4:$Q$152,15,FALSE))","v":0},{"$f":"IF(ISNA(VLOOKUP($C197,'Sat TT_08'!$C$4:$Q$152,15,FALSE)=$C197),0,VLOOKUP($C197,'Sat TT_08'!$C$4:$Q$152,15,FALSE))","v":0},0]
[{"$f":"VLOOKUP(C198,'Sheet 1'!C$1:D$96,2,FALSE)","v":{"$error":"#N/A"}},189,{"$f":"+'[1]Racing numbers file'!$B265","v":"Mark Shields"},{"$f":"VLOOKUP(C198,'[1]Racing numbers file'!$B$4:$F$290,2,FALSE)","v":1976},{"$f":"VLOOKUP(C198,'[1]Racing numbers file'!$B$4:$F$290,4,FALSE)","v":40},{"$f":"SaturdayHandicapTable[[#This Row],[Points2]]","v":0},{"$f":"IF(ISNA(VLOOKUP($C198,'Sat TT_01'!$C$4:$Q$152,15,FALSE)=$C198),0,VLOOKUP($C198,'Sat TT_01'!$C$4:$Q$152,15,FALSE))","v":0},{"$f":"IF(ISNA(VLOOKUP($C198,'Sat TT_02'!$C$4:$Q$152,15,FALSE)=$C198),0,VLOOKUP($C198,'Sat TT_02'!$C$4:$Q$152,15,FALSE))","v":0},{"$f":"IF(ISNA(VLOOKUP($C198,'Sat TT_03'!$C$4:$Q$152,15,FALSE)=$C198),0,VLOOKUP($C198,'Sat TT_03'!$C$4:$Q$152,15,FALSE))","v":0},{"$f":"IF(ISNA(VLOOKUP($C198,'Sat TT_04'!$C$4:$Q$152,15,FALSE)=$C198),0,VLOOKUP($C198,'Sat TT_04'!$C$4:$Q$152,15,FALSE))","v":0},{"$f":"IF(ISNA(VLOOKUP($C198,'Sat TT_05'!$C$4:$Q$152,15,FALSE)=$C198),0,VLOOKUP($C198,'Sat TT_05'!$C$4:$Q$152,15,FALSE))","v":0},{"$f":"IF(ISNA(VLOOKUP($C198,'Sat TT_06'!$C$4:$Q$152,15,FALSE)=$C198),0,VLOOKUP($C198,'Sat TT_06'!$C$4:$Q$152,15,FALSE))","v":0},{"$f":"IF(ISNA(VLOOKUP($C198,'Sat TT_07'!$C$4:$Q$152,15,FALSE)=$C198),0,VLOOKUP($C198,'Sat TT_07'!$C$4:$Q$152,15,FALSE))","v":0},{"$f":"IF(ISNA(VLOOKUP($C198,'Sat TT_08'!$C$4:$Q$152,15,FALSE)=$C198),0,VLOOKUP($C198,'Sat TT_08'!$C$4:$Q$152,15,FALSE))","v":0},0]
[{"$f":"VLOOKUP(C199,'Sheet 1'!C$1:D$96,2,FALSE)","v":1339},190,{"$f":"+'[1]Racing numbers file'!$B176","v":"Noel Conway"},{"$f":"VLOOKUP(C199,'[1]Racing numbers file'!$B$4:$F$290,2,FALSE)","v":1972},{"$f":"VLOOKUP(C199,'[1]Racing numbers file'!$B$4:$F$290,4,FALSE)","v":44},{"$f":"SaturdayHandicapTable[[#This Row],[Points2]]","v":0},{"$f":"IF(ISNA(VLOOKUP($C199,'Sat TT_01'!$C$4:$Q$152,15,FALSE)=$C199),0,VLOOKUP($C199,'Sat TT_01'!$C$4:$Q$152,15,FALSE))","v":0},{"$f":"IF(ISNA(VLOOKUP($C199,'Sat TT_02'!$C$4:$Q$152,15,FALSE)=$C199),0,VLOOKUP($C199,'Sat TT_02'!$C$4:$Q$152,15,FALSE))","v":0},{"$f":"IF(ISNA(VLOOKUP($C199,'Sat TT_03'!$C$4:$Q$152,15,FALSE)=$C199),0,VLOOKUP($C199,'Sat TT_03'!$C$4:$Q$152,15,FALSE))","v":0},{"$f":"IF(ISNA(VLOOKUP($C199,'Sat TT_04'!$C$4:$Q$152,15,FALSE)=$C199),0,VLOOKUP($C199,'Sat TT_04'!$C$4:$Q$152,15,FALSE))","v":0},{"$f":"IF(ISNA(VLOOKUP($C199,'Sat TT_05'!$C$4:$Q$152,15,FALSE)=$C199),0,VLOOKUP($C199,'Sat TT_05'!$C$4:$Q$152,15,FALSE))","v":0},{"$f":"IF(ISNA(VLOOKUP($C199,'Sat TT_06'!$C$4:$Q$152,15,FALSE)=$C199),0,VLOOKUP($C199,'Sat TT_06'!$C$4:$Q$152,15,FALSE))","v":0},{"$f":"IF(ISNA(VLOOKUP($C199,'Sat TT_07'!$C$4:$Q$152,15,FALSE)=$C199),0,VLOOKUP($C199,'Sat TT_07'!$C$4:$Q$152,15,FALSE))","v":0},{"$f":"IF(ISNA(VLOOKUP($C199,'Sat TT_08'!$C$4:$Q$152,15,FALSE)=$C199),0,VLOOKUP($C199,'Sat TT_08'!$C$4:$Q$152,15,FALSE))","v":0},0]
[{"$f":"VLOOKUP(C200,'Sheet 1'!C$1:D$96,2,FALSE)","v":{"$error":"#N/A"}},191,"McDonald","Willie",51,{"$f":"SaturdayHandicapTable[[#This Row],[Points2]]","v":0},{"$f":"IF(ISNA(VLOOKUP($C200,'Sat TT_01'!$C$4:$Q$152,15,FALSE)=$C200),0,VLOOKUP($C200,'Sat TT_01'!$C$4:$Q$152,15,FALSE))","v":0},{"$f":"IF(ISNA(VLOOKUP($C200,'Sat TT_02'!$C$4:$Q$152,15,FALSE)=$C200),0,VLOOKUP($C200,'Sat TT_02'!$C$4:$Q$152,15,FALSE))","v":0},{"$f":"IF(ISNA(VLOOKUP($C200,'Sat TT_03'!$C$4:$Q$152,15,FALSE)=$C200),0,VLOOKUP($C200,'Sat TT_03'!$C$4:$Q$152,15,FALSE))","v":0},{"$f":"IF(ISNA(VLOOKUP($C200,'Sat TT_04'!$C$4:$Q$152,15,FALSE)=$C200),0,VLOOKUP($C200,'Sat TT_04'!$C$4:$Q$152,15,FALSE))","v":0},{"$f":"IF(ISNA(VLOOKUP($C200,'Sat TT_05'!$C$4:$Q$152,15,FALSE)=$C200),0,VLOOKUP($C200,'Sat TT_05'!$C$4:$Q$152,15,FALSE))","v":0},{"$f":"IF(ISNA(VLOOKUP($C200,'Sat TT_06'!$C$4:$Q$152,15,FALSE)=$C200),0,VLOOKUP($C200,'Sat TT_06'!$C$4:$Q$152,15,FALSE))","v":0},{"$f":"IF(ISNA(VLOOKUP($C200,'Sat TT_07'!$C$4:$Q$152,15,FALSE)=$C200),0,VLOOKUP($C200,'Sat TT_07'!$C$4:$Q$152,15,FALSE))","v":0},{"$f":"IF(ISNA(VLOOKUP($C200,'Sat TT_08'!$C$4:$Q$152,15,FALSE)=$C200),0,VLOOKUP($C200,'Sat TT_08'!$C$4:$Q$152,15,FALSE))","v":0},0]
[{"$f":"VLOOKUP(C201,'Sheet 1'!C$1:D$96,2,FALSE)","v":{"$error":"#N/A"}},192,{"$f":"+'[1]Racing numbers file'!$B72","v":"Gerry Martin"},{"$f":"VLOOKUP(C201,'[1]Racing numbers file'!$B$4:$F$290,2,FALSE)","v":1959},{"$f":"VLOOKUP(C201,'[1]Racing numbers file'!$B$4:$F$290,4,FALSE)","v":57},{"$f":"SaturdayHandicapTable[[#This Row],[Points2]]","v":0},{"$f":"IF(ISNA(VLOOKUP($C201,'Sat TT_01'!$C$4:$Q$152,15,FALSE)=$C201),0,VLOOKUP($C201,'Sat TT_01'!$C$4:$Q$152,15,FALSE))","v":0},{"$f":"IF(ISNA(VLOOKUP($C201,'Sat TT_02'!$C$4:$Q$152,15,FALSE)=$C201),0,VLOOKUP($C201,'Sat TT_02'!$C$4:$Q$152,15,FALSE))","v":0},{"$f":"IF(ISNA(VLOOKUP($C201,'Sat TT_03'!$C$4:$Q$152,15,FALSE)=$C201),0,VLOOKUP($C201,'Sat TT_03'!$C$4:$Q$152,15,FALSE))","v":0},{"$f":"IF(ISNA(VLOOKUP($C201,'Sat TT_04'!$C$4:$Q$152,15,FALSE)=$C201),0,VLOOKUP($C201,'Sat TT_04'!$C$4:$Q$152,15,FALSE))","v":0},{"$f":"IF(ISNA(VLOOKUP($C201,'Sat TT_05'!$C$4:$Q$152,15,FALSE)=$C201),0,VLOOKUP($C201,'Sat TT_05'!$C$4:$Q$152,15,FALSE))","v":0},{"$f":"IF(ISNA(VLOOKUP($C201,'Sat TT_06'!$C$4:$Q$152,15,FALSE)=$C201),0,VLOOKUP($C201,'Sat TT_06'!$C$4:$Q$152,15,FALSE))","v":0},{"$f":"IF(ISNA(VLOOKUP($C201,'Sat TT_07'!$C$4:$Q$152,15,FALSE)=$C201),0,VLOOKUP($C201,'Sat TT_07'!$C$4:$Q$152,15,FALSE))","v":0},{"$f":"IF(ISNA(VLOOKUP($C201,'Sat TT_08'!$C$4:$Q$152,15,FALSE)=$C201),0,VLOOKUP($C201,'Sat TT_08'!$C$4:$Q$152,15,FALSE))","v":0},0]
[{"$f":"VLOOKUP(C202,'Sheet 1'!C$1:D$96,2,FALSE)","v":1103},193,{"$f":"+'[1]Racing numbers file'!$B46","v":"Gerry Gaston"},{"$f":"VLOOKUP(C202,'[1]Racing numbers file'!$B$4:$F$290,2,FALSE)","v":1954},{"$f":"VLOOKUP(C202,'[1]Racing numbers file'!$B$4:$F$290,4,FALSE)","v":62},{"$f":"SaturdayHandicapTable[[#This Row],[Points2]]","v":0},{"$f":"IF(ISNA(VLOOKUP($C202,'Sat TT_01'!$C$4:$Q$152,15,FALSE)=$C202),0,VLOOKUP($C202,'Sat TT_01'!$C$4:$Q$152,15,FALSE))","v":0},{"$f":"IF(ISNA(VLOOKUP($C202,'Sat TT_02'!$C$4:$Q$152,15,FALSE)=$C202),0,VLOOKUP($C202,'Sat TT_02'!$C$4:$Q$152,15,FALSE))","v":0},{"$f":"IF(ISNA(VLOOKUP($C202,'Sat TT_03'!$C$4:$Q$152,15,FALSE)=$C202),0,VLOOKUP($C202,'Sat TT_03'!$C$4:$Q$152,15,FALSE))","v":0},{"$f":"IF(ISNA(VLOOKUP($C202,'Sat TT_04'!$C$4:$Q$152,15,FALSE)=$C202),0,VLOOKUP($C202,'Sat TT_04'!$C$4:$Q$152,15,FALSE))","v":0},{"$f":"IF(ISNA(VLOOKUP($C202,'Sat TT_05'!$C$4:$Q$152,15,FALSE)=$C202),0,VLOOKUP($C202,'Sat TT_05'!$C$4:$Q$152,15,FALSE))","v":0},{"$f":"IF(ISNA(VLOOKUP($C202,'Sat TT_06'!$C$4:$Q$152,15,FALSE)=$C202),0,VLOOKUP($C202,'Sat TT_06'!$C$4:$Q$152,15,FALSE))","v":0},{"$f":"IF(ISNA(VLOOKUP($C202,'Sat TT_07'!$C$4:$Q$152,15,FALSE)=$C202),0,VLOOKUP($C202,'Sat TT_07'!$C$4:$Q$152,15,FALSE))","v":0},{"$f":"IF(ISNA(VLOOKUP($C202,'Sat TT_08'!$C$4:$Q$152,15,FALSE)=$C202),0,VLOOKUP($C202,'Sat TT_08'!$C$4:$Q$152,15,FALSE))","v":0},{"$f":"SUM(G202:N202)","v":0}]
[{"$f":"VLOOKUP(C203,'Sheet 1'!C$1:D$96,2,FALSE)","v":{"$error":"#N/A"}},194,"McFeely","Kevin",52,{"$f":"SaturdayHandicapTable[[#This Row],[Points2]]","v":0},{"$f":"IF(ISNA(VLOOKUP($C203,'Sat TT_01'!$C$4:$Q$152,15,FALSE)=$C203),0,VLOOKUP($C203,'Sat TT_01'!$C$4:$Q$152,15,FALSE))","v":0},{"$f":"IF(ISNA(VLOOKUP($C203,'Sat TT_02'!$C$4:$Q$152,15,FALSE)=$C203),0,VLOOKUP($C203,'Sat TT_02'!$C$4:$Q$152,15,FALSE))","v":0},{"$f":"IF(ISNA(VLOOKUP($C203,'Sat TT_03'!$C$4:$Q$152,15,FALSE)=$C203),0,VLOOKUP($C203,'Sat TT_03'!$C$4:$Q$152,15,FALSE))","v":0},{"$f":"IF(ISNA(VLOOKUP($C203,'Sat TT_04'!$C$4:$Q$152,15,FALSE)=$C203),0,VLOOKUP($C203,'Sat TT_04'!$C$4:$Q$152,15,FALSE))","v":0},{"$f":"IF(ISNA(VLOOKUP($C203,'Sat TT_05'!$C$4:$Q$152,15,FALSE)=$C203),0,VLOOKUP($C203,'Sat TT_05'!$C$4:$Q$152,15,FALSE))","v":0},{"$f":"IF(ISNA(VLOOKUP($C203,'Sat TT_06'!$C$4:$Q$152,15,FALSE)=$C203),0,VLOOKUP($C203,'Sat TT_06'!$C$4:$Q$152,15,FALSE))","v":0},{"$f":"IF(ISNA(VLOOKUP($C203,'Sat TT_07'!$C$4:$Q$152,15,FALSE)=$C203),0,VLOOKUP($C203,'Sat TT_07'!$C$4:$Q$152,15,FALSE))","v":0},{"$f":"IF(ISNA(VLOOKUP($C203,'Sat TT_08'!$C$4:$Q$152,15,FALSE)=$C203),0,VLOOKUP($C203,'Sat TT_08'!$C$4:$Q$152,15,FALSE))","v":0},0]
[{"$f":"VLOOKUP(C204,'Sheet 1'!C$1:D$96,2,FALSE)","v":{"$error":"#N/A"}},195,"McGrath","Dermot",74,{"$f":"SaturdayHandicapTable[[#This Row],[Points2]]","v":0},{"$f":"IF(ISNA(VLOOKUP($C204,'Sat TT_01'!$C$4:$Q$152,15,FALSE)=$C204),0,VLOOKUP($C204,'Sat TT_01'!$C$4:$Q$152,15,FALSE))","v":0},{"$f":"IF(ISNA(VLOOKUP($C204,'Sat TT_02'!$C$4:$Q$152,15,FALSE)=$C204),0,VLOOKUP($C204,'Sat TT_02'!$C$4:$Q$152,15,FALSE))","v":0},{"$f":"IF(ISNA(VLOOKUP($C204,'Sat TT_03'!$C$4:$Q$152,15,FALSE)=$C204),0,VLOOKUP($C204,'Sat TT_03'!$C$4:$Q$152,15,FALSE))","v":0},{"$f":"IF(ISNA(VLOOKUP($C204,'Sat TT_04'!$C$4:$Q$152,15,FALSE)=$C204),0,VLOOKUP($C204,'Sat TT_04'!$C$4:$Q$152,15,FALSE))","v":0},{"$f":"IF(ISNA(VLOOKUP($C204,'Sat TT_05'!$C$4:$Q$152,15,FALSE)=$C204),0,VLOOKUP($C204,'Sat TT_05'!$C$4:$Q$152,15,FALSE))","v":0},{"$f":"IF(ISNA(VLOOKUP($C204,'Sat TT_06'!$C$4:$Q$152,15,FALSE)=$C204),0,VLOOKUP($C204,'Sat TT_06'!$C$4:$Q$152,15,FALSE))","v":0},{"$f":"IF(ISNA(VLOOKUP($C204,'Sat TT_07'!$C$4:$Q$152,15,FALSE)=$C204),0,VLOOKUP($C204,'Sat TT_07'!$C$4:$Q$152,15,FALSE))","v":0},{"$f":"IF(ISNA(VLOOKUP($C204,'Sat TT_08'!$C$4:$Q$152,15,FALSE)=$C204),0,VLOOKUP($C204,'Sat TT_08'!$C$4:$Q$152,15,FALSE))","v":0},0]
[{"$f":"VLOOKUP(C205,'Sheet 1'!C$1:D$96,2,FALSE)","v":{"$error":"#N/A"}},196,{"$f":"+'[1]Racing numbers file'!$B241","v":"Jason Ludgate"},{"$f":"VLOOKUP(C205,'[1]Racing numbers file'!$B$4:$F$290,2,FALSE)","v":1972},{"$f":"VLOOKUP(C205,'[1]Racing numbers file'!$B$4:$F$290,4,FALSE)","v":44},{"$f":"SaturdayHandicapTable[[#This Row],[Points2]]","v":0},{"$f":"IF(ISNA(VLOOKUP($C205,'Sat TT_01'!$C$4:$Q$152,15,FALSE)=$C205),0,VLOOKUP($C205,'Sat TT_01'!$C$4:$Q$152,15,FALSE))","v":0},{"$f":"IF(ISNA(VLOOKUP($C205,'Sat TT_02'!$C$4:$Q$152,15,FALSE)=$C205),0,VLOOKUP($C205,'Sat TT_02'!$C$4:$Q$152,15,FALSE))","v":0},{"$f":"IF(ISNA(VLOOKUP($C205,'Sat TT_03'!$C$4:$Q$152,15,FALSE)=$C205),0,VLOOKUP($C205,'Sat TT_03'!$C$4:$Q$152,15,FALSE))","v":0},{"$f":"IF(ISNA(VLOOKUP($C205,'Sat TT_04'!$C$4:$Q$152,15,FALSE)=$C205),0,VLOOKUP($C205,'Sat TT_04'!$C$4:$Q$152,15,FALSE))","v":0},{"$f":"IF(ISNA(VLOOKUP($C205,'Sat TT_05'!$C$4:$Q$152,15,FALSE)=$C205),0,VLOOKUP($C205,'Sat TT_05'!$C$4:$Q$152,15,FALSE))","v":0},{"$f":"IF(ISNA(VLOOKUP($C205,'Sat TT_06'!$C$4:$Q$152,15,FALSE)=$C205),0,VLOOKUP($C205,'Sat TT_06'!$C$4:$Q$152,15,FALSE))","v":0},{"$f":"IF(ISNA(VLOOKUP($C205,'Sat TT_07'!$C$4:$Q$152,15,FALSE)=$C205),0,VLOOKUP($C205,'Sat TT_07'!$C$4:$Q$152,15,FALSE))","v":0},{"$f":"IF(ISNA(VLOOKUP($C205,'Sat TT_08'!$C$4:$Q$152,15,FALSE)=$C205),0,VLOOKUP($C205,'Sat TT_08'!$C$4:$Q$152,15,FALSE))","v":0},0]
[{"$f":"VLOOKUP(C206,'Sheet 1'!C$1:D$96,2,FALSE)","v":{"$error":"#N/A"}},197,{"$f":"+'[1]Racing numbers file'!$B225","v":"Colin Bell"},{"$f":"VLOOKUP(C206,'[1]Racing numbers file'!$B$4:$F$290,2,FALSE)","v":1971},{"$f":"VLOOKUP(C206,'[1]Racing numbers file'!$B$4:$F$290,4,FALSE)","v":45},{"$f":"SaturdayHandicapTable[[#This Row],[Points2]]","v":0},{"$f":"IF(ISNA(VLOOKUP($C206,'Sat TT_01'!$C$4:$Q$152,15,FALSE)=$C206),0,VLOOKUP($C206,'Sat TT_01'!$C$4:$Q$152,15,FALSE))","v":0},{"$f":"IF(ISNA(VLOOKUP($C206,'Sat TT_02'!$C$4:$Q$152,15,FALSE)=$C206),0,VLOOKUP($C206,'Sat TT_02'!$C$4:$Q$152,15,FALSE))","v":0},{"$f":"IF(ISNA(VLOOKUP($C206,'Sat TT_03'!$C$4:$Q$152,15,FALSE)=$C206),0,VLOOKUP($C206,'Sat TT_03'!$C$4:$Q$152,15,FALSE))","v":0},{"$f":"IF(ISNA(VLOOKUP($C206,'Sat TT_04'!$C$4:$Q$152,15,FALSE)=$C206),0,VLOOKUP($C206,'Sat TT_04'!$C$4:$Q$152,15,FALSE))","v":0},{"$f":"IF(ISNA(VLOOKUP($C206,'Sat TT_05'!$C$4:$Q$152,15,FALSE)=$C206),0,VLOOKUP($C206,'Sat TT_05'!$C$4:$Q$152,15,FALSE))","v":0},{"$f":"IF(ISNA(VLOOKUP($C206,'Sat TT_06'!$C$4:$Q$152,15,FALSE)=$C206),0,VLOOKUP($C206,'Sat TT_06'!$C$4:$Q$152,15,FALSE))","v":0},{"$f":"IF(ISNA(VLOOKUP($C206,'Sat TT_07'!$C$4:$Q$152,15,FALSE)=$C206),0,VLOOKUP($C206,'Sat TT_07'!$C$4:$Q$152,15,FALSE))","v":0},{"$f":"IF(ISNA(VLOOKUP($C206,'Sat TT_08'!$C$4:$Q$152,15,FALSE)=$C206),0,VLOOKUP($C206,'Sat TT_08'!$C$4:$Q$152,15,FALSE))","v":0},0]
[{"$f":"VLOOKUP(C207,'Sheet 1'!C$1:D$96,2,FALSE)","v":{"$error":"#N/A"}},198,{"$f":"+'[1]Racing numbers file'!$B100","v":"Mark Burns"},{"$f":"VLOOKUP(C207,'[1]Racing numbers file'!$B$4:$F$290,2,FALSE)","v":1962},{"$f":"VLOOKUP(C207,'[1]Racing numbers file'!$B$4:$F$290,4,FALSE)","v":54},{"$f":"SaturdayHandicapTable[[#This Row],[Points2]]","v":0},{"$f":"IF(ISNA(VLOOKUP($C207,'Sat TT_01'!$C$4:$Q$152,15,FALSE)=$C207),0,VLOOKUP($C207,'Sat TT_01'!$C$4:$Q$152,15,FALSE))","v":0},{"$f":"IF(ISNA(VLOOKUP($C207,'Sat TT_02'!$C$4:$Q$152,15,FALSE)=$C207),0,VLOOKUP($C207,'Sat TT_02'!$C$4:$Q$152,15,FALSE))","v":0},{"$f":"IF(ISNA(VLOOKUP($C207,'Sat TT_03'!$C$4:$Q$152,15,FALSE)=$C207),0,VLOOKUP($C207,'Sat TT_03'!$C$4:$Q$152,15,FALSE))","v":0},{"$f":"IF(ISNA(VLOOKUP($C207,'Sat TT_04'!$C$4:$Q$152,15,FALSE)=$C207),0,VLOOKUP($C207,'Sat TT_04'!$C$4:$Q$152,15,FALSE))","v":0},{"$f":"IF(ISNA(VLOOKUP($C207,'Sat TT_05'!$C$4:$Q$152,15,FALSE)=$C207),0,VLOOKUP($C207,'Sat TT_05'!$C$4:$Q$152,15,FALSE))","v":0},{"$f":"IF(ISNA(VLOOKUP($C207,'Sat TT_06'!$C$4:$Q$152,15,FALSE)=$C207),0,VLOOKUP($C207,'Sat TT_06'!$C$4:$Q$152,15,FALSE))","v":0},{"$f":"IF(ISNA(VLOOKUP($C207,'Sat TT_07'!$C$4:$Q$152,15,FALSE)=$C207),0,VLOOKUP($C207,'Sat TT_07'!$C$4:$Q$152,15,FALSE))","v":0},{"$f":"IF(ISNA(VLOOKUP($C207,'Sat TT_08'!$C$4:$Q$152,15,FALSE)=$C207),0,VLOOKUP($C207,'Sat TT_08'!$C$4:$Q$152,15,FALSE))","v":0},0]
[{"$f":"VLOOKUP(C208,'Sheet 1'!C$1:D$96,2,FALSE)","v":1263},199,{"$f":"+'[1]Racing numbers file'!$B137","v":"Shay Dalton"},{"$f":"VLOOKUP(C208,'[1]Racing numbers file'!$B$4:$F$290,2,FALSE)","v":1967},{"$f":"VLOOKUP(C208,'[1]Racing numbers file'!$B$4:$F$290,4,FALSE)","v":49},{"$f":"SaturdayHandicapTable[[#This Row],[Points2]]","v":0},{"$f":"IF(ISNA(VLOOKUP($C208,'Sat TT_01'!$C$4:$Q$152,15,FALSE)=$C208),0,VLOOKUP($C208,'Sat TT_01'!$C$4:$Q$152,15,FALSE))","v":0},{"$f":"IF(ISNA(VLOOKUP($C208,'Sat TT_02'!$C$4:$Q$152,15,FALSE)=$C208),0,VLOOKUP($C208,'Sat TT_02'!$C$4:$Q$152,15,FALSE))","v":0},{"$f":"IF(ISNA(VLOOKUP($C208,'Sat TT_03'!$C$4:$Q$152,15,FALSE)=$C208),0,VLOOKUP($C208,'Sat TT_03'!$C$4:$Q$152,15,FALSE))","v":0},{"$f":"IF(ISNA(VLOOKUP($C208,'Sat TT_04'!$C$4:$Q$152,15,FALSE)=$C208),0,VLOOKUP($C208,'Sat TT_04'!$C$4:$Q$152,15,FALSE))","v":0},{"$f":"IF(ISNA(VLOOKUP($C208,'Sat TT_05'!$C$4:$Q$152,15,FALSE)=$C208),0,VLOOKUP($C208,'Sat TT_05'!$C$4:$Q$152,15,FALSE))","v":0},{"$f":"IF(ISNA(VLOOKUP($C208,'Sat TT_06'!$C$4:$Q$152,15,FALSE)=$C208),0,VLOOKUP($C208,'Sat TT_06'!$C$4:$Q$152,15,FALSE))","v":0},{"$f":"IF(ISNA(VLOOKUP($C208,'Sat TT_07'!$C$4:$Q$152,15,FALSE)=$C208),0,VLOOKUP($C208,'Sat TT_07'!$C$4:$Q$152,15,FALSE))","v":0},{"$f":"IF(ISNA(VLOOKUP($C208,'Sat TT_08'!$C$4:$Q$152,15,FALSE)=$C208),0,VLOOKUP($C208,'Sat TT_08'!$C$4:$Q$152,15,FALSE))","v":0},0]
[{"$f":"VLOOKUP(C209,'Sheet 1'!C$1:D$96,2,FALSE)","v":1284},200,{"$f":"+'[1]Racing numbers file'!$B150","v":"Enda Smyth"},{"$f":"VLOOKUP(C209,'[1]Racing numbers file'!$B$4:$F$290,2,FALSE)","v":1969},{"$f":"VLOOKUP(C209,'[1]Racing numbers file'!$B$4:$F$290,4,FALSE)","v":47},{"$f":"SaturdayHandicapTable[[#This Row],[Points2]]","v":0},{"$f":"IF(ISNA(VLOOKUP($C209,'Sat TT_01'!$C$4:$Q$152,15,FALSE)=$C209),0,VLOOKUP($C209,'Sat TT_01'!$C$4:$Q$152,15,FALSE))","v":0},{"$f":"IF(ISNA(VLOOKUP($C209,'Sat TT_02'!$C$4:$Q$152,15,FALSE)=$C209),0,VLOOKUP($C209,'Sat TT_02'!$C$4:$Q$152,15,FALSE))","v":0},{"$f":"IF(ISNA(VLOOKUP($C209,'Sat TT_03'!$C$4:$Q$152,15,FALSE)=$C209),0,VLOOKUP($C209,'Sat TT_03'!$C$4:$Q$152,15,FALSE))","v":0},{"$f":"IF(ISNA(VLOOKUP($C209,'Sat TT_04'!$C$4:$Q$152,15,FALSE)=$C209),0,VLOOKUP($C209,'Sat TT_04'!$C$4:$Q$152,15,FALSE))","v":0},{"$f":"IF(ISNA(VLOOKUP($C209,'Sat TT_05'!$C$4:$Q$152,15,FALSE)=$C209),0,VLOOKUP($C209,'Sat TT_05'!$C$4:$Q$152,15,FALSE))","v":0},{"$f":"IF(ISNA(VLOOKUP($C209,'Sat TT_06'!$C$4:$Q$152,15,FALSE)=$C209),0,VLOOKUP($C209,'Sat TT_06'!$C$4:$Q$152,15,FALSE))","v":0},{"$f":"IF(ISNA(VLOOKUP($C209,'Sat TT_07'!$C$4:$Q$152,15,FALSE)=$C209),0,VLOOKUP($C209,'Sat TT_07'!$C$4:$Q$152,15,FALSE))","v":0},{"$f":"IF(ISNA(VLOOKUP($C209,'Sat TT_08'!$C$4:$Q$152,15,FALSE)=$C209),0,VLOOKUP($C209,'Sat TT_08'!$C$4:$Q$152,15,FALSE))","v":0},0]
[{"$f":"VLOOKUP(C210,'Sheet 1'!C$1:D$96,2,FALSE)","v":1374},201,{"$f":"+'[1]Racing numbers file'!$B189","v":"Martin McCaffrey"},{"$f":"VLOOKUP(C210,'[1]Racing numbers file'!$B$4:$F$290,2,FALSE)","v":1964},{"$f":"VLOOKUP(C210,'[1]Racing numbers file'!$B$4:$F$290,4,FALSE)","v":52},{"$f":"SaturdayHandicapTable[[#This Row],[Points2]]","v":0},{"$f":"IF(ISNA(VLOOKUP($C210,'Sat TT_01'!$C$4:$Q$152,15,FALSE)=$C210),0,VLOOKUP($C210,'Sat TT_01'!$C$4:$Q$152,15,FALSE))","v":0},{"$f":"IF(ISNA(VLOOKUP($C210,'Sat TT_02'!$C$4:$Q$152,15,FALSE)=$C210),0,VLOOKUP($C210,'Sat TT_02'!$C$4:$Q$152,15,FALSE))","v":0},{"$f":"IF(ISNA(VLOOKUP($C210,'Sat TT_03'!$C$4:$Q$152,15,FALSE)=$C210),0,VLOOKUP($C210,'Sat TT_03'!$C$4:$Q$152,15,FALSE))","v":0},{"$f":"IF(ISNA(VLOOKUP($C210,'Sat TT_04'!$C$4:$Q$152,15,FALSE)=$C210),0,VLOOKUP($C210,'Sat TT_04'!$C$4:$Q$152,15,FALSE))","v":0},{"$f":"IF(ISNA(VLOOKUP($C210,'Sat TT_05'!$C$4:$Q$152,15,FALSE)=$C210),0,VLOOKUP($C210,'Sat TT_05'!$C$4:$Q$152,15,FALSE))","v":0},{"$f":"IF(ISNA(VLOOKUP($C210,'Sat TT_06'!$C$4:$Q$152,15,FALSE)=$C210),0,VLOOKUP($C210,'Sat TT_06'!$C$4:$Q$152,15,FALSE))","v":0},{"$f":"IF(ISNA(VLOOKUP($C210,'Sat TT_07'!$C$4:$Q$152,15,FALSE)=$C210),0,VLOOKUP($C210,'Sat TT_07'!$C$4:$Q$152,15,FALSE))","v":0},{"$f":"IF(ISNA(VLOOKUP($C210,'Sat TT_08'!$C$4:$Q$152,15,FALSE)=$C210),0,VLOOKUP($C210,'Sat TT_08'!$C$4:$Q$152,15,FALSE))","v":0},0]
[{"$f":"VLOOKUP(C211,'Sheet 1'!C$1:D$96,2,FALSE)","v":1326},202,{"$f":"+'[1]Racing numbers file'!$B171","v":"Andrew Kavanagh"},{"$f":"VLOOKUP(C211,'[1]Racing numbers file'!$B$4:$F$290,2,FALSE)","v":1971},{"$f":"VLOOKUP(C211,'[1]Racing numbers file'!$B$4:$F$290,4,FALSE)","v":45},{"$f":"SaturdayHandicapTable[[#This Row],[Points2]]","v":0},{"$f":"IF(ISNA(VLOOKUP($C211,'Sat TT_01'!$C$4:$Q$152,15,FALSE)=$C211),0,VLOOKUP($C211,'Sat TT_01'!$C$4:$Q$152,15,FALSE))","v":0},{"$f":"IF(ISNA(VLOOKUP($C211,'Sat TT_02'!$C$4:$Q$152,15,FALSE)=$C211),0,VLOOKUP($C211,'Sat TT_02'!$C$4:$Q$152,15,FALSE))","v":0},{"$f":"IF(ISNA(VLOOKUP($C211,'Sat TT_03'!$C$4:$Q$152,15,FALSE)=$C211),0,VLOOKUP($C211,'Sat TT_03'!$C$4:$Q$152,15,FALSE))","v":0},{"$f":"IF(ISNA(VLOOKUP($C211,'Sat TT_04'!$C$4:$Q$152,15,FALSE)=$C211),0,VLOOKUP($C211,'Sat TT_04'!$C$4:$Q$152,15,FALSE))","v":0},{"$f":"IF(ISNA(VLOOKUP($C211,'Sat TT_05'!$C$4:$Q$152,15,FALSE)=$C211),0,VLOOKUP($C211,'Sat TT_05'!$C$4:$Q$152,15,FALSE))","v":0},{"$f":"IF(ISNA(VLOOKUP($C211,'Sat TT_06'!$C$4:$Q$152,15,FALSE)=$C211),0,VLOOKUP($C211,'Sat TT_06'!$C$4:$Q$152,15,FALSE))","v":0},{"$f":"IF(ISNA(VLOOKUP($C211,'Sat TT_07'!$C$4:$Q$152,15,FALSE)=$C211),0,VLOOKUP($C211,'Sat TT_07'!$C$4:$Q$152,15,FALSE))","v":0},{"$f":"IF(ISNA(VLOOKUP($C211,'Sat TT_08'!$C$4:$Q$152,15,FALSE)=$C211),0,VLOOKUP($C211,'Sat TT_08'!$C$4:$Q$152,15,FALSE))","v":0},0]
[{"$f":"VLOOKUP(C212,'Sheet 1'!C$1:D$96,2,FALSE)","v":{"$error":"#N/A"}},203,{"$f":"+'[1]Racing numbers file'!$B163","v":"Roy Bowden"},{"$f":"VLOOKUP(C212,'[1]Racing numbers file'!$B$4:$F$290,2,FALSE)","v":1971},{"$f":"VLOOKUP(C212,'[1]Racing numbers file'!$B$4:$F$290,4,FALSE)","v":45},{"$f":"SaturdayHandicapTable[[#This Row],[Points2]]","v":0},{"$f":"IF(ISNA(VLOOKUP($C212,'Sat TT_01'!$C$4:$Q$152,15,FALSE)=$C212),0,VLOOKUP($C212,'Sat TT_01'!$C$4:$Q$152,15,FALSE))","v":0},{"$f":"IF(ISNA(VLOOKUP($C212,'Sat TT_02'!$C$4:$Q$152,15,FALSE)=$C212),0,VLOOKUP($C212,'Sat TT_02'!$C$4:$Q$152,15,FALSE))","v":0},{"$f":"IF(ISNA(VLOOKUP($C212,'Sat TT_03'!$C$4:$Q$152,15,FALSE)=$C212),0,VLOOKUP($C212,'Sat TT_03'!$C$4:$Q$152,15,FALSE))","v":0},{"$f":"IF(ISNA(VLOOKUP($C212,'Sat TT_04'!$C$4:$Q$152,15,FALSE)=$C212),0,VLOOKUP($C212,'Sat TT_04'!$C$4:$Q$152,15,FALSE))","v":0},{"$f":"IF(ISNA(VLOOKUP($C212,'Sat TT_05'!$C$4:$Q$152,15,FALSE)=$C212),0,VLOOKUP($C212,'Sat TT_05'!$C$4:$Q$152,15,FALSE))","v":0},{"$f":"IF(ISNA(VLOOKUP($C212,'Sat TT_06'!$C$4:$Q$152,15,FALSE)=$C212),0,VLOOKUP($C212,'Sat TT_06'!$C$4:$Q$152,15,FALSE))","v":0},{"$f":"IF(ISNA(VLOOKUP($C212,'Sat TT_07'!$C$4:$Q$152,15,FALSE)=$C212),0,VLOOKUP($C212,'Sat TT_07'!$C$4:$Q$152,15,FALSE))","v":0},{"$f":"IF(ISNA(VLOOKUP($C212,'Sat TT_08'!$C$4:$Q$152,15,FALSE)=$C212),0,VLOOKUP($C212,'Sat TT_08'!$C$4:$Q$152,15,FALSE))","v":0},0]
[{"$f":"VLOOKUP(C213,'Sheet 1'!C$1:D$96,2,FALSE)","v":1281},204,{"$f":"+'[1]Racing numbers file'!$B148","v":"Cathal Miller"},{"$f":"VLOOKUP(C213,'[1]Racing numbers file'!$B$4:$F$290,2,FALSE)","v":1968},{"$f":"VLOOKUP(C213,'[1]Racing numbers file'!$B$4:$F$290,4,FALSE)","v":48},{"$f":"SaturdayHandicapTable[[#This Row],[Points2]]","v":0},{"$f":"IF(ISNA(VLOOKUP($C213,'Sat TT_01'!$C$4:$Q$152,15,FALSE)=$C213),0,VLOOKUP($C213,'Sat TT_01'!$C$4:$Q$152,15,FALSE))","v":0},{"$f":"IF(ISNA(VLOOKUP($C213,'Sat TT_02'!$C$4:$Q$152,15,FALSE)=$C213),0,VLOOKUP($C213,'Sat TT_02'!$C$4:$Q$152,15,FALSE))","v":0},{"$f":"IF(ISNA(VLOOKUP($C213,'Sat TT_03'!$C$4:$Q$152,15,FALSE)=$C213),0,VLOOKUP($C213,'Sat TT_03'!$C$4:$Q$152,15,FALSE))","v":0},{"$f":"IF(ISNA(VLOOKUP($C213,'Sat TT_04'!$C$4:$Q$152,15,FALSE)=$C213),0,VLOOKUP($C213,'Sat TT_04'!$C$4:$Q$152,15,FALSE))","v":0},{"$f":"IF(ISNA(VLOOKUP($C213,'Sat TT_05'!$C$4:$Q$152,15,FALSE)=$C213),0,VLOOKUP($C213,'Sat TT_05'!$C$4:$Q$152,15,FALSE))","v":0},{"$f":"IF(ISNA(VLOOKUP($C213,'Sat TT_06'!$C$4:$Q$152,15,FALSE)=$C213),0,VLOOKUP($C213,'Sat TT_06'!$C$4:$Q$152,15,FALSE))","v":0},{"$f":"IF(ISNA(VLOOKUP($C213,'Sat TT_07'!$C$4:$Q$152,15,FALSE)=$C213),0,VLOOKUP($C213,'Sat TT_07'!$C$4:$Q$152,15,FALSE))","v":0},{"$f":"IF(ISNA(VLOOKUP($C213,'Sat TT_08'!$C$4:$Q$152,15,FALSE)=$C213),0,VLOOKUP($C213,'Sat TT_08'!$C$4:$Q$152,15,FALSE))","v":0},0]
[{"$f":"VLOOKUP(C214,'Sheet 1'!C$1:D$96,2,FALSE)","v":1090},205,{"$f":"+'[1]Racing numbers file'!$B37","v":"Colm Conway"},{"$f":"VLOOKUP(C214,'[1]Racing numbers file'!$B$4:$F$290,2,FALSE)","v":1952},{"$f":"VLOOKUP(C214,'[1]Racing numbers file'!$B$4:$F$290,4,FALSE)","v":64},{"$f":"SaturdayHandicapTable[[#This Row],[Points2]]","v":0},{"$f":"IF(ISNA(VLOOKUP($C214,'Sat TT_01'!$C$4:$Q$152,15,FALSE)=$C214),0,VLOOKUP($C214,'Sat TT_01'!$C$4:$Q$152,15,FALSE))","v":0},{"$f":"IF(ISNA(VLOOKUP($C214,'Sat TT_02'!$C$4:$Q$152,15,FALSE)=$C214),0,VLOOKUP($C214,'Sat TT_02'!$C$4:$Q$152,15,FALSE))","v":0},{"$f":"IF(ISNA(VLOOKUP($C214,'Sat TT_03'!$C$4:$Q$152,15,FALSE)=$C214),0,VLOOKUP($C214,'Sat TT_03'!$C$4:$Q$152,15,FALSE))","v":0},{"$f":"IF(ISNA(VLOOKUP($C214,'Sat TT_04'!$C$4:$Q$152,15,FALSE)=$C214),0,VLOOKUP($C214,'Sat TT_04'!$C$4:$Q$152,15,FALSE))","v":0},{"$f":"IF(ISNA(VLOOKUP($C214,'Sat TT_05'!$C$4:$Q$152,15,FALSE)=$C214),0,VLOOKUP($C214,'Sat TT_05'!$C$4:$Q$152,15,FALSE))","v":0},{"$f":"IF(ISNA(VLOOKUP($C214,'Sat TT_06'!$C$4:$Q$152,15,FALSE)=$C214),0,VLOOKUP($C214,'Sat TT_06'!$C$4:$Q$152,15,FALSE))","v":0},{"$f":"IF(ISNA(VLOOKUP($C214,'Sat TT_07'!$C$4:$Q$152,15,FALSE)=$C214),0,VLOOKUP($C214,'Sat TT_07'!$C$4:$Q$152,15,FALSE))","v":0},{"$f":"IF(ISNA(VLOOKUP($C214,'Sat TT_08'!$C$4:$Q$152,15,FALSE)=$C214),0,VLOOKUP($C214,'Sat TT_08'!$C$4:$Q$152,15,FALSE))","v":0},0]
[{"$f":"VLOOKUP(C215,'Sheet 1'!C$1:D$96,2,FALSE)","v":{"$error":"#N/A"}},206,{"$f":"+'[1]Racing numbers file'!$B96","v":"Willie McDonald"},{"$f":"VLOOKUP(C215,'[1]Racing numbers file'!$B$4:$F$290,2,FALSE)","v":1962},{"$f":"VLOOKUP(C215,'[1]Racing numbers file'!$B$4:$F$290,4,FALSE)","v":54},{"$f":"SaturdayHandicapTable[[#This Row],[Points2]]","v":0},{"$f":"IF(ISNA(VLOOKUP($C215,'Sat TT_01'!$C$4:$Q$152,15,FALSE)=$C215),0,VLOOKUP($C215,'Sat TT_01'!$C$4:$Q$152,15,FALSE))","v":0},{"$f":"IF(ISNA(VLOOKUP($C215,'Sat TT_02'!$C$4:$Q$152,15,FALSE)=$C215),0,VLOOKUP($C215,'Sat TT_02'!$C$4:$Q$152,15,FALSE))","v":0},{"$f":"IF(ISNA(VLOOKUP($C215,'Sat TT_03'!$C$4:$Q$152,15,FALSE)=$C215),0,VLOOKUP($C215,'Sat TT_03'!$C$4:$Q$152,15,FALSE))","v":0},{"$f":"IF(ISNA(VLOOKUP($C215,'Sat TT_04'!$C$4:$Q$152,15,FALSE)=$C215),0,VLOOKUP($C215,'Sat TT_04'!$C$4:$Q$152,15,FALSE))","v":0},{"$f":"IF(ISNA(VLOOKUP($C215,'Sat TT_05'!$C$4:$Q$152,15,FALSE)=$C215),0,VLOOKUP($C215,'Sat TT_05'!$C$4:$Q$152,15,FALSE))","v":0},{"$f":"IF(ISNA(VLOOKUP($C215,'Sat TT_06'!$C$4:$Q$152,15,FALSE)=$C215),0,VLOOKUP($C215,'Sat TT_06'!$C$4:$Q$152,15,FALSE))","v":0},{"$f":"IF(ISNA(VLOOKUP($C215,'Sat TT_07'!$C$4:$Q$152,15,FALSE)=$C215),0,VLOOKUP($C215,'Sat TT_07'!$C$4:$Q$152,15,FALSE))","v":0},{"$f":"IF(ISNA(VLOOKUP($C215,'Sat TT_08'!$C$4:$Q$152,15,FALSE)=$C215),0,VLOOKUP($C215,'Sat TT_08'!$C$4:$Q$152,15,FALSE))","v":0},0]
[{"$f":"VLOOKUP(C216,'Sheet 1'!C$1:D$96,2,FALSE)","v":{"$error":"#N/A"}},207,"Mullen","Michael",65,{"$f":"SaturdayHandicapTable[[#This Row],[Points2]]","v":0},{"$f":"IF(ISNA(VLOOKUP($C216,'Sat TT_01'!$C$4:$Q$152,15,FALSE)=$C216),0,VLOOKUP($C216,'Sat TT_01'!$C$4:$Q$152,15,FALSE))","v":0},{"$f":"IF(ISNA(VLOOKUP($C216,'Sat TT_02'!$C$4:$Q$152,15,FALSE)=$C216),0,VLOOKUP($C216,'Sat TT_02'!$C$4:$Q$152,15,FALSE))","v":0},{"$f":"IF(ISNA(VLOOKUP($C216,'Sat TT_03'!$C$4:$Q$152,15,FALSE)=$C216),0,VLOOKUP($C216,'Sat TT_03'!$C$4:$Q$152,15,FALSE))","v":0},{"$f":"IF(ISNA(VLOOKUP($C216,'Sat TT_04'!$C$4:$Q$152,15,FALSE)=$C216),0,VLOOKUP($C216,'Sat TT_04'!$C$4:$Q$152,15,FALSE))","v":0},{"$f":"IF(ISNA(VLOOKUP($C216,'Sat TT_05'!$C$4:$Q$152,15,FALSE)=$C216),0,VLOOKUP($C216,'Sat TT_05'!$C$4:$Q$152,15,FALSE))","v":0},{"$f":"IF(ISNA(VLOOKUP($C216,'Sat TT_06'!$C$4:$Q$152,15,FALSE)=$C216),0,VLOOKUP($C216,'Sat TT_06'!$C$4:$Q$152,15,FALSE))","v":0},{"$f":"IF(ISNA(VLOOKUP($C216,'Sat TT_07'!$C$4:$Q$152,15,FALSE)=$C216),0,VLOOKUP($C216,'Sat TT_07'!$C$4:$Q$152,15,FALSE))","v":0},{"$f":"IF(ISNA(VLOOKUP($C216,'Sat TT_08'!$C$4:$Q$152,15,FALSE)=$C216),0,VLOOKUP($C216,'Sat TT_08'!$C$4:$Q$152,15,FALSE))","v":0},0]
[{"$f":"VLOOKUP(C217,'Sheet 1'!C$1:D$96,2,FALSE)","v":{"$error":"#N/A"}},208,{"$f":"+'[1]Racing numbers file'!$B143","v":"Lochlann Walsh"},{"$f":"VLOOKUP(C217,'[1]Racing numbers file'!$B$4:$F$290,2,FALSE)","v":1968},{"$f":"VLOOKUP(C217,'[1]Racing numbers file'!$B$4:$F$290,4,FALSE)","v":48},{"$f":"SaturdayHandicapTable[[#This Row],[Points2]]","v":0},{"$f":"IF(ISNA(VLOOKUP($C217,'Sat TT_01'!$C$4:$Q$152,15,FALSE)=$C217),0,VLOOKUP($C217,'Sat TT_01'!$C$4:$Q$152,15,FALSE))","v":0},{"$f":"IF(ISNA(VLOOKUP($C217,'Sat TT_02'!$C$4:$Q$152,15,FALSE)=$C217),0,VLOOKUP($C217,'Sat TT_02'!$C$4:$Q$152,15,FALSE))","v":0},{"$f":"IF(ISNA(VLOOKUP($C217,'Sat TT_03'!$C$4:$Q$152,15,FALSE)=$C217),0,VLOOKUP($C217,'Sat TT_03'!$C$4:$Q$152,15,FALSE))","v":0},{"$f":"IF(ISNA(VLOOKUP($C217,'Sat TT_04'!$C$4:$Q$152,15,FALSE)=$C217),0,VLOOKUP($C217,'Sat TT_04'!$C$4:$Q$152,15,FALSE))","v":0},{"$f":"IF(ISNA(VLOOKUP($C217,'Sat TT_05'!$C$4:$Q$152,15,FALSE)=$C217),0,VLOOKUP($C217,'Sat TT_05'!$C$4:$Q$152,15,FALSE))","v":0},{"$f":"IF(ISNA(VLOOKUP($C217,'Sat TT_06'!$C$4:$Q$152,15,FALSE)=$C217),0,VLOOKUP($C217,'Sat TT_06'!$C$4:$Q$152,15,FALSE))","v":0},{"$f":"IF(ISNA(VLOOKUP($C217,'Sat TT_07'!$C$4:$Q$152,15,FALSE)=$C217),0,VLOOKUP($C217,'Sat TT_07'!$C$4:$Q$152,15,FALSE))","v":0},{"$f":"IF(ISNA(VLOOKUP($C217,'Sat TT_08'!$C$4:$Q$152,15,FALSE)=$C217),0,VLOOKUP($C217,'Sat TT_08'!$C$4:$Q$152,15,FALSE))","v":0},0]
[{"$f":"VLOOKUP(C218,'Sheet 1'!C$1:D$96,2,FALSE)","v":1360},209,{"$f":"+'[1]Racing numbers file'!$B182","v":"David Kelly"},{"$f":"VLOOKUP(C218,'[1]Racing numbers file'!$B$4:$F$290,2,FALSE)","v":1955},{"$f":"VLOOKUP(C218,'[1]Racing numbers file'!$B$4:$F$290,4,FALSE)","v":61},{"$f":"SaturdayHandicapTable[[#This Row],[Points2]]","v":0},{"$f":"IF(ISNA(VLOOKUP($C218,'Sat TT_01'!$C$4:$Q$152,15,FALSE)=$C218),0,VLOOKUP($C218,'Sat TT_01'!$C$4:$Q$152,15,FALSE))","v":0},{"$f":"IF(ISNA(VLOOKUP($C218,'Sat TT_02'!$C$4:$Q$152,15,FALSE)=$C218),0,VLOOKUP($C218,'Sat TT_02'!$C$4:$Q$152,15,FALSE))","v":0},{"$f":"IF(ISNA(VLOOKUP($C218,'Sat TT_03'!$C$4:$Q$152,15,FALSE)=$C218),0,VLOOKUP($C218,'Sat TT_03'!$C$4:$Q$152,15,FALSE))","v":0},{"$f":"IF(ISNA(VLOOKUP($C218,'Sat TT_04'!$C$4:$Q$152,15,FALSE)=$C218),0,VLOOKUP($C218,'Sat TT_04'!$C$4:$Q$152,15,FALSE))","v":0},{"$f":"IF(ISNA(VLOOKUP($C218,'Sat TT_05'!$C$4:$Q$152,15,FALSE)=$C218),0,VLOOKUP($C218,'Sat TT_05'!$C$4:$Q$152,15,FALSE))","v":0},{"$f":"IF(ISNA(VLOOKUP($C218,'Sat TT_06'!$C$4:$Q$152,15,FALSE)=$C218),0,VLOOKUP($C218,'Sat TT_06'!$C$4:$Q$152,15,FALSE))","v":0},{"$f":"IF(ISNA(VLOOKUP($C218,'Sat TT_07'!$C$4:$Q$152,15,FALSE)=$C218),0,VLOOKUP($C218,'Sat TT_07'!$C$4:$Q$152,15,FALSE))","v":0},{"$f":"IF(ISNA(VLOOKUP($C218,'Sat TT_08'!$C$4:$Q$152,15,FALSE)=$C218),0,VLOOKUP($C218,'Sat TT_08'!$C$4:$Q$152,15,FALSE))","v":0},0]
[{"$f":"VLOOKUP(C219,'Sheet 1'!C$1:D$96,2,FALSE)","v":1420},210,{"$f":"+'[1]Racing numbers file'!$B213","v":"Ian O'Hara"},{"$f":"VLOOKUP(C219,'[1]Racing numbers file'!$B$4:$F$290,2,FALSE)","v":1972},{"$f":"VLOOKUP(C219,'[1]Racing numbers file'!$B$4:$F$290,4,FALSE)","v":44},{"$f":"SaturdayHandicapTable[[#This Row],[Points2]]","v":0},{"$f":"IF(ISNA(VLOOKUP($C219,'Sat TT_01'!$C$4:$Q$152,15,FALSE)=$C219),0,VLOOKUP($C219,'Sat TT_01'!$C$4:$Q$152,15,FALSE))","v":0},{"$f":"IF(ISNA(VLOOKUP($C219,'Sat TT_02'!$C$4:$Q$152,15,FALSE)=$C219),0,VLOOKUP($C219,'Sat TT_02'!$C$4:$Q$152,15,FALSE))","v":0},{"$f":"IF(ISNA(VLOOKUP($C219,'Sat TT_03'!$C$4:$Q$152,15,FALSE)=$C219),0,VLOOKUP($C219,'Sat TT_03'!$C$4:$Q$152,15,FALSE))","v":0},{"$f":"IF(ISNA(VLOOKUP($C219,'Sat TT_04'!$C$4:$Q$152,15,FALSE)=$C219),0,VLOOKUP($C219,'Sat TT_04'!$C$4:$Q$152,15,FALSE))","v":0},{"$f":"IF(ISNA(VLOOKUP($C219,'Sat TT_05'!$C$4:$Q$152,15,FALSE)=$C219),0,VLOOKUP($C219,'Sat TT_05'!$C$4:$Q$152,15,FALSE))","v":0},{"$f":"IF(ISNA(VLOOKUP($C219,'Sat TT_06'!$C$4:$Q$152,15,FALSE)=$C219),0,VLOOKUP($C219,'Sat TT_06'!$C$4:$Q$152,15,FALSE))","v":0},{"$f":"IF(ISNA(VLOOKUP($C219,'Sat TT_07'!$C$4:$Q$152,15,FALSE)=$C219),0,VLOOKUP($C219,'Sat TT_07'!$C$4:$Q$152,15,FALSE))","v":0},{"$f":"IF(ISNA(VLOOKUP($C219,'Sat TT_08'!$C$4:$Q$152,15,FALSE)=$C219),0,VLOOKUP($C219,'Sat TT_08'!$C$4:$Q$152,15,FALSE))","v":0},0]
[{"$f":"VLOOKUP(C220,'Sheet 1'!C$1:D$96,2,FALSE)","v":{"$error":"#N/A"}},211,{"$f":"+'[1]Racing numbers file'!$B215","v":"John Brady"},{"$f":"VLOOKUP(C220,'[1]Racing numbers file'!$B$4:$F$290,2,FALSE)","v":1964},{"$f":"VLOOKUP(C220,'[1]Racing numbers file'!$B$4:$F$290,4,FALSE)","v":52},{"$f":"SaturdayHandicapTable[[#This Row],[Points2]]","v":0},{"$f":"IF(ISNA(VLOOKUP($C220,'Sat TT_01'!$C$4:$Q$152,15,FALSE)=$C220),0,VLOOKUP($C220,'Sat TT_01'!$C$4:$Q$152,15,FALSE))","v":0},{"$f":"IF(ISNA(VLOOKUP($C220,'Sat TT_02'!$C$4:$Q$152,15,FALSE)=$C220),0,VLOOKUP($C220,'Sat TT_02'!$C$4:$Q$152,15,FALSE))","v":0},{"$f":"IF(ISNA(VLOOKUP($C220,'Sat TT_03'!$C$4:$Q$152,15,FALSE)=$C220),0,VLOOKUP($C220,'Sat TT_03'!$C$4:$Q$152,15,FALSE))","v":0},{"$f":"IF(ISNA(VLOOKUP($C220,'Sat TT_04'!$C$4:$Q$152,15,FALSE)=$C220),0,VLOOKUP($C220,'Sat TT_04'!$C$4:$Q$152,15,FALSE))","v":0},{"$f":"IF(ISNA(VLOOKUP($C220,'Sat TT_05'!$C$4:$Q$152,15,FALSE)=$C220),0,VLOOKUP($C220,'Sat TT_05'!$C$4:$Q$152,15,FALSE))","v":0},{"$f":"IF(ISNA(VLOOKUP($C220,'Sat TT_06'!$C$4:$Q$152,15,FALSE)=$C220),0,VLOOKUP($C220,'Sat TT_06'!$C$4:$Q$152,15,FALSE))","v":0},{"$f":"IF(ISNA(VLOOKUP($C220,'Sat TT_07'!$C$4:$Q$152,15,FALSE)=$C220),0,VLOOKUP($C220,'Sat TT_07'!$C$4:$Q$152,15,FALSE))","v":0},{"$f":"IF(ISNA(VLOOKUP($C220,'Sat TT_08'!$C$4:$Q$152,15,FALSE)=$C220),0,VLOOKUP($C220,'Sat TT_08'!$C$4:$Q$152,15,FALSE))","v":0},0]
[{"$f":"VLOOKUP(C221,'Sheet 1'!C$1:D$96,2,FALSE)","v":{"$error":"#N/A"}},212,{"$f":"+'[1]Racing numbers file'!$B63","v":"Dermot Naughton"},{"$f":"VLOOKUP(C221,'[1]Racing numbers file'!$B$4:$F$290,2,FALSE)","v":1958},{"$f":"VLOOKUP(C221,'[1]Racing numbers file'!$B$4:$F$290,4,FALSE)","v":58},{"$f":"SaturdayHandicapTable[[#This Row],[Points2]]","v":0},{"$f":"IF(ISNA(VLOOKUP($C221,'Sat TT_01'!$C$4:$Q$152,15,FALSE)=$C221),0,VLOOKUP($C221,'Sat TT_01'!$C$4:$Q$152,15,FALSE))","v":0},{"$f":"IF(ISNA(VLOOKUP($C221,'Sat TT_02'!$C$4:$Q$152,15,FALSE)=$C221),0,VLOOKUP($C221,'Sat TT_02'!$C$4:$Q$152,15,FALSE))","v":0},{"$f":"IF(ISNA(VLOOKUP($C221,'Sat TT_03'!$C$4:$Q$152,15,FALSE)=$C221),0,VLOOKUP($C221,'Sat TT_03'!$C$4:$Q$152,15,FALSE))","v":0},{"$f":"IF(ISNA(VLOOKUP($C221,'Sat TT_04'!$C$4:$Q$152,15,FALSE)=$C221),0,VLOOKUP($C221,'Sat TT_04'!$C$4:$Q$152,15,FALSE))","v":0},{"$f":"IF(ISNA(VLOOKUP($C221,'Sat TT_05'!$C$4:$Q$152,15,FALSE)=$C221),0,VLOOKUP($C221,'Sat TT_05'!$C$4:$Q$152,15,FALSE))","v":0},{"$f":"IF(ISNA(VLOOKUP($C221,'Sat TT_06'!$C$4:$Q$152,15,FALSE)=$C221),0,VLOOKUP($C221,'Sat TT_06'!$C$4:$Q$152,15,FALSE))","v":0},{"$f":"IF(ISNA(VLOOKUP($C221,'Sat TT_07'!$C$4:$Q$152,15,FALSE)=$C221),0,VLOOKUP($C221,'Sat TT_07'!$C$4:$Q$152,15,FALSE))","v":0},{"$f":"IF(ISNA(VLOOKUP($C221,'Sat TT_08'!$C$4:$Q$152,15,FALSE)=$C221),0,VLOOKUP($C221,'Sat TT_08'!$C$4:$Q$152,15,FALSE))","v":0},0]
[{"$f":"VLOOKUP(C222,'Sheet 1'!C$1:D$96,2,FALSE)","v":{"$error":"#N/A"}},213,{"$f":"+'[1]Racing numbers file'!$B71","v":"Karl Naylor"},{"$f":"VLOOKUP(C222,'[1]Racing numbers file'!$B$4:$F$290,2,FALSE)","v":1959},{"$f":"VLOOKUP(C222,'[1]Racing numbers file'!$B$4:$F$290,4,FALSE)","v":57},{"$f":"SaturdayHandicapTable[[#This Row],[Points2]]","v":0},{"$f":"IF(ISNA(VLOOKUP($C222,'Sat TT_01'!$C$4:$Q$152,15,FALSE)=$C222),0,VLOOKUP($C222,'Sat TT_01'!$C$4:$Q$152,15,FALSE))","v":0},{"$f":"IF(ISNA(VLOOKUP($C222,'Sat TT_02'!$C$4:$Q$152,15,FALSE)=$C222),0,VLOOKUP($C222,'Sat TT_02'!$C$4:$Q$152,15,FALSE))","v":0},{"$f":"IF(ISNA(VLOOKUP($C222,'Sat TT_03'!$C$4:$Q$152,15,FALSE)=$C222),0,VLOOKUP($C222,'Sat TT_03'!$C$4:$Q$152,15,FALSE))","v":0},{"$f":"IF(ISNA(VLOOKUP($C222,'Sat TT_04'!$C$4:$Q$152,15,FALSE)=$C222),0,VLOOKUP($C222,'Sat TT_04'!$C$4:$Q$152,15,FALSE))","v":0},{"$f":"IF(ISNA(VLOOKUP($C222,'Sat TT_05'!$C$4:$Q$152,15,FALSE)=$C222),0,VLOOKUP($C222,'Sat TT_05'!$C$4:$Q$152,15,FALSE))","v":0},{"$f":"IF(ISNA(VLOOKUP($C222,'Sat TT_06'!$C$4:$Q$152,15,FALSE)=$C222),0,VLOOKUP($C222,'Sat TT_06'!$C$4:$Q$152,15,FALSE))","v":0},{"$f":"IF(ISNA(VLOOKUP($C222,'Sat TT_07'!$C$4:$Q$152,15,FALSE)=$C222),0,VLOOKUP($C222,'Sat TT_07'!$C$4:$Q$152,15,FALSE))","v":0},{"$f":"IF(ISNA(VLOOKUP($C222,'Sat TT_08'!$C$4:$Q$152,15,FALSE)=$C222),0,VLOOKUP($C222,'Sat TT_08'!$C$4:$Q$152,15,FALSE))","v":0},0]
[{"$f":"VLOOKUP(C223,'Sheet 1'!C$1:D$96,2,FALSE)","v":{"$error":"#N/A"}},214,{"$f":"+'[1]Racing numbers file'!$B101","v":"Eamonn Newton"},{"$f":"VLOOKUP(C223,'[1]Racing numbers file'!$B$4:$F$290,2,FALSE)","v":1963},{"$f":"VLOOKUP(C223,'[1]Racing numbers file'!$B$4:$F$290,4,FALSE)","v":53},{"$f":"SaturdayHandicapTable[[#This Row],[Points2]]","v":0},{"$f":"IF(ISNA(VLOOKUP($C223,'Sat TT_01'!$C$4:$Q$152,15,FALSE)=$C223),0,VLOOKUP($C223,'Sat TT_01'!$C$4:$Q$152,15,FALSE))","v":0},{"$f":"IF(ISNA(VLOOKUP($C223,'Sat TT_02'!$C$4:$Q$152,15,FALSE)=$C223),0,VLOOKUP($C223,'Sat TT_02'!$C$4:$Q$152,15,FALSE))","v":0},{"$f":"IF(ISNA(VLOOKUP($C223,'Sat TT_03'!$C$4:$Q$152,15,FALSE)=$C223),0,VLOOKUP($C223,'Sat TT_03'!$C$4:$Q$152,15,FALSE))","v":0},{"$f":"IF(ISNA(VLOOKUP($C223,'Sat TT_04'!$C$4:$Q$152,15,FALSE)=$C223),0,VLOOKUP($C223,'Sat TT_04'!$C$4:$Q$152,15,FALSE))","v":0},{"$f":"IF(ISNA(VLOOKUP($C223,'Sat TT_05'!$C$4:$Q$152,15,FALSE)=$C223),0,VLOOKUP($C223,'Sat TT_05'!$C$4:$Q$152,15,FALSE))","v":0},{"$f":"IF(ISNA(VLOOKUP($C223,'Sat TT_06'!$C$4:$Q$152,15,FALSE)=$C223),0,VLOOKUP($C223,'Sat TT_06'!$C$4:$Q$152,15,FALSE))","v":0},{"$f":"IF(ISNA(VLOOKUP($C223,'Sat TT_07'!$C$4:$Q$152,15,FALSE)=$C223),0,VLOOKUP($C223,'Sat TT_07'!$C$4:$Q$152,15,FALSE))","v":0},{"$f":"IF(ISNA(VLOOKUP($C223,'Sat TT_08'!$C$4:$Q$152,15,FALSE)=$C223),0,VLOOKUP($C223,'Sat TT_08'!$C$4:$Q$152,15,FALSE))","v":0},0]
[{"$f":"VLOOKUP(C224,'Sheet 1'!C$1:D$96,2,FALSE)","v":{"$error":"#N/A"}},215,"Norgrove","Robert",73,{"$f":"SaturdayHandicapTable[[#This Row],[Points2]]","v":0},{"$f":"IF(ISNA(VLOOKUP($C224,'Sat TT_01'!$C$4:$Q$152,15,FALSE)=$C224),0,VLOOKUP($C224,'Sat TT_01'!$C$4:$Q$152,15,FALSE))","v":0},{"$f":"IF(ISNA(VLOOKUP($C224,'Sat TT_02'!$C$4:$Q$152,15,FALSE)=$C224),0,VLOOKUP($C224,'Sat TT_02'!$C$4:$Q$152,15,FALSE))","v":0},{"$f":"IF(ISNA(VLOOKUP($C224,'Sat TT_03'!$C$4:$Q$152,15,FALSE)=$C224),0,VLOOKUP($C224,'Sat TT_03'!$C$4:$Q$152,15,FALSE))","v":0},{"$f":"IF(ISNA(VLOOKUP($C224,'Sat TT_04'!$C$4:$Q$152,15,FALSE)=$C224),0,VLOOKUP($C224,'Sat TT_04'!$C$4:$Q$152,15,FALSE))","v":0},{"$f":"IF(ISNA(VLOOKUP($C224,'Sat TT_05'!$C$4:$Q$152,15,FALSE)=$C224),0,VLOOKUP($C224,'Sat TT_05'!$C$4:$Q$152,15,FALSE))","v":0},{"$f":"IF(ISNA(VLOOKUP($C224,'Sat TT_06'!$C$4:$Q$152,15,FALSE)=$C224),0,VLOOKUP($C224,'Sat TT_06'!$C$4:$Q$152,15,FALSE))","v":0},{"$f":"IF(ISNA(VLOOKUP($C224,'Sat TT_07'!$C$4:$Q$152,15,FALSE)=$C224),0,VLOOKUP($C224,'Sat TT_07'!$C$4:$Q$152,15,FALSE))","v":0},{"$f":"IF(ISNA(VLOOKUP($C224,'Sat TT_08'!$C$4:$Q$152,15,FALSE)=$C224),0,VLOOKUP($C224,'Sat TT_08'!$C$4:$Q$152,15,FALSE))","v":0},0]
[{"$f":"VLOOKUP(C225,'Sheet 1'!C$1:D$96,2,FALSE)","v":1224},216,{"$f":"+'[1]Racing numbers file'!$B112","v":"Pat Byrne"},{"$f":"VLOOKUP(C225,'[1]Racing numbers file'!$B$4:$F$290,2,FALSE)","v":1964},{"$f":"VLOOKUP(C225,'[1]Racing numbers file'!$B$4:$F$290,4,FALSE)","v":52},{"$f":"SaturdayHandicapTable[[#This Row],[Points2]]","v":0},{"$f":"IF(ISNA(VLOOKUP($C225,'Sat TT_01'!$C$4:$Q$152,15,FALSE)=$C225),0,VLOOKUP($C225,'Sat TT_01'!$C$4:$Q$152,15,FALSE))","v":0},{"$f":"IF(ISNA(VLOOKUP($C225,'Sat TT_02'!$C$4:$Q$152,15,FALSE)=$C225),0,VLOOKUP($C225,'Sat TT_02'!$C$4:$Q$152,15,FALSE))","v":0},{"$f":"IF(ISNA(VLOOKUP($C225,'Sat TT_03'!$C$4:$Q$152,15,FALSE)=$C225),0,VLOOKUP($C225,'Sat TT_03'!$C$4:$Q$152,15,FALSE))","v":0},{"$f":"IF(ISNA(VLOOKUP($C225,'Sat TT_04'!$C$4:$Q$152,15,FALSE)=$C225),0,VLOOKUP($C225,'Sat TT_04'!$C$4:$Q$152,15,FALSE))","v":0},{"$f":"IF(ISNA(VLOOKUP($C225,'Sat TT_05'!$C$4:$Q$152,15,FALSE)=$C225),0,VLOOKUP($C225,'Sat TT_05'!$C$4:$Q$152,15,FALSE))","v":0},{"$f":"IF(ISNA(VLOOKUP($C225,'Sat TT_06'!$C$4:$Q$152,15,FALSE)=$C225),0,VLOOKUP($C225,'Sat TT_06'!$C$4:$Q$152,15,FALSE))","v":0},{"$f":"IF(ISNA(VLOOKUP($C225,'Sat TT_07'!$C$4:$Q$152,15,FALSE)=$C225),0,VLOOKUP($C225,'Sat TT_07'!$C$4:$Q$152,15,FALSE))","v":0},{"$f":"IF(ISNA(VLOOKUP($C225,'Sat TT_08'!$C$4:$Q$152,15,FALSE)=$C225),0,VLOOKUP($C225,'Sat TT_08'!$C$4:$Q$152,15,FALSE))","v":0},0]
[{"$f":"VLOOKUP(C226,'Sheet 1'!C$1:D$96,2,FALSE)","v":{"$error":"#N/A"}},217,{"$f":"+'[1]Racing numbers file'!$B264","v":"Damien Nelson"},{"$f":"VLOOKUP(C226,'[1]Racing numbers file'!$B$4:$F$290,2,FALSE)","v":1972},{"$f":"VLOOKUP(C226,'[1]Racing numbers file'!$B$4:$F$290,4,FALSE)","v":44},{"$f":"SaturdayHandicapTable[[#This Row],[Points2]]","v":0},{"$f":"IF(ISNA(VLOOKUP($C226,'Sat TT_01'!$C$4:$Q$152,15,FALSE)=$C226),0,VLOOKUP($C226,'Sat TT_01'!$C$4:$Q$152,15,FALSE))","v":0},{"$f":"IF(ISNA(VLOOKUP($C226,'Sat TT_02'!$C$4:$Q$152,15,FALSE)=$C226),0,VLOOKUP($C226,'Sat TT_02'!$C$4:$Q$152,15,FALSE))","v":0},{"$f":"IF(ISNA(VLOOKUP($C226,'Sat TT_03'!$C$4:$Q$152,15,FALSE)=$C226),0,VLOOKUP($C226,'Sat TT_03'!$C$4:$Q$152,15,FALSE))","v":0},{"$f":"IF(ISNA(VLOOKUP($C226,'Sat TT_04'!$C$4:$Q$152,15,FALSE)=$C226),0,VLOOKUP($C226,'Sat TT_04'!$C$4:$Q$152,15,FALSE))","v":0},{"$f":"IF(ISNA(VLOOKUP($C226,'Sat TT_05'!$C$4:$Q$152,15,FALSE)=$C226),0,VLOOKUP($C226,'Sat TT_05'!$C$4:$Q$152,15,FALSE))","v":0},{"$f":"IF(ISNA(VLOOKUP($C226,'Sat TT_06'!$C$4:$Q$152,15,FALSE)=$C226),0,VLOOKUP($C226,'Sat TT_06'!$C$4:$Q$152,15,FALSE))","v":0},{"$f":"IF(ISNA(VLOOKUP($C226,'Sat TT_07'!$C$4:$Q$152,15,FALSE)=$C226),0,VLOOKUP($C226,'Sat TT_07'!$C$4:$Q$152,15,FALSE))","v":0},{"$f":"IF(ISNA(VLOOKUP($C226,'Sat TT_08'!$C$4:$Q$152,15,FALSE)=$C226),0,VLOOKUP($C226,'Sat TT_08'!$C$4:$Q$152,15,FALSE))","v":0},0]
[{"$f":"VLOOKUP(C227,'Sheet 1'!C$1:D$96,2,FALSE)","v":{"$error":"#N/A"}},218,{"$f":"+'[1]Racing numbers file'!$B151","v":"Tony Keating"},{"$f":"VLOOKUP(C227,'[1]Racing numbers file'!$B$4:$F$290,2,FALSE)","v":1969},{"$f":"VLOOKUP(C227,'[1]Racing numbers file'!$B$4:$F$290,4,FALSE)","v":47},{"$f":"SaturdayHandicapTable[[#This Row],[Points2]]","v":0},{"$f":"IF(ISNA(VLOOKUP($C227,'Sat TT_01'!$C$4:$Q$152,15,FALSE)=$C227),0,VLOOKUP($C227,'Sat TT_01'!$C$4:$Q$152,15,FALSE))","v":0},{"$f":"IF(ISNA(VLOOKUP($C227,'Sat TT_02'!$C$4:$Q$152,15,FALSE)=$C227),0,VLOOKUP($C227,'Sat TT_02'!$C$4:$Q$152,15,FALSE))","v":0},{"$f":"IF(ISNA(VLOOKUP($C227,'Sat TT_03'!$C$4:$Q$152,15,FALSE)=$C227),0,VLOOKUP($C227,'Sat TT_03'!$C$4:$Q$152,15,FALSE))","v":0},{"$f":"IF(ISNA(VLOOKUP($C227,'Sat TT_04'!$C$4:$Q$152,15,FALSE)=$C227),0,VLOOKUP($C227,'Sat TT_04'!$C$4:$Q$152,15,FALSE))","v":0},{"$f":"IF(ISNA(VLOOKUP($C227,'Sat TT_05'!$C$4:$Q$152,15,FALSE)=$C227),0,VLOOKUP($C227,'Sat TT_05'!$C$4:$Q$152,15,FALSE))","v":0},{"$f":"IF(ISNA(VLOOKUP($C227,'Sat TT_06'!$C$4:$Q$152,15,FALSE)=$C227),0,VLOOKUP($C227,'Sat TT_06'!$C$4:$Q$152,15,FALSE))","v":0},{"$f":"IF(ISNA(VLOOKUP($C227,'Sat TT_07'!$C$4:$Q$152,15,FALSE)=$C227),0,VLOOKUP($C227,'Sat TT_07'!$C$4:$Q$152,15,FALSE))","v":0},{"$f":"IF(ISNA(VLOOKUP($C227,'Sat TT_08'!$C$4:$Q$152,15,FALSE)=$C227),0,VLOOKUP($C227,'Sat TT_08'!$C$4:$Q$152,15,FALSE))","v":0},0]
[{"$f":"VLOOKUP(C228,'Sheet 1'!C$1:D$96,2,FALSE)","v":1255},219,{"$f":"+'[1]Racing numbers file'!$B129","v":"Paul Dolan"},{"$f":"VLOOKUP(C228,'[1]Racing numbers file'!$B$4:$F$290,2,FALSE)","v":1967},{"$f":"VLOOKUP(C228,'[1]Racing numbers file'!$B$4:$F$290,4,FALSE)","v":49},{"$f":"SaturdayHandicapTable[[#This Row],[Points2]]","v":0},{"$f":"IF(ISNA(VLOOKUP($C228,'Sat TT_01'!$C$4:$Q$152,15,FALSE)=$C228),0,VLOOKUP($C228,'Sat TT_01'!$C$4:$Q$152,15,FALSE))","v":0},{"$f":"IF(ISNA(VLOOKUP($C228,'Sat TT_02'!$C$4:$Q$152,15,FALSE)=$C228),0,VLOOKUP($C228,'Sat TT_02'!$C$4:$Q$152,15,FALSE))","v":0},{"$f":"IF(ISNA(VLOOKUP($C228,'Sat TT_03'!$C$4:$Q$152,15,FALSE)=$C228),0,VLOOKUP($C228,'Sat TT_03'!$C$4:$Q$152,15,FALSE))","v":0},{"$f":"IF(ISNA(VLOOKUP($C228,'Sat TT_04'!$C$4:$Q$152,15,FALSE)=$C228),0,VLOOKUP($C228,'Sat TT_04'!$C$4:$Q$152,15,FALSE))","v":0},{"$f":"IF(ISNA(VLOOKUP($C228,'Sat TT_05'!$C$4:$Q$152,15,FALSE)=$C228),0,VLOOKUP($C228,'Sat TT_05'!$C$4:$Q$152,15,FALSE))","v":0},{"$f":"IF(ISNA(VLOOKUP($C228,'Sat TT_06'!$C$4:$Q$152,15,FALSE)=$C228),0,VLOOKUP($C228,'Sat TT_06'!$C$4:$Q$152,15,FALSE))","v":0},{"$f":"IF(ISNA(VLOOKUP($C228,'Sat TT_07'!$C$4:$Q$152,15,FALSE)=$C228),0,VLOOKUP($C228,'Sat TT_07'!$C$4:$Q$152,15,FALSE))","v":0},{"$f":"IF(ISNA(VLOOKUP($C228,'Sat TT_08'!$C$4:$Q$152,15,FALSE)=$C228),0,VLOOKUP($C228,'Sat TT_08'!$C$4:$Q$152,15,FALSE))","v":0},0]
[{"$f":"VLOOKUP(C229,'Sheet 1'!C$1:D$96,2,FALSE)","v":{"$error":"#N/A"}},220,{"$f":"+'[1]Racing numbers file'!$B192","v":"Will Byrne"},{"$f":"VLOOKUP(C229,'[1]Racing numbers file'!$B$4:$F$290,2,FALSE)","v":1973},{"$f":"VLOOKUP(C229,'[1]Racing numbers file'!$B$4:$F$290,4,FALSE)","v":43},{"$f":"SaturdayHandicapTable[[#This Row],[Points2]]","v":0},{"$f":"IF(ISNA(VLOOKUP($C229,'Sat TT_01'!$C$4:$Q$152,15,FALSE)=$C229),0,VLOOKUP($C229,'Sat TT_01'!$C$4:$Q$152,15,FALSE))","v":0},{"$f":"IF(ISNA(VLOOKUP($C229,'Sat TT_02'!$C$4:$Q$152,15,FALSE)=$C229),0,VLOOKUP($C229,'Sat TT_02'!$C$4:$Q$152,15,FALSE))","v":0},{"$f":"IF(ISNA(VLOOKUP($C229,'Sat TT_03'!$C$4:$Q$152,15,FALSE)=$C229),0,VLOOKUP($C229,'Sat TT_03'!$C$4:$Q$152,15,FALSE))","v":0},{"$f":"IF(ISNA(VLOOKUP($C229,'Sat TT_04'!$C$4:$Q$152,15,FALSE)=$C229),0,VLOOKUP($C229,'Sat TT_04'!$C$4:$Q$152,15,FALSE))","v":0},{"$f":"IF(ISNA(VLOOKUP($C229,'Sat TT_05'!$C$4:$Q$152,15,FALSE)=$C229),0,VLOOKUP($C229,'Sat TT_05'!$C$4:$Q$152,15,FALSE))","v":0},{"$f":"IF(ISNA(VLOOKUP($C229,'Sat TT_06'!$C$4:$Q$152,15,FALSE)=$C229),0,VLOOKUP($C229,'Sat TT_06'!$C$4:$Q$152,15,FALSE))","v":0},{"$f":"IF(ISNA(VLOOKUP($C229,'Sat TT_07'!$C$4:$Q$152,15,FALSE)=$C229),0,VLOOKUP($C229,'Sat TT_07'!$C$4:$Q$152,15,FALSE))","v":0},{"$f":"IF(ISNA(VLOOKUP($C229,'Sat TT_08'!$C$4:$Q$152,15,FALSE)=$C229),0,VLOOKUP($C229,'Sat TT_08'!$C$4:$Q$152,15,FALSE))","v":0},0]
[{"$f":"VLOOKUP(C230,'Sheet 1'!C$1:D$96,2,FALSE)","v":{"$error":"#N/A"}},221,{"$f":"+'[1]Racing numbers file'!$B198","v":"Aidan Delaney"},{"$f":"VLOOKUP(C230,'[1]Racing numbers file'!$B$4:$F$290,2,FALSE)","v":1973},{"$f":"VLOOKUP(C230,'[1]Racing numbers file'!$B$4:$F$290,4,FALSE)","v":43},{"$f":"SaturdayHandicapTable[[#This Row],[Points2]]","v":0},{"$f":"IF(ISNA(VLOOKUP($C230,'Sat TT_01'!$C$4:$Q$152,15,FALSE)=$C230),0,VLOOKUP($C230,'Sat TT_01'!$C$4:$Q$152,15,FALSE))","v":0},{"$f":"IF(ISNA(VLOOKUP($C230,'Sat TT_02'!$C$4:$Q$152,15,FALSE)=$C230),0,VLOOKUP($C230,'Sat TT_02'!$C$4:$Q$152,15,FALSE))","v":0},{"$f":"IF(ISNA(VLOOKUP($C230,'Sat TT_03'!$C$4:$Q$152,15,FALSE)=$C230),0,VLOOKUP($C230,'Sat TT_03'!$C$4:$Q$152,15,FALSE))","v":0},{"$f":"IF(ISNA(VLOOKUP($C230,'Sat TT_04'!$C$4:$Q$152,15,FALSE)=$C230),0,VLOOKUP($C230,'Sat TT_04'!$C$4:$Q$152,15,FALSE))","v":0},{"$f":"IF(ISNA(VLOOKUP($C230,'Sat TT_05'!$C$4:$Q$152,15,FALSE)=$C230),0,VLOOKUP($C230,'Sat TT_05'!$C$4:$Q$152,15,FALSE))","v":0},{"$f":"IF(ISNA(VLOOKUP($C230,'Sat TT_06'!$C$4:$Q$152,15,FALSE)=$C230),0,VLOOKUP($C230,'Sat TT_06'!$C$4:$Q$152,15,FALSE))","v":0},{"$f":"IF(ISNA(VLOOKUP($C230,'Sat TT_07'!$C$4:$Q$152,15,FALSE)=$C230),0,VLOOKUP($C230,'Sat TT_07'!$C$4:$Q$152,15,FALSE))","v":0},{"$f":"IF(ISNA(VLOOKUP($C230,'Sat TT_08'!$C$4:$Q$152,15,FALSE)=$C230),0,VLOOKUP($C230,'Sat TT_08'!$C$4:$Q$152,15,FALSE))","v":0},0]
[{"$f":"VLOOKUP(C231,'Sheet 1'!C$1:D$96,2,FALSE)","v":{"$error":"#N/A"}},222,{"$f":"+'[1]Racing numbers file'!$B238","v":"Gavin Keating"},{"$f":"VLOOKUP(C231,'[1]Racing numbers file'!$B$4:$F$290,2,FALSE)","v":1975},{"$f":"VLOOKUP(C231,'[1]Racing numbers file'!$B$4:$F$290,4,FALSE)","v":41},{"$f":"SaturdayHandicapTable[[#This Row],[Points2]]","v":0},{"$f":"IF(ISNA(VLOOKUP($C231,'Sat TT_01'!$C$4:$Q$152,15,FALSE)=$C231),0,VLOOKUP($C231,'Sat TT_01'!$C$4:$Q$152,15,FALSE))","v":0},{"$f":"IF(ISNA(VLOOKUP($C231,'Sat TT_02'!$C$4:$Q$152,15,FALSE)=$C231),0,VLOOKUP($C231,'Sat TT_02'!$C$4:$Q$152,15,FALSE))","v":0},{"$f":"IF(ISNA(VLOOKUP($C231,'Sat TT_03'!$C$4:$Q$152,15,FALSE)=$C231),0,VLOOKUP($C231,'Sat TT_03'!$C$4:$Q$152,15,FALSE))","v":0},{"$f":"IF(ISNA(VLOOKUP($C231,'Sat TT_04'!$C$4:$Q$152,15,FALSE)=$C231),0,VLOOKUP($C231,'Sat TT_04'!$C$4:$Q$152,15,FALSE))","v":0},{"$f":"IF(ISNA(VLOOKUP($C231,'Sat TT_05'!$C$4:$Q$152,15,FALSE)=$C231),0,VLOOKUP($C231,'Sat TT_05'!$C$4:$Q$152,15,FALSE))","v":0},{"$f":"IF(ISNA(VLOOKUP($C231,'Sat TT_06'!$C$4:$Q$152,15,FALSE)=$C231),0,VLOOKUP($C231,'Sat TT_06'!$C$4:$Q$152,15,FALSE))","v":0},{"$f":"IF(ISNA(VLOOKUP($C231,'Sat TT_07'!$C$4:$Q$152,15,FALSE)=$C231),0,VLOOKUP($C231,'Sat TT_07'!$C$4:$Q$152,15,FALSE))","v":0},{"$f":"IF(ISNA(VLOOKUP($C231,'Sat TT_08'!$C$4:$Q$152,15,FALSE)=$C231),0,VLOOKUP($C231,'Sat TT_08'!$C$4:$Q$152,15,FALSE))","v":0},0]
[{"$f":"VLOOKUP(C232,'Sheet 1'!C$1:D$96,2,FALSE)","v":1438},223,{"$f":"+'[1]Racing numbers file'!$B222","v":"Neil Delahaye"},{"$f":"VLOOKUP(C232,'[1]Racing numbers file'!$B$4:$F$290,2,FALSE)","v":1975},{"$f":"VLOOKUP(C232,'[1]Racing numbers file'!$B$4:$F$290,4,FALSE)","v":41},{"$f":"SaturdayHandicapTable[[#This Row],[Points2]]","v":0},{"$f":"IF(ISNA(VLOOKUP($C232,'Sat TT_01'!$C$4:$Q$152,15,FALSE)=$C232),0,VLOOKUP($C232,'Sat TT_01'!$C$4:$Q$152,15,FALSE))","v":0},{"$f":"IF(ISNA(VLOOKUP($C232,'Sat TT_02'!$C$4:$Q$152,15,FALSE)=$C232),0,VLOOKUP($C232,'Sat TT_02'!$C$4:$Q$152,15,FALSE))","v":0},{"$f":"IF(ISNA(VLOOKUP($C232,'Sat TT_03'!$C$4:$Q$152,15,FALSE)=$C232),0,VLOOKUP($C232,'Sat TT_03'!$C$4:$Q$152,15,FALSE))","v":0},{"$f":"IF(ISNA(VLOOKUP($C232,'Sat TT_04'!$C$4:$Q$152,15,FALSE)=$C232),0,VLOOKUP($C232,'Sat TT_04'!$C$4:$Q$152,15,FALSE))","v":0},{"$f":"IF(ISNA(VLOOKUP($C232,'Sat TT_05'!$C$4:$Q$152,15,FALSE)=$C232),0,VLOOKUP($C232,'Sat TT_05'!$C$4:$Q$152,15,FALSE))","v":0},{"$f":"IF(ISNA(VLOOKUP($C232,'Sat TT_06'!$C$4:$Q$152,15,FALSE)=$C232),0,VLOOKUP($C232,'Sat TT_06'!$C$4:$Q$152,15,FALSE))","v":0},{"$f":"IF(ISNA(VLOOKUP($C232,'Sat TT_07'!$C$4:$Q$152,15,FALSE)=$C232),0,VLOOKUP($C232,'Sat TT_07'!$C$4:$Q$152,15,FALSE))","v":0},{"$f":"IF(ISNA(VLOOKUP($C232,'Sat TT_08'!$C$4:$Q$152,15,FALSE)=$C232),0,VLOOKUP($C232,'Sat TT_08'!$C$4:$Q$152,15,FALSE))","v":0},0]
[{"$f":"VLOOKUP(C233,'Sheet 1'!C$1:D$96,2,FALSE)","v":{"$error":"#N/A"}},224,{"$f":"+'[1]Racing numbers file'!$B210","v":"Enda McKeown"},{"$f":"VLOOKUP(C233,'[1]Racing numbers file'!$B$4:$F$290,2,FALSE)","v":1972},{"$f":"VLOOKUP(C233,'[1]Racing numbers file'!$B$4:$F$290,4,FALSE)","v":44},{"$f":"SaturdayHandicapTable[[#This Row],[Points2]]","v":0},{"$f":"IF(ISNA(VLOOKUP($C233,'Sat TT_01'!$C$4:$Q$152,15,FALSE)=$C233),0,VLOOKUP($C233,'Sat TT_01'!$C$4:$Q$152,15,FALSE))","v":0},{"$f":"IF(ISNA(VLOOKUP($C233,'Sat TT_02'!$C$4:$Q$152,15,FALSE)=$C233),0,VLOOKUP($C233,'Sat TT_02'!$C$4:$Q$152,15,FALSE))","v":0},{"$f":"IF(ISNA(VLOOKUP($C233,'Sat TT_03'!$C$4:$Q$152,15,FALSE)=$C233),0,VLOOKUP($C233,'Sat TT_03'!$C$4:$Q$152,15,FALSE))","v":0},{"$f":"IF(ISNA(VLOOKUP($C233,'Sat TT_04'!$C$4:$Q$152,15,FALSE)=$C233),0,VLOOKUP($C233,'Sat TT_04'!$C$4:$Q$152,15,FALSE))","v":0},{"$f":"IF(ISNA(VLOOKUP($C233,'Sat TT_05'!$C$4:$Q$152,15,FALSE)=$C233),0,VLOOKUP($C233,'Sat TT_05'!$C$4:$Q$152,15,FALSE))","v":0},{"$f":"IF(ISNA(VLOOKUP($C233,'Sat TT_06'!$C$4:$Q$152,15,FALSE)=$C233),0,VLOOKUP($C233,'Sat TT_06'!$C$4:$Q$152,15,FALSE))","v":0},{"$f":"IF(ISNA(VLOOKUP($C233,'Sat TT_07'!$C$4:$Q$152,15,FALSE)=$C233),0,VLOOKUP($C233,'Sat TT_07'!$C$4:$Q$152,15,FALSE))","v":0},{"$f":"IF(ISNA(VLOOKUP($C233,'Sat TT_08'!$C$4:$Q$152,15,FALSE)=$C233),0,VLOOKUP($C233,'Sat TT_08'!$C$4:$Q$152,15,FALSE))","v":0},0]
[{"$f":"VLOOKUP(C234,'Sheet 1'!C$1:D$96,2,FALSE)","v":1311},225,{"$f":"+'[1]Racing numbers file'!$B164","v":"Deanne Sanders"},{"$f":"VLOOKUP(C234,'[1]Racing numbers file'!$B$4:$F$290,2,FALSE)","v":1971},{"$f":"VLOOKUP(C234,'[1]Racing numbers file'!$B$4:$F$290,4,FALSE)","v":45},{"$f":"SaturdayHandicapTable[[#This Row],[Points2]]","v":0},{"$f":"IF(ISNA(VLOOKUP($C234,'Sat TT_01'!$C$4:$Q$152,15,FALSE)=$C234),0,VLOOKUP($C234,'Sat TT_01'!$C$4:$Q$152,15,FALSE))","v":0},{"$f":"IF(ISNA(VLOOKUP($C234,'Sat TT_02'!$C$4:$Q$152,15,FALSE)=$C234),0,VLOOKUP($C234,'Sat TT_02'!$C$4:$Q$152,15,FALSE))","v":0},{"$f":"IF(ISNA(VLOOKUP($C234,'Sat TT_03'!$C$4:$Q$152,15,FALSE)=$C234),0,VLOOKUP($C234,'Sat TT_03'!$C$4:$Q$152,15,FALSE))","v":0},{"$f":"IF(ISNA(VLOOKUP($C234,'Sat TT_04'!$C$4:$Q$152,15,FALSE)=$C234),0,VLOOKUP($C234,'Sat TT_04'!$C$4:$Q$152,15,FALSE))","v":0},{"$f":"IF(ISNA(VLOOKUP($C234,'Sat TT_05'!$C$4:$Q$152,15,FALSE)=$C234),0,VLOOKUP($C234,'Sat TT_05'!$C$4:$Q$152,15,FALSE))","v":0},{"$f":"IF(ISNA(VLOOKUP($C234,'Sat TT_06'!$C$4:$Q$152,15,FALSE)=$C234),0,VLOOKUP($C234,'Sat TT_06'!$C$4:$Q$152,15,FALSE))","v":0},{"$f":"IF(ISNA(VLOOKUP($C234,'Sat TT_07'!$C$4:$Q$152,15,FALSE)=$C234),0,VLOOKUP($C234,'Sat TT_07'!$C$4:$Q$152,15,FALSE))","v":0},{"$f":"IF(ISNA(VLOOKUP($C234,'Sat TT_08'!$C$4:$Q$152,15,FALSE)=$C234),0,VLOOKUP($C234,'Sat TT_08'!$C$4:$Q$152,15,FALSE))","v":0},0]
[{"$f":"VLOOKUP(C235,'Sheet 1'!C$1:D$96,2,FALSE)","v":{"$error":"#N/A"}},226,{"$f":"+'[1]Racing numbers file'!$B67","v":"Jim O'Shea"},{"$f":"VLOOKUP(C235,'[1]Racing numbers file'!$B$4:$F$290,2,FALSE)","v":1959},{"$f":"VLOOKUP(C235,'[1]Racing numbers file'!$B$4:$F$290,4,FALSE)","v":57},{"$f":"SaturdayHandicapTable[[#This Row],[Points2]]","v":0},{"$f":"IF(ISNA(VLOOKUP($C235,'Sat TT_01'!$C$4:$Q$152,15,FALSE)=$C235),0,VLOOKUP($C235,'Sat TT_01'!$C$4:$Q$152,15,FALSE))","v":0},{"$f":"IF(ISNA(VLOOKUP($C235,'Sat TT_02'!$C$4:$Q$152,15,FALSE)=$C235),0,VLOOKUP($C235,'Sat TT_02'!$C$4:$Q$152,15,FALSE))","v":0},{"$f":"IF(ISNA(VLOOKUP($C235,'Sat TT_03'!$C$4:$Q$152,15,FALSE)=$C235),0,VLOOKUP($C235,'Sat TT_03'!$C$4:$Q$152,15,FALSE))","v":0},{"$f":"IF(ISNA(VLOOKUP($C235,'Sat TT_04'!$C$4:$Q$152,15,FALSE)=$C235),0,VLOOKUP($C235,'Sat TT_04'!$C$4:$Q$152,15,FALSE))","v":0},{"$f":"IF(ISNA(VLOOKUP($C235,'Sat TT_05'!$C$4:$Q$152,15,FALSE)=$C235),0,VLOOKUP($C235,'Sat TT_05'!$C$4:$Q$152,15,FALSE))","v":0},{"$f":"IF(ISNA(VLOOKUP($C235,'Sat TT_06'!$C$4:$Q$152,15,FALSE)=$C235),0,VLOOKUP($C235,'Sat TT_06'!$C$4:$Q$152,15,FALSE))","v":0},{"$f":"IF(ISNA(VLOOKUP($C235,'Sat TT_07'!$C$4:$Q$152,15,FALSE)=$C235),0,VLOOKUP($C235,'Sat TT_07'!$C$4:$Q$152,15,FALSE))","v":0},{"$f":"IF(ISNA(VLOOKUP($C235,'Sat TT_08'!$C$4:$Q$152,15,FALSE)=$C235),0,VLOOKUP($C235,'Sat TT_08'!$C$4:$Q$152,15,FALSE))","v":0},0]
[{"$f":"VLOOKUP(C236,'Sheet 1'!C$1:D$96,2,FALSE)","v":{"$error":"#N/A"}},227,{"$f":"+'[1]Racing numbers file'!$B261","v":"Declan Crean"},{"$f":"VLOOKUP(C236,'[1]Racing numbers file'!$B$4:$F$290,2,FALSE)","v":1976},{"$f":"VLOOKUP(C236,'[1]Racing numbers file'!$B$4:$F$290,4,FALSE)","v":40},{"$f":"SaturdayHandicapTable[[#This Row],[Points2]]","v":0},{"$f":"IF(ISNA(VLOOKUP($C236,'Sat TT_01'!$C$4:$Q$152,15,FALSE)=$C236),0,VLOOKUP($C236,'Sat TT_01'!$C$4:$Q$152,15,FALSE))","v":0},{"$f":"IF(ISNA(VLOOKUP($C236,'Sat TT_02'!$C$4:$Q$152,15,FALSE)=$C236),0,VLOOKUP($C236,'Sat TT_02'!$C$4:$Q$152,15,FALSE))","v":0},{"$f":"IF(ISNA(VLOOKUP($C236,'Sat TT_03'!$C$4:$Q$152,15,FALSE)=$C236),0,VLOOKUP($C236,'Sat TT_03'!$C$4:$Q$152,15,FALSE))","v":0},{"$f":"IF(ISNA(VLOOKUP($C236,'Sat TT_04'!$C$4:$Q$152,15,FALSE)=$C236),0,VLOOKUP($C236,'Sat TT_04'!$C$4:$Q$152,15,FALSE))","v":0},{"$f":"IF(ISNA(VLOOKUP($C236,'Sat TT_05'!$C$4:$Q$152,15,FALSE)=$C236),0,VLOOKUP($C236,'Sat TT_05'!$C$4:$Q$152,15,FALSE))","v":0},{"$f":"IF(ISNA(VLOOKUP($C236,'Sat TT_06'!$C$4:$Q$152,15,FALSE)=$C236),0,VLOOKUP($C236,'Sat TT_06'!$C$4:$Q$152,15,FALSE))","v":0},{"$f":"IF(ISNA(VLOOKUP($C236,'Sat TT_07'!$C$4:$Q$152,15,FALSE)=$C236),0,VLOOKUP($C236,'Sat TT_07'!$C$4:$Q$152,15,FALSE))","v":0},{"$f":"IF(ISNA(VLOOKUP($C236,'Sat TT_08'!$C$4:$Q$152,15,FALSE)=$C236),0,VLOOKUP($C236,'Sat TT_08'!$C$4:$Q$152,15,FALSE))","v":0},0]
[{"$f":"VLOOKUP(C237,'Sheet 1'!C$1:D$96,2,FALSE)","v":{"$error":"#N/A"}},228,{"$f":"+'[1]Racing numbers file'!$B78","v":"William Parnell"},{"$f":"VLOOKUP(C237,'[1]Racing numbers file'!$B$4:$F$290,2,FALSE)","v":1960},{"$f":"VLOOKUP(C237,'[1]Racing numbers file'!$B$4:$F$290,4,FALSE)","v":56},{"$f":"SaturdayHandicapTable[[#This Row],[Points2]]","v":0},{"$f":"IF(ISNA(VLOOKUP($C237,'Sat TT_01'!$C$4:$Q$152,15,FALSE)=$C237),0,VLOOKUP($C237,'Sat TT_01'!$C$4:$Q$152,15,FALSE))","v":0},{"$f":"IF(ISNA(VLOOKUP($C237,'Sat TT_02'!$C$4:$Q$152,15,FALSE)=$C237),0,VLOOKUP($C237,'Sat TT_02'!$C$4:$Q$152,15,FALSE))","v":0},{"$f":"IF(ISNA(VLOOKUP($C237,'Sat TT_03'!$C$4:$Q$152,15,FALSE)=$C237),0,VLOOKUP($C237,'Sat TT_03'!$C$4:$Q$152,15,FALSE))","v":0},{"$f":"IF(ISNA(VLOOKUP($C237,'Sat TT_04'!$C$4:$Q$152,15,FALSE)=$C237),0,VLOOKUP($C237,'Sat TT_04'!$C$4:$Q$152,15,FALSE))","v":0},{"$f":"IF(ISNA(VLOOKUP($C237,'Sat TT_05'!$C$4:$Q$152,15,FALSE)=$C237),0,VLOOKUP($C237,'Sat TT_05'!$C$4:$Q$152,15,FALSE))","v":0},{"$f":"IF(ISNA(VLOOKUP($C237,'Sat TT_06'!$C$4:$Q$152,15,FALSE)=$C237),0,VLOOKUP($C237,'Sat TT_06'!$C$4:$Q$152,15,FALSE))","v":0},{"$f":"IF(ISNA(VLOOKUP($C237,'Sat TT_07'!$C$4:$Q$152,15,FALSE)=$C237),0,VLOOKUP($C237,'Sat TT_07'!$C$4:$Q$152,15,FALSE))","v":0},{"$f":"IF(ISNA(VLOOKUP($C237,'Sat TT_08'!$C$4:$Q$152,15,FALSE)=$C237),0,VLOOKUP($C237,'Sat TT_08'!$C$4:$Q$152,15,FALSE))","v":0},0]
[{"$f":"VLOOKUP(C238,'Sheet 1'!C$1:D$96,2,FALSE)","v":{"$error":"#N/A"}},229,{"$f":"+'[1]Racing numbers file'!$B48","v":"Michael McEntee"},{"$f":"VLOOKUP(C238,'[1]Racing numbers file'!$B$4:$F$290,2,FALSE)","v":1954},{"$f":"VLOOKUP(C238,'[1]Racing numbers file'!$B$4:$F$290,4,FALSE)","v":62},{"$f":"SaturdayHandicapTable[[#This Row],[Points2]]","v":0},{"$f":"IF(ISNA(VLOOKUP($C238,'Sat TT_01'!$C$4:$Q$152,15,FALSE)=$C238),0,VLOOKUP($C238,'Sat TT_01'!$C$4:$Q$152,15,FALSE))","v":0},{"$f":"IF(ISNA(VLOOKUP($C238,'Sat TT_02'!$C$4:$Q$152,15,FALSE)=$C238),0,VLOOKUP($C238,'Sat TT_02'!$C$4:$Q$152,15,FALSE))","v":0},{"$f":"IF(ISNA(VLOOKUP($C238,'Sat TT_03'!$C$4:$Q$152,15,FALSE)=$C238),0,VLOOKUP($C238,'Sat TT_03'!$C$4:$Q$152,15,FALSE))","v":0},{"$f":"IF(ISNA(VLOOKUP($C238,'Sat TT_04'!$C$4:$Q$152,15,FALSE)=$C238),0,VLOOKUP($C238,'Sat TT_04'!$C$4:$Q$152,15,FALSE))","v":0},{"$f":"IF(ISNA(VLOOKUP($C238,'Sat TT_05'!$C$4:$Q$152,15,FALSE)=$C238),0,VLOOKUP($C238,'Sat TT_05'!$C$4:$Q$152,15,FALSE))","v":0},{"$f":"IF(ISNA(VLOOKUP($C238,'Sat TT_06'!$C$4:$Q$152,15,FALSE)=$C238),0,VLOOKUP($C238,'Sat TT_06'!$C$4:$Q$152,15,FALSE))","v":0},{"$f":"IF(ISNA(VLOOKUP($C238,'Sat TT_07'!$C$4:$Q$152,15,FALSE)=$C238),0,VLOOKUP($C238,'Sat TT_07'!$C$4:$Q$152,15,FALSE))","v":0},{"$f":"IF(ISNA(VLOOKUP($C238,'Sat TT_08'!$C$4:$Q$152,15,FALSE)=$C238),0,VLOOKUP($C238,'Sat TT_08'!$C$4:$Q$152,15,FALSE))","v":0},0]
[{"$f":"VLOOKUP(C239,'Sheet 1'!C$1:D$96,2,FALSE)","v":{"$error":"#N/A"}},230,{"$f":"+'[1]Racing numbers file'!$B196","v":"John Tracey"},{"$f":"VLOOKUP(C239,'[1]Racing numbers file'!$B$4:$F$290,2,FALSE)","v":1957},{"$f":"VLOOKUP(C239,'[1]Racing numbers file'!$B$4:$F$290,4,FALSE)","v":59},{"$f":"SaturdayHandicapTable[[#This Row],[Points2]]","v":0},{"$f":"IF(ISNA(VLOOKUP($C239,'Sat TT_01'!$C$4:$Q$152,15,FALSE)=$C239),0,VLOOKUP($C239,'Sat TT_01'!$C$4:$Q$152,15,FALSE))","v":0},{"$f":"IF(ISNA(VLOOKUP($C239,'Sat TT_02'!$C$4:$Q$152,15,FALSE)=$C239),0,VLOOKUP($C239,'Sat TT_02'!$C$4:$Q$152,15,FALSE))","v":0},{"$f":"IF(ISNA(VLOOKUP($C239,'Sat TT_03'!$C$4:$Q$152,15,FALSE)=$C239),0,VLOOKUP($C239,'Sat TT_03'!$C$4:$Q$152,15,FALSE))","v":0},{"$f":"IF(ISNA(VLOOKUP($C239,'Sat TT_04'!$C$4:$Q$152,15,FALSE)=$C239),0,VLOOKUP($C239,'Sat TT_04'!$C$4:$Q$152,15,FALSE))","v":0},{"$f":"IF(ISNA(VLOOKUP($C239,'Sat TT_05'!$C$4:$Q$152,15,FALSE)=$C239),0,VLOOKUP($C239,'Sat TT_05'!$C$4:$Q$152,15,FALSE))","v":0},{"$f":"IF(ISNA(VLOOKUP($C239,'Sat TT_06'!$C$4:$Q$152,15,FALSE)=$C239),0,VLOOKUP($C239,'Sat TT_06'!$C$4:$Q$152,15,FALSE))","v":0},{"$f":"IF(ISNA(VLOOKUP($C239,'Sat TT_07'!$C$4:$Q$152,15,FALSE)=$C239),0,VLOOKUP($C239,'Sat TT_07'!$C$4:$Q$152,15,FALSE))","v":0},{"$f":"IF(ISNA(VLOOKUP($C239,'Sat TT_08'!$C$4:$Q$152,15,FALSE)=$C239),0,VLOOKUP($C239,'Sat TT_08'!$C$4:$Q$152,15,FALSE))","v":0},0]
[{"$f":"VLOOKUP(C240,'Sheet 1'!C$1:D$96,2,FALSE)","v":{"$error":"#N/A"}},231,"Raftery","Peter",60,{"$f":"SaturdayHandicapTable[[#This Row],[Points2]]","v":0},{"$f":"IF(ISNA(VLOOKUP($C240,'Sat TT_01'!$C$4:$Q$152,15,FALSE)=$C240),0,VLOOKUP($C240,'Sat TT_01'!$C$4:$Q$152,15,FALSE))","v":0},{"$f":"IF(ISNA(VLOOKUP($C240,'Sat TT_02'!$C$4:$Q$152,15,FALSE)=$C240),0,VLOOKUP($C240,'Sat TT_02'!$C$4:$Q$152,15,FALSE))","v":0},{"$f":"IF(ISNA(VLOOKUP($C240,'Sat TT_03'!$C$4:$Q$152,15,FALSE)=$C240),0,VLOOKUP($C240,'Sat TT_03'!$C$4:$Q$152,15,FALSE))","v":0},{"$f":"IF(ISNA(VLOOKUP($C240,'Sat TT_04'!$C$4:$Q$152,15,FALSE)=$C240),0,VLOOKUP($C240,'Sat TT_04'!$C$4:$Q$152,15,FALSE))","v":0},{"$f":"IF(ISNA(VLOOKUP($C240,'Sat TT_05'!$C$4:$Q$152,15,FALSE)=$C240),0,VLOOKUP($C240,'Sat TT_05'!$C$4:$Q$152,15,FALSE))","v":0},{"$f":"IF(ISNA(VLOOKUP($C240,'Sat TT_06'!$C$4:$Q$152,15,FALSE)=$C240),0,VLOOKUP($C240,'Sat TT_06'!$C$4:$Q$152,15,FALSE))","v":0},{"$f":"IF(ISNA(VLOOKUP($C240,'Sat TT_07'!$C$4:$Q$152,15,FALSE)=$C240),0,VLOOKUP($C240,'Sat TT_07'!$C$4:$Q$152,15,FALSE))","v":0},{"$f":"IF(ISNA(VLOOKUP($C240,'Sat TT_08'!$C$4:$Q$152,15,FALSE)=$C240),0,VLOOKUP($C240,'Sat TT_08'!$C$4:$Q$152,15,FALSE))","v":0},0]
[{"$f":"VLOOKUP(C241,'Sheet 1'!C$1:D$96,2,FALSE)","v":{"$error":"#N/A"}},232,{"$f":"+'[1]Racing numbers file'!$B39","v":"Romano Morelli"},{"$f":"VLOOKUP(C241,'[1]Racing numbers file'!$B$4:$F$290,2,FALSE)","v":1952},{"$f":"VLOOKUP(C241,'[1]Racing numbers file'!$B$4:$F$290,4,FALSE)","v":64},{"$f":"SaturdayHandicapTable[[#This Row],[Points2]]","v":0},{"$f":"IF(ISNA(VLOOKUP($C241,'Sat TT_01'!$C$4:$Q$152,15,FALSE)=$C241),0,VLOOKUP($C241,'Sat TT_01'!$C$4:$Q$152,15,FALSE))","v":0},{"$f":"IF(ISNA(VLOOKUP($C241,'Sat TT_02'!$C$4:$Q$152,15,FALSE)=$C241),0,VLOOKUP($C241,'Sat TT_02'!$C$4:$Q$152,15,FALSE))","v":0},{"$f":"IF(ISNA(VLOOKUP($C241,'Sat TT_03'!$C$4:$Q$152,15,FALSE)=$C241),0,VLOOKUP($C241,'Sat TT_03'!$C$4:$Q$152,15,FALSE))","v":0},{"$f":"IF(ISNA(VLOOKUP($C241,'Sat TT_04'!$C$4:$Q$152,15,FALSE)=$C241),0,VLOOKUP($C241,'Sat TT_04'!$C$4:$Q$152,15,FALSE))","v":0},{"$f":"IF(ISNA(VLOOKUP($C241,'Sat TT_05'!$C$4:$Q$152,15,FALSE)=$C241),0,VLOOKUP($C241,'Sat TT_05'!$C$4:$Q$152,15,FALSE))","v":0},{"$f":"IF(ISNA(VLOOKUP($C241,'Sat TT_06'!$C$4:$Q$152,15,FALSE)=$C241),0,VLOOKUP($C241,'Sat TT_06'!$C$4:$Q$152,15,FALSE))","v":0},{"$f":"IF(ISNA(VLOOKUP($C241,'Sat TT_07'!$C$4:$Q$152,15,FALSE)=$C241),0,VLOOKUP($C241,'Sat TT_07'!$C$4:$Q$152,15,FALSE))","v":0},{"$f":"IF(ISNA(VLOOKUP($C241,'Sat TT_08'!$C$4:$Q$152,15,FALSE)=$C241),0,VLOOKUP($C241,'Sat TT_08'!$C$4:$Q$152,15,FALSE))","v":0},0]
[{"$f":"VLOOKUP(C242,'Sheet 1'!C$1:D$96,2,FALSE)","v":{"$error":"#N/A"}},233,{"$f":"+'[1]Racing numbers file'!$B144","v":"Mike Claffey"},{"$f":"VLOOKUP(C242,'[1]Racing numbers file'!$B$4:$F$290,2,FALSE)","v":1968},{"$f":"VLOOKUP(C242,'[1]Racing numbers file'!$B$4:$F$290,4,FALSE)","v":48},{"$f":"SaturdayHandicapTable[[#This Row],[Points2]]","v":0},{"$f":"IF(ISNA(VLOOKUP($C242,'Sat TT_01'!$C$4:$Q$152,15,FALSE)=$C242),0,VLOOKUP($C242,'Sat TT_01'!$C$4:$Q$152,15,FALSE))","v":0},{"$f":"IF(ISNA(VLOOKUP($C242,'Sat TT_02'!$C$4:$Q$152,15,FALSE)=$C242),0,VLOOKUP($C242,'Sat TT_02'!$C$4:$Q$152,15,FALSE))","v":0},{"$f":"IF(ISNA(VLOOKUP($C242,'Sat TT_03'!$C$4:$Q$152,15,FALSE)=$C242),0,VLOOKUP($C242,'Sat TT_03'!$C$4:$Q$152,15,FALSE))","v":0},{"$f":"IF(ISNA(VLOOKUP($C242,'Sat TT_04'!$C$4:$Q$152,15,FALSE)=$C242),0,VLOOKUP($C242,'Sat TT_04'!$C$4:$Q$152,15,FALSE))","v":0},{"$f":"IF(ISNA(VLOOKUP($C242,'Sat TT_05'!$C$4:$Q$152,15,FALSE)=$C242),0,VLOOKUP($C242,'Sat TT_05'!$C$4:$Q$152,15,FALSE))","v":0},{"$f":"IF(ISNA(VLOOKUP($C242,'Sat TT_06'!$C$4:$Q$152,15,FALSE)=$C242),0,VLOOKUP($C242,'Sat TT_06'!$C$4:$Q$152,15,FALSE))","v":0},{"$f":"IF(ISNA(VLOOKUP($C242,'Sat TT_07'!$C$4:$Q$152,15,FALSE)=$C242),0,VLOOKUP($C242,'Sat TT_07'!$C$4:$Q$152,15,FALSE))","v":0},{"$f":"IF(ISNA(VLOOKUP($C242,'Sat TT_08'!$C$4:$Q$152,15,FALSE)=$C242),0,VLOOKUP($C242,'Sat TT_08'!$C$4:$Q$152,15,FALSE))","v":0},0]
[{"$f":"VLOOKUP(C243,'Sheet 1'!C$1:D$96,2,FALSE)","v":{"$error":"#N/A"}},234,"Rice","Peter",67,{"$f":"SaturdayHandicapTable[[#This Row],[Points2]]","v":0},{"$f":"IF(ISNA(VLOOKUP($C243,'Sat TT_01'!$C$4:$Q$152,15,FALSE)=$C243),0,VLOOKUP($C243,'Sat TT_01'!$C$4:$Q$152,15,FALSE))","v":0},{"$f":"IF(ISNA(VLOOKUP($C243,'Sat TT_02'!$C$4:$Q$152,15,FALSE)=$C243),0,VLOOKUP($C243,'Sat TT_02'!$C$4:$Q$152,15,FALSE))","v":0},{"$f":"IF(ISNA(VLOOKUP($C243,'Sat TT_03'!$C$4:$Q$152,15,FALSE)=$C243),0,VLOOKUP($C243,'Sat TT_03'!$C$4:$Q$152,15,FALSE))","v":0},{"$f":"IF(ISNA(VLOOKUP($C243,'Sat TT_04'!$C$4:$Q$152,15,FALSE)=$C243),0,VLOOKUP($C243,'Sat TT_04'!$C$4:$Q$152,15,FALSE))","v":0},{"$f":"IF(ISNA(VLOOKUP($C243,'Sat TT_05'!$C$4:$Q$152,15,FALSE)=$C243),0,VLOOKUP($C243,'Sat TT_05'!$C$4:$Q$152,15,FALSE))","v":0},{"$f":"IF(ISNA(VLOOKUP($C243,'Sat TT_06'!$C$4:$Q$152,15,FALSE)=$C243),0,VLOOKUP($C243,'Sat TT_06'!$C$4:$Q$152,15,FALSE))","v":0},{"$f":"IF(ISNA(VLOOKUP($C243,'Sat TT_07'!$C$4:$Q$152,15,FALSE)=$C243),0,VLOOKUP($C243,'Sat TT_07'!$C$4:$Q$152,15,FALSE))","v":0},{"$f":"IF(ISNA(VLOOKUP($C243,'Sat TT_08'!$C$4:$Q$152,15,FALSE)=$C243),0,VLOOKUP($C243,'Sat TT_08'!$C$4:$Q$152,15,FALSE))","v":0},0]
[{"$f":"VLOOKUP(C244,'Sheet 1'!C$1:D$96,2,FALSE)","v":1375},235,{"$f":"+'[1]Racing numbers file'!$B190","v":"Paul Fahy"},{"$f":"VLOOKUP(C244,'[1]Racing numbers file'!$B$4:$F$290,2,FALSE)","v":1965},{"$f":"VLOOKUP(C244,'[1]Racing numbers file'!$B$4:$F$290,4,FALSE)","v":51},{"$f":"SaturdayHandicapTable[[#This Row],[Points2]]","v":0},{"$f":"IF(ISNA(VLOOKUP($C244,'Sat TT_01'!$C$4:$Q$152,15,FALSE)=$C244),0,VLOOKUP($C244,'Sat TT_01'!$C$4:$Q$152,15,FALSE))","v":0},{"$f":"IF(ISNA(VLOOKUP($C244,'Sat TT_02'!$C$4:$Q$152,15,FALSE)=$C244),0,VLOOKUP($C244,'Sat TT_02'!$C$4:$Q$152,15,FALSE))","v":0},{"$f":"IF(ISNA(VLOOKUP($C244,'Sat TT_03'!$C$4:$Q$152,15,FALSE)=$C244),0,VLOOKUP($C244,'Sat TT_03'!$C$4:$Q$152,15,FALSE))","v":0},{"$f":"IF(ISNA(VLOOKUP($C244,'Sat TT_04'!$C$4:$Q$152,15,FALSE)=$C244),0,VLOOKUP($C244,'Sat TT_04'!$C$4:$Q$152,15,FALSE))","v":0},{"$f":"IF(ISNA(VLOOKUP($C244,'Sat TT_05'!$C$4:$Q$152,15,FALSE)=$C244),0,VLOOKUP($C244,'Sat TT_05'!$C$4:$Q$152,15,FALSE))","v":0},{"$f":"IF(ISNA(VLOOKUP($C244,'Sat TT_06'!$C$4:$Q$152,15,FALSE)=$C244),0,VLOOKUP($C244,'Sat TT_06'!$C$4:$Q$152,15,FALSE))","v":0},{"$f":"IF(ISNA(VLOOKUP($C244,'Sat TT_07'!$C$4:$Q$152,15,FALSE)=$C244),0,VLOOKUP($C244,'Sat TT_07'!$C$4:$Q$152,15,FALSE))","v":0},{"$f":"IF(ISNA(VLOOKUP($C244,'Sat TT_08'!$C$4:$Q$152,15,FALSE)=$C244),0,VLOOKUP($C244,'Sat TT_08'!$C$4:$Q$152,15,FALSE))","v":0},0]
[{"$f":"VLOOKUP(C245,'Sheet 1'!C$1:D$96,2,FALSE)","v":{"$error":"#N/A"}},236,{"$f":"+'[1]Racing numbers file'!$B195","v":"Malcolm Garland"},{"$f":"VLOOKUP(C245,'[1]Racing numbers file'!$B$4:$F$290,2,FALSE)","v":1965},{"$f":"VLOOKUP(C245,'[1]Racing numbers file'!$B$4:$F$290,4,FALSE)","v":51},{"$f":"SaturdayHandicapTable[[#This Row],[Points2]]","v":0},{"$f":"IF(ISNA(VLOOKUP($C245,'Sat TT_01'!$C$4:$Q$152,15,FALSE)=$C245),0,VLOOKUP($C245,'Sat TT_01'!$C$4:$Q$152,15,FALSE))","v":0},{"$f":"IF(ISNA(VLOOKUP($C245,'Sat TT_02'!$C$4:$Q$152,15,FALSE)=$C245),0,VLOOKUP($C245,'Sat TT_02'!$C$4:$Q$152,15,FALSE))","v":0},{"$f":"IF(ISNA(VLOOKUP($C245,'Sat TT_03'!$C$4:$Q$152,15,FALSE)=$C245),0,VLOOKUP($C245,'Sat TT_03'!$C$4:$Q$152,15,FALSE))","v":0},{"$f":"IF(ISNA(VLOOKUP($C245,'Sat TT_04'!$C$4:$Q$152,15,FALSE)=$C245),0,VLOOKUP($C245,'Sat TT_04'!$C$4:$Q$152,15,FALSE))","v":0},{"$f":"IF(ISNA(VLOOKUP($C245,'Sat TT_05'!$C$4:$Q$152,15,FALSE)=$C245),0,VLOOKUP($C245,'Sat TT_05'!$C$4:$Q$152,15,FALSE))","v":0},{"$f":"IF(ISNA(VLOOKUP($C245,'Sat TT_06'!$C$4:$Q$152,15,FALSE)=$C245),0,VLOOKUP($C245,'Sat TT_06'!$C$4:$Q$152,15,FALSE))","v":0},{"$f":"IF(ISNA(VLOOKUP($C245,'Sat TT_07'!$C$4:$Q$152,15,FALSE)=$C245),0,VLOOKUP($C245,'Sat TT_07'!$C$4:$Q$152,15,FALSE))","v":0},{"$f":"IF(ISNA(VLOOKUP($C245,'Sat TT_08'!$C$4:$Q$152,15,FALSE)=$C245),0,VLOOKUP($C245,'Sat TT_08'!$C$4:$Q$152,15,FALSE))","v":0},0]
[{"$f":"VLOOKUP(C246,'Sheet 1'!C$1:D$96,2,FALSE)","v":{"$error":"#N/A"}},237,{"$f":"+'[1]Racing numbers file'!$B161","v":"Brian Kinsella"},{"$f":"VLOOKUP(C246,'[1]Racing numbers file'!$B$4:$F$290,2,FALSE)","v":1970},{"$f":"VLOOKUP(C246,'[1]Racing numbers file'!$B$4:$F$290,4,FALSE)","v":46},{"$f":"SaturdayHandicapTable[[#This Row],[Points2]]","v":0},{"$f":"IF(ISNA(VLOOKUP($C246,'Sat TT_01'!$C$4:$Q$152,15,FALSE)=$C246),0,VLOOKUP($C246,'Sat TT_01'!$C$4:$Q$152,15,FALSE))","v":0},{"$f":"IF(ISNA(VLOOKUP($C246,'Sat TT_02'!$C$4:$Q$152,15,FALSE)=$C246),0,VLOOKUP($C246,'Sat TT_02'!$C$4:$Q$152,15,FALSE))","v":0},{"$f":"IF(ISNA(VLOOKUP($C246,'Sat TT_03'!$C$4:$Q$152,15,FALSE)=$C246),0,VLOOKUP($C246,'Sat TT_03'!$C$4:$Q$152,15,FALSE))","v":0},{"$f":"IF(ISNA(VLOOKUP($C246,'Sat TT_04'!$C$4:$Q$152,15,FALSE)=$C246),0,VLOOKUP($C246,'Sat TT_04'!$C$4:$Q$152,15,FALSE))","v":0},{"$f":"IF(ISNA(VLOOKUP($C246,'Sat TT_05'!$C$4:$Q$152,15,FALSE)=$C246),0,VLOOKUP($C246,'Sat TT_05'!$C$4:$Q$152,15,FALSE))","v":0},{"$f":"IF(ISNA(VLOOKUP($C246,'Sat TT_06'!$C$4:$Q$152,15,FALSE)=$C246),0,VLOOKUP($C246,'Sat TT_06'!$C$4:$Q$152,15,FALSE))","v":0},{"$f":"IF(ISNA(VLOOKUP($C246,'Sat TT_07'!$C$4:$Q$152,15,FALSE)=$C246),0,VLOOKUP($C246,'Sat TT_07'!$C$4:$Q$152,15,FALSE))","v":0},{"$f":"IF(ISNA(VLOOKUP($C246,'Sat TT_08'!$C$4:$Q$152,15,FALSE)=$C246),0,VLOOKUP($C246,'Sat TT_08'!$C$4:$Q$152,15,FALSE))","v":0},0]
[{"$f":"VLOOKUP(C247,'Sheet 1'!C$1:D$96,2,FALSE)","v":1471},238,{"$f":"+'[1]Racing numbers file'!$B239","v":"Ed O'Brien"},{"$f":"VLOOKUP(C247,'[1]Racing numbers file'!$B$4:$F$290,2,FALSE)","v":1975},{"$f":"VLOOKUP(C247,'[1]Racing numbers file'!$B$4:$F$290,4,FALSE)","v":41},{"$f":"SaturdayHandicapTable[[#This Row],[Points2]]","v":0},{"$f":"IF(ISNA(VLOOKUP($C247,'Sat TT_01'!$C$4:$Q$152,15,FALSE)=$C247),0,VLOOKUP($C247,'Sat TT_01'!$C$4:$Q$152,15,FALSE))","v":0},{"$f":"IF(ISNA(VLOOKUP($C247,'Sat TT_02'!$C$4:$Q$152,15,FALSE)=$C247),0,VLOOKUP($C247,'Sat TT_02'!$C$4:$Q$152,15,FALSE))","v":0},{"$f":"IF(ISNA(VLOOKUP($C247,'Sat TT_03'!$C$4:$Q$152,15,FALSE)=$C247),0,VLOOKUP($C247,'Sat TT_03'!$C$4:$Q$152,15,FALSE))","v":0},{"$f":"IF(ISNA(VLOOKUP($C247,'Sat TT_04'!$C$4:$Q$152,15,FALSE)=$C247),0,VLOOKUP($C247,'Sat TT_04'!$C$4:$Q$152,15,FALSE))","v":0},{"$f":"IF(ISNA(VLOOKUP($C247,'Sat TT_05'!$C$4:$Q$152,15,FALSE)=$C247),0,VLOOKUP($C247,'Sat TT_05'!$C$4:$Q$152,15,FALSE))","v":0},{"$f":"IF(ISNA(VLOOKUP($C247,'Sat TT_06'!$C$4:$Q$152,15,FALSE)=$C247),0,VLOOKUP($C247,'Sat TT_06'!$C$4:$Q$152,15,FALSE))","v":0},{"$f":"IF(ISNA(VLOOKUP($C247,'Sat TT_07'!$C$4:$Q$152,15,FALSE)=$C247),0,VLOOKUP($C247,'Sat TT_07'!$C$4:$Q$152,15,FALSE))","v":0},{"$f":"IF(ISNA(VLOOKUP($C247,'Sat TT_08'!$C$4:$Q$152,15,FALSE)=$C247),0,VLOOKUP($C247,'Sat TT_08'!$C$4:$Q$152,15,FALSE))","v":0},0]
[{"$f":"VLOOKUP(C248,'Sheet 1'!C$1:D$96,2,FALSE)","v":{"$error":"#N/A"}},239,{"$f":"+'[1]Racing numbers file'!$B53","v":"Terry Ferris"},{"$f":"VLOOKUP(C248,'[1]Racing numbers file'!$B$4:$F$290,2,FALSE)","v":1956},{"$f":"VLOOKUP(C248,'[1]Racing numbers file'!$B$4:$F$290,4,FALSE)","v":60},{"$f":"SaturdayHandicapTable[[#This Row],[Points2]]","v":0},{"$f":"IF(ISNA(VLOOKUP($C248,'Sat TT_01'!$C$4:$Q$152,15,FALSE)=$C248),0,VLOOKUP($C248,'Sat TT_01'!$C$4:$Q$152,15,FALSE))","v":0},{"$f":"IF(ISNA(VLOOKUP($C248,'Sat TT_02'!$C$4:$Q$152,15,FALSE)=$C248),0,VLOOKUP($C248,'Sat TT_02'!$C$4:$Q$152,15,FALSE))","v":0},{"$f":"IF(ISNA(VLOOKUP($C248,'Sat TT_03'!$C$4:$Q$152,15,FALSE)=$C248),0,VLOOKUP($C248,'Sat TT_03'!$C$4:$Q$152,15,FALSE))","v":0},{"$f":"IF(ISNA(VLOOKUP($C248,'Sat TT_04'!$C$4:$Q$152,15,FALSE)=$C248),0,VLOOKUP($C248,'Sat TT_04'!$C$4:$Q$152,15,FALSE))","v":0},{"$f":"IF(ISNA(VLOOKUP($C248,'Sat TT_05'!$C$4:$Q$152,15,FALSE)=$C248),0,VLOOKUP($C248,'Sat TT_05'!$C$4:$Q$152,15,FALSE))","v":0},{"$f":"IF(ISNA(VLOOKUP($C248,'Sat TT_06'!$C$4:$Q$152,15,FALSE)=$C248),0,VLOOKUP($C248,'Sat TT_06'!$C$4:$Q$152,15,FALSE))","v":0},{"$f":"IF(ISNA(VLOOKUP($C248,'Sat TT_07'!$C$4:$Q$152,15,FALSE)=$C248),0,VLOOKUP($C248,'Sat TT_07'!$C$4:$Q$152,15,FALSE))","v":0},{"$f":"IF(ISNA(VLOOKUP($C248,'Sat TT_08'!$C$4:$Q$152,15,FALSE)=$C248),0,VLOOKUP($C248,'Sat TT_08'!$C$4:$Q$152,15,FALSE))","v":0},0]
[{"$f":"VLOOKUP(C249,'Sheet 1'!C$1:D$96,2,FALSE)","v":1236},240,{"$f":"+'[1]Racing numbers file'!$B120","v":"John Dillon"},{"$f":"VLOOKUP(C249,'[1]Racing numbers file'!$B$4:$F$290,2,FALSE)","v":1965},{"$f":"VLOOKUP(C249,'[1]Racing numbers file'!$B$4:$F$290,4,FALSE)","v":51},{"$f":"SaturdayHandicapTable[[#This Row],[Points2]]","v":0},{"$f":"IF(ISNA(VLOOKUP($C249,'Sat TT_01'!$C$4:$Q$152,15,FALSE)=$C249),0,VLOOKUP($C249,'Sat TT_01'!$C$4:$Q$152,15,FALSE))","v":0},{"$f":"IF(ISNA(VLOOKUP($C249,'Sat TT_02'!$C$4:$Q$152,15,FALSE)=$C249),0,VLOOKUP($C249,'Sat TT_02'!$C$4:$Q$152,15,FALSE))","v":0},{"$f":"IF(ISNA(VLOOKUP($C249,'Sat TT_03'!$C$4:$Q$152,15,FALSE)=$C249),0,VLOOKUP($C249,'Sat TT_03'!$C$4:$Q$152,15,FALSE))","v":0},{"$f":"IF(ISNA(VLOOKUP($C249,'Sat TT_04'!$C$4:$Q$152,15,FALSE)=$C249),0,VLOOKUP($C249,'Sat TT_04'!$C$4:$Q$152,15,FALSE))","v":0},{"$f":"IF(ISNA(VLOOKUP($C249,'Sat TT_05'!$C$4:$Q$152,15,FALSE)=$C249),0,VLOOKUP($C249,'Sat TT_05'!$C$4:$Q$152,15,FALSE))","v":0},{"$f":"IF(ISNA(VLOOKUP($C249,'Sat TT_06'!$C$4:$Q$152,15,FALSE)=$C249),0,VLOOKUP($C249,'Sat TT_06'!$C$4:$Q$152,15,FALSE))","v":0},{"$f":"IF(ISNA(VLOOKUP($C249,'Sat TT_07'!$C$4:$Q$152,15,FALSE)=$C249),0,VLOOKUP($C249,'Sat TT_07'!$C$4:$Q$152,15,FALSE))","v":0},{"$f":"IF(ISNA(VLOOKUP($C249,'Sat TT_08'!$C$4:$Q$152,15,FALSE)=$C249),0,VLOOKUP($C249,'Sat TT_08'!$C$4:$Q$152,15,FALSE))","v":0},0]
[{"$f":"VLOOKUP(C250,'Sheet 1'!C$1:D$96,2,FALSE)","v":{"$error":"#N/A"}},241,{"$f":"+'[1]Racing numbers file'!$B180","v":"Susie Mitchell"},{"$f":"VLOOKUP(C250,'[1]Racing numbers file'!$B$4:$F$290,2,FALSE)","v":1975},{"$f":"VLOOKUP(C250,'[1]Racing numbers file'!$B$4:$F$290,4,FALSE)","v":41},{"$f":"SaturdayHandicapTable[[#This Row],[Points2]]","v":0},{"$f":"IF(ISNA(VLOOKUP($C250,'Sat TT_01'!$C$4:$Q$152,15,FALSE)=$C250),0,VLOOKUP($C250,'Sat TT_01'!$C$4:$Q$152,15,FALSE))","v":0},{"$f":"IF(ISNA(VLOOKUP($C250,'Sat TT_02'!$C$4:$Q$152,15,FALSE)=$C250),0,VLOOKUP($C250,'Sat TT_02'!$C$4:$Q$152,15,FALSE))","v":0},{"$f":"IF(ISNA(VLOOKUP($C250,'Sat TT_03'!$C$4:$Q$152,15,FALSE)=$C250),0,VLOOKUP($C250,'Sat TT_03'!$C$4:$Q$152,15,FALSE))","v":0},{"$f":"IF(ISNA(VLOOKUP($C250,'Sat TT_04'!$C$4:$Q$152,15,FALSE)=$C250),0,VLOOKUP($C250,'Sat TT_04'!$C$4:$Q$152,15,FALSE))","v":0},{"$f":"IF(ISNA(VLOOKUP($C250,'Sat TT_05'!$C$4:$Q$152,15,FALSE)=$C250),0,VLOOKUP($C250,'Sat TT_05'!$C$4:$Q$152,15,FALSE))","v":0},{"$f":"IF(ISNA(VLOOKUP($C250,'Sat TT_06'!$C$4:$Q$152,15,FALSE)=$C250),0,VLOOKUP($C250,'Sat TT_06'!$C$4:$Q$152,15,FALSE))","v":0},{"$f":"IF(ISNA(VLOOKUP($C250,'Sat TT_07'!$C$4:$Q$152,15,FALSE)=$C250),0,VLOOKUP($C250,'Sat TT_07'!$C$4:$Q$152,15,FALSE))","v":0},{"$f":"IF(ISNA(VLOOKUP($C250,'Sat TT_08'!$C$4:$Q$152,15,FALSE)=$C250),0,VLOOKUP($C250,'Sat TT_08'!$C$4:$Q$152,15,FALSE))","v":0},0]
[{"$f":"VLOOKUP(C251,'Sheet 1'!C$1:D$96,2,FALSE)","v":{"$error":"#N/A"}},242,"Schweppe","Peter",75,{"$f":"SaturdayHandicapTable[[#This Row],[Points2]]","v":0},{"$f":"IF(ISNA(VLOOKUP($C251,'Sat TT_01'!$C$4:$Q$152,15,FALSE)=$C251),0,VLOOKUP($C251,'Sat TT_01'!$C$4:$Q$152,15,FALSE))","v":0},{"$f":"IF(ISNA(VLOOKUP($C251,'Sat TT_02'!$C$4:$Q$152,15,FALSE)=$C251),0,VLOOKUP($C251,'Sat TT_02'!$C$4:$Q$152,15,FALSE))","v":0},{"$f":"IF(ISNA(VLOOKUP($C251,'Sat TT_03'!$C$4:$Q$152,15,FALSE)=$C251),0,VLOOKUP($C251,'Sat TT_03'!$C$4:$Q$152,15,FALSE))","v":0},{"$f":"IF(ISNA(VLOOKUP($C251,'Sat TT_04'!$C$4:$Q$152,15,FALSE)=$C251),0,VLOOKUP($C251,'Sat TT_04'!$C$4:$Q$152,15,FALSE))","v":0},{"$f":"IF(ISNA(VLOOKUP($C251,'Sat TT_05'!$C$4:$Q$152,15,FALSE)=$C251),0,VLOOKUP($C251,'Sat TT_05'!$C$4:$Q$152,15,FALSE))","v":0},{"$f":"IF(ISNA(VLOOKUP($C251,'Sat TT_06'!$C$4:$Q$152,15,FALSE)=$C251),0,VLOOKUP($C251,'Sat TT_06'!$C$4:$Q$152,15,FALSE))","v":0},{"$f":"IF(ISNA(VLOOKUP($C251,'Sat TT_07'!$C$4:$Q$152,15,FALSE)=$C251),0,VLOOKUP($C251,'Sat TT_07'!$C$4:$Q$152,15,FALSE))","v":0},{"$f":"IF(ISNA(VLOOKUP($C251,'Sat TT_08'!$C$4:$Q$152,15,FALSE)=$C251),0,VLOOKUP($C251,'Sat TT_08'!$C$4:$Q$152,15,FALSE))","v":0},0]
[{"$f":"VLOOKUP(C252,'Sheet 1'!C$1:D$96,2,FALSE)","v":1190},243,{"$f":"+'[1]Racing numbers file'!$B93","v":"Lloyd Scott"},{"$f":"VLOOKUP(C252,'[1]Racing numbers file'!$B$4:$F$290,2,FALSE)","v":1062},{"$f":"VLOOKUP(C252,'[1]Racing numbers file'!$B$4:$F$290,4,FALSE)","v":954},{"$f":"SaturdayHandicapTable[[#This Row],[Points2]]","v":0},{"$f":"IF(ISNA(VLOOKUP($C252,'Sat TT_01'!$C$4:$Q$152,15,FALSE)=$C252),0,VLOOKUP($C252,'Sat TT_01'!$C$4:$Q$152,15,FALSE))","v":0},{"$f":"IF(ISNA(VLOOKUP($C252,'Sat TT_02'!$C$4:$Q$152,15,FALSE)=$C252),0,VLOOKUP($C252,'Sat TT_02'!$C$4:$Q$152,15,FALSE))","v":0},{"$f":"IF(ISNA(VLOOKUP($C252,'Sat TT_03'!$C$4:$Q$152,15,FALSE)=$C252),0,VLOOKUP($C252,'Sat TT_03'!$C$4:$Q$152,15,FALSE))","v":0},{"$f":"IF(ISNA(VLOOKUP($C252,'Sat TT_04'!$C$4:$Q$152,15,FALSE)=$C252),0,VLOOKUP($C252,'Sat TT_04'!$C$4:$Q$152,15,FALSE))","v":0},{"$f":"IF(ISNA(VLOOKUP($C252,'Sat TT_05'!$C$4:$Q$152,15,FALSE)=$C252),0,VLOOKUP($C252,'Sat TT_05'!$C$4:$Q$152,15,FALSE))","v":0},{"$f":"IF(ISNA(VLOOKUP($C252,'Sat TT_06'!$C$4:$Q$152,15,FALSE)=$C252),0,VLOOKUP($C252,'Sat TT_06'!$C$4:$Q$152,15,FALSE))","v":0},{"$f":"IF(ISNA(VLOOKUP($C252,'Sat TT_07'!$C$4:$Q$152,15,FALSE)=$C252),0,VLOOKUP($C252,'Sat TT_07'!$C$4:$Q$152,15,FALSE))","v":0},{"$f":"IF(ISNA(VLOOKUP($C252,'Sat TT_08'!$C$4:$Q$152,15,FALSE)=$C252),0,VLOOKUP($C252,'Sat TT_08'!$C$4:$Q$152,15,FALSE))","v":0},0]
[{"$f":"VLOOKUP(C253,'Sheet 1'!C$1:D$96,2,FALSE)","v":{"$error":"#N/A"}},244,"Scully Eddie",{"$f":"VLOOKUP(C253,'[1]Racing numbers file'!$B$4:$F$290,2,FALSE)","v":{"$error":"#N/A"}},{"$f":"VLOOKUP(C253,'[1]Racing numbers file'!$B$4:$F$290,4,FALSE)","v":{"$error":"#N/A"}},{"$f":"SaturdayHandicapTable[[#This Row],[Points2]]","v":0},{"$f":"IF(ISNA(VLOOKUP($C253,'Sat TT_01'!$C$4:$Q$152,15,FALSE)=$C253),0,VLOOKUP($C253,'Sat TT_01'!$C$4:$Q$152,15,FALSE))","v":0},{"$f":"IF(ISNA(VLOOKUP($C253,'Sat TT_02'!$C$4:$Q$152,15,FALSE)=$C253),0,VLOOKUP($C253,'Sat TT_02'!$C$4:$Q$152,15,FALSE))","v":0},{"$f":"IF(ISNA(VLOOKUP($C253,'Sat TT_03'!$C$4:$Q$152,15,FALSE)=$C253),0,VLOOKUP($C253,'Sat TT_03'!$C$4:$Q$152,15,FALSE))","v":0},{"$f":"IF(ISNA(VLOOKUP($C253,'Sat TT_04'!$C$4:$Q$152,15,FALSE)=$C253),0,VLOOKUP($C253,'Sat TT_04'!$C$4:$Q$152,15,FALSE))","v":0},{"$f":"IF(ISNA(VLOOKUP($C253,'Sat TT_05'!$C$4:$Q$152,15,FALSE)=$C253),0,VLOOKUP($C253,'Sat TT_05'!$C$4:$Q$152,15,FALSE))","v":0},{"$f":"IF(ISNA(VLOOKUP($C253,'Sat TT_06'!$C$4:$Q$152,15,FALSE)=$C253),0,VLOOKUP($C253,'Sat TT_06'!$C$4:$Q$152,15,FALSE))","v":0},{"$f":"IF(ISNA(VLOOKUP($C253,'Sat TT_07'!$C$4:$Q$152,15,FALSE)=$C253),0,VLOOKUP($C253,'Sat TT_07'!$C$4:$Q$152,15,FALSE))","v":0},{"$f":"IF(ISNA(VLOOKUP($C253,'Sat TT_08'!$C$4:$Q$152,15,FALSE)=$C253),0,VLOOKUP($C253,'Sat TT_08'!$C$4:$Q$152,15,FALSE))","v":0},0]
[{"$f":"VLOOKUP(C254,'Sheet 1'!C$1:D$96,2,FALSE)","v":1015},245,{"$f":"+'[1]Racing numbers file'!$B11","v":"Paddy Byrne"},{"$f":"VLOOKUP(C254,'[1]Racing numbers file'!$B$4:$F$290,2,FALSE)","v":1938},{"$f":"VLOOKUP(C254,'[1]Racing numbers file'!$B$4:$F$290,4,FALSE)","v":78},{"$f":"SaturdayHandicapTable[[#This Row],[Points2]]","v":0},{"$f":"IF(ISNA(VLOOKUP($C254,'Sat TT_01'!$C$4:$Q$152,15,FALSE)=$C254),0,VLOOKUP($C254,'Sat TT_01'!$C$4:$Q$152,15,FALSE))","v":0},{"$f":"IF(ISNA(VLOOKUP($C254,'Sat TT_02'!$C$4:$Q$152,15,FALSE)=$C254),0,VLOOKUP($C254,'Sat TT_02'!$C$4:$Q$152,15,FALSE))","v":0},{"$f":"IF(ISNA(VLOOKUP($C254,'Sat TT_03'!$C$4:$Q$152,15,FALSE)=$C254),0,VLOOKUP($C254,'Sat TT_03'!$C$4:$Q$152,15,FALSE))","v":0},{"$f":"IF(ISNA(VLOOKUP($C254,'Sat TT_04'!$C$4:$Q$152,15,FALSE)=$C254),0,VLOOKUP($C254,'Sat TT_04'!$C$4:$Q$152,15,FALSE))","v":0},{"$f":"IF(ISNA(VLOOKUP($C254,'Sat TT_05'!$C$4:$Q$152,15,FALSE)=$C254),0,VLOOKUP($C254,'Sat TT_05'!$C$4:$Q$152,15,FALSE))","v":0},{"$f":"IF(ISNA(VLOOKUP($C254,'Sat TT_06'!$C$4:$Q$152,15,FALSE)=$C254),0,VLOOKUP($C254,'Sat TT_06'!$C$4:$Q$152,15,FALSE))","v":0},{"$f":"IF(ISNA(VLOOKUP($C254,'Sat TT_07'!$C$4:$Q$152,15,FALSE)=$C254),0,VLOOKUP($C254,'Sat TT_07'!$C$4:$Q$152,15,FALSE))","v":0},{"$f":"IF(ISNA(VLOOKUP($C254,'Sat TT_08'!$C$4:$Q$152,15,FALSE)=$C254),0,VLOOKUP($C254,'Sat TT_08'!$C$4:$Q$152,15,FALSE))","v":0},0]
[{"$f":"VLOOKUP(C255,'Sheet 1'!C$1:D$96,2,FALSE)","v":{"$error":"#N/A"}},246,{"$f":"+'[1]Racing numbers file'!$B102","v":"Mick Scully"},{"$f":"VLOOKUP(C255,'[1]Racing numbers file'!$B$4:$F$290,2,FALSE)","v":1963},{"$f":"VLOOKUP(C255,'[1]Racing numbers file'!$B$4:$F$290,4,FALSE)","v":53},{"$f":"SaturdayHandicapTable[[#This Row],[Points2]]","v":0},{"$f":"IF(ISNA(VLOOKUP($C255,'Sat TT_01'!$C$4:$Q$152,15,FALSE)=$C255),0,VLOOKUP($C255,'Sat TT_01'!$C$4:$Q$152,15,FALSE))","v":0},{"$f":"IF(ISNA(VLOOKUP($C255,'Sat TT_02'!$C$4:$Q$152,15,FALSE)=$C255),0,VLOOKUP($C255,'Sat TT_02'!$C$4:$Q$152,15,FALSE))","v":0},{"$f":"IF(ISNA(VLOOKUP($C255,'Sat TT_03'!$C$4:$Q$152,15,FALSE)=$C255),0,VLOOKUP($C255,'Sat TT_03'!$C$4:$Q$152,15,FALSE))","v":0},{"$f":"IF(ISNA(VLOOKUP($C255,'Sat TT_04'!$C$4:$Q$152,15,FALSE)=$C255),0,VLOOKUP($C255,'Sat TT_04'!$C$4:$Q$152,15,FALSE))","v":0},{"$f":"IF(ISNA(VLOOKUP($C255,'Sat TT_05'!$C$4:$Q$152,15,FALSE)=$C255),0,VLOOKUP($C255,'Sat TT_05'!$C$4:$Q$152,15,FALSE))","v":0},{"$f":"IF(ISNA(VLOOKUP($C255,'Sat TT_06'!$C$4:$Q$152,15,FALSE)=$C255),0,VLOOKUP($C255,'Sat TT_06'!$C$4:$Q$152,15,FALSE))","v":0},{"$f":"IF(ISNA(VLOOKUP($C255,'Sat TT_07'!$C$4:$Q$152,15,FALSE)=$C255),0,VLOOKUP($C255,'Sat TT_07'!$C$4:$Q$152,15,FALSE))","v":0},{"$f":"IF(ISNA(VLOOKUP($C255,'Sat TT_08'!$C$4:$Q$152,15,FALSE)=$C255),0,VLOOKUP($C255,'Sat TT_08'!$C$4:$Q$152,15,FALSE))","v":0},0]
[{"$f":"VLOOKUP(C256,'Sheet 1'!C$1:D$96,2,FALSE)","v":{"$error":"#N/A"}},247,{"$f":"+'[1]Racing numbers file'!$B130","v":"Mark McGarry"},{"$f":"VLOOKUP(C256,'[1]Racing numbers file'!$B$4:$F$290,2,FALSE)","v":1967},{"$f":"VLOOKUP(C256,'[1]Racing numbers file'!$B$4:$F$290,4,FALSE)","v":49},{"$f":"SaturdayHandicapTable[[#This Row],[Points2]]","v":0},{"$f":"IF(ISNA(VLOOKUP($C256,'Sat TT_01'!$C$4:$Q$152,15,FALSE)=$C256),0,VLOOKUP($C256,'Sat TT_01'!$C$4:$Q$152,15,FALSE))","v":0},{"$f":"IF(ISNA(VLOOKUP($C256,'Sat TT_02'!$C$4:$Q$152,15,FALSE)=$C256),0,VLOOKUP($C256,'Sat TT_02'!$C$4:$Q$152,15,FALSE))","v":0},{"$f":"IF(ISNA(VLOOKUP($C256,'Sat TT_03'!$C$4:$Q$152,15,FALSE)=$C256),0,VLOOKUP($C256,'Sat TT_03'!$C$4:$Q$152,15,FALSE))","v":0},{"$f":"IF(ISNA(VLOOKUP($C256,'Sat TT_04'!$C$4:$Q$152,15,FALSE)=$C256),0,VLOOKUP($C256,'Sat TT_04'!$C$4:$Q$152,15,FALSE))","v":0},{"$f":"IF(ISNA(VLOOKUP($C256,'Sat TT_05'!$C$4:$Q$152,15,FALSE)=$C256),0,VLOOKUP($C256,'Sat TT_05'!$C$4:$Q$152,15,FALSE))","v":0},{"$f":"IF(ISNA(VLOOKUP($C256,'Sat TT_06'!$C$4:$Q$152,15,FALSE)=$C256),0,VLOOKUP($C256,'Sat TT_06'!$C$4:$Q$152,15,FALSE))","v":0},{"$f":"IF(ISNA(VLOOKUP($C256,'Sat TT_07'!$C$4:$Q$152,15,FALSE)=$C256),0,VLOOKUP($C256,'Sat TT_07'!$C$4:$Q$152,15,FALSE))","v":0},{"$f":"IF(ISNA(VLOOKUP($C256,'Sat TT_08'!$C$4:$Q$152,15,FALSE)=$C256),0,VLOOKUP($C256,'Sat TT_08'!$C$4:$Q$152,15,FALSE))","v":0},0]
[{"$f":"VLOOKUP(C257,'Sheet 1'!C$1:D$96,2,FALSE)","v":{"$error":"#N/A"}},248,{"$f":"+'[1]Racing numbers file'!$B243","v":"Stephen McNally"},{"$f":"VLOOKUP(C257,'[1]Racing numbers file'!$B$4:$F$290,2,FALSE)","v":1966},{"$f":"VLOOKUP(C257,'[1]Racing numbers file'!$B$4:$F$290,4,FALSE)","v":50},{"$f":"SaturdayHandicapTable[[#This Row],[Points2]]","v":0},{"$f":"IF(ISNA(VLOOKUP($C257,'Sat TT_01'!$C$4:$Q$152,15,FALSE)=$C257),0,VLOOKUP($C257,'Sat TT_01'!$C$4:$Q$152,15,FALSE))","v":0},{"$f":"IF(ISNA(VLOOKUP($C257,'Sat TT_02'!$C$4:$Q$152,15,FALSE)=$C257),0,VLOOKUP($C257,'Sat TT_02'!$C$4:$Q$152,15,FALSE))","v":0},{"$f":"IF(ISNA(VLOOKUP($C257,'Sat TT_03'!$C$4:$Q$152,15,FALSE)=$C257),0,VLOOKUP($C257,'Sat TT_03'!$C$4:$Q$152,15,FALSE))","v":0},{"$f":"IF(ISNA(VLOOKUP($C257,'Sat TT_04'!$C$4:$Q$152,15,FALSE)=$C257),0,VLOOKUP($C257,'Sat TT_04'!$C$4:$Q$152,15,FALSE))","v":0},{"$f":"IF(ISNA(VLOOKUP($C257,'Sat TT_05'!$C$4:$Q$152,15,FALSE)=$C257),0,VLOOKUP($C257,'Sat TT_05'!$C$4:$Q$152,15,FALSE))","v":0},{"$f":"IF(ISNA(VLOOKUP($C257,'Sat TT_06'!$C$4:$Q$152,15,FALSE)=$C257),0,VLOOKUP($C257,'Sat TT_06'!$C$4:$Q$152,15,FALSE))","v":0},{"$f":"IF(ISNA(VLOOKUP($C257,'Sat TT_07'!$C$4:$Q$152,15,FALSE)=$C257),0,VLOOKUP($C257,'Sat TT_07'!$C$4:$Q$152,15,FALSE))","v":0},{"$f":"IF(ISNA(VLOOKUP($C257,'Sat TT_08'!$C$4:$Q$152,15,FALSE)=$C257),0,VLOOKUP($C257,'Sat TT_08'!$C$4:$Q$152,15,FALSE))","v":0},0]
[{"$f":"VLOOKUP(C258,'Sheet 1'!C$1:D$96,2,FALSE)","v":{"$error":"#N/A"}},249,"Simms","Kevin",81,{"$f":"SaturdayHandicapTable[[#This Row],[Points2]]","v":0},{"$f":"IF(ISNA(VLOOKUP($C258,'Sat TT_01'!$C$4:$Q$152,15,FALSE)=$C258),0,VLOOKUP($C258,'Sat TT_01'!$C$4:$Q$152,15,FALSE))","v":0},{"$f":"IF(ISNA(VLOOKUP($C258,'Sat TT_02'!$C$4:$Q$152,15,FALSE)=$C258),0,VLOOKUP($C258,'Sat TT_02'!$C$4:$Q$152,15,FALSE))","v":0},{"$f":"IF(ISNA(VLOOKUP($C258,'Sat TT_03'!$C$4:$Q$152,15,FALSE)=$C258),0,VLOOKUP($C258,'Sat TT_03'!$C$4:$Q$152,15,FALSE))","v":0},{"$f":"IF(ISNA(VLOOKUP($C258,'Sat TT_04'!$C$4:$Q$152,15,FALSE)=$C258),0,VLOOKUP($C258,'Sat TT_04'!$C$4:$Q$152,15,FALSE))","v":0},{"$f":"IF(ISNA(VLOOKUP($C258,'Sat TT_05'!$C$4:$Q$152,15,FALSE)=$C258),0,VLOOKUP($C258,'Sat TT_05'!$C$4:$Q$152,15,FALSE))","v":0},{"$f":"IF(ISNA(VLOOKUP($C258,'Sat TT_06'!$C$4:$Q$152,15,FALSE)=$C258),0,VLOOKUP($C258,'Sat TT_06'!$C$4:$Q$152,15,FALSE))","v":0},{"$f":"IF(ISNA(VLOOKUP($C258,'Sat TT_07'!$C$4:$Q$152,15,FALSE)=$C258),0,VLOOKUP($C258,'Sat TT_07'!$C$4:$Q$152,15,FALSE))","v":0},{"$f":"IF(ISNA(VLOOKUP($C258,'Sat TT_08'!$C$4:$Q$152,15,FALSE)=$C258),0,VLOOKUP($C258,'Sat TT_08'!$C$4:$Q$152,15,FALSE))","v":0},0]
[{"$f":"VLOOKUP(C259,'Sheet 1'!C$1:D$96,2,FALSE)","v":{"$error":"#N/A"}},250,{"$f":"+'[1]Racing numbers file'!$B74","v":"Liam Hogan"},{"$f":"VLOOKUP(C259,'[1]Racing numbers file'!$B$4:$F$290,2,FALSE)","v":1959},{"$f":"VLOOKUP(C259,'[1]Racing numbers file'!$B$4:$F$290,4,FALSE)","v":57},{"$f":"SaturdayHandicapTable[[#This Row],[Points2]]","v":0},{"$f":"IF(ISNA(VLOOKUP($C259,'Sat TT_01'!$C$4:$Q$152,15,FALSE)=$C259),0,VLOOKUP($C259,'Sat TT_01'!$C$4:$Q$152,15,FALSE))","v":0},{"$f":"IF(ISNA(VLOOKUP($C259,'Sat TT_02'!$C$4:$Q$152,15,FALSE)=$C259),0,VLOOKUP($C259,'Sat TT_02'!$C$4:$Q$152,15,FALSE))","v":0},{"$f":"IF(ISNA(VLOOKUP($C259,'Sat TT_03'!$C$4:$Q$152,15,FALSE)=$C259),0,VLOOKUP($C259,'Sat TT_03'!$C$4:$Q$152,15,FALSE))","v":0},{"$f":"IF(ISNA(VLOOKUP($C259,'Sat TT_04'!$C$4:$Q$152,15,FALSE)=$C259),0,VLOOKUP($C259,'Sat TT_04'!$C$4:$Q$152,15,FALSE))","v":0},{"$f":"IF(ISNA(VLOOKUP($C259,'Sat TT_05'!$C$4:$Q$152,15,FALSE)=$C259),0,VLOOKUP($C259,'Sat TT_05'!$C$4:$Q$152,15,FALSE))","v":0},{"$f":"IF(ISNA(VLOOKUP($C259,'Sat TT_06'!$C$4:$Q$152,15,FALSE)=$C259),0,VLOOKUP($C259,'Sat TT_06'!$C$4:$Q$152,15,FALSE))","v":0},{"$f":"IF(ISNA(VLOOKUP($C259,'Sat TT_07'!$C$4:$Q$152,15,FALSE)=$C259),0,VLOOKUP($C259,'Sat TT_07'!$C$4:$Q$152,15,FALSE))","v":0},{"$f":"IF(ISNA(VLOOKUP($C259,'Sat TT_08'!$C$4:$Q$152,15,FALSE)=$C259),0,VLOOKUP($C259,'Sat TT_08'!$C$4:$Q$152,15,FALSE))","v":0},0]
[{"$f":"VLOOKUP(C260,'Sheet 1'!C$1:D$96,2,FALSE)","v":{"$error":"#N/A"}},251,"Smyth","Enda",44,{"$f":"SaturdayHandicapTable[[#This Row],[Points2]]","v":0},{"$f":"IF(ISNA(VLOOKUP($C260,'Sat TT_01'!$C$4:$Q$152,15,FALSE)=$C260),0,VLOOKUP($C260,'Sat TT_01'!$C$4:$Q$152,15,FALSE))","v":0},{"$f":"IF(ISNA(VLOOKUP($C260,'Sat TT_02'!$C$4:$Q$152,15,FALSE)=$C260),0,VLOOKUP($C260,'Sat TT_02'!$C$4:$Q$152,15,FALSE))","v":0},{"$f":"IF(ISNA(VLOOKUP($C260,'Sat TT_03'!$C$4:$Q$152,15,FALSE)=$C260),0,VLOOKUP($C260,'Sat TT_03'!$C$4:$Q$152,15,FALSE))","v":0},{"$f":"IF(ISNA(VLOOKUP($C260,'Sat TT_04'!$C$4:$Q$152,15,FALSE)=$C260),0,VLOOKUP($C260,'Sat TT_04'!$C$4:$Q$152,15,FALSE))","v":0},{"$f":"IF(ISNA(VLOOKUP($C260,'Sat TT_05'!$C$4:$Q$152,15,FALSE)=$C260),0,VLOOKUP($C260,'Sat TT_05'!$C$4:$Q$152,15,FALSE))","v":0},{"$f":"IF(ISNA(VLOOKUP($C260,'Sat TT_06'!$C$4:$Q$152,15,FALSE)=$C260),0,VLOOKUP($C260,'Sat TT_06'!$C$4:$Q$152,15,FALSE))","v":0},{"$f":"IF(ISNA(VLOOKUP($C260,'Sat TT_07'!$C$4:$Q$152,15,FALSE)=$C260),0,VLOOKUP($C260,'Sat TT_07'!$C$4:$Q$152,15,FALSE))","v":0},{"$f":"IF(ISNA(VLOOKUP($C260,'Sat TT_08'!$C$4:$Q$152,15,FALSE)=$C260),0,VLOOKUP($C260,'Sat TT_08'!$C$4:$Q$152,15,FALSE))","v":0},0]
[{"$f":"VLOOKUP(C261,'Sheet 1'!C$1:D$96,2,FALSE)","v":{"$error":"#N/A"}},252,{"$f":"+'[1]Racing numbers file'!$B152","v":"Pat Beere"},{"$f":"VLOOKUP(C261,'[1]Racing numbers file'!$B$4:$F$290,2,FALSE)","v":1969},{"$f":"VLOOKUP(C261,'[1]Racing numbers file'!$B$4:$F$290,4,FALSE)","v":47},{"$f":"SaturdayHandicapTable[[#This Row],[Points2]]","v":0},{"$f":"IF(ISNA(VLOOKUP($C261,'Sat TT_01'!$C$4:$Q$152,15,FALSE)=$C261),0,VLOOKUP($C261,'Sat TT_01'!$C$4:$Q$152,15,FALSE))","v":0},{"$f":"IF(ISNA(VLOOKUP($C261,'Sat TT_02'!$C$4:$Q$152,15,FALSE)=$C261),0,VLOOKUP($C261,'Sat TT_02'!$C$4:$Q$152,15,FALSE))","v":0},{"$f":"IF(ISNA(VLOOKUP($C261,'Sat TT_03'!$C$4:$Q$152,15,FALSE)=$C261),0,VLOOKUP($C261,'Sat TT_03'!$C$4:$Q$152,15,FALSE))","v":0},{"$f":"IF(ISNA(VLOOKUP($C261,'Sat TT_04'!$C$4:$Q$152,15,FALSE)=$C261),0,VLOOKUP($C261,'Sat TT_04'!$C$4:$Q$152,15,FALSE))","v":0},{"$f":"IF(ISNA(VLOOKUP($C261,'Sat TT_05'!$C$4:$Q$152,15,FALSE)=$C261),0,VLOOKUP($C261,'Sat TT_05'!$C$4:$Q$152,15,FALSE))","v":0},{"$f":"IF(ISNA(VLOOKUP($C261,'Sat TT_06'!$C$4:$Q$152,15,FALSE)=$C261),0,VLOOKUP($C261,'Sat TT_06'!$C$4:$Q$152,15,FALSE))","v":0},{"$f":"IF(ISNA(VLOOKUP($C261,'Sat TT_07'!$C$4:$Q$152,15,FALSE)=$C261),0,VLOOKUP($C261,'Sat TT_07'!$C$4:$Q$152,15,FALSE))","v":0},{"$f":"IF(ISNA(VLOOKUP($C261,'Sat TT_08'!$C$4:$Q$152,15,FALSE)=$C261),0,VLOOKUP($C261,'Sat TT_08'!$C$4:$Q$152,15,FALSE))","v":0},0]
[{"$f":"VLOOKUP(C262,'Sheet 1'!C$1:D$96,2,FALSE)","v":1441},253,{"$f":"+'[1]Racing numbers file'!$B223","v":"David Bradley"},{"$f":"VLOOKUP(C262,'[1]Racing numbers file'!$B$4:$F$290,2,FALSE)","v":1972},{"$f":"VLOOKUP(C262,'[1]Racing numbers file'!$B$4:$F$290,4,FALSE)","v":44},{"$f":"SaturdayHandicapTable[[#This Row],[Points2]]","v":0},{"$f":"IF(ISNA(VLOOKUP($C262,'Sat TT_01'!$C$4:$Q$152,15,FALSE)=$C262),0,VLOOKUP($C262,'Sat TT_01'!$C$4:$Q$152,15,FALSE))","v":0},{"$f":"IF(ISNA(VLOOKUP($C262,'Sat TT_02'!$C$4:$Q$152,15,FALSE)=$C262),0,VLOOKUP($C262,'Sat TT_02'!$C$4:$Q$152,15,FALSE))","v":0},{"$f":"IF(ISNA(VLOOKUP($C262,'Sat TT_03'!$C$4:$Q$152,15,FALSE)=$C262),0,VLOOKUP($C262,'Sat TT_03'!$C$4:$Q$152,15,FALSE))","v":0},{"$f":"IF(ISNA(VLOOKUP($C262,'Sat TT_04'!$C$4:$Q$152,15,FALSE)=$C262),0,VLOOKUP($C262,'Sat TT_04'!$C$4:$Q$152,15,FALSE))","v":0},{"$f":"IF(ISNA(VLOOKUP($C262,'Sat TT_05'!$C$4:$Q$152,15,FALSE)=$C262),0,VLOOKUP($C262,'Sat TT_05'!$C$4:$Q$152,15,FALSE))","v":0},{"$f":"IF(ISNA(VLOOKUP($C262,'Sat TT_06'!$C$4:$Q$152,15,FALSE)=$C262),0,VLOOKUP($C262,'Sat TT_06'!$C$4:$Q$152,15,FALSE))","v":0},{"$f":"IF(ISNA(VLOOKUP($C262,'Sat TT_07'!$C$4:$Q$152,15,FALSE)=$C262),0,VLOOKUP($C262,'Sat TT_07'!$C$4:$Q$152,15,FALSE))","v":0},{"$f":"IF(ISNA(VLOOKUP($C262,'Sat TT_08'!$C$4:$Q$152,15,FALSE)=$C262),0,VLOOKUP($C262,'Sat TT_08'!$C$4:$Q$152,15,FALSE))","v":0},0]
[{"$f":"VLOOKUP(C263,'Sheet 1'!C$1:D$96,2,FALSE)","v":{"$error":"#N/A"}},254,{"$f":"+'[1]Racing numbers file'!$B70","v":"Jimmy Stagg"},{"$f":"VLOOKUP(C263,'[1]Racing numbers file'!$B$4:$F$290,2,FALSE)","v":1959},{"$f":"VLOOKUP(C263,'[1]Racing numbers file'!$B$4:$F$290,4,FALSE)","v":57},{"$f":"SaturdayHandicapTable[[#This Row],[Points2]]","v":0},{"$f":"IF(ISNA(VLOOKUP($C263,'Sat TT_01'!$C$4:$Q$152,15,FALSE)=$C263),0,VLOOKUP($C263,'Sat TT_01'!$C$4:$Q$152,15,FALSE))","v":0},{"$f":"IF(ISNA(VLOOKUP($C263,'Sat TT_02'!$C$4:$Q$152,15,FALSE)=$C263),0,VLOOKUP($C263,'Sat TT_02'!$C$4:$Q$152,15,FALSE))","v":0},{"$f":"IF(ISNA(VLOOKUP($C263,'Sat TT_03'!$C$4:$Q$152,15,FALSE)=$C263),0,VLOOKUP($C263,'Sat TT_03'!$C$4:$Q$152,15,FALSE))","v":0},{"$f":"IF(ISNA(VLOOKUP($C263,'Sat TT_04'!$C$4:$Q$152,15,FALSE)=$C263),0,VLOOKUP($C263,'Sat TT_04'!$C$4:$Q$152,15,FALSE))","v":0},{"$f":"IF(ISNA(VLOOKUP($C263,'Sat TT_05'!$C$4:$Q$152,15,FALSE)=$C263),0,VLOOKUP($C263,'Sat TT_05'!$C$4:$Q$152,15,FALSE))","v":0},{"$f":"IF(ISNA(VLOOKUP($C263,'Sat TT_06'!$C$4:$Q$152,15,FALSE)=$C263),0,VLOOKUP($C263,'Sat TT_06'!$C$4:$Q$152,15,FALSE))","v":0},{"$f":"IF(ISNA(VLOOKUP($C263,'Sat TT_07'!$C$4:$Q$152,15,FALSE)=$C263),0,VLOOKUP($C263,'Sat TT_07'!$C$4:$Q$152,15,FALSE))","v":0},{"$f":"IF(ISNA(VLOOKUP($C263,'Sat TT_08'!$C$4:$Q$152,15,FALSE)=$C263),0,VLOOKUP($C263,'Sat TT_08'!$C$4:$Q$152,15,FALSE))","v":0},0]
[{"$f":"VLOOKUP(C264,'Sheet 1'!C$1:D$96,2,FALSE)","v":{"$error":"#N/A"}},255,{"$f":"+'[1]Racing numbers file'!$B131","v":"Malachy McKenna"},{"$f":"VLOOKUP(C264,'[1]Racing numbers file'!$B$4:$F$290,2,FALSE)","v":1967},{"$f":"VLOOKUP(C264,'[1]Racing numbers file'!$B$4:$F$290,4,FALSE)","v":49},{"$f":"SaturdayHandicapTable[[#This Row],[Points2]]","v":0},{"$f":"IF(ISNA(VLOOKUP($C264,'Sat TT_01'!$C$4:$Q$152,15,FALSE)=$C264),0,VLOOKUP($C264,'Sat TT_01'!$C$4:$Q$152,15,FALSE))","v":0},{"$f":"IF(ISNA(VLOOKUP($C264,'Sat TT_02'!$C$4:$Q$152,15,FALSE)=$C264),0,VLOOKUP($C264,'Sat TT_02'!$C$4:$Q$152,15,FALSE))","v":0},{"$f":"IF(ISNA(VLOOKUP($C264,'Sat TT_03'!$C$4:$Q$152,15,FALSE)=$C264),0,VLOOKUP($C264,'Sat TT_03'!$C$4:$Q$152,15,FALSE))","v":0},{"$f":"IF(ISNA(VLOOKUP($C264,'Sat TT_04'!$C$4:$Q$152,15,FALSE)=$C264),0,VLOOKUP($C264,'Sat TT_04'!$C$4:$Q$152,15,FALSE))","v":0},{"$f":"IF(ISNA(VLOOKUP($C264,'Sat TT_05'!$C$4:$Q$152,15,FALSE)=$C264),0,VLOOKUP($C264,'Sat TT_05'!$C$4:$Q$152,15,FALSE))","v":0},{"$f":"IF(ISNA(VLOOKUP($C264,'Sat TT_06'!$C$4:$Q$152,15,FALSE)=$C264),0,VLOOKUP($C264,'Sat TT_06'!$C$4:$Q$152,15,FALSE))","v":0},{"$f":"IF(ISNA(VLOOKUP($C264,'Sat TT_07'!$C$4:$Q$152,15,FALSE)=$C264),0,VLOOKUP($C264,'Sat TT_07'!$C$4:$Q$152,15,FALSE))","v":0},{"$f":"IF(ISNA(VLOOKUP($C264,'Sat TT_08'!$C$4:$Q$152,15,FALSE)=$C264),0,VLOOKUP($C264,'Sat TT_08'!$C$4:$Q$152,15,FALSE))","v":0},0]
[{"$f":"VLOOKUP(C265,'Sheet 1'!C$1:D$96,2,FALSE)","v":{"$error":"#N/A"}},256,{"$f":"+'[1]Racing numbers file'!$B128","v":"John Lanigan"},{"$f":"VLOOKUP(C265,'[1]Racing numbers file'!$B$4:$F$290,2,FALSE)","v":1967},{"$f":"VLOOKUP(C265,'[1]Racing numbers file'!$B$4:$F$290,4,FALSE)","v":49},{"$f":"SaturdayHandicapTable[[#This Row],[Points2]]","v":0},{"$f":"IF(ISNA(VLOOKUP($C265,'Sat TT_01'!$C$4:$Q$152,15,FALSE)=$C265),0,VLOOKUP($C265,'Sat TT_01'!$C$4:$Q$152,15,FALSE))","v":0},{"$f":"IF(ISNA(VLOOKUP($C265,'Sat TT_02'!$C$4:$Q$152,15,FALSE)=$C265),0,VLOOKUP($C265,'Sat TT_02'!$C$4:$Q$152,15,FALSE))","v":0},{"$f":"IF(ISNA(VLOOKUP($C265,'Sat TT_03'!$C$4:$Q$152,15,FALSE)=$C265),0,VLOOKUP($C265,'Sat TT_03'!$C$4:$Q$152,15,FALSE))","v":0},{"$f":"IF(ISNA(VLOOKUP($C265,'Sat TT_04'!$C$4:$Q$152,15,FALSE)=$C265),0,VLOOKUP($C265,'Sat TT_04'!$C$4:$Q$152,15,FALSE))","v":0},{"$f":"IF(ISNA(VLOOKUP($C265,'Sat TT_05'!$C$4:$Q$152,15,FALSE)=$C265),0,VLOOKUP($C265,'Sat TT_05'!$C$4:$Q$152,15,FALSE))","v":0},{"$f":"IF(ISNA(VLOOKUP($C265,'Sat TT_06'!$C$4:$Q$152,15,FALSE)=$C265),0,VLOOKUP($C265,'Sat TT_06'!$C$4:$Q$152,15,FALSE))","v":0},{"$f":"IF(ISNA(VLOOKUP($C265,'Sat TT_07'!$C$4:$Q$152,15,FALSE)=$C265),0,VLOOKUP($C265,'Sat TT_07'!$C$4:$Q$152,15,FALSE))","v":0},{"$f":"IF(ISNA(VLOOKUP($C265,'Sat TT_08'!$C$4:$Q$152,15,FALSE)=$C265),0,VLOOKUP($C265,'Sat TT_08'!$C$4:$Q$152,15,FALSE))","v":0},0]
[{"$f":"VLOOKUP(C266,'Sheet 1'!C$1:D$96,2,FALSE)","v":{"$error":"#N/A"}},257,{"$f":"+'[1]Racing numbers file'!$B104","v":"Orla Tansey"},{"$f":"VLOOKUP(C266,'[1]Racing numbers file'!$B$4:$F$290,2,FALSE)","v":1963},{"$f":"VLOOKUP(C266,'[1]Racing numbers file'!$B$4:$F$290,4,FALSE)","v":53},{"$f":"SaturdayHandicapTable[[#This Row],[Points2]]","v":0},{"$f":"IF(ISNA(VLOOKUP($C266,'Sat TT_01'!$C$4:$Q$152,15,FALSE)=$C266),0,VLOOKUP($C266,'Sat TT_01'!$C$4:$Q$152,15,FALSE))","v":0},{"$f":"IF(ISNA(VLOOKUP($C266,'Sat TT_02'!$C$4:$Q$152,15,FALSE)=$C266),0,VLOOKUP($C266,'Sat TT_02'!$C$4:$Q$152,15,FALSE))","v":0},{"$f":"IF(ISNA(VLOOKUP($C266,'Sat TT_03'!$C$4:$Q$152,15,FALSE)=$C266),0,VLOOKUP($C266,'Sat TT_03'!$C$4:$Q$152,15,FALSE))","v":0},{"$f":"IF(ISNA(VLOOKUP($C266,'Sat TT_04'!$C$4:$Q$152,15,FALSE)=$C266),0,VLOOKUP($C266,'Sat TT_04'!$C$4:$Q$152,15,FALSE))","v":0},{"$f":"IF(ISNA(VLOOKUP($C266,'Sat TT_05'!$C$4:$Q$152,15,FALSE)=$C266),0,VLOOKUP($C266,'Sat TT_05'!$C$4:$Q$152,15,FALSE))","v":0},{"$f":"IF(ISNA(VLOOKUP($C266,'Sat TT_06'!$C$4:$Q$152,15,FALSE)=$C266),0,VLOOKUP($C266,'Sat TT_06'!$C$4:$Q$152,15,FALSE))","v":0},{"$f":"IF(ISNA(VLOOKUP($C266,'Sat TT_07'!$C$4:$Q$152,15,FALSE)=$C266),0,VLOOKUP($C266,'Sat TT_07'!$C$4:$Q$152,15,FALSE))","v":0},{"$f":"IF(ISNA(VLOOKUP($C266,'Sat TT_08'!$C$4:$Q$152,15,FALSE)=$C266),0,VLOOKUP($C266,'Sat TT_08'!$C$4:$Q$152,15,FALSE))","v":0},{"$f":"SUM(G266:N266)","v":0}]
[{"$f":"VLOOKUP(C267,'Sheet 1'!C$1:D$96,2,FALSE)","v":1123},258,{"$f":"+'[1]Racing numbers file'!$B59","v":"Colm Cassidy"},{"$f":"VLOOKUP(C267,'[1]Racing numbers file'!$B$4:$F$290,2,FALSE)","v":1957},{"$f":"VLOOKUP(C267,'[1]Racing numbers file'!$B$4:$F$290,4,FALSE)","v":59},{"$f":"SaturdayHandicapTable[[#This Row],[Points2]]","v":0},{"$f":"IF(ISNA(VLOOKUP($C267,'Sat TT_01'!$C$4:$Q$152,15,FALSE)=$C267),0,VLOOKUP($C267,'Sat TT_01'!$C$4:$Q$152,15,FALSE))","v":0},{"$f":"IF(ISNA(VLOOKUP($C267,'Sat TT_02'!$C$4:$Q$152,15,FALSE)=$C267),0,VLOOKUP($C267,'Sat TT_02'!$C$4:$Q$152,15,FALSE))","v":0},{"$f":"IF(ISNA(VLOOKUP($C267,'Sat TT_03'!$C$4:$Q$152,15,FALSE)=$C267),0,VLOOKUP($C267,'Sat TT_03'!$C$4:$Q$152,15,FALSE))","v":0},{"$f":"IF(ISNA(VLOOKUP($C267,'Sat TT_04'!$C$4:$Q$152,15,FALSE)=$C267),0,VLOOKUP($C267,'Sat TT_04'!$C$4:$Q$152,15,FALSE))","v":0},{"$f":"IF(ISNA(VLOOKUP($C267,'Sat TT_05'!$C$4:$Q$152,15,FALSE)=$C267),0,VLOOKUP($C267,'Sat TT_05'!$C$4:$Q$152,15,FALSE))","v":0},{"$f":"IF(ISNA(VLOOKUP($C267,'Sat TT_06'!$C$4:$Q$152,15,FALSE)=$C267),0,VLOOKUP($C267,'Sat TT_06'!$C$4:$Q$152,15,FALSE))","v":0},{"$f":"IF(ISNA(VLOOKUP($C267,'Sat TT_07'!$C$4:$Q$152,15,FALSE)=$C267),0,VLOOKUP($C267,'Sat TT_07'!$C$4:$Q$152,15,FALSE))","v":0},{"$f":"IF(ISNA(VLOOKUP($C267,'Sat TT_08'!$C$4:$Q$152,15,FALSE)=$C267),0,VLOOKUP($C267,'Sat TT_08'!$C$4:$Q$152,15,FALSE))","v":0},0]
[{"$f":"VLOOKUP(C268,'Sheet 1'!C$1:D$96,2,FALSE)","v":1185},259,{"$f":"+'[1]Racing numbers file'!$B91","v":"Noel Thompson"},{"$f":"VLOOKUP(C268,'[1]Racing numbers file'!$B$4:$F$290,2,FALSE)","v":1961},{"$f":"VLOOKUP(C268,'[1]Racing numbers file'!$B$4:$F$290,4,FALSE)","v":55},{"$f":"SaturdayHandicapTable[[#This Row],[Points2]]","v":0},{"$f":"IF(ISNA(VLOOKUP($C268,'Sat TT_01'!$C$4:$Q$152,15,FALSE)=$C268),0,VLOOKUP($C268,'Sat TT_01'!$C$4:$Q$152,15,FALSE))","v":0},{"$f":"IF(ISNA(VLOOKUP($C268,'Sat TT_02'!$C$4:$Q$152,15,FALSE)=$C268),0,VLOOKUP($C268,'Sat TT_02'!$C$4:$Q$152,15,FALSE))","v":0},{"$f":"IF(ISNA(VLOOKUP($C268,'Sat TT_03'!$C$4:$Q$152,15,FALSE)=$C268),0,VLOOKUP($C268,'Sat TT_03'!$C$4:$Q$152,15,FALSE))","v":0},{"$f":"IF(ISNA(VLOOKUP($C268,'Sat TT_04'!$C$4:$Q$152,15,FALSE)=$C268),0,VLOOKUP($C268,'Sat TT_04'!$C$4:$Q$152,15,FALSE))","v":0},{"$f":"IF(ISNA(VLOOKUP($C268,'Sat TT_05'!$C$4:$Q$152,15,FALSE)=$C268),0,VLOOKUP($C268,'Sat TT_05'!$C$4:$Q$152,15,FALSE))","v":0},{"$f":"IF(ISNA(VLOOKUP($C268,'Sat TT_06'!$C$4:$Q$152,15,FALSE)=$C268),0,VLOOKUP($C268,'Sat TT_06'!$C$4:$Q$152,15,FALSE))","v":0},{"$f":"IF(ISNA(VLOOKUP($C268,'Sat TT_07'!$C$4:$Q$152,15,FALSE)=$C268),0,VLOOKUP($C268,'Sat TT_07'!$C$4:$Q$152,15,FALSE))","v":0},{"$f":"IF(ISNA(VLOOKUP($C268,'Sat TT_08'!$C$4:$Q$152,15,FALSE)=$C268),0,VLOOKUP($C268,'Sat TT_08'!$C$4:$Q$152,15,FALSE))","v":0},0]
[{"$f":"VLOOKUP(C269,'Sheet 1'!C$1:D$96,2,FALSE)","v":{"$error":"#N/A"}},260,{"$f":"+'[1]Racing numbers file'!$B234","v":"Mark Colbert"},{"$f":"VLOOKUP(C269,'[1]Racing numbers file'!$B$4:$F$290,2,FALSE)","v":1971},{"$f":"VLOOKUP(C269,'[1]Racing numbers file'!$B$4:$F$290,4,FALSE)","v":45},{"$f":"SaturdayHandicapTable[[#This Row],[Points2]]","v":0},{"$f":"IF(ISNA(VLOOKUP($C269,'Sat TT_01'!$C$4:$Q$152,15,FALSE)=$C269),0,VLOOKUP($C269,'Sat TT_01'!$C$4:$Q$152,15,FALSE))","v":0},{"$f":"IF(ISNA(VLOOKUP($C269,'Sat TT_02'!$C$4:$Q$152,15,FALSE)=$C269),0,VLOOKUP($C269,'Sat TT_02'!$C$4:$Q$152,15,FALSE))","v":0},{"$f":"IF(ISNA(VLOOKUP($C269,'Sat TT_03'!$C$4:$Q$152,15,FALSE)=$C269),0,VLOOKUP($C269,'Sat TT_03'!$C$4:$Q$152,15,FALSE))","v":0},{"$f":"IF(ISNA(VLOOKUP($C269,'Sat TT_04'!$C$4:$Q$152,15,FALSE)=$C269),0,VLOOKUP($C269,'Sat TT_04'!$C$4:$Q$152,15,FALSE))","v":0},{"$f":"IF(ISNA(VLOOKUP($C269,'Sat TT_05'!$C$4:$Q$152,15,FALSE)=$C269),0,VLOOKUP($C269,'Sat TT_05'!$C$4:$Q$152,15,FALSE))","v":0},{"$f":"IF(ISNA(VLOOKUP($C269,'Sat TT_06'!$C$4:$Q$152,15,FALSE)=$C269),0,VLOOKUP($C269,'Sat TT_06'!$C$4:$Q$152,15,FALSE))","v":0},{"$f":"IF(ISNA(VLOOKUP($C269,'Sat TT_07'!$C$4:$Q$152,15,FALSE)=$C269),0,VLOOKUP($C269,'Sat TT_07'!$C$4:$Q$152,15,FALSE))","v":0},{"$f":"IF(ISNA(VLOOKUP($C269,'Sat TT_08'!$C$4:$Q$152,15,FALSE)=$C269),0,VLOOKUP($C269,'Sat TT_08'!$C$4:$Q$152,15,FALSE))","v":0},0]
[{"$f":"VLOOKUP(C270,'Sheet 1'!C$1:D$96,2,FALSE)","v":{"$error":"#N/A"}},261,{"$f":"+'[1]Racing numbers file'!$B209","v":"Seán Connolly"},{"$f":"VLOOKUP(C270,'[1]Racing numbers file'!$B$4:$F$290,2,FALSE)","v":1970},{"$f":"VLOOKUP(C270,'[1]Racing numbers file'!$B$4:$F$290,4,FALSE)","v":46},{"$f":"SaturdayHandicapTable[[#This Row],[Points2]]","v":0},{"$f":"IF(ISNA(VLOOKUP($C270,'Sat TT_01'!$C$4:$Q$152,15,FALSE)=$C270),0,VLOOKUP($C270,'Sat TT_01'!$C$4:$Q$152,15,FALSE))","v":0},{"$f":"IF(ISNA(VLOOKUP($C270,'Sat TT_02'!$C$4:$Q$152,15,FALSE)=$C270),0,VLOOKUP($C270,'Sat TT_02'!$C$4:$Q$152,15,FALSE))","v":0},{"$f":"IF(ISNA(VLOOKUP($C270,'Sat TT_03'!$C$4:$Q$152,15,FALSE)=$C270),0,VLOOKUP($C270,'Sat TT_03'!$C$4:$Q$152,15,FALSE))","v":0},{"$f":"IF(ISNA(VLOOKUP($C270,'Sat TT_04'!$C$4:$Q$152,15,FALSE)=$C270),0,VLOOKUP($C270,'Sat TT_04'!$C$4:$Q$152,15,FALSE))","v":0},{"$f":"IF(ISNA(VLOOKUP($C270,'Sat TT_05'!$C$4:$Q$152,15,FALSE)=$C270),0,VLOOKUP($C270,'Sat TT_05'!$C$4:$Q$152,15,FALSE))","v":0},{"$f":"IF(ISNA(VLOOKUP($C270,'Sat TT_06'!$C$4:$Q$152,15,FALSE)=$C270),0,VLOOKUP($C270,'Sat TT_06'!$C$4:$Q$152,15,FALSE))","v":0},{"$f":"IF(ISNA(VLOOKUP($C270,'Sat TT_07'!$C$4:$Q$152,15,FALSE)=$C270),0,VLOOKUP($C270,'Sat TT_07'!$C$4:$Q$152,15,FALSE))","v":0},{"$f":"IF(ISNA(VLOOKUP($C270,'Sat TT_08'!$C$4:$Q$152,15,FALSE)=$C270),0,VLOOKUP($C270,'Sat TT_08'!$C$4:$Q$152,15,FALSE))","v":0},0]
[{"$f":"VLOOKUP(C271,'Sheet 1'!C$1:D$96,2,FALSE)","v":{"$error":"#N/A"}},262,{"$f":"+'[1]Racing numbers file'!$B246","v":"Giovanni Furlan"},{"$f":"VLOOKUP(C271,'[1]Racing numbers file'!$B$4:$F$290,2,FALSE)","v":1969},{"$f":"VLOOKUP(C271,'[1]Racing numbers file'!$B$4:$F$290,4,FALSE)","v":47},{"$f":"SaturdayHandicapTable[[#This Row],[Points2]]","v":0},{"$f":"IF(ISNA(VLOOKUP($C271,'Sat TT_01'!$C$4:$Q$152,15,FALSE)=$C271),0,VLOOKUP($C271,'Sat TT_01'!$C$4:$Q$152,15,FALSE))","v":0},{"$f":"IF(ISNA(VLOOKUP($C271,'Sat TT_02'!$C$4:$Q$152,15,FALSE)=$C271),0,VLOOKUP($C271,'Sat TT_02'!$C$4:$Q$152,15,FALSE))","v":0},{"$f":"IF(ISNA(VLOOKUP($C271,'Sat TT_03'!$C$4:$Q$152,15,FALSE)=$C271),0,VLOOKUP($C271,'Sat TT_03'!$C$4:$Q$152,15,FALSE))","v":0},{"$f":"IF(ISNA(VLOOKUP($C271,'Sat TT_04'!$C$4:$Q$152,15,FALSE)=$C271),0,VLOOKUP($C271,'Sat TT_04'!$C$4:$Q$152,15,FALSE))","v":0},{"$f":"IF(ISNA(VLOOKUP($C271,'Sat TT_05'!$C$4:$Q$152,15,FALSE)=$C271),0,VLOOKUP($C271,'Sat TT_05'!$C$4:$Q$152,15,FALSE))","v":0},{"$f":"IF(ISNA(VLOOKUP($C271,'Sat TT_06'!$C$4:$Q$152,15,FALSE)=$C271),0,VLOOKUP($C271,'Sat TT_06'!$C$4:$Q$152,15,FALSE))","v":0},{"$f":"IF(ISNA(VLOOKUP($C271,'Sat TT_07'!$C$4:$Q$152,15,FALSE)=$C271),0,VLOOKUP($C271,'Sat TT_07'!$C$4:$Q$152,15,FALSE))","v":0},{"$f":"IF(ISNA(VLOOKUP($C271,'Sat TT_08'!$C$4:$Q$152,15,FALSE)=$C271),0,VLOOKUP($C271,'Sat TT_08'!$C$4:$Q$152,15,FALSE))","v":0},0]
[{"$f":"VLOOKUP(C272,'Sheet 1'!C$1:D$96,2,FALSE)","v":{"$error":"#N/A"}},263,{"$f":"+'[1]Racing numbers file'!$B258","v":"Ken Nelson"},{"$f":"VLOOKUP(C272,'[1]Racing numbers file'!$B$4:$F$290,2,FALSE)","v":1972},{"$f":"VLOOKUP(C272,'[1]Racing numbers file'!$B$4:$F$290,4,FALSE)","v":44},{"$f":"SaturdayHandicapTable[[#This Row],[Points2]]","v":0},{"$f":"IF(ISNA(VLOOKUP($C272,'Sat TT_01'!$C$4:$Q$152,15,FALSE)=$C272),0,VLOOKUP($C272,'Sat TT_01'!$C$4:$Q$152,15,FALSE))","v":0},{"$f":"IF(ISNA(VLOOKUP($C272,'Sat TT_02'!$C$4:$Q$152,15,FALSE)=$C272),0,VLOOKUP($C272,'Sat TT_02'!$C$4:$Q$152,15,FALSE))","v":0},{"$f":"IF(ISNA(VLOOKUP($C272,'Sat TT_03'!$C$4:$Q$152,15,FALSE)=$C272),0,VLOOKUP($C272,'Sat TT_03'!$C$4:$Q$152,15,FALSE))","v":0},{"$f":"IF(ISNA(VLOOKUP($C272,'Sat TT_04'!$C$4:$Q$152,15,FALSE)=$C272),0,VLOOKUP($C272,'Sat TT_04'!$C$4:$Q$152,15,FALSE))","v":0},{"$f":"IF(ISNA(VLOOKUP($C272,'Sat TT_05'!$C$4:$Q$152,15,FALSE)=$C272),0,VLOOKUP($C272,'Sat TT_05'!$C$4:$Q$152,15,FALSE))","v":0},{"$f":"IF(ISNA(VLOOKUP($C272,'Sat TT_06'!$C$4:$Q$152,15,FALSE)=$C272),0,VLOOKUP($C272,'Sat TT_06'!$C$4:$Q$152,15,FALSE))","v":0},{"$f":"IF(ISNA(VLOOKUP($C272,'Sat TT_07'!$C$4:$Q$152,15,FALSE)=$C272),0,VLOOKUP($C272,'Sat TT_07'!$C$4:$Q$152,15,FALSE))","v":0},{"$f":"IF(ISNA(VLOOKUP($C272,'Sat TT_08'!$C$4:$Q$152,15,FALSE)=$C272),0,VLOOKUP($C272,'Sat TT_08'!$C$4:$Q$152,15,FALSE))","v":0},0]
[{"$f":"VLOOKUP(C273,'Sheet 1'!C$1:D$96,2,FALSE)","v":{"$error":"#N/A"}},264,{"$f":"+'[1]Racing numbers file'!$B256","v":"Mark Mahon"},{"$f":"VLOOKUP(C273,'[1]Racing numbers file'!$B$4:$F$290,2,FALSE)","v":1973},{"$f":"VLOOKUP(C273,'[1]Racing numbers file'!$B$4:$F$290,4,FALSE)","v":43},{"$f":"SaturdayHandicapTable[[#This Row],[Points2]]","v":0},{"$f":"IF(ISNA(VLOOKUP($C273,'Sat TT_01'!$C$4:$Q$152,15,FALSE)=$C273),0,VLOOKUP($C273,'Sat TT_01'!$C$4:$Q$152,15,FALSE))","v":0},{"$f":"IF(ISNA(VLOOKUP($C273,'Sat TT_02'!$C$4:$Q$152,15,FALSE)=$C273),0,VLOOKUP($C273,'Sat TT_02'!$C$4:$Q$152,15,FALSE))","v":0},{"$f":"IF(ISNA(VLOOKUP($C273,'Sat TT_03'!$C$4:$Q$152,15,FALSE)=$C273),0,VLOOKUP($C273,'Sat TT_03'!$C$4:$Q$152,15,FALSE))","v":0},{"$f":"IF(ISNA(VLOOKUP($C273,'Sat TT_04'!$C$4:$Q$152,15,FALSE)=$C273),0,VLOOKUP($C273,'Sat TT_04'!$C$4:$Q$152,15,FALSE))","v":0},{"$f":"IF(ISNA(VLOOKUP($C273,'Sat TT_05'!$C$4:$Q$152,15,FALSE)=$C273),0,VLOOKUP($C273,'Sat TT_05'!$C$4:$Q$152,15,FALSE))","v":0},{"$f":"IF(ISNA(VLOOKUP($C273,'Sat TT_06'!$C$4:$Q$152,15,FALSE)=$C273),0,VLOOKUP($C273,'Sat TT_06'!$C$4:$Q$152,15,FALSE))","v":0},{"$f":"IF(ISNA(VLOOKUP($C273,'Sat TT_07'!$C$4:$Q$152,15,FALSE)=$C273),0,VLOOKUP($C273,'Sat TT_07'!$C$4:$Q$152,15,FALSE))","v":0},{"$f":"IF(ISNA(VLOOKUP($C273,'Sat TT_08'!$C$4:$Q$152,15,FALSE)=$C273),0,VLOOKUP($C273,'Sat TT_08'!$C$4:$Q$152,15,FALSE))","v":0},0]
[{"$f":"VLOOKUP(C274,'Sheet 1'!C$1:D$96,2,FALSE)","v":{"$error":"#N/A"}},265,{"$f":"+'[1]Racing numbers file'!$B85","v":"Leslie Walpole"},{"$f":"VLOOKUP(C274,'[1]Racing numbers file'!$B$4:$F$290,2,FALSE)","v":1961},{"$f":"VLOOKUP(C274,'[1]Racing numbers file'!$B$4:$F$290,4,FALSE)","v":55},{"$f":"SaturdayHandicapTable[[#This Row],[Points2]]","v":0},{"$f":"IF(ISNA(VLOOKUP($C274,'Sat TT_01'!$C$4:$Q$152,15,FALSE)=$C274),0,VLOOKUP($C274,'Sat TT_01'!$C$4:$Q$152,15,FALSE))","v":0},{"$f":"IF(ISNA(VLOOKUP($C274,'Sat TT_02'!$C$4:$Q$152,15,FALSE)=$C274),0,VLOOKUP($C274,'Sat TT_02'!$C$4:$Q$152,15,FALSE))","v":0},{"$f":"IF(ISNA(VLOOKUP($C274,'Sat TT_03'!$C$4:$Q$152,15,FALSE)=$C274),0,VLOOKUP($C274,'Sat TT_03'!$C$4:$Q$152,15,FALSE))","v":0},{"$f":"IF(ISNA(VLOOKUP($C274,'Sat TT_04'!$C$4:$Q$152,15,FALSE)=$C274),0,VLOOKUP($C274,'Sat TT_04'!$C$4:$Q$152,15,FALSE))","v":0},{"$f":"IF(ISNA(VLOOKUP($C274,'Sat TT_05'!$C$4:$Q$152,15,FALSE)=$C274),0,VLOOKUP($C274,'Sat TT_05'!$C$4:$Q$152,15,FALSE))","v":0},{"$f":"IF(ISNA(VLOOKUP($C274,'Sat TT_06'!$C$4:$Q$152,15,FALSE)=$C274),0,VLOOKUP($C274,'Sat TT_06'!$C$4:$Q$152,15,FALSE))","v":0},{"$f":"IF(ISNA(VLOOKUP($C274,'Sat TT_07'!$C$4:$Q$152,15,FALSE)=$C274),0,VLOOKUP($C274,'Sat TT_07'!$C$4:$Q$152,15,FALSE))","v":0},{"$f":"IF(ISNA(VLOOKUP($C274,'Sat TT_08'!$C$4:$Q$152,15,FALSE)=$C274),0,VLOOKUP($C274,'Sat TT_08'!$C$4:$Q$152,15,FALSE))","v":0},0]
[{"$f":"VLOOKUP(C275,'Sheet 1'!C$1:D$96,2,FALSE)","v":1197},266,{"$f":"+'[1]Racing numbers file'!$B98","v":"Dermot Moyne"},{"$f":"VLOOKUP(C275,'[1]Racing numbers file'!$B$4:$F$290,2,FALSE)","v":1962},{"$f":"VLOOKUP(C275,'[1]Racing numbers file'!$B$4:$F$290,4,FALSE)","v":54},{"$f":"SaturdayHandicapTable[[#This Row],[Points2]]","v":0},{"$f":"IF(ISNA(VLOOKUP($C275,'Sat TT_01'!$C$4:$Q$152,15,FALSE)=$C275),0,VLOOKUP($C275,'Sat TT_01'!$C$4:$Q$152,15,FALSE))","v":0},{"$f":"IF(ISNA(VLOOKUP($C275,'Sat TT_02'!$C$4:$Q$152,15,FALSE)=$C275),0,VLOOKUP($C275,'Sat TT_02'!$C$4:$Q$152,15,FALSE))","v":0},{"$f":"IF(ISNA(VLOOKUP($C275,'Sat TT_03'!$C$4:$Q$152,15,FALSE)=$C275),0,VLOOKUP($C275,'Sat TT_03'!$C$4:$Q$152,15,FALSE))","v":0},{"$f":"IF(ISNA(VLOOKUP($C275,'Sat TT_04'!$C$4:$Q$152,15,FALSE)=$C275),0,VLOOKUP($C275,'Sat TT_04'!$C$4:$Q$152,15,FALSE))","v":0},{"$f":"IF(ISNA(VLOOKUP($C275,'Sat TT_05'!$C$4:$Q$152,15,FALSE)=$C275),0,VLOOKUP($C275,'Sat TT_05'!$C$4:$Q$152,15,FALSE))","v":0},{"$f":"IF(ISNA(VLOOKUP($C275,'Sat TT_06'!$C$4:$Q$152,15,FALSE)=$C275),0,VLOOKUP($C275,'Sat TT_06'!$C$4:$Q$152,15,FALSE))","v":0},{"$f":"IF(ISNA(VLOOKUP($C275,'Sat TT_07'!$C$4:$Q$152,15,FALSE)=$C275),0,VLOOKUP($C275,'Sat TT_07'!$C$4:$Q$152,15,FALSE))","v":0},{"$f":"IF(ISNA(VLOOKUP($C275,'Sat TT_08'!$C$4:$Q$152,15,FALSE)=$C275),0,VLOOKUP($C275,'Sat TT_08'!$C$4:$Q$152,15,FALSE))","v":0},0]
[{"$f":"VLOOKUP(C276,'Sheet 1'!C$1:D$96,2,FALSE)","v":{"$error":"#N/A"}},267,{"$f":"+'[1]Racing numbers file'!$B103","v":"John Walsh"},{"$f":"VLOOKUP(C276,'[1]Racing numbers file'!$B$4:$F$290,2,FALSE)","v":1963},{"$f":"VLOOKUP(C276,'[1]Racing numbers file'!$B$4:$F$290,4,FALSE)","v":53},{"$f":"SaturdayHandicapTable[[#This Row],[Points2]]","v":0},{"$f":"IF(ISNA(VLOOKUP($C276,'Sat TT_01'!$C$4:$Q$152,15,FALSE)=$C276),0,VLOOKUP($C276,'Sat TT_01'!$C$4:$Q$152,15,FALSE))","v":0},{"$f":"IF(ISNA(VLOOKUP($C276,'Sat TT_02'!$C$4:$Q$152,15,FALSE)=$C276),0,VLOOKUP($C276,'Sat TT_02'!$C$4:$Q$152,15,FALSE))","v":0},{"$f":"IF(ISNA(VLOOKUP($C276,'Sat TT_03'!$C$4:$Q$152,15,FALSE)=$C276),0,VLOOKUP($C276,'Sat TT_03'!$C$4:$Q$152,15,FALSE))","v":0},{"$f":"IF(ISNA(VLOOKUP($C276,'Sat TT_04'!$C$4:$Q$152,15,FALSE)=$C276),0,VLOOKUP($C276,'Sat TT_04'!$C$4:$Q$152,15,FALSE))","v":0},{"$f":"IF(ISNA(VLOOKUP($C276,'Sat TT_05'!$C$4:$Q$152,15,FALSE)=$C276),0,VLOOKUP($C276,'Sat TT_05'!$C$4:$Q$152,15,FALSE))","v":0},{"$f":"IF(ISNA(VLOOKUP($C276,'Sat TT_06'!$C$4:$Q$152,15,FALSE)=$C276),0,VLOOKUP($C276,'Sat TT_06'!$C$4:$Q$152,15,FALSE))","v":0},{"$f":"IF(ISNA(VLOOKUP($C276,'Sat TT_07'!$C$4:$Q$152,15,FALSE)=$C276),0,VLOOKUP($C276,'Sat TT_07'!$C$4:$Q$152,15,FALSE))","v":0},{"$f":"IF(ISNA(VLOOKUP($C276,'Sat TT_08'!$C$4:$Q$152,15,FALSE)=$C276),0,VLOOKUP($C276,'Sat TT_08'!$C$4:$Q$152,15,FALSE))","v":0},0]
[{"$f":"VLOOKUP(C277,'Sheet 1'!C$1:D$96,2,FALSE)","v":{"$error":"#N/A"}},268,{"$f":"+'[1]Racing numbers file'!$B145","v":"Matthew Chell"},{"$f":"VLOOKUP(C277,'[1]Racing numbers file'!$B$4:$F$290,2,FALSE)","v":1968},{"$f":"VLOOKUP(C277,'[1]Racing numbers file'!$B$4:$F$290,4,FALSE)","v":48},{"$f":"SaturdayHandicapTable[[#This Row],[Points2]]","v":0},{"$f":"IF(ISNA(VLOOKUP($C277,'Sat TT_01'!$C$4:$Q$152,15,FALSE)=$C277),0,VLOOKUP($C277,'Sat TT_01'!$C$4:$Q$152,15,FALSE))","v":0},{"$f":"IF(ISNA(VLOOKUP($C277,'Sat TT_02'!$C$4:$Q$152,15,FALSE)=$C277),0,VLOOKUP($C277,'Sat TT_02'!$C$4:$Q$152,15,FALSE))","v":0},{"$f":"IF(ISNA(VLOOKUP($C277,'Sat TT_03'!$C$4:$Q$152,15,FALSE)=$C277),0,VLOOKUP($C277,'Sat TT_03'!$C$4:$Q$152,15,FALSE))","v":0},{"$f":"IF(ISNA(VLOOKUP($C277,'Sat TT_04'!$C$4:$Q$152,15,FALSE)=$C277),0,VLOOKUP($C277,'Sat TT_04'!$C$4:$Q$152,15,FALSE))","v":0},{"$f":"IF(ISNA(VLOOKUP($C277,'Sat TT_05'!$C$4:$Q$152,15,FALSE)=$C277),0,VLOOKUP($C277,'Sat TT_05'!$C$4:$Q$152,15,FALSE))","v":0},{"$f":"IF(ISNA(VLOOKUP($C277,'Sat TT_06'!$C$4:$Q$152,15,FALSE)=$C277),0,VLOOKUP($C277,'Sat TT_06'!$C$4:$Q$152,15,FALSE))","v":0},{"$f":"IF(ISNA(VLOOKUP($C277,'Sat TT_07'!$C$4:$Q$152,15,FALSE)=$C277),0,VLOOKUP($C277,'Sat TT_07'!$C$4:$Q$152,15,FALSE))","v":0},{"$f":"IF(ISNA(VLOOKUP($C277,'Sat TT_08'!$C$4:$Q$152,15,FALSE)=$C277),0,VLOOKUP($C277,'Sat TT_08'!$C$4:$Q$152,15,FALSE))","v":0},0]
[{"$f":"VLOOKUP(C278,'Sheet 1'!C$1:D$96,2,FALSE)","v":{"$error":"#N/A"}},269,{"$f":"+'[1]Racing numbers file'!$B86","v":"Ned Costello"},{"$f":"VLOOKUP(C278,'[1]Racing numbers file'!$B$4:$F$290,2,FALSE)","v":1961},{"$f":"VLOOKUP(C278,'[1]Racing numbers file'!$B$4:$F$290,4,FALSE)","v":55},{"$f":"SaturdayHandicapTable[[#This Row],[Points2]]","v":0},{"$f":"IF(ISNA(VLOOKUP($C278,'Sat TT_01'!$C$4:$Q$152,15,FALSE)=$C278),0,VLOOKUP($C278,'Sat TT_01'!$C$4:$Q$152,15,FALSE))","v":0},{"$f":"IF(ISNA(VLOOKUP($C278,'Sat TT_02'!$C$4:$Q$152,15,FALSE)=$C278),0,VLOOKUP($C278,'Sat TT_02'!$C$4:$Q$152,15,FALSE))","v":0},{"$f":"IF(ISNA(VLOOKUP($C278,'Sat TT_03'!$C$4:$Q$152,15,FALSE)=$C278),0,VLOOKUP($C278,'Sat TT_03'!$C$4:$Q$152,15,FALSE))","v":0},{"$f":"IF(ISNA(VLOOKUP($C278,'Sat TT_04'!$C$4:$Q$152,15,FALSE)=$C278),0,VLOOKUP($C278,'Sat TT_04'!$C$4:$Q$152,15,FALSE))","v":0},{"$f":"IF(ISNA(VLOOKUP($C278,'Sat TT_05'!$C$4:$Q$152,15,FALSE)=$C278),0,VLOOKUP($C278,'Sat TT_05'!$C$4:$Q$152,15,FALSE))","v":0},{"$f":"IF(ISNA(VLOOKUP($C278,'Sat TT_06'!$C$4:$Q$152,15,FALSE)=$C278),0,VLOOKUP($C278,'Sat TT_06'!$C$4:$Q$152,15,FALSE))","v":0},{"$f":"IF(ISNA(VLOOKUP($C278,'Sat TT_07'!$C$4:$Q$152,15,FALSE)=$C278),0,VLOOKUP($C278,'Sat TT_07'!$C$4:$Q$152,15,FALSE))","v":0},{"$f":"IF(ISNA(VLOOKUP($C278,'Sat TT_08'!$C$4:$Q$152,15,FALSE)=$C278),0,VLOOKUP($C278,'Sat TT_08'!$C$4:$Q$152,15,FALSE))","v":0},0]
[{"$f":"VLOOKUP(C279,'Sheet 1'!C$1:D$96,2,FALSE)","v":{"$error":"#N/A"}},270,{"$f":"+'[1]Racing numbers file'!$B220","v":"John Kinehan"},{"$f":"VLOOKUP(C279,'[1]Racing numbers file'!$B$4:$F$290,2,FALSE)","v":1969},{"$f":"VLOOKUP(C279,'[1]Racing numbers file'!$B$4:$F$290,4,FALSE)","v":47},{"$f":"SaturdayHandicapTable[[#This Row],[Points2]]","v":0},{"$f":"IF(ISNA(VLOOKUP($C279,'Sat TT_01'!$C$4:$Q$152,15,FALSE)=$C279),0,VLOOKUP($C279,'Sat TT_01'!$C$4:$Q$152,15,FALSE))","v":0},{"$f":"IF(ISNA(VLOOKUP($C279,'Sat TT_02'!$C$4:$Q$152,15,FALSE)=$C279),0,VLOOKUP($C279,'Sat TT_02'!$C$4:$Q$152,15,FALSE))","v":0},{"$f":"IF(ISNA(VLOOKUP($C279,'Sat TT_03'!$C$4:$Q$152,15,FALSE)=$C279),0,VLOOKUP($C279,'Sat TT_03'!$C$4:$Q$152,15,FALSE))","v":0},{"$f":"IF(ISNA(VLOOKUP($C279,'Sat TT_04'!$C$4:$Q$152,15,FALSE)=$C279),0,VLOOKUP($C279,'Sat TT_04'!$C$4:$Q$152,15,FALSE))","v":0},{"$f":"IF(ISNA(VLOOKUP($C279,'Sat TT_05'!$C$4:$Q$152,15,FALSE)=$C279),0,VLOOKUP($C279,'Sat TT_05'!$C$4:$Q$152,15,FALSE))","v":0},{"$f":"IF(ISNA(VLOOKUP($C279,'Sat TT_06'!$C$4:$Q$152,15,FALSE)=$C279),0,VLOOKUP($C279,'Sat TT_06'!$C$4:$Q$152,15,FALSE))","v":0},{"$f":"IF(ISNA(VLOOKUP($C279,'Sat TT_07'!$C$4:$Q$152,15,FALSE)=$C279),0,VLOOKUP($C279,'Sat TT_07'!$C$4:$Q$152,15,FALSE))","v":0},{"$f":"IF(ISNA(VLOOKUP($C279,'Sat TT_08'!$C$4:$Q$152,15,FALSE)=$C279),0,VLOOKUP($C279,'Sat TT_08'!$C$4:$Q$152,15,FALSE))","v":0},0]
[{"$f":"VLOOKUP(C280,'Sheet 1'!C$1:D$96,2,FALSE)","v":{"$error":"#N/A"}},271,{"$f":"+'[1]Racing numbers file'!$B42","v":"Ronnie Howe"},{"$f":"VLOOKUP(C280,'[1]Racing numbers file'!$B$4:$F$290,2,FALSE)","v":1953},{"$f":"VLOOKUP(C280,'[1]Racing numbers file'!$B$4:$F$290,4,FALSE)","v":63},{"$f":"SaturdayHandicapTable[[#This Row],[Points2]]","v":0},{"$f":"IF(ISNA(VLOOKUP($C280,'Sat TT_01'!$C$4:$Q$152,15,FALSE)=$C280),0,VLOOKUP($C280,'Sat TT_01'!$C$4:$Q$152,15,FALSE))","v":0},{"$f":"IF(ISNA(VLOOKUP($C280,'Sat TT_02'!$C$4:$Q$152,15,FALSE)=$C280),0,VLOOKUP($C280,'Sat TT_02'!$C$4:$Q$152,15,FALSE))","v":0},{"$f":"IF(ISNA(VLOOKUP($C280,'Sat TT_03'!$C$4:$Q$152,15,FALSE)=$C280),0,VLOOKUP($C280,'Sat TT_03'!$C$4:$Q$152,15,FALSE))","v":0},{"$f":"IF(ISNA(VLOOKUP($C280,'Sat TT_04'!$C$4:$Q$152,15,FALSE)=$C280),0,VLOOKUP($C280,'Sat TT_04'!$C$4:$Q$152,15,FALSE))","v":0},{"$f":"IF(ISNA(VLOOKUP($C280,'Sat TT_05'!$C$4:$Q$152,15,FALSE)=$C280),0,VLOOKUP($C280,'Sat TT_05'!$C$4:$Q$152,15,FALSE))","v":0},{"$f":"IF(ISNA(VLOOKUP($C280,'Sat TT_06'!$C$4:$Q$152,15,FALSE)=$C280),0,VLOOKUP($C280,'Sat TT_06'!$C$4:$Q$152,15,FALSE))","v":0},{"$f":"IF(ISNA(VLOOKUP($C280,'Sat TT_07'!$C$4:$Q$152,15,FALSE)=$C280),0,VLOOKUP($C280,'Sat TT_07'!$C$4:$Q$152,15,FALSE))","v":0},{"$f":"IF(ISNA(VLOOKUP($C280,'Sat TT_08'!$C$4:$Q$152,15,FALSE)=$C280),0,VLOOKUP($C280,'Sat TT_08'!$C$4:$Q$152,15,FALSE))","v":0},0]
[null,272,{"$f":"+'[1]Racing numbers file'!$B281","v":"David MacNeaney"},{"$f":"VLOOKUP(C281,'[1]Racing numbers file'!$B$4:$F$290,2,FALSE)","v":1969},{"$f":"VLOOKUP(C281,'[1]Racing numbers file'!$B$4:$F$290,4,FALSE)","v":47},{"$f":"SaturdayHandicapTable[[#This Row],[Points2]]","v":0},{"$f":"IF(ISNA(VLOOKUP($C281,'Sat TT_01'!$C$4:$Q$152,15,FALSE)=$C281),0,VLOOKUP($C281,'Sat TT_01'!$C$4:$Q$152,15,FALSE))","v":0},{"$f":"IF(ISNA(VLOOKUP($C281,'Sat TT_02'!$C$4:$Q$152,15,FALSE)=$C281),0,VLOOKUP($C281,'Sat TT_02'!$C$4:$Q$152,15,FALSE))","v":0},{"$f":"IF(ISNA(VLOOKUP($C281,'Sat TT_03'!$C$4:$Q$152,15,FALSE)=$C281),0,VLOOKUP($C281,'Sat TT_03'!$C$4:$Q$152,15,FALSE))","v":0},{"$f":"IF(ISNA(VLOOKUP($C281,'Sat TT_04'!$C$4:$Q$152,15,FALSE)=$C281),0,VLOOKUP($C281,'Sat TT_04'!$C$4:$Q$152,15,FALSE))","v":0},{"$f":"IF(ISNA(VLOOKUP($C281,'Sat TT_05'!$C$4:$Q$152,15,FALSE)=$C281),0,VLOOKUP($C281,'Sat TT_05'!$C$4:$Q$152,15,FALSE))","v":0},{"$f":"IF(ISNA(VLOOKUP($C281,'Sat TT_06'!$C$4:$Q$152,15,FALSE)=$C281),0,VLOOKUP($C281,'Sat TT_06'!$C$4:$Q$152,15,FALSE))","v":0},{"$f":"IF(ISNA(VLOOKUP($C281,'Sat TT_07'!$C$4:$Q$152,15,FALSE)=$C281),0,VLOOKUP($C281,'Sat TT_07'!$C$4:$Q$152,15,FALSE))","v":0},{"$f":"IF(ISNA(VLOOKUP($C281,'Sat TT_08'!$C$4:$Q$152,15,FALSE)=$C281),0,VLOOKUP($C281,'Sat TT_08'!$C$4:$Q$152,15,FALSE))","v":0},0]
[null,273,{"$f":"+'[1]Racing numbers file'!$B282","v":"Paul McKenna"},{"$f":"VLOOKUP(C282,'[1]Racing numbers file'!$B$4:$F$290,2,FALSE)","v":1976},{"$f":"VLOOKUP(C282,'[1]Racing numbers file'!$B$4:$F$290,4,FALSE)","v":40},{"$f":"SaturdayHandicapTable[[#This Row],[Points2]]","v":0},{"$f":"IF(ISNA(VLOOKUP($C282,'Sat TT_01'!$C$4:$Q$152,15,FALSE)=$C282),0,VLOOKUP($C282,'Sat TT_01'!$C$4:$Q$152,15,FALSE))","v":0},{"$f":"IF(ISNA(VLOOKUP($C282,'Sat TT_02'!$C$4:$Q$152,15,FALSE)=$C282),0,VLOOKUP($C282,'Sat TT_02'!$C$4:$Q$152,15,FALSE))","v":0},{"$f":"IF(ISNA(VLOOKUP($C282,'Sat TT_03'!$C$4:$Q$152,15,FALSE)=$C282),0,VLOOKUP($C282,'Sat TT_03'!$C$4:$Q$152,15,FALSE))","v":0},{"$f":"IF(ISNA(VLOOKUP($C282,'Sat TT_04'!$C$4:$Q$152,15,FALSE)=$C282),0,VLOOKUP($C282,'Sat TT_04'!$C$4:$Q$152,15,FALSE))","v":0},{"$f":"IF(ISNA(VLOOKUP($C282,'Sat TT_05'!$C$4:$Q$152,15,FALSE)=$C282),0,VLOOKUP($C282,'Sat TT_05'!$C$4:$Q$152,15,FALSE))","v":0},{"$f":"IF(ISNA(VLOOKUP($C282,'Sat TT_06'!$C$4:$Q$152,15,FALSE)=$C282),0,VLOOKUP($C282,'Sat TT_06'!$C$4:$Q$152,15,FALSE))","v":0},{"$f":"IF(ISNA(VLOOKUP($C282,'Sat TT_07'!$C$4:$Q$152,15,FALSE)=$C282),0,VLOOKUP($C282,'Sat TT_07'!$C$4:$Q$152,15,FALSE))","v":0},{"$f":"IF(ISNA(VLOOKUP($C282,'Sat TT_08'!$C$4:$Q$152,15,FALSE)=$C282),0,VLOOKUP($C282,'Sat TT_08'!$C$4:$Q$152,15,FALSE))","v":0},0]
[null,274,{"$f":"+'[1]Racing numbers file'!$B283","v":"Daragh O'Toole"},{"$f":"VLOOKUP(C283,'[1]Racing numbers file'!$B$4:$F$290,2,FALSE)","v":1970},{"$f":"VLOOKUP(C283,'[1]Racing numbers file'!$B$4:$F$290,4,FALSE)","v":46},{"$f":"SaturdayHandicapTable[[#This Row],[Points2]]","v":0},{"$f":"IF(ISNA(VLOOKUP($C283,'Sat TT_01'!$C$4:$Q$152,15,FALSE)=$C283),0,VLOOKUP($C283,'Sat TT_01'!$C$4:$Q$152,15,FALSE))","v":0},{"$f":"IF(ISNA(VLOOKUP($C283,'Sat TT_02'!$C$4:$Q$152,15,FALSE)=$C283),0,VLOOKUP($C283,'Sat TT_02'!$C$4:$Q$152,15,FALSE))","v":0},{"$f":"IF(ISNA(VLOOKUP($C283,'Sat TT_03'!$C$4:$Q$152,15,FALSE)=$C283),0,VLOOKUP($C283,'Sat TT_03'!$C$4:$Q$152,15,FALSE))","v":0},{"$f":"IF(ISNA(VLOOKUP($C283,'Sat TT_04'!$C$4:$Q$152,15,FALSE)=$C283),0,VLOOKUP($C283,'Sat TT_04'!$C$4:$Q$152,15,FALSE))","v":0},{"$f":"IF(ISNA(VLOOKUP($C283,'Sat TT_05'!$C$4:$Q$152,15,FALSE)=$C283),0,VLOOKUP($C283,'Sat TT_05'!$C$4:$Q$152,15,FALSE))","v":0},{"$f":"IF(ISNA(VLOOKUP($C283,'Sat TT_06'!$C$4:$Q$152,15,FALSE)=$C283),0,VLOOKUP($C283,'Sat TT_06'!$C$4:$Q$152,15,FALSE))","v":0},{"$f":"IF(ISNA(VLOOKUP($C283,'Sat TT_07'!$C$4:$Q$152,15,FALSE)=$C283),0,VLOOKUP($C283,'Sat TT_07'!$C$4:$Q$152,15,FALSE))","v":0},{"$f":"IF(ISNA(VLOOKUP($C283,'Sat TT_08'!$C$4:$Q$152,15,FALSE)=$C283),0,VLOOKUP($C283,'Sat TT_08'!$C$4:$Q$152,15,FALSE))","v":0},0]
[null,275,{"$f":"+'[1]Racing numbers file'!$B284","v":"Tom Cummins"},{"$f":"VLOOKUP(C284,'[1]Racing numbers file'!$B$4:$F$290,2,FALSE)","v":1974},{"$f":"VLOOKUP(C284,'[1]Racing numbers file'!$B$4:$F$290,4,FALSE)","v":42},{"$f":"SaturdayHandicapTable[[#This Row],[Points2]]","v":0},{"$f":"IF(ISNA(VLOOKUP($C284,'Sat TT_01'!$C$4:$Q$152,15,FALSE)=$C284),0,VLOOKUP($C284,'Sat TT_01'!$C$4:$Q$152,15,FALSE))","v":0},{"$f":"IF(ISNA(VLOOKUP($C284,'Sat TT_02'!$C$4:$Q$152,15,FALSE)=$C284),0,VLOOKUP($C284,'Sat TT_02'!$C$4:$Q$152,15,FALSE))","v":0},{"$f":"IF(ISNA(VLOOKUP($C284,'Sat TT_03'!$C$4:$Q$152,15,FALSE)=$C284),0,VLOOKUP($C284,'Sat TT_03'!$C$4:$Q$152,15,FALSE))","v":0},{"$f":"IF(ISNA(VLOOKUP($C284,'Sat TT_04'!$C$4:$Q$152,15,FALSE)=$C284),0,VLOOKUP($C284,'Sat TT_04'!$C$4:$Q$152,15,FALSE))","v":0},{"$f":"IF(ISNA(VLOOKUP($C284,'Sat TT_05'!$C$4:$Q$152,15,FALSE)=$C284),0,VLOOKUP($C284,'Sat TT_05'!$C$4:$Q$152,15,FALSE))","v":0},{"$f":"IF(ISNA(VLOOKUP($C284,'Sat TT_06'!$C$4:$Q$152,15,FALSE)=$C284),0,VLOOKUP($C284,'Sat TT_06'!$C$4:$Q$152,15,FALSE))","v":0},{"$f":"IF(ISNA(VLOOKUP($C284,'Sat TT_07'!$C$4:$Q$152,15,FALSE)=$C284),0,VLOOKUP($C284,'Sat TT_07'!$C$4:$Q$152,15,FALSE))","v":0},{"$f":"IF(ISNA(VLOOKUP($C284,'Sat TT_08'!$C$4:$Q$152,15,FALSE)=$C284),0,VLOOKUP($C284,'Sat TT_08'!$C$4:$Q$152,15,FALSE))","v":0}]
[null,276,{"$f":"+'[1]Racing numbers file'!$B285","v":"John Kehoe"},{"$f":"VLOOKUP(C285,'[1]Racing numbers file'!$B$4:$F$290,2,FALSE)","v":1969},{"$f":"VLOOKUP(C285,'[1]Racing numbers file'!$B$4:$F$290,4,FALSE)","v":47},{"$f":"SaturdayHandicapTable[[#This Row],[Points2]]","v":0},{"$f":"IF(ISNA(VLOOKUP($C285,'Sat TT_01'!$C$4:$Q$152,15,FALSE)=$C285),0,VLOOKUP($C285,'Sat TT_01'!$C$4:$Q$152,15,FALSE))","v":0},{"$f":"IF(ISNA(VLOOKUP($C285,'Sat TT_02'!$C$4:$Q$152,15,FALSE)=$C285),0,VLOOKUP($C285,'Sat TT_02'!$C$4:$Q$152,15,FALSE))","v":0},{"$f":"IF(ISNA(VLOOKUP($C285,'Sat TT_03'!$C$4:$Q$152,15,FALSE)=$C285),0,VLOOKUP($C285,'Sat TT_03'!$C$4:$Q$152,15,FALSE))","v":0},{"$f":"IF(ISNA(VLOOKUP($C285,'Sat TT_04'!$C$4:$Q$152,15,FALSE)=$C285),0,VLOOKUP($C285,'Sat TT_04'!$C$4:$Q$152,15,FALSE))","v":0},{"$f":"IF(ISNA(VLOOKUP($C285,'Sat TT_05'!$C$4:$Q$152,15,FALSE)=$C285),0,VLOOKUP($C285,'Sat TT_05'!$C$4:$Q$152,15,FALSE))","v":0},{"$f":"IF(ISNA(VLOOKUP($C285,'Sat TT_06'!$C$4:$Q$152,15,FALSE)=$C285),0,VLOOKUP($C285,'Sat TT_06'!$C$4:$Q$152,15,FALSE))","v":0},{"$f":"IF(ISNA(VLOOKUP($C285,'Sat TT_07'!$C$4:$Q$152,15,FALSE)=$C285),0,VLOOKUP($C285,'Sat TT_07'!$C$4:$Q$152,15,FALSE))","v":0},{"$f":"IF(ISNA(VLOOKUP($C285,'Sat TT_08'!$C$4:$Q$152,15,FALSE)=$C285),0,VLOOKUP($C285,'Sat TT_08'!$C$4:$Q$152,15,FALSE))","v":0}]
[null,277,{"$f":"+'[1]Racing numbers file'!$B286","v":"Aidan McKenna"},{"$f":"VLOOKUP(C286,'[1]Racing numbers file'!$B$4:$F$290,2,FALSE)","v":1972},{"$f":"VLOOKUP(C286,'[1]Racing numbers file'!$B$4:$F$290,4,FALSE)","v":44},{"$f":"SaturdayHandicapTable[[#This Row],[Points2]]","v":0},{"$f":"IF(ISNA(VLOOKUP($C286,'Sat TT_01'!$C$4:$Q$152,15,FALSE)=$C286),0,VLOOKUP($C286,'Sat TT_01'!$C$4:$Q$152,15,FALSE))","v":0},{"$f":"IF(ISNA(VLOOKUP($C286,'Sat TT_02'!$C$4:$Q$152,15,FALSE)=$C286),0,VLOOKUP($C286,'Sat TT_02'!$C$4:$Q$152,15,FALSE))","v":0},{"$f":"IF(ISNA(VLOOKUP($C286,'Sat TT_03'!$C$4:$Q$152,15,FALSE)=$C286),0,VLOOKUP($C286,'Sat TT_03'!$C$4:$Q$152,15,FALSE))","v":0},{"$f":"IF(ISNA(VLOOKUP($C286,'Sat TT_04'!$C$4:$Q$152,15,FALSE)=$C286),0,VLOOKUP($C286,'Sat TT_04'!$C$4:$Q$152,15,FALSE))","v":0},{"$f":"IF(ISNA(VLOOKUP($C286,'Sat TT_05'!$C$4:$Q$152,15,FALSE)=$C286),0,VLOOKUP($C286,'Sat TT_05'!$C$4:$Q$152,15,FALSE))","v":0},{"$f":"IF(ISNA(VLOOKUP($C286,'Sat TT_06'!$C$4:$Q$152,15,FALSE)=$C286),0,VLOOKUP($C286,'Sat TT_06'!$C$4:$Q$152,15,FALSE))","v":0},{"$f":"IF(ISNA(VLOOKUP($C286,'Sat TT_07'!$C$4:$Q$152,15,FALSE)=$C286),0,VLOOKUP($C286,'Sat TT_07'!$C$4:$Q$152,15,FALSE))","v":0},{"$f":"IF(ISNA(VLOOKUP($C286,'Sat TT_08'!$C$4:$Q$152,15,FALSE)=$C286),0,VLOOKUP($C286,'Sat TT_08'!$C$4:$Q$152,15,FALSE))","v":0}]
[null,278,{"$f":"+'[1]Racing numbers file'!$B287","v":"Paul McDonnell"},{"$f":"VLOOKUP(C287,'[1]Racing numbers file'!$B$4:$F$290,2,FALSE)","v":1969},{"$f":"VLOOKUP(C287,'[1]Racing numbers file'!$B$4:$F$290,4,FALSE)","v":47},{"$f":"SaturdayHandicapTable[[#This Row],[Points2]]","v":0},{"$f":"IF(ISNA(VLOOKUP($C287,'Sat TT_01'!$C$4:$Q$152,15,FALSE)=$C287),0,VLOOKUP($C287,'Sat TT_01'!$C$4:$Q$152,15,FALSE))","v":0},{"$f":"IF(ISNA(VLOOKUP($C287,'Sat TT_02'!$C$4:$Q$152,15,FALSE)=$C287),0,VLOOKUP($C287,'Sat TT_02'!$C$4:$Q$152,15,FALSE))","v":0},{"$f":"IF(ISNA(VLOOKUP($C287,'Sat TT_03'!$C$4:$Q$152,15,FALSE)=$C287),0,VLOOKUP($C287,'Sat TT_03'!$C$4:$Q$152,15,FALSE))","v":0},{"$f":"IF(ISNA(VLOOKUP($C287,'Sat TT_04'!$C$4:$Q$152,15,FALSE)=$C287),0,VLOOKUP($C287,'Sat TT_04'!$C$4:$Q$152,15,FALSE))","v":0},{"$f":"IF(ISNA(VLOOKUP($C287,'Sat TT_05'!$C$4:$Q$152,15,FALSE)=$C287),0,VLOOKUP($C287,'Sat TT_05'!$C$4:$Q$152,15,FALSE))","v":0},{"$f":"IF(ISNA(VLOOKUP($C287,'Sat TT_06'!$C$4:$Q$152,15,FALSE)=$C287),0,VLOOKUP($C287,'Sat TT_06'!$C$4:$Q$152,15,FALSE))","v":0},{"$f":"IF(ISNA(VLOOKUP($C287,'Sat TT_07'!$C$4:$Q$152,15,FALSE)=$C287),0,VLOOKUP($C287,'Sat TT_07'!$C$4:$Q$152,15,FALSE))","v":0},{"$f":"IF(ISNA(VLOOKUP($C287,'Sat TT_08'!$C$4:$Q$152,15,FALSE)=$C287),0,VLOOKUP($C287,'Sat TT_08'!$C$4:$Q$152,15,FALSE))","v":0}]
[null,279,{"$f":"+'[1]Racing numbers file'!$B288","v":"Brian Byrne"},{"$f":"VLOOKUP(C288,'[1]Racing numbers file'!$B$4:$F$290,2,FALSE)","v":1971},{"$f":"VLOOKUP(C288,'[1]Racing numbers file'!$B$4:$F$290,4,FALSE)","v":45},{"$f":"SaturdayHandicapTable[[#This Row],[Points2]]","v":0},{"$f":"IF(ISNA(VLOOKUP($C288,'Sat TT_01'!$C$4:$Q$152,15,FALSE)=$C288),0,VLOOKUP($C288,'Sat TT_01'!$C$4:$Q$152,15,FALSE))","v":0},{"$f":"IF(ISNA(VLOOKUP($C288,'Sat TT_02'!$C$4:$Q$152,15,FALSE)=$C288),0,VLOOKUP($C288,'Sat TT_02'!$C$4:$Q$152,15,FALSE))","v":0},{"$f":"IF(ISNA(VLOOKUP($C288,'Sat TT_03'!$C$4:$Q$152,15,FALSE)=$C288),0,VLOOKUP($C288,'Sat TT_03'!$C$4:$Q$152,15,FALSE))","v":0},{"$f":"IF(ISNA(VLOOKUP($C288,'Sat TT_04'!$C$4:$Q$152,15,FALSE)=$C288),0,VLOOKUP($C288,'Sat TT_04'!$C$4:$Q$152,15,FALSE))","v":0},{"$f":"IF(ISNA(VLOOKUP($C288,'Sat TT_05'!$C$4:$Q$152,15,FALSE)=$C288),0,VLOOKUP($C288,'Sat TT_05'!$C$4:$Q$152,15,FALSE))","v":0},{"$f":"IF(ISNA(VLOOKUP($C288,'Sat TT_06'!$C$4:$Q$152,15,FALSE)=$C288),0,VLOOKUP($C288,'Sat TT_06'!$C$4:$Q$152,15,FALSE))","v":0},{"$f":"IF(ISNA(VLOOKUP($C288,'Sat TT_07'!$C$4:$Q$152,15,FALSE)=$C288),0,VLOOKUP($C288,'Sat TT_07'!$C$4:$Q$152,15,FALSE))","v":0},{"$f":"IF(ISNA(VLOOKUP($C288,'Sat TT_08'!$C$4:$Q$152,15,FALSE)=$C288),0,VLOOKUP($C288,'Sat TT_08'!$C$4:$Q$152,15,FALSE))","v":0}]
[null,280,{"$f":"+'[1]Racing numbers file'!$B289","v":"Tony Kavanagh"},{"$f":"VLOOKUP(C289,'[1]Racing numbers file'!$B$4:$F$290,2,FALSE)","v":1950},{"$f":"VLOOKUP(C289,'[1]Racing numbers file'!$B$4:$F$290,4,FALSE)","v":66},{"$f":"SaturdayHandicapTable[[#This Row],[Points2]]","v":0},{"$f":"IF(ISNA(VLOOKUP($C289,'Sat TT_01'!$C$4:$Q$152,15,FALSE)=$C289),0,VLOOKUP($C289,'Sat TT_01'!$C$4:$Q$152,15,FALSE))","v":0},{"$f":"IF(ISNA(VLOOKUP($C289,'Sat TT_02'!$C$4:$Q$152,15,FALSE)=$C289),0,VLOOKUP($C289,'Sat TT_02'!$C$4:$Q$152,15,FALSE))","v":0},{"$f":"IF(ISNA(VLOOKUP($C289,'Sat TT_03'!$C$4:$Q$152,15,FALSE)=$C289),0,VLOOKUP($C289,'Sat TT_03'!$C$4:$Q$152,15,FALSE))","v":0},{"$f":"IF(ISNA(VLOOKUP($C289,'Sat TT_04'!$C$4:$Q$152,15,FALSE)=$C289),0,VLOOKUP($C289,'Sat TT_04'!$C$4:$Q$152,15,FALSE))","v":0},{"$f":"IF(ISNA(VLOOKUP($C289,'Sat TT_05'!$C$4:$Q$152,15,FALSE)=$C289),0,VLOOKUP($C289,'Sat TT_05'!$C$4:$Q$152,15,FALSE))","v":0},{"$f":"IF(ISNA(VLOOKUP($C289,'Sat TT_06'!$C$4:$Q$152,15,FALSE)=$C289),0,VLOOKUP($C289,'Sat TT_06'!$C$4:$Q$152,15,FALSE))","v":0},{"$f":"IF(ISNA(VLOOKUP($C289,'Sat TT_07'!$C$4:$Q$152,15,FALSE)=$C289),0,VLOOKUP($C289,'Sat TT_07'!$C$4:$Q$152,15,FALSE))","v":0},{"$f":"IF(ISNA(VLOOKUP($C289,'Sat TT_08'!$C$4:$Q$152,15,FALSE)=$C289),0,VLOOKUP($C289,'Sat TT_08'!$C$4:$Q$152,15,FALSE))","v":0}]
[null,281,{"$f":"+'[1]Racing numbers file'!$B290","v":"Phillip Morrissey"},{"$f":"VLOOKUP(C290,'[1]Racing numbers file'!$B$4:$F$290,2,FALSE)","v":1974},{"$f":"VLOOKUP(C290,'[1]Racing numbers file'!$B$4:$F$290,4,FALSE)","v":42},{"$f":"SaturdayHandicapTable[[#This Row],[Points2]]","v":0},{"$f":"IF(ISNA(VLOOKUP($C290,'Sat TT_01'!$C$4:$Q$152,15,FALSE)=$C290),0,VLOOKUP($C290,'Sat TT_01'!$C$4:$Q$152,15,FALSE))","v":0},{"$f":"IF(ISNA(VLOOKUP($C290,'Sat TT_02'!$C$4:$Q$152,15,FALSE)=$C290),0,VLOOKUP($C290,'Sat TT_02'!$C$4:$Q$152,15,FALSE))","v":0},{"$f":"IF(ISNA(VLOOKUP($C290,'Sat TT_03'!$C$4:$Q$152,15,FALSE)=$C290),0,VLOOKUP($C290,'Sat TT_03'!$C$4:$Q$152,15,FALSE))","v":0},{"$f":"IF(ISNA(VLOOKUP($C290,'Sat TT_04'!$C$4:$Q$152,15,FALSE)=$C290),0,VLOOKUP($C290,'Sat TT_04'!$C$4:$Q$152,15,FALSE))","v":0},{"$f":"IF(ISNA(VLOOKUP($C290,'Sat TT_05'!$C$4:$Q$152,15,FALSE)=$C290),0,VLOOKUP($C290,'Sat TT_05'!$C$4:$Q$152,15,FALSE))","v":0},{"$f":"IF(ISNA(VLOOKUP($C290,'Sat TT_06'!$C$4:$Q$152,15,FALSE)=$C290),0,VLOOKUP($C290,'Sat TT_06'!$C$4:$Q$152,15,FALSE))","v":0},{"$f":"IF(ISNA(VLOOKUP($C290,'Sat TT_07'!$C$4:$Q$152,15,FALSE)=$C290),0,VLOOKUP($C290,'Sat TT_07'!$C$4:$Q$152,15,FALSE))","v":0},{"$f":"IF(ISNA(VLOOKUP($C290,'Sat TT_08'!$C$4:$Q$152,15,FALSE)=$C290),0,VLOOKUP($C290,'Sat TT_08'!$C$4:$Q$152,15,FALSE))","v":0}]
[null,282,{"$f":"+'[1]Racing numbers file'!$B291","v":"Graham Synnott"},{"$f":"VLOOKUP(C291,'[1]Racing numbers file'!$B$4:$F$290,2,FALSE)","v":{"$error":"#N/A"}},{"$f":"VLOOKUP(C291,'[1]Racing numbers file'!$B$4:$F$290,4,FALSE)","v":{"$error":"#N/A"}},{"$f":"SaturdayHandicapTable[[#This Row],[Points2]]","v":0},{"$f":"IF(ISNA(VLOOKUP($C291,'Sat TT_01'!$C$4:$Q$152,15,FALSE)=$C291),0,VLOOKUP($C291,'Sat TT_01'!$C$4:$Q$152,15,FALSE))","v":0},{"$f":"IF(ISNA(VLOOKUP($C291,'Sat TT_02'!$C$4:$Q$152,15,FALSE)=$C291),0,VLOOKUP($C291,'Sat TT_02'!$C$4:$Q$152,15,FALSE))","v":0},{"$f":"IF(ISNA(VLOOKUP($C291,'Sat TT_03'!$C$4:$Q$152,15,FALSE)=$C291),0,VLOOKUP($C291,'Sat TT_03'!$C$4:$Q$152,15,FALSE))","v":0},{"$f":"IF(ISNA(VLOOKUP($C291,'Sat TT_04'!$C$4:$Q$152,15,FALSE)=$C291),0,VLOOKUP($C291,'Sat TT_04'!$C$4:$Q$152,15,FALSE))","v":0},{"$f":"IF(ISNA(VLOOKUP($C291,'Sat TT_05'!$C$4:$Q$152,15,FALSE)=$C291),0,VLOOKUP($C291,'Sat TT_05'!$C$4:$Q$152,15,FALSE))","v":0},{"$f":"IF(ISNA(VLOOKUP($C291,'Sat TT_06'!$C$4:$Q$152,15,FALSE)=$C291),0,VLOOKUP($C291,'Sat TT_06'!$C$4:$Q$152,15,FALSE))","v":0},{"$f":"IF(ISNA(VLOOKUP($C291,'Sat TT_07'!$C$4:$Q$152,15,FALSE)=$C291),0,VLOOKUP($C291,'Sat TT_07'!$C$4:$Q$152,15,FALSE))","v":0},{"$f":"IF(ISNA(VLOOKUP($C291,'Sat TT_08'!$C$4:$Q$152,15,FALSE)=$C291),0,VLOOKUP($C291,'Sat TT_08'!$C$4:$Q$152,15,FALSE))","v":0}]
[null,283,{"$f":"+'[1]Racing numbers file'!$B292","v":"Brian Morrissey"},{"$f":"VLOOKUP(C292,'[1]Racing numbers file'!$B$4:$F$290,2,FALSE)","v":{"$error":"#N/A"}},{"$f":"VLOOKUP(C292,'[1]Racing numbers file'!$B$4:$F$290,4,FALSE)","v":{"$error":"#N/A"}},{"$f":"SaturdayHandicapTable[[#This Row],[Points2]]","v":0},{"$f":"IF(ISNA(VLOOKUP($C292,'Sat TT_01'!$C$4:$Q$152,15,FALSE)=$C292),0,VLOOKUP($C292,'Sat TT_01'!$C$4:$Q$152,15,FALSE))","v":0},{"$f":"IF(ISNA(VLOOKUP($C292,'Sat TT_02'!$C$4:$Q$152,15,FALSE)=$C292),0,VLOOKUP($C292,'Sat TT_02'!$C$4:$Q$152,15,FALSE))","v":0},{"$f":"IF(ISNA(VLOOKUP($C292,'Sat TT_03'!$C$4:$Q$152,15,FALSE)=$C292),0,VLOOKUP($C292,'Sat TT_03'!$C$4:$Q$152,15,FALSE))","v":0},{"$f":"IF(ISNA(VLOOKUP($C292,'Sat TT_04'!$C$4:$Q$152,15,FALSE)=$C292),0,VLOOKUP($C292,'Sat TT_04'!$C$4:$Q$152,15,FALSE))","v":0},{"$f":"IF(ISNA(VLOOKUP($C292,'Sat TT_05'!$C$4:$Q$152,15,FALSE)=$C292),0,VLOOKUP($C292,'Sat TT_05'!$C$4:$Q$152,15,FALSE))","v":0},{"$f":"IF(ISNA(VLOOKUP($C292,'Sat TT_06'!$C$4:$Q$152,15,FALSE)=$C292),0,VLOOKUP($C292,'Sat TT_06'!$C$4:$Q$152,15,FALSE))","v":0},{"$f":"IF(ISNA(VLOOKUP($C292,'Sat TT_07'!$C$4:$Q$152,15,FALSE)=$C292),0,VLOOKUP($C292,'Sat TT_07'!$C$4:$Q$152,15,FALSE))","v":0},{"$f":"IF(ISNA(VLOOKUP($C292,'Sat TT_08'!$C$4:$Q$152,15,FALSE)=$C292),0,VLOOKUP($C292,'Sat TT_08'!$C$4:$Q$152,15,FALSE))","v":0}]
[null,284,{"$f":"+'[1]Racing numbers file'!$B293","v":"Donal Gleeson"},{"$f":"VLOOKUP(C293,'[1]Racing numbers file'!$B$4:$F$290,2,FALSE)","v":{"$error":"#N/A"}},{"$f":"VLOOKUP(C293,'[1]Racing numbers file'!$B$4:$F$290,4,FALSE)","v":{"$error":"#N/A"}},{"$f":"SaturdayHandicapTable[[#This Row],[Points2]]","v":0},{"$f":"IF(ISNA(VLOOKUP($C293,'Sat TT_01'!$C$4:$Q$152,15,FALSE)=$C293),0,VLOOKUP($C293,'Sat TT_01'!$C$4:$Q$152,15,FALSE))","v":0},{"$f":"IF(ISNA(VLOOKUP($C293,'Sat TT_02'!$C$4:$Q$152,15,FALSE)=$C293),0,VLOOKUP($C293,'Sat TT_02'!$C$4:$Q$152,15,FALSE))","v":0},{"$f":"IF(ISNA(VLOOKUP($C293,'Sat TT_03'!$C$4:$Q$152,15,FALSE)=$C293),0,VLOOKUP($C293,'Sat TT_03'!$C$4:$Q$152,15,FALSE))","v":0},{"$f":"IF(ISNA(VLOOKUP($C293,'Sat TT_04'!$C$4:$Q$152,15,FALSE)=$C293),0,VLOOKUP($C293,'Sat TT_04'!$C$4:$Q$152,15,FALSE))","v":0},{"$f":"IF(ISNA(VLOOKUP($C293,'Sat TT_05'!$C$4:$Q$152,15,FALSE)=$C293),0,VLOOKUP($C293,'Sat TT_05'!$C$4:$Q$152,15,FALSE))","v":0},{"$f":"IF(ISNA(VLOOKUP($C293,'Sat TT_06'!$C$4:$Q$152,15,FALSE)=$C293),0,VLOOKUP($C293,'Sat TT_06'!$C$4:$Q$152,15,FALSE))","v":0},{"$f":"IF(ISNA(VLOOKUP($C293,'Sat TT_07'!$C$4:$Q$152,15,FALSE)=$C293),0,VLOOKUP($C293,'Sat TT_07'!$C$4:$Q$152,15,FALSE))","v":0},{"$f":"IF(ISNA(VLOOKUP($C293,'Sat TT_08'!$C$4:$Q$152,15,FALSE)=$C293),0,VLOOKUP($C293,'Sat TT_08'!$C$4:$Q$152,15,FALSE))","v":0}]
[null,285,{"$f":"+'[1]Racing numbers file'!$B294","v":"Gerry Jameson"},{"$f":"VLOOKUP(C294,'[1]Racing numbers file'!$B$4:$F$290,2,FALSE)","v":{"$error":"#N/A"}},{"$f":"VLOOKUP(C294,'[1]Racing numbers file'!$B$4:$F$290,4,FALSE)","v":{"$error":"#N/A"}},{"$f":"SaturdayHandicapTable[[#This Row],[Points2]]","v":0},{"$f":"IF(ISNA(VLOOKUP($C294,'Sat TT_01'!$C$4:$Q$152,15,FALSE)=$C294),0,VLOOKUP($C294,'Sat TT_01'!$C$4:$Q$152,15,FALSE))","v":0},{"$f":"IF(ISNA(VLOOKUP($C294,'Sat TT_02'!$C$4:$Q$152,15,FALSE)=$C294),0,VLOOKUP($C294,'Sat TT_02'!$C$4:$Q$152,15,FALSE))","v":0},{"$f":"IF(ISNA(VLOOKUP($C294,'Sat TT_03'!$C$4:$Q$152,15,FALSE)=$C294),0,VLOOKUP($C294,'Sat TT_03'!$C$4:$Q$152,15,FALSE))","v":0},{"$f":"IF(ISNA(VLOOKUP($C294,'Sat TT_04'!$C$4:$Q$152,15,FALSE)=$C294),0,VLOOKUP($C294,'Sat TT_04'!$C$4:$Q$152,15,FALSE))","v":0},{"$f":"IF(ISNA(VLOOKUP($C294,'Sat TT_05'!$C$4:$Q$152,15,FALSE)=$C294),0,VLOOKUP($C294,'Sat TT_05'!$C$4:$Q$152,15,FALSE))","v":0},{"$f":"IF(ISNA(VLOOKUP($C294,'Sat TT_06'!$C$4:$Q$152,15,FALSE)=$C294),0,VLOOKUP($C294,'Sat TT_06'!$C$4:$Q$152,15,FALSE))","v":0},{"$f":"IF(ISNA(VLOOKUP($C294,'Sat TT_07'!$C$4:$Q$152,15,FALSE)=$C294),0,VLOOKUP($C294,'Sat TT_07'!$C$4:$Q$152,15,FALSE))","v":0},{"$f":"IF(ISNA(VLOOKUP($C294,'Sat TT_08'!$C$4:$Q$152,15,FALSE)=$C294),0,VLOOKUP($C294,'Sat TT_08'!$C$4:$Q$152,15,FALSE))","v":0}]
[null,286,{"$f":"+'[1]Racing numbers file'!$B295","v":"Stephen O'Brien"},{"$f":"VLOOKUP(C295,'[1]Racing numbers file'!$B$4:$F$290,2,FALSE)","v":{"$error":"#N/A"}},{"$f":"VLOOKUP(C295,'[1]Racing numbers file'!$B$4:$F$290,4,FALSE)","v":{"$error":"#N/A"}},{"$f":"SaturdayHandicapTable[[#This Row],[Points2]]","v":0},{"$f":"IF(ISNA(VLOOKUP($C295,'Sat TT_01'!$C$4:$Q$152,15,FALSE)=$C295),0,VLOOKUP($C295,'Sat TT_01'!$C$4:$Q$152,15,FALSE))","v":0},{"$f":"IF(ISNA(VLOOKUP($C295,'Sat TT_02'!$C$4:$Q$152,15,FALSE)=$C295),0,VLOOKUP($C295,'Sat TT_02'!$C$4:$Q$152,15,FALSE))","v":0},{"$f":"IF(ISNA(VLOOKUP($C295,'Sat TT_03'!$C$4:$Q$152,15,FALSE)=$C295),0,VLOOKUP($C295,'Sat TT_03'!$C$4:$Q$152,15,FALSE))","v":0},{"$f":"IF(ISNA(VLOOKUP($C295,'Sat TT_04'!$C$4:$Q$152,15,FALSE)=$C295),0,VLOOKUP($C295,'Sat TT_04'!$C$4:$Q$152,15,FALSE))","v":0},{"$f":"IF(ISNA(VLOOKUP($C295,'Sat TT_05'!$C$4:$Q$152,15,FALSE)=$C295),0,VLOOKUP($C295,'Sat TT_05'!$C$4:$Q$152,15,FALSE))","v":0},{"$f":"IF(ISNA(VLOOKUP($C295,'Sat TT_06'!$C$4:$Q$152,15,FALSE)=$C295),0,VLOOKUP($C295,'Sat TT_06'!$C$4:$Q$152,15,FALSE))","v":0},{"$f":"IF(ISNA(VLOOKUP($C295,'Sat TT_07'!$C$4:$Q$152,15,FALSE)=$C295),0,VLOOKUP($C295,'Sat TT_07'!$C$4:$Q$152,15,FALSE))","v":0},{"$f":"IF(ISNA(VLOOKUP($C295,'Sat TT_08'!$C$4:$Q$152,15,FALSE)=$C295),0,VLOOKUP($C295,'Sat TT_08'!$C$4:$Q$152,15,FALSE))","v":0}]
[null,287,{"$f":"+'[1]Racing numbers file'!$B296","v":"Brian Kane"},{"$f":"VLOOKUP(C296,'[1]Racing numbers file'!$B$4:$F$290,2,FALSE)","v":{"$error":"#N/A"}},{"$f":"VLOOKUP(C296,'[1]Racing numbers file'!$B$4:$F$290,4,FALSE)","v":{"$error":"#N/A"}},{"$f":"SaturdayHandicapTable[[#This Row],[Points2]]","v":0},{"$f":"IF(ISNA(VLOOKUP($C296,'Sat TT_01'!$C$4:$Q$152,15,FALSE)=$C296),0,VLOOKUP($C296,'Sat TT_01'!$C$4:$Q$152,15,FALSE))","v":0},{"$f":"IF(ISNA(VLOOKUP($C296,'Sat TT_02'!$C$4:$Q$152,15,FALSE)=$C296),0,VLOOKUP($C296,'Sat TT_02'!$C$4:$Q$152,15,FALSE))","v":0},{"$f":"IF(ISNA(VLOOKUP($C296,'Sat TT_03'!$C$4:$Q$152,15,FALSE)=$C296),0,VLOOKUP($C296,'Sat TT_03'!$C$4:$Q$152,15,FALSE))","v":0},{"$f":"IF(ISNA(VLOOKUP($C296,'Sat TT_04'!$C$4:$Q$152,15,FALSE)=$C296),0,VLOOKUP($C296,'Sat TT_04'!$C$4:$Q$152,15,FALSE))","v":0},{"$f":"IF(ISNA(VLOOKUP($C296,'Sat TT_05'!$C$4:$Q$152,15,FALSE)=$C296),0,VLOOKUP($C296,'Sat TT_05'!$C$4:$Q$152,15,FALSE))","v":0},{"$f":"IF(ISNA(VLOOKUP($C296,'Sat TT_06'!$C$4:$Q$152,15,FALSE)=$C296),0,VLOOKUP($C296,'Sat TT_06'!$C$4:$Q$152,15,FALSE))","v":0},{"$f":"IF(ISNA(VLOOKUP($C296,'Sat TT_07'!$C$4:$Q$152,15,FALSE)=$C296),0,VLOOKUP($C296,'Sat TT_07'!$C$4:$Q$152,15,FALSE))","v":0},{"$f":"IF(ISNA(VLOOKUP($C296,'Sat TT_08'!$C$4:$Q$152,15,FALSE)=$C296),0,VLOOKUP($C296,'Sat TT_08'!$C$4:$Q$152,15,FALSE))","v":0}]
[null,288,{"$f":"+'[1]Racing numbers file'!$B297","v":{"$error":"#N/A"}},{"$f":"VLOOKUP(C297,'[1]Racing numbers file'!$B$4:$F$290,2,FALSE)","v":{"$error":"#N/A"}},{"$f":"VLOOKUP(C297,'[1]Racing numbers file'!$B$4:$F$290,4,FALSE)","v":{"$error":"#N/A"}},{"$f":"SaturdayHandicapTable[[#This Row],[Points2]]","v":0},{"$f":"IF(ISNA(VLOOKUP($C297,'Sat TT_01'!$C$4:$Q$152,15,FALSE)=$C297),0,VLOOKUP($C297,'Sat TT_01'!$C$4:$Q$152,15,FALSE))","v":0},{"$f":"IF(ISNA(VLOOKUP($C297,'Sat TT_02'!$C$4:$Q$152,15,FALSE)=$C297),0,VLOOKUP($C297,'Sat TT_02'!$C$4:$Q$152,15,FALSE))","v":0},{"$f":"IF(ISNA(VLOOKUP($C297,'Sat TT_03'!$C$4:$Q$152,15,FALSE)=$C297),0,VLOOKUP($C297,'Sat TT_03'!$C$4:$Q$152,15,FALSE))","v":0},{"$f":"IF(ISNA(VLOOKUP($C297,'Sat TT_04'!$C$4:$Q$152,15,FALSE)=$C297),0,VLOOKUP($C297,'Sat TT_04'!$C$4:$Q$152,15,FALSE))","v":0},{"$f":"IF(ISNA(VLOOKUP($C297,'Sat TT_05'!$C$4:$Q$152,15,FALSE)=$C297),0,VLOOKUP($C297,'Sat TT_05'!$C$4:$Q$152,15,FALSE))","v":0},{"$f":"IF(ISNA(VLOOKUP($C297,'Sat TT_06'!$C$4:$Q$152,15,FALSE)=$C297),0,VLOOKUP($C297,'Sat TT_06'!$C$4:$Q$152,15,FALSE))","v":0},{"$f":"IF(ISNA(VLOOKUP($C297,'Sat TT_07'!$C$4:$Q$152,15,FALSE)=$C297),0,VLOOKUP($C297,'Sat TT_07'!$C$4:$Q$152,15,FALSE))","v":0},{"$f":"IF(ISNA(VLOOKUP($C297,'Sat TT_08'!$C$4:$Q$152,15,FALSE)=$C297),0,VLOOKUP($C297,'Sat TT_08'!$C$4:$Q$152,15,FALSE))","v":0}]
[null,289,{"$f":"+'[1]Racing numbers file'!$B298","v":"Peter Hurley"},{"$f":"VLOOKUP(C298,'[1]Racing numbers file'!$B$4:$F$290,2,FALSE)","v":{"$error":"#N/A"}},{"$f":"VLOOKUP(C298,'[1]Racing numbers file'!$B$4:$F$290,4,FALSE)","v":{"$error":"#N/A"}},{"$f":"SaturdayHandicapTable[[#This Row],[Points2]]","v":0},{"$f":"IF(ISNA(VLOOKUP($C298,'Sat TT_01'!$C$4:$Q$152,15,FALSE)=$C298),0,VLOOKUP($C298,'Sat TT_01'!$C$4:$Q$152,15,FALSE))","v":0},{"$f":"IF(ISNA(VLOOKUP($C298,'Sat TT_02'!$C$4:$Q$152,15,FALSE)=$C298),0,VLOOKUP($C298,'Sat TT_02'!$C$4:$Q$152,15,FALSE))","v":0},{"$f":"IF(ISNA(VLOOKUP($C298,'Sat TT_03'!$C$4:$Q$152,15,FALSE)=$C298),0,VLOOKUP($C298,'Sat TT_03'!$C$4:$Q$152,15,FALSE))","v":0},{"$f":"IF(ISNA(VLOOKUP($C298,'Sat TT_04'!$C$4:$Q$152,15,FALSE)=$C298),0,VLOOKUP($C298,'Sat TT_04'!$C$4:$Q$152,15,FALSE))","v":0},{"$f":"IF(ISNA(VLOOKUP($C298,'Sat TT_05'!$C$4:$Q$152,15,FALSE)=$C298),0,VLOOKUP($C298,'Sat TT_05'!$C$4:$Q$152,15,FALSE))","v":0},{"$f":"IF(ISNA(VLOOKUP($C298,'Sat TT_06'!$C$4:$Q$152,15,FALSE)=$C298),0,VLOOKUP($C298,'Sat TT_06'!$C$4:$Q$152,15,FALSE))","v":0},{"$f":"IF(ISNA(VLOOKUP($C298,'Sat TT_07'!$C$4:$Q$152,15,FALSE)=$C298),0,VLOOKUP($C298,'Sat TT_07'!$C$4:$Q$152,15,FALSE))","v":0},{"$f":"IF(ISNA(VLOOKUP($C298,'Sat TT_08'!$C$4:$Q$152,15,FALSE)=$C298),0,VLOOKUP($C298,'Sat TT_08'!$C$4:$Q$152,15,FALSE))","v":0}]
[null,290,{"$f":"+'[1]Racing numbers file'!$B299","v":"Michael Hayden"},{"$f":"VLOOKUP(C299,'[1]Racing numbers file'!$B$4:$F$290,2,FALSE)","v":{"$error":"#N/A"}},{"$f":"VLOOKUP(C299,'[1]Racing numbers file'!$B$4:$F$290,4,FALSE)","v":{"$error":"#N/A"}},{"$f":"SaturdayHandicapTable[[#This Row],[Points2]]","v":0},{"$f":"IF(ISNA(VLOOKUP($C299,'Sat TT_01'!$C$4:$Q$152,15,FALSE)=$C299),0,VLOOKUP($C299,'Sat TT_01'!$C$4:$Q$152,15,FALSE))","v":0},{"$f":"IF(ISNA(VLOOKUP($C299,'Sat TT_02'!$C$4:$Q$152,15,FALSE)=$C299),0,VLOOKUP($C299,'Sat TT_02'!$C$4:$Q$152,15,FALSE))","v":0},{"$f":"IF(ISNA(VLOOKUP($C299,'Sat TT_03'!$C$4:$Q$152,15,FALSE)=$C299),0,VLOOKUP($C299,'Sat TT_03'!$C$4:$Q$152,15,FALSE))","v":0},{"$f":"IF(ISNA(VLOOKUP($C299,'Sat TT_04'!$C$4:$Q$152,15,FALSE)=$C299),0,VLOOKUP($C299,'Sat TT_04'!$C$4:$Q$152,15,FALSE))","v":0},{"$f":"IF(ISNA(VLOOKUP($C299,'Sat TT_05'!$C$4:$Q$152,15,FALSE)=$C299),0,VLOOKUP($C299,'Sat TT_05'!$C$4:$Q$152,15,FALSE))","v":0},{"$f":"IF(ISNA(VLOOKUP($C299,'Sat TT_06'!$C$4:$Q$152,15,FALSE)=$C299),0,VLOOKUP($C299,'Sat TT_06'!$C$4:$Q$152,15,FALSE))","v":0},{"$f":"IF(ISNA(VLOOKUP($C299,'Sat TT_07'!$C$4:$Q$152,15,FALSE)=$C299),0,VLOOKUP($C299,'Sat TT_07'!$C$4:$Q$152,15,FALSE))","v":0},{"$f":"IF(ISNA(VLOOKUP($C299,'Sat TT_08'!$C$4:$Q$152,15,FALSE)=$C299),0,VLOOKUP($C299,'Sat TT_08'!$C$4:$Q$152,15,FALSE))","v":0}]
[null,291,{"$f":"+'[1]Racing numbers file'!$B300","v":"Daniel Roberts"},{"$f":"VLOOKUP(C300,'[1]Racing numbers file'!$B$4:$F$290,2,FALSE)","v":{"$error":"#N/A"}},{"$f":"VLOOKUP(C300,'[1]Racing numbers file'!$B$4:$F$290,4,FALSE)","v":{"$error":"#N/A"}},{"$f":"SaturdayHandicapTable[[#This Row],[Points2]]","v":0},{"$f":"IF(ISNA(VLOOKUP($C300,'Sat TT_01'!$C$4:$Q$152,15,FALSE)=$C300),0,VLOOKUP($C300,'Sat TT_01'!$C$4:$Q$152,15,FALSE))","v":0},{"$f":"IF(ISNA(VLOOKUP($C300,'Sat TT_02'!$C$4:$Q$152,15,FALSE)=$C300),0,VLOOKUP($C300,'Sat TT_02'!$C$4:$Q$152,15,FALSE))","v":0},{"$f":"IF(ISNA(VLOOKUP($C300,'Sat TT_03'!$C$4:$Q$152,15,FALSE)=$C300),0,VLOOKUP($C300,'Sat TT_03'!$C$4:$Q$152,15,FALSE))","v":0},{"$f":"IF(ISNA(VLOOKUP($C300,'Sat TT_04'!$C$4:$Q$152,15,FALSE)=$C300),0,VLOOKUP($C300,'Sat TT_04'!$C$4:$Q$152,15,FALSE))","v":0},{"$f":"IF(ISNA(VLOOKUP($C300,'Sat TT_05'!$C$4:$Q$152,15,FALSE)=$C300),0,VLOOKUP($C300,'Sat TT_05'!$C$4:$Q$152,15,FALSE))","v":0},{"$f":"IF(ISNA(VLOOKUP($C300,'Sat TT_06'!$C$4:$Q$152,15,FALSE)=$C300),0,VLOOKUP($C300,'Sat TT_06'!$C$4:$Q$152,15,FALSE))","v":0},{"$f":"IF(ISNA(VLOOKUP($C300,'Sat TT_07'!$C$4:$Q$152,15,FALSE)=$C300),0,VLOOKUP($C300,'Sat TT_07'!$C$4:$Q$152,15,FALSE))","v":0},{"$f":"IF(ISNA(VLOOKUP($C300,'Sat TT_08'!$C$4:$Q$152,15,FALSE)=$C300),0,VLOOKUP($C300,'Sat TT_08'!$C$4:$Q$152,15,FALSE))","v":0}]
[null,292,{"$f":"+'[1]Racing numbers file'!$B284","v":"Tom Cummins"},{"$f":"VLOOKUP(C301,'[1]Racing numbers file'!$B$4:$F$290,2,FALSE)","v":1974},{"$f":"VLOOKUP(C301,'[1]Racing numbers file'!$B$4:$F$290,4,FALSE)","v":42},{"$f":"SaturdayHandicapTable[[#This Row],[Points2]]","v":0},{"$f":"IF(ISNA(VLOOKUP($C301,'Sat TT_01'!$C$4:$Q$152,15,FALSE)=$C301),0,VLOOKUP($C301,'Sat TT_01'!$C$4:$Q$152,15,FALSE))","v":0},{"$f":"IF(ISNA(VLOOKUP($C301,'Sat TT_02'!$C$4:$Q$152,15,FALSE)=$C301),0,VLOOKUP($C301,'Sat TT_02'!$C$4:$Q$152,15,FALSE))","v":0},{"$f":"IF(ISNA(VLOOKUP($C301,'Sat TT_03'!$C$4:$Q$152,15,FALSE)=$C301),0,VLOOKUP($C301,'Sat TT_03'!$C$4:$Q$152,15,FALSE))","v":0},{"$f":"IF(ISNA(VLOOKUP($C301,'Sat TT_04'!$C$4:$Q$152,15,FALSE)=$C301),0,VLOOKUP($C301,'Sat TT_04'!$C$4:$Q$152,15,FALSE))","v":0},{"$f":"IF(ISNA(VLOOKUP($C301,'Sat TT_05'!$C$4:$Q$152,15,FALSE)=$C301),0,VLOOKUP($C301,'Sat TT_05'!$C$4:$Q$152,15,FALSE))","v":0},{"$f":"IF(ISNA(VLOOKUP($C301,'Sat TT_06'!$C$4:$Q$152,15,FALSE)=$C301),0,VLOOKUP($C301,'Sat TT_06'!$C$4:$Q$152,15,FALSE))","v":0},{"$f":"IF(ISNA(VLOOKUP($C301,'Sat TT_07'!$C$4:$Q$152,15,FALSE)=$C301),0,VLOOKUP($C301,'Sat TT_07'!$C$4:$Q$152,15,FALSE))","v":0},{"$f":"IF(ISNA(VLOOKUP($C301,'Sat TT_08'!$C$4:$Q$152,15,FALSE)=$C301),0,VLOOKUP($C301,'Sat TT_08'!$C$4:$Q$152,15,FALSE))","v":0}]
[null,293,{"$f":"+'[1]Racing numbers file'!$B285","v":"John Kehoe"},{"$f":"VLOOKUP(C302,'[1]Racing numbers file'!$B$4:$F$290,2,FALSE)","v":1969},{"$f":"VLOOKUP(C302,'[1]Racing numbers file'!$B$4:$F$290,4,FALSE)","v":47},{"$f":"SaturdayHandicapTable[[#This Row],[Points2]]","v":0},{"$f":"IF(ISNA(VLOOKUP($C302,'Sat TT_01'!$C$4:$Q$152,15,FALSE)=$C302),0,VLOOKUP($C302,'Sat TT_01'!$C$4:$Q$152,15,FALSE))","v":0},{"$f":"IF(ISNA(VLOOKUP($C302,'Sat TT_02'!$C$4:$Q$152,15,FALSE)=$C302),0,VLOOKUP($C302,'Sat TT_02'!$C$4:$Q$152,15,FALSE))","v":0},{"$f":"IF(ISNA(VLOOKUP($C302,'Sat TT_03'!$C$4:$Q$152,15,FALSE)=$C302),0,VLOOKUP($C302,'Sat TT_03'!$C$4:$Q$152,15,FALSE))","v":0},{"$f":"IF(ISNA(VLOOKUP($C302,'Sat TT_04'!$C$4:$Q$152,15,FALSE)=$C302),0,VLOOKUP($C302,'Sat TT_04'!$C$4:$Q$152,15,FALSE))","v":0},{"$f":"IF(ISNA(VLOOKUP($C302,'Sat TT_05'!$C$4:$Q$152,15,FALSE)=$C302),0,VLOOKUP($C302,'Sat TT_05'!$C$4:$Q$152,15,FALSE))","v":0},{"$f":"IF(ISNA(VLOOKUP($C302,'Sat TT_06'!$C$4:$Q$152,15,FALSE)=$C302),0,VLOOKUP($C302,'Sat TT_06'!$C$4:$Q$152,15,FALSE))","v":0},{"$f":"IF(ISNA(VLOOKUP($C302,'Sat TT_07'!$C$4:$Q$152,15,FALSE)=$C302),0,VLOOKUP($C302,'Sat TT_07'!$C$4:$Q$152,15,FALSE))","v":0},{"$f":"IF(ISNA(VLOOKUP($C302,'Sat TT_08'!$C$4:$Q$152,15,FALSE)=$C302),0,VLOOKUP($C302,'Sat TT_08'!$C$4:$Q$152,15,FALSE))","v":0}]
[null,294,{"$f":"+'[1]Racing numbers file'!$B286","v":"Aidan McKenna"},{"$f":"VLOOKUP(C303,'[1]Racing numbers file'!$B$4:$F$290,2,FALSE)","v":1972},{"$f":"VLOOKUP(C303,'[1]Racing numbers file'!$B$4:$F$290,4,FALSE)","v":44},{"$f":"SaturdayHandicapTable[[#This Row],[Points2]]","v":0},{"$f":"IF(ISNA(VLOOKUP($C303,'Sat TT_01'!$C$4:$Q$152,15,FALSE)=$C303),0,VLOOKUP($C303,'Sat TT_01'!$C$4:$Q$152,15,FALSE))","v":0},{"$f":"IF(ISNA(VLOOKUP($C303,'Sat TT_02'!$C$4:$Q$152,15,FALSE)=$C303),0,VLOOKUP($C303,'Sat TT_02'!$C$4:$Q$152,15,FALSE))","v":0},{"$f":"IF(ISNA(VLOOKUP($C303,'Sat TT_03'!$C$4:$Q$152,15,FALSE)=$C303),0,VLOOKUP($C303,'Sat TT_03'!$C$4:$Q$152,15,FALSE))","v":0},{"$f":"IF(ISNA(VLOOKUP($C303,'Sat TT_04'!$C$4:$Q$152,15,FALSE)=$C303),0,VLOOKUP($C303,'Sat TT_04'!$C$4:$Q$152,15,FALSE))","v":0},{"$f":"IF(ISNA(VLOOKUP($C303,'Sat TT_05'!$C$4:$Q$152,15,FALSE)=$C303),0,VLOOKUP($C303,'Sat TT_05'!$C$4:$Q$152,15,FALSE))","v":0},{"$f":"IF(ISNA(VLOOKUP($C303,'Sat TT_06'!$C$4:$Q$152,15,FALSE)=$C303),0,VLOOKUP($C303,'Sat TT_06'!$C$4:$Q$152,15,FALSE))","v":0},{"$f":"IF(ISNA(VLOOKUP($C303,'Sat TT_07'!$C$4:$Q$152,15,FALSE)=$C303),0,VLOOKUP($C303,'Sat TT_07'!$C$4:$Q$152,15,FALSE))","v":0},{"$f":"IF(ISNA(VLOOKUP($C303,'Sat TT_08'!$C$4:$Q$152,15,FALSE)=$C303),0,VLOOKUP($C303,'Sat TT_08'!$C$4:$Q$152,15,FALSE))","v":0}]
[null,295,{"$f":"+'[1]Racing numbers file'!$B287","v":"Paul McDonnell"},{"$f":"VLOOKUP(C304,'[1]Racing numbers file'!$B$4:$F$290,2,FALSE)","v":1969},{"$f":"VLOOKUP(C304,'[1]Racing numbers file'!$B$4:$F$290,4,FALSE)","v":47},{"$f":"SaturdayHandicapTable[[#This Row],[Points2]]","v":0},{"$f":"IF(ISNA(VLOOKUP($C304,'Sat TT_01'!$C$4:$Q$152,15,FALSE)=$C304),0,VLOOKUP($C304,'Sat TT_01'!$C$4:$Q$152,15,FALSE))","v":0},{"$f":"IF(ISNA(VLOOKUP($C304,'Sat TT_02'!$C$4:$Q$152,15,FALSE)=$C304),0,VLOOKUP($C304,'Sat TT_02'!$C$4:$Q$152,15,FALSE))","v":0},{"$f":"IF(ISNA(VLOOKUP($C304,'Sat TT_03'!$C$4:$Q$152,15,FALSE)=$C304),0,VLOOKUP($C304,'Sat TT_03'!$C$4:$Q$152,15,FALSE))","v":0},{"$f":"IF(ISNA(VLOOKUP($C304,'Sat TT_04'!$C$4:$Q$152,15,FALSE)=$C304),0,VLOOKUP($C304,'Sat TT_04'!$C$4:$Q$152,15,FALSE))","v":0},{"$f":"IF(ISNA(VLOOKUP($C304,'Sat TT_05'!$C$4:$Q$152,15,FALSE)=$C304),0,VLOOKUP($C304,'Sat TT_05'!$C$4:$Q$152,15,FALSE))","v":0},{"$f":"IF(ISNA(VLOOKUP($C304,'Sat TT_06'!$C$4:$Q$152,15,FALSE)=$C304),0,VLOOKUP($C304,'Sat TT_06'!$C$4:$Q$152,15,FALSE))","v":0},{"$f":"IF(ISNA(VLOOKUP($C304,'Sat TT_07'!$C$4:$Q$152,15,FALSE)=$C304),0,VLOOKUP($C304,'Sat TT_07'!$C$4:$Q$152,15,FALSE))","v":0},{"$f":"IF(ISNA(VLOOKUP($C304,'Sat TT_08'!$C$4:$Q$152,15,FALSE)=$C304),0,VLOOKUP($C304,'Sat TT_08'!$C$4:$Q$152,15,FALSE))","v":0}]
[null,296,{"$f":"+'[1]Racing numbers file'!$B288","v":"Brian Byrne"},{"$f":"VLOOKUP(C305,'[1]Racing numbers file'!$B$4:$F$290,2,FALSE)","v":1971},{"$f":"VLOOKUP(C305,'[1]Racing numbers file'!$B$4:$F$290,4,FALSE)","v":45},{"$f":"SaturdayHandicapTable[[#This Row],[Points2]]","v":0},{"$f":"IF(ISNA(VLOOKUP($C305,'Sat TT_01'!$C$4:$Q$152,15,FALSE)=$C305),0,VLOOKUP($C305,'Sat TT_01'!$C$4:$Q$152,15,FALSE))","v":0},{"$f":"IF(ISNA(VLOOKUP($C305,'Sat TT_02'!$C$4:$Q$152,15,FALSE)=$C305),0,VLOOKUP($C305,'Sat TT_02'!$C$4:$Q$152,15,FALSE))","v":0},{"$f":"IF(ISNA(VLOOKUP($C305,'Sat TT_03'!$C$4:$Q$152,15,FALSE)=$C305),0,VLOOKUP($C305,'Sat TT_03'!$C$4:$Q$152,15,FALSE))","v":0},{"$f":"IF(ISNA(VLOOKUP($C305,'Sat TT_04'!$C$4:$Q$152,15,FALSE)=$C305),0,VLOOKUP($C305,'Sat TT_04'!$C$4:$Q$152,15,FALSE))","v":0},{"$f":"IF(ISNA(VLOOKUP($C305,'Sat TT_05'!$C$4:$Q$152,15,FALSE)=$C305),0,VLOOKUP($C305,'Sat TT_05'!$C$4:$Q$152,15,FALSE))","v":0},{"$f":"IF(ISNA(VLOOKUP($C305,'Sat TT_06'!$C$4:$Q$152,15,FALSE)=$C305),0,VLOOKUP($C305,'Sat TT_06'!$C$4:$Q$152,15,FALSE))","v":0},{"$f":"IF(ISNA(VLOOKUP($C305,'Sat TT_07'!$C$4:$Q$152,15,FALSE)=$C305),0,VLOOKUP($C305,'Sat TT_07'!$C$4:$Q$152,15,FALSE))","v":0},{"$f":"IF(ISNA(VLOOKUP($C305,'Sat TT_08'!$C$4:$Q$152,15,FALSE)=$C305),0,VLOOKUP($C305,'Sat TT_08'!$C$4:$Q$152,15,FALSE))","v":0}]
[null,297,{"$f":"+'[1]Racing numbers file'!$B289","v":"Tony Kavanagh"},{"$f":"VLOOKUP(C306,'[1]Racing numbers file'!$B$4:$F$290,2,FALSE)","v":1950},{"$f":"VLOOKUP(C306,'[1]Racing numbers file'!$B$4:$F$290,4,FALSE)","v":66},{"$f":"SaturdayHandicapTable[[#This Row],[Points2]]","v":0},{"$f":"IF(ISNA(VLOOKUP($C306,'Sat TT_01'!$C$4:$Q$152,15,FALSE)=$C306),0,VLOOKUP($C306,'Sat TT_01'!$C$4:$Q$152,15,FALSE))","v":0},{"$f":"IF(ISNA(VLOOKUP($C306,'Sat TT_02'!$C$4:$Q$152,15,FALSE)=$C306),0,VLOOKUP($C306,'Sat TT_02'!$C$4:$Q$152,15,FALSE))","v":0},{"$f":"IF(ISNA(VLOOKUP($C306,'Sat TT_03'!$C$4:$Q$152,15,FALSE)=$C306),0,VLOOKUP($C306,'Sat TT_03'!$C$4:$Q$152,15,FALSE))","v":0},{"$f":"IF(ISNA(VLOOKUP($C306,'Sat TT_04'!$C$4:$Q$152,15,FALSE)=$C306),0,VLOOKUP($C306,'Sat TT_04'!$C$4:$Q$152,15,FALSE))","v":0},{"$f":"IF(ISNA(VLOOKUP($C306,'Sat TT_05'!$C$4:$Q$152,15,FALSE)=$C306),0,VLOOKUP($C306,'Sat TT_05'!$C$4:$Q$152,15,FALSE))","v":0},{"$f":"IF(ISNA(VLOOKUP($C306,'Sat TT_06'!$C$4:$Q$152,15,FALSE)=$C306),0,VLOOKUP($C306,'Sat TT_06'!$C$4:$Q$152,15,FALSE))","v":0},{"$f":"IF(ISNA(VLOOKUP($C306,'Sat TT_07'!$C$4:$Q$152,15,FALSE)=$C306),0,VLOOKUP($C306,'Sat TT_07'!$C$4:$Q$152,15,FALSE))","v":0},{"$f":"IF(ISNA(VLOOKUP($C306,'Sat TT_08'!$C$4:$Q$152,15,FALSE)=$C306),0,VLOOKUP($C306,'Sat TT_08'!$C$4:$Q$152,15,FALSE))","v":0}]
[null,298,{"$f":"+'[1]Racing numbers file'!$B290","v":"Phillip Morrissey"},{"$f":"VLOOKUP(C307,'[1]Racing numbers file'!$B$4:$F$290,2,FALSE)","v":1974},{"$f":"VLOOKUP(C307,'[1]Racing numbers file'!$B$4:$F$290,4,FALSE)","v":42},{"$f":"SaturdayHandicapTable[[#This Row],[Points2]]","v":0},{"$f":"IF(ISNA(VLOOKUP($C307,'Sat TT_01'!$C$4:$Q$152,15,FALSE)=$C307),0,VLOOKUP($C307,'Sat TT_01'!$C$4:$Q$152,15,FALSE))","v":0},{"$f":"IF(ISNA(VLOOKUP($C307,'Sat TT_02'!$C$4:$Q$152,15,FALSE)=$C307),0,VLOOKUP($C307,'Sat TT_02'!$C$4:$Q$152,15,FALSE))","v":0},{"$f":"IF(ISNA(VLOOKUP($C307,'Sat TT_03'!$C$4:$Q$152,15,FALSE)=$C307),0,VLOOKUP($C307,'Sat TT_03'!$C$4:$Q$152,15,FALSE))","v":0},{"$f":"IF(ISNA(VLOOKUP($C307,'Sat TT_04'!$C$4:$Q$152,15,FALSE)=$C307),0,VLOOKUP($C307,'Sat TT_04'!$C$4:$Q$152,15,FALSE))","v":0},{"$f":"IF(ISNA(VLOOKUP($C307,'Sat TT_05'!$C$4:$Q$152,15,FALSE)=$C307),0,VLOOKUP($C307,'Sat TT_05'!$C$4:$Q$152,15,FALSE))","v":0},{"$f":"IF(ISNA(VLOOKUP($C307,'Sat TT_06'!$C$4:$Q$152,15,FALSE)=$C307),0,VLOOKUP($C307,'Sat TT_06'!$C$4:$Q$152,15,FALSE))","v":0},{"$f":"IF(ISNA(VLOOKUP($C307,'Sat TT_07'!$C$4:$Q$152,15,FALSE)=$C307),0,VLOOKUP($C307,'Sat TT_07'!$C$4:$Q$152,15,FALSE))","v":0},{"$f":"IF(ISNA(VLOOKUP($C307,'Sat TT_08'!$C$4:$Q$152,15,FALSE)=$C307),0,VLOOKUP($C307,'Sat TT_08'!$C$4:$Q$152,15,FALSE))","v":0}]
[null,299,{"$f":"+'[1]Racing numbers file'!$B291","v":"Graham Synnott"},{"$f":"VLOOKUP(C308,'[1]Racing numbers file'!$B$4:$F$290,2,FALSE)","v":{"$error":"#N/A"}},{"$f":"VLOOKUP(C308,'[1]Racing numbers file'!$B$4:$F$290,4,FALSE)","v":{"$error":"#N/A"}},{"$f":"SaturdayHandicapTable[[#This Row],[Points2]]","v":0},{"$f":"IF(ISNA(VLOOKUP($C308,'Sat TT_01'!$C$4:$Q$152,15,FALSE)=$C308),0,VLOOKUP($C308,'Sat TT_01'!$C$4:$Q$152,15,FALSE))","v":0},{"$f":"IF(ISNA(VLOOKUP($C308,'Sat TT_02'!$C$4:$Q$152,15,FALSE)=$C308),0,VLOOKUP($C308,'Sat TT_02'!$C$4:$Q$152,15,FALSE))","v":0},{"$f":"IF(ISNA(VLOOKUP($C308,'Sat TT_03'!$C$4:$Q$152,15,FALSE)=$C308),0,VLOOKUP($C308,'Sat TT_03'!$C$4:$Q$152,15,FALSE))","v":0},{"$f":"IF(ISNA(VLOOKUP($C308,'Sat TT_04'!$C$4:$Q$152,15,FALSE)=$C308),0,VLOOKUP($C308,'Sat TT_04'!$C$4:$Q$152,15,FALSE))","v":0},{"$f":"IF(ISNA(VLOOKUP($C308,'Sat TT_05'!$C$4:$Q$152,15,FALSE)=$C308),0,VLOOKUP($C308,'Sat TT_05'!$C$4:$Q$152,15,FALSE))","v":0},{"$f":"IF(ISNA(VLOOKUP($C308,'Sat TT_06'!$C$4:$Q$152,15,FALSE)=$C308),0,VLOOKUP($C308,'Sat TT_06'!$C$4:$Q$152,15,FALSE))","v":0},{"$f":"IF(ISNA(VLOOKUP($C308,'Sat TT_07'!$C$4:$Q$152,15,FALSE)=$C308),0,VLOOKUP($C308,'Sat TT_07'!$C$4:$Q$152,15,FALSE))","v":0},{"$f":"IF(ISNA(VLOOKUP($C308,'Sat TT_08'!$C$4:$Q$152,15,FALSE)=$C308),0,VLOOKUP($C308,'Sat TT_08'!$C$4:$Q$152,15,FALSE))","v":0}]
[null,300,{"$f":"+'[1]Racing numbers file'!$B292","v":"Brian Morrissey"},{"$f":"VLOOKUP(C309,'[1]Racing numbers file'!$B$4:$F$290,2,FALSE)","v":{"$error":"#N/A"}},{"$f":"VLOOKUP(C309,'[1]Racing numbers file'!$B$4:$F$290,4,FALSE)","v":{"$error":"#N/A"}},{"$f":"SaturdayHandicapTable[[#This Row],[Points2]]","v":0},{"$f":"IF(ISNA(VLOOKUP($C309,'Sat TT_01'!$C$4:$Q$152,15,FALSE)=$C309),0,VLOOKUP($C309,'Sat TT_01'!$C$4:$Q$152,15,FALSE))","v":0},{"$f":"IF(ISNA(VLOOKUP($C309,'Sat TT_02'!$C$4:$Q$152,15,FALSE)=$C309),0,VLOOKUP($C309,'Sat TT_02'!$C$4:$Q$152,15,FALSE))","v":0},{"$f":"IF(ISNA(VLOOKUP($C309,'Sat TT_03'!$C$4:$Q$152,15,FALSE)=$C309),0,VLOOKUP($C309,'Sat TT_03'!$C$4:$Q$152,15,FALSE))","v":0},{"$f":"IF(ISNA(VLOOKUP($C309,'Sat TT_04'!$C$4:$Q$152,15,FALSE)=$C309),0,VLOOKUP($C309,'Sat TT_04'!$C$4:$Q$152,15,FALSE))","v":0},{"$f":"IF(ISNA(VLOOKUP($C309,'Sat TT_05'!$C$4:$Q$152,15,FALSE)=$C309),0,VLOOKUP($C309,'Sat TT_05'!$C$4:$Q$152,15,FALSE))","v":0},{"$f":"IF(ISNA(VLOOKUP($C309,'Sat TT_06'!$C$4:$Q$152,15,FALSE)=$C309),0,VLOOKUP($C309,'Sat TT_06'!$C$4:$Q$152,15,FALSE))","v":0},{"$f":"IF(ISNA(VLOOKUP($C309,'Sat TT_07'!$C$4:$Q$152,15,FALSE)=$C309),0,VLOOKUP($C309,'Sat TT_07'!$C$4:$Q$152,15,FALSE))","v":0},{"$f":"IF(ISNA(VLOOKUP($C309,'Sat TT_08'!$C$4:$Q$152,15,FALSE)=$C309),0,VLOOKUP($C309,'Sat TT_08'!$C$4:$Q$152,15,FALSE))","v":0}]
[null,null,null,null,null,null,{"$f":"IF(ISNA(VLOOKUP($C310,TTL_01!$B$4:$Q$152,13,FALSE)=$C310),0,VLOOKUP($C310,TTL_01!$B$4:$Q$152,16,FALSE))","v":0}]

{"sheet":"BAR & FAR Results 2015","index":28,"n_rows":0,"n_cols":0,"rows_kept":0,"cut":false,"hidden":false,"merged":[]}

{"sheet":"Sanyo Cup","index":29,"n_rows":0,"n_cols":0,"rows_kept":0,"cut":false,"hidden":false,"merged":[]}

{"sheet":"2015 Prizes","index":30,"n_rows":377,"n_cols":13,"rows_kept":377,"cut":false,"hidden":false,"merged":[]}
[null,null,"IVCA AWARDS TABLE",null,null,null,null,null,null,null,"Sort by name a-z to get individual totals."]
[null,null,{"$f":"'Ability Times'!C1","v":"17/2/2016"}]
[]
["SORT","TYPE","AWARD","CERTIFICATE","TROPHY","REPLICA","MEDAL","PLAQUE","EURO","TIE","RECIPIENT"]
["Column1","Column2","Column3","Column4","Column5","Column6","Column7","Column8","Column9","Column10","Column11","Column12","Column13"]
[1,"TT","1st BAR","Certificate","Trophy","Replica",null,null,100,null,"Hugh Davis"]
[2,"TT","2nd BAR","Certificate",null,null,null,null,80,null,"John Dillon"]
[3,"TT","3rd BAR","Certificate",null,null,null,null,60,null,"Noel conway"]
[4,"TT","4th BAR","Certificate",null,null,null,null,40,null,"Ed O'Brien"]
[5,"TT","5th BAR","Certificate",null,null,null,null,30,null,"Phil Ormrod"]
[6,"TT","6th BAR","Certificate",null,null,null,null,20,null,"Barry Dace"]
[7]
[8,"TT","1st FAR",null,"Trophy",null,null,null,70,null,"Noel Conway"]
[9,"TT","2nd FAR",null,null,null,null,null,60,null,"Ed O'Brien"]
[10,"TT","3rd FAR",null,null,null,null,null,50,null,"John Dillon"]
[11,"TT","4th FAR",null,null,null,null,null,40,null,"Barry Dace"]
[12,"TT","5th FAR",null,null,null,null,null,30,null,"Hugh Davis",null,{"$f":"SUM(I7:I17)","v":480}]
[13,"TT","6th FAR",null,null,null,null,null,20,null,"Linus Devlin",null,{"$f":"Table8[[#This Row],[Column9]]","v":20}]
[14]
[15,"10TT","Age Record 10","Certificate",null,null,null,null,0,null,"Kevin Simms"]
[16,"10TT","Age Record 10","Certificate",null,null,null,null,0,null,"Patsy Fitzsimons"]
[17,"10TT","Age Record 10","Certificate",null,null,null,null,0,null,"Hugh Davis"]
[18]
[19,"25TT","Age Record 25","Certificate",null,null,null,null,0,null,"Kevin Simms",null,{"$f":"SUM(I23:I24)","v":0}]
[20,"25TT","Age Record 25","Certificate",null,null,null,null,0,null,"Patsy Fitzsimons"]
[21,"25TT","Age Record 25","Certificate",null,null,null,null,0,null,"Hugh Davis"]
[22,"25TT","Age Record 25","Certificate",null,null,null,null,0,null,"David Carroll"]
[23,"25TT","Age Record 25","Certificate",null,null,null,null,0,null,"Neil Delahaye"]
[24]
[25,"50TT","Age Record 50","Certificate",null,null,null,null,0,null,"Patsy Fitzsimons",null,{"$f":"SUM(I29:I30)","v":0}]
[26,"50TT","Age Record 50","Certificate",null,null,null,null,0,null,"Hugh Davis"]
[27]
[28,"TT","1st 10M tt Champ",null,"Trophy",null,"Gold",null,0,null,"Ed O'Brien"]
[29,"TT","2nd 10M tt Champ",null,null,null,"Silver ",null,0,null,"Sean Bracken"]
[30,"TT","3nd 10M tt Champ",null,null,null,"Bronze",null,0,null,"Ciara Kinch"]
[31,"TT","10M tt Champ [fastest]",null,"Trophy",null,null,null,0,null,"Andrew Bartley"]
[32]
[33,"TT","1st 25M tt Champ",null,"Trophy",null,"Gold",null,0,null,"Hugh Davis"]
[34,"TT","2nd 25M tt Champ",null,null,null,"Silver ",null,0,null,"Pat Byrne"]
[35,"TT","3rd 25M tt Champ",null,null,null,"Bronze",null,0,null,"John Dillon"]
[36,"TT","25M tt Champ [fastest]",null,"Trophy",null,null,null,0,null,"Ed O'Brien"]
[37]
[38,"TT","1st 50M tt Champ",null,"Trophy",null,"Gold",null,0,null,"Hugh Davis"]
[39,"TT","2nd 50M tt Champ",null,null,null,"Silver ",null,0,null,"John Dillon"]
[40,"TT","3rd 50M tt Champ",null,null,null,"Bronze",null,0,null,"Noel conway"]
[41,"TT","50M tt Champ [fastest]",null,"Trophy",null,null,null,0,null,"Noel Conway"]
[42]
[43,"TT","1st H/Cap 10M tt Champ",null,null,null,null,null,0,null,"Rodney Joyce"]
[44,"TT","2nd H/Cap 10M tt Champ",null,null,null,null,null,0,null,"Ed O'Brien"]
[45,"TT","3rd H/Cap 10M tt Champ",null,null,null,null,null,0,null,"Aiden Yates"]
[46]
[47,"TT","1st H/Cap 25M tt Champ",null,null,null,null,null,0,null,"Barry Dace"]
[48,"TT","2nd H/Cap 25M tt Champ",null,null,null,null,null,0,null,"Noel Conway"]
[49,"TT","3rd H/Cap 25M tt Champ",null,null,null,null,null,0,null,"Pat Byrne"]
[50]
[51,"TT","1st H/Cap 50M tt Champ",null,null,null,null,null,0,null,"Rodney Joyce"]
[52,"TT","2nd H/Cap 50M tt Champ",null,null,null,null,null,0,null,"Noel conway"]
[53,"TT","3rd H/Cap 50M tt Champ",null,null,null,null,null,0,null,"Peter Rice"]
[54]
[55,"TT","1st TT League Age Std",null,"Cup",null,null,null,70,null,"David Carrol"]
[56,"TT","2nd TT League Age Std",null,null,null,null,null,60,null,"Phil Ormrod"]
[57,"TT","3rd TT League Age Std",null,null,null,null,null,50,null,"John Dillon"]
[58,"TT","4th TT League Age Std",null,null,null,null,null,40,null,"Hugh Davis"]
[59,"TT","5th TT League Age Std",null,null,null,null,null,30,null,"Ed O'Brien",null,{"$f":"SUM(I61:I64)","v":180}]
[60,"TT","6th TT League Age Std",null,null,null,null,null,20,null,"Noel Conway"]
[61]
[62,"TT","1st TT League Fastest",null,"Cup",null,null,null,0]
[63,"TT","2nd TT League Fastest",null,null,null,null,null,0]
[64,"TT","3rd TT League Fastest",null,null,null,null,null,0]
[65,"TT","4th TT League Fastest",null,null,null,null,null,0]
[66,"TT","5th TT League Fastest",null,null,null,null,null,0]
[67,"TT","6th TT League Fastest",null,null,null,null,null,0]
[68]
[69,"TT","1st TT League Handicap",null,"Phil Ormrod Cup",null,null,null,70,null,"Noel Conway"]
[70,"TT","2nd TT League Handicap",null,null,null,null,null,60,null,"Ciara Kinch"]
[71,"TT","3rd TT League Handicap",null,null,null,null,null,50,null,"Rodney Joyce"]
[72,"TT","4th TT League Handicap",null,null,null,null,null,40,null,"Jamie Bray"]
[73,"TT","5th TT League Handicap",null,null,null,null,null,30,null,"Barry Dace",null,{"$f":"SUM(I74:I78)","v":250}]
[74,"TT","6th TT League Handicap",null,null,null,null,null,20,null,"Oliver Bright"]
[75]
[76,"TT","1st Saturday TT League Age Standard",null,"Willie Marks Cup",null,null,null,0,null,"John Dillon"]
[77,"TT","2nd Saturday TT League Age Standard",null,null,null,null,null,0,null,"Pat Byrne"]
[78,"TT","3rd Saturday TT League Age Standard",null,null,null,null,null,0,null,"David Carroll"]
[79]
[80,"TT","1st Saturday TT League Handicap",null,null,null,null,null,0,null,"Pat Byrne",null,{"$f":"SUM(I81:I85)","v":0}]
[81,"TT","2nd Saturday TT League Handicap",null,null,null,null,null,0,null,"John Dillon"]
[82,"TT","3rd Saturday TT League Handicap",null,null,null,null,null,0,null,"Noel Conway"]
[83]
[84,"TT","Best road bike, Saturday league.",null,"Cup",null,null,null,0,null,"Lennie Carrigan"]
[85,null,null,null,null,null,null,null,0]
[86,"TT","1st Alfresco Shield 25tt Age Std",null,null,null,null,null,0,null,"Hugh Davis"]
[87,"TT","2nd Alfresco Shield 25tt Age Std",null,null,null,null,null,60,null,"Neil Delahaye"]
[88,"TT","3rd Alfresco Shield 25tt Age Std",null,null,null,null,null,50,null,"David Carroll"]
[89]
[90,"TT","1st Alfresco Shield 25tt H/Cap",null,"Shield",null,null,null,0,null,"Ed Hogan"]
[91,"TT","2nd Alfresco Shield 25tt H/Cap",null,null,null,null,null,0,null,"Ciara Kinch"]
[92,"TT","3rd Alfresco Shield 25tt H/Cap",null,null,null,null,null,0,null,"Rodney Joyce",null,{"$f":"SUM(I95:I97)","v":0}]
[93]
[94,"TT","1st Fred Smith 25tt Age Std",null,"Cup ",null,null,null,70,null,"Sean Bracken"]
[95,"TT","2nd Fred Smith Cup 25tt Age Std",null,null,null,null,null,60,null,"David Carroll"]
[96,"TT","3rd Fred Smith Cup 25tt Age Std",null,null,null,null,null,50,null,"Phil Ormrod"]
[97]
[98,"TT","1st Fred Smith Cup 25tt H/Cap",null,"Trophy",null,null,null,0,null,"Ciara Kinch"]
[99,"TT","2nd Fred Smith Cup 25tt H/Cap",null,null,null,null,null,0,null,"Jamie Bray"]
[100,"TT","3rd Fred Smith Cup 25tt H/Cap",null,null,null,null,null,0,null,"Billy Bourke"]
[101]
[102,"TT","1st Kelly Cup 25tt Age Std",null,"Cup ",null,null,null,70,null,"Eve McCrystal",null,{"$f":"Table8[[#This Row],[Column9]]","v":70}]
[103,"TT","2nd Kelly Cup 25tt Age Std",null,null,null,null,null,60,null,"Hugh Davis"]
[104,"TT","3rd Kelly Cup 25tt Age Std",null,null,null,null,null,50,null,"David Carroll"]
[105]
[106,"TT","1st Kelly Cup 25tt H/Cap",null,"Trophy",null,null,null,0,null,"Rodney Joyce",null,{"$f":"SUM(I109:I111)","v":50}]
[107,"TT","2nd Kelly Cup 25tt H/Cap",null,null,null,null,null,0,null,"Jamie Bray"]
[108,"TT","3rd Kelly Cup 25tt H/Cap",null,null,null,null,null,0,null,"Deanne McGuinness",null,{"$f":"SUM(I112:I113)","v":0}]
[109]
[110,"TT","1st Oliver Bright 10tt Age Std",null,null,null,null,null,70,null,"John Dillon",null,{"$f":"SUM(I108:I115)","v":180}]
[111,"TT","2nd Oliver Bright 10tt Age Std",null,null,null,null,null,60,null,"David Carroll"]
[112,"TT","3rd Oliver Bright 10tt Age Std",null,null,null,null,null,50,null,"Sean Bracken",null,{"$f":"SUM(I115:I117)","v":180}]
[113]
[114,"TT","1st Oliver Bright 10tt H/Cap",null,"Trophy",null,null,null,0]
[115,"TT","2nd Oliver Bright 10tt H/Cap",null,null,null,null,null,0]
[116,"TT","3rd Oliver Bright 10tt H/Cap",null,null,null,null,null,0]
[117]
[118,"TT","1st Tom Dempsey Cup 10tt Age Std",null,null,null,null,null,70,null,"Neil Delahaye",null,{"$f":"SUM(I121:I123)","v":70}]
[119,"TT","2nd Tom Dempsey Cup 10tt Age Std",null,null,null,null,null,60,null,"Mark Prendergast",null,{"$f":"Table8[[#This Row],[Column9]]","v":60}]
[120,"TT","3rd Tom Dempsey Cup 10tt Age Std",null,null,null,null,null,50,null,"David Carroll",null,{"$f":"SUM(I118:I125)","v":180}]
[121]
[122,"TT","1st Tom Dempsey Cup 10tt H/Cap",null,"Trophy",null,null,null,0,null,"Ciara Kinch",null,{"$f":"SUM(I122:I127)","v":180}]
[123,"TT","2nd Tom Dempsey Cup 10tt H/Cap",null,null,null,null,null,0,null,"Noel Conway",null,{"$f":"SUM(I120:I128)","v":180}]
[124,"TT","3rd Tom Dempsey Cup 10tt H/Cap",null,null,null,null,null,0,null,"Noel Thompson"]
[125]
[126,"TT","1st Hillclimb Handicap",null,"Prize",null,null,null,0,null,"Fred Harte"]
[127,"TT","2nd Hillclimb Handicap",null,"Prize",null,null,null,0,null,"Paul Dolan"]
[128,"TT","3rd Hillclimb Handicap",null,"Prize",null,null,null,0,null,"Neil Delahaye"]
[129]
[130,"TT","1st Hillclimb Fastest",null,"Prize","Trophy.",null,null,0,null,"Neil Delahaye"]
[131,"TT","2nd Hillclimb Fastest",null,"Prize",null,null,null,0,null,"Paul Dolan"]
[132,"TT","3rd Hillclimb Fastest",null,"Prize",null,null,null,0,null,"Barry Swan"]
[133]
[134,"TT","1st Sanyo Cup Est. IVCA",null,"Trophy",null,null,null,45,null,"Colm Conway",null,{"$f":"Table8[[#This Row],[Column9]]","v":45}]
[135,"TT","1st Sanyo Cup Est. Partner",null,null,null,null,null,45,null,"Seamus O'Leary"]
[136,"TT","2nd Sanyo Cup Est. IVCA",null,null,null,null,null,30,null,"William Parnell",null,{"$f":"Table8[[#This Row],[Column9]]","v":30}]
[137,"TT","2nd Sanyo Cup Est. Partner",null,null,null,null,null,30,null,"Ned Costello",null,{"$f":"Table8[[#This Row],[Column9]]","v":30}]
[138,"TT","=2nd Sanyo Cup Est. IVCA",null,null,null,null,null,30,null,"Hugh Davis"]
[139,"TT","=2nd Sanyo Cup Est. Partner",null,null,null,null,null,30,null,"Paddy Davis",null,{"$f":"SUM(I144)","v":30}]
[140]
[141,"TT","1st Sanyo Cup Fastest. IVCA",null,null,null,null,null,30,null,"Billy Bourke",null,{"$f":"SUM(I145:I146)","v":30}]
[142,"TT","1st Sanyo Cup Fastest. Partner",null,null,null,null,null,30,null,"Phil Ormrod",null,{"$f":"SUM(I144:I147)","v":90}]
[143,"TT","1st Sanyo Cup Mixed. IVCA",null,null,null,null,null,30,null,"Deanne McGuinness",null,{"$f":"Table8[[#This Row],[Column9]]","v":30}]
[144,"TT","1st Sanyo Cup Mixed. Partner",null,null,null,null,null,30,null,"Bernie O'Brien"]
[145]
[146]
[147,"RR","1st Road Race League - Race 1",null,"Cup","?",null,null,200]
[148,"RR","2nd Road Race League - Race 1",null,null,null,null,"?",150]
[149,"RR","3rd Road Race League - Race 1",null,null,null,null,"?",120]
[150,"RR","4th Road Race League - Race 1",null,null,null,null,"?",100]
[151,"RR","5th Road Race League - Race 1",null,null,null,null,"?",80]
[152,"RR","6th Road Race League - Race 1",null,null,null,null,"?",60]
[153]
[154,"RR","1st Road Race League - Race 2",null,"?","?",null,null,200]
[155,"RR","2nd Road Race League - Race 2",null,null,null,null,"?",150]
[156,"RR","3rd Road Race League - Race 2",null,null,null,null,"?",120]
[157,"RR","4th Road Race League - Race 2",null,null,null,null,"?",100]
[158,"RR","5th Road Race League - Race 2",null,null,null,null,"?",80]
[159,"RR","6th Road Race League - Race 2",null,null,null,null,"?",60]
[160]
[161,"RR","1st Road Race League - Race 3",null,"?","?",null,null,200]
[162,"RR","2nd Road Race League - Race 3",null,null,null,null,"?",150]
[163,"RR","3rd Road Race League - Race 3",null,null,null,null,"?",120]
[164,"RR","4th Road Race League - Race 3",null,null,null,null,"?",100]
[165,"RR","5th Road Race League - Race 3",null,null,null,null,"?",80]
[166,"RR","6th Road Race League - Race 3",null,null,null,null,"?",60]
[167]
[168,"RR","1st Founders 50 [Age Std] - Race 1",null,null,null,null,"?",70]
[169,"RR","2nd Founders 50 [Age Std] - Race 1",null,null,null,null,"?",60]
[170,"RR","3rd Founders 50 [Age Std] - Race 1",null,null,null,null,"?",50]
[171,"RR","4th Founders 50 [Age Std] - Race 1",null,null,null,null,"?",40]
[172,"RR","5th Founders 50 [Age Std] - Race 1",null,null,null,null,"?",30]
[173,"RR","6th Founders 50 [Age Std] - Race 1",null,null,null,null,"?",20]
[174]
[175,"RR","1st Founders 50 [Age Std] - Race 2",null,null,null,null,"?",70]
[176,"RR","2nd Founders 50 [Age Std] - Race 2",null,null,null,null,"?",60]
[177,"RR","3rd Founders 50 [Age Std] - Race 2",null,null,null,null,"?",50]
[178,"RR","4th Founders 50 [Age Std] - Race 2",null,null,null,null,"?",40]
[179,"RR","5th Founders 50 [Age Std] - Race 2",null,null,null,null,"?",30]
[180,"RR","6th Founders 50 [Age Std] - Race 2",null,null,null,null,"?",20]
[181]
[182,"RR","1st Founders 50 [Age Std] - Race 3",null,"Trophy",null,null,null,70]
[183,"RR","2nd Founders 50 [Age Std] - Race 3",null,null,null,null,"?",60]
[184,"RR","3rd Founders 50 [Age Std] - Race 3",null,null,null,null,"?",50]
[185,"RR","4th Founders 50 [Age Std] - Race 3",null,null,null,null,"?",40]
[186,"RR","5th Founders 50 [Age Std] - Race 3",null,null,null,null,"?",30]
[187,"RR","6th Founders 50 [Age Std] - Race 3",null,null,null,null,"?",20]
[188]
[189,"RR","1st RR Champs [Age Std]",null,"Cup",null,"Gold",null,0]
[190,"RR","2nd RR Champs [Age Std]",null,null,null,"Silver",null,0]
[191,"RR","3rd RR Champs [Age Std]",null,null,null,"Bronze",null,0]
[192,"RR","4th RR Champs [Age Std]",null,null,null,null,null,0]
[193,"RR","5th RR Champs [Age Std]",null,null,null,null,null,0]
[194,"RR","6th RR Champs [Age Std]",null,null,null,null,null,0]
[195]
[196,"RR","1st RR Champs [Age Related] 40-49",null,"Cup",null,"Gold",null,0]
[197,"RR","2nd RR Champs [Age Related] 40-49",null,null,null,"Silver",null,0]
[198,"RR","3rd RR Champs [Age Related] 40-49",null,null,null,"Bronze",null,0]
[199,"RR","1st RR Champs [Age Related] 50-59",null,"Cup",null,"Gold",null,0]
[200,"RR","2nd RR Champs [Age Related] 50-59",null,null,null,"Silver",null,0]
[201,"RR","3rd RR Champs [Age Related] 50-59",null,null,null,"Bronze",null,0]
[202,"RR","1st RR Champs [Age Related] 60-69",null,"Cup",null,"Gold",null,0]
[203,"RR","2nd RR Champs [Age Related] 60-69",null,null,null,"Silver",null,0]
[204,"RR","3rd RR Champs [Age Related] 60-69",null,null,null,"Bronze",null,0]
[205,"RR","1st RR Champs [Age Related] 70-79",null,"Cup",null,"Gold",null,0]
[206,"RR","2nd RR Champs [Age Related] 70-79",null,null,null,"Silver",null,0]
[207,"RR","3rd RR Champs [Age Related] 70-79",null,null,null,"Bronze",null,0]
[208,"RR","1st RR Champs [Age Related] 80-89",null,null,null,"Gold",null,0]
[209,"RR","2nd RR Champs [Age Related] 80-89",null,null,null,null,null,0]
[210,"RR","3rd RR Champs [Age Related] 80-89",null,null,null,null,null,0]
[211]
[212,"RR","1st Memorial Cups [Ability DMS] Race 1",null,"Cup",null,null,null,70]
[213,"RR","2nd Memorial Cups [Ability DMS] Race 1",null,null,null,null,null,60]
[214,"RR","3rd Memorial Cups [Ability DMS] Race 1",null,null,null,null,null,50]
[215,"RR","4th Memorial Cups [Ability DMS] Race 1",null,null,null,null,null,40]
[216,"RR","5th Memorial Cups [Ability DMS] Race 1",null,null,null,null,null,30]
[217,"RR","6th Memorial Cups [Ability DMS] Race 1",null,null,null,null,null,20]
[218]
[219,"RR","1st Memorial Cups [Ability DMS] Race 2",null,"Cup",null,null,null,70]
[220,"RR","2nd Memorial Cups [Ability DMS] Race 2",null,null,null,null,null,60]
[221,"RR","3rd Memorial Cups [Ability DMS] Race 2",null,null,null,null,null,50]
[222,"RR","4th Memorial Cups [Ability DMS] Race 2",null,null,null,null,null,40]
[223,"RR","5th Memorial Cups [Ability DMS] Race 2",null,null,null,null,null,30]
[224,"RR","6th Memorial Cups [Ability DMS] Race 2",null,null,null,null,null,20]
[225]
[226,"RR","1st Memorial Cups [Ability DMS] Race 3",null,"Cup",null,null,null,70]
[227,"RR","2nd Memorial Cups [Ability DMS] Race 3",null,null,null,null,null,60]
[228,"RR","3rd Memorial Cups [Ability DMS] Race 3",null,null,null,null,null,50]
[229,"RR","4th Memorial Cups [Ability DMS] Race 3",null,null,null,null,null,40]
[230,"RR","5th Memorial Cups [Ability DMS] Race 3",null,null,null,null,null,30]
[231,"RR","6th Memorial Cups [Ability DMS] Race 3",null,null,null,null,null,20]
[232]
[233]
[234,"RR","1st 'X' Group Sunday League",")",null,null,null,null,0]
[235,"RR","2nd 'X' Group Sunday League",")","discontinued",null,null,null,0]
[236,"RR","3rd 'X' Group Sunday League",")",null,null,null,null,0]
[237]
[238,"RR","1st Millenium Cup [Ability DMS] - Race 1",null,null,null,null,null,70]
[239,"RR","2nd Millenium Cup [Ability DMS] - Race 1",null,null,null,null,null,60]
[240,"RR","3rd Millenium Cup [Ability DMS] - Race 1",null,null,null,null,null,50]
[241,"RR","4th Millenium Cup [Ability DMS] - Race 1",null,null,null,null,null,40]
[242,"RR","5th Millenium Cup [Ability DMS] - Race 1",null,null,null,null,null,30]
[243,"RR","6th Millenium Cup [Ability DMS] - Race 1",null,null,null,null,null,20]
[244]
[245,"RR","1st Millenium Cup [Ability DMS] - Race 2",null,"Cup",null,null,null,70]
[246,"RR","2nd Millenium Cup [Ability DMS] - Race 2",null,null,null,null,null,60]
[247,"RR","3rd Millenium Cup [Ability DMS] - Race 2",null,null,null,null,null,50]
[248,"RR","4th Millenium Cup [Ability DMS] - Race 2",null,null,null,null,null,40]
[249,"RR","5th Millenium Cup [Ability DMS] - Race 2",null,null,null,null,null,30]
[250,"RR","6th Millenium Cup [Ability DMS] - Race 2",null,null,null,null,null,20]
[251]
[252,"RR","1st Millenium Cup [Ability DMS] - Race 3",null,null,null,null,null,70]
[253,"RR","2nd Millenium Cup [Ability DMS] - Race 3",null,null,null,null,null,60]
[254,"RR","3rd Millenium Cup [Ability DMS] - Race 3",null,null,null,null,null,50]
[255,"RR","4th Millenium Cup [Ability DMS] - Race 3",null,null,null,null,null,40]
[256,"RR","5th Millenium Cup [Ability DMS] - Race 3",null,null,null,null,null,30]
[257,"RR","6th Millenium Cup [Ability DMS] - Race 3",null,null,null,null,null,20]
[258]
[259,"RR","1st Australian Shield 2 day Overall",null,"Shield",null,null,null,70]
[260,"RR","2nd Australian Shield 2 day Overall",null,null,null,null,null,60]
[261,"RR","3rd Australian Shield 2 day Overall",null,null,null,null,null,50]
[262,"RR","4th Australian Shield 2 day Overall",null,null,null,null,null,40]
[263,"RR","5th Australian Shield 2 day Overall",null,null,null,null,null,30]
[264,"RR","6th Australian Shield 2 day Overall",null,null,null,null,null,20]
[265,"RR","1st Australian Shield Day 1 - Race 1 ",null,null,null,null,null,70]
[266,"RR","2nd Australian Shield Day 1 - Race 1 ",null,null,null,null,null,60]
[267,"RR","3rd Australian Shield Day 1 - Race 1 ",null,null,null,null,null,50]
[268,"RR","4th Australian Shield Day 1 - Race 1 ",null,null,null,null,null,40]
[269,"RR","5th Australian Shield Day 1 - Race 1 ",null,null,null,null,null,30]
[270,"RR","6th Australian Shield Day 1 - Race 1 ",null,null,null,null,null,20]
[271,"RR","1st Australian Shield Day 1 - Race 2",null,null,null,null,null,70]
[272,"RR","2nd Australian Shield Day 1 - Race 2",null,null,null,null,null,60]
[273,"RR","3rd Australian Shield Day 1 - Race 2",null,null,null,null,null,50]
[274,"RR","4th Australian Shield Day 1 - Race 2",null,null,null,null,null,40]
[275,"RR","5th Australian Shield Day 1 - Race 2",null,null,null,null,null,30]
[276,"RR","6th Australian Shield Day 1 - Race 2",null,null,null,null,null,20]
[277,"RR","1st Australian Shield Day 1 - Race 3",null,null,null,null,null,70]
[278,"RR","2nd Australian Shield Day 1 - Race 3",null,null,null,null,null,60]
[279,"RR","3rd Australian Shield Day 1 - Race 3",null,null,null,null,null,50]
[280,"RR","4th Australian Shield Day 1 - Race 3",null,null,null,null,null,40]
[281,"RR","5th Australian Shield Day 1 - Race 3",null,null,null,null,null,30]
[282,"RR","6th Australian Shield Day 1 - Race 3",null,null,null,null,null,20]
[283,"RR","1st Australian Shield Day 2 - Race 1",null,null,null,null,null,70]
[284,"RR","2nd Australian Shield Day 2 - Race 1",null,null,null,null,null,60]
[285,"RR","3rd Australian Shield Day 2 - Race 1",null,null,null,null,null,50]
[286,"RR","4th Australian Shield Day 2 - Race 1",null,null,null,null,null,40]
[287,"RR","5th Australian Shield Day 2 - Race 1",null,null,null,null,null,30]
[288,"RR","6th Australian Shield Day 2 - Race 1",null,null,null,null,null,20]
[289,"RR","1st Australian Shield Day 2 - Race 2",null,null,null,null,null,70]
[290,"RR","2nd Australian Shield Day 2 - Race 2",null,null,null,null,null,60]
[291,"RR","3rd Australian Shield Day 2 - Race 2",null,null,null,null,null,50]
[292,"RR","4th Australian Shield Day 2 - Race 2",null,null,null,null,null,40]
[293,"RR","5th Australian Shield Day 2 - Race 2",null,null,null,null,null,30]
[294,"RR","6th Australian Shield Day 2 - Race 2",null,null,null,null,null,20]
[295,"RR","1st Australian Shield Day 2 - Race 3",null,null,null,null,null,70]
[296,"RR","2nd Australian Shield Day 2 - Race 3",null,null,null,null,null,60]
[297,"RR","3rd Australian Shield Day 2 - Race 3",null,null,null,null,null,50]
[298,"RR","4th Australian Shield Day 2 - Race 3",null,null,null,null,null,40]
[299,"RR","5th Australian Shield Day 2 - Race 3",null,null,null,null,null,30]
[300,"RR","6th Australian Shield Day 2 - Race 3",null,null,null,null,null,20]
[301]
[302,"RR","1st Sonny Cullen Memorial - Race 1",null,"Cup",null,null,null,70]
[303,"RR","2nd Sonny Cullen Memorial - Race 1",null,null,null,null,null,60]
[304,"RR","3rd Sonny Cullen Memorial - Race 1",null,null,null,null,null,50]
[305,"RR","4th Sonny Cullen Memorial - Race 1",null,null,null,null,null,40]
[306,"RR","5th Sonny Cullen Memorial - Race 1",null,null,null,null,null,30]
[307,"RR","6th Sonny Cullen Memorial - Race 1",null,null,null,null,null,20]
[308,"RR","1st Sonny Cullen Memorial - Race 2",null,null,null,null,null,70]
[309,"RR","2nd Sonny Cullen Memorial - Race 2",null,null,null,null,null,60]
[310,"RR","3rd Sonny Cullen Memorial - Race 2",null,null,null,null,null,50]
[311,"RR","4th Sonny Cullen Memorial - Race 2",null,null,null,null,null,40]
[312,"RR","5th Sonny Cullen Memorial - Race 2",null,null,null,null,null,30]
[313,"RR","6th Sonny Cullen Memorial - Race 2",null,null,null,null,null,20]
[314,"RR","1st Sonny Cullen Memorial - Race 3",null,null,null,null,null,70]
[315,"RR","2nd Sonny Cullen Memorial - Race 3",null,null,null,null,null,60]
[316,"RR","3rd Sonny Cullen Memorial - Race 3",null,null,null,null,null,50]
[317,"RR","4th Sonny Cullen Memorial - Race 3",null,null,null,null,null,40]
[318,"RR","5th Sonny Cullen Memorial - Race 3",null,null,null,null,null,30]
[319,"RR","6th Sonny Cullen Memorial - Race 3",null,null,null,null,null,20]
[320]
[321,"RR","1st Henry Whelan Memorial - Race 1",null,null,null,null,null,70]
[322,"RR","2nd Henry Whelan Memorial - Race 1",null,null,null,null,null,60]
[323,"RR","3rd Henry Whelan Memorial - Race 1",null,null,null,null,null,50]
[324,"RR","4th Henry Whelan Memorial - Race 1",null,null,null,null,null,40]
[325,"RR","5th Henry Whelan Memorial - Race 1",null,null,null,null,null,30]
[326,"RR","6th Henry Whelan Memorial - Race 1",null,null,null,null,null,20]
[327,"RR","1st Henry Whelan Memorial - Race 2",null,null,null,null,null,70]
[328,"RR","2nd Henry Whelan Memorial - Race 2",null,null,null,null,null,60]
[329,"RR","3rd Henry Whelan Memorial - Race 2",null,null,null,null,null,50]
[330,"RR","4th Henry Whelan Memorial - Race 2",null,null,null,null,null,40]
[331,"RR","5th Henry Whelan Memorial - Race 2",null,null,null,null,null,30]
[332,"RR","6th Henry Whelan Memorial - Race 2",null,null,null,null,null,20]
[333,"RR","1st Henry Whelan Memorial - Race 3",null,"Cup",null,null,null,70]
[334,"RR","2nd Henry Whelan Memorial - Race 3",null,null,null,null,null,60]
[335,"RR","3rd Henry Whelan Memorial - Race 3",null,null,null,null,null,50]
[336,"RR","4th Henry Whelan Memorial - Race 3",null,null,null,null,null,40]
[337,"RR","5th Henry Whelan Memorial - Race 3",null,null,null,null,null,30]
[338,"RR","6th Henry Whelan Memorial - Race 3",null,null,null,null,null,20]
[339]
[340]
[341,"LL","1st Dick O'Brien W200 trophy",null,"Trophy",null,null,null,0]
[342,"LL","1st Lily O'Connell W200 trophy",null,"Trophy",null,null,null,0]
[343]
[344,"LL","1st Dick O'Brien Touring League",")",null,null,null,null,40,"=1"]
[345,null,null,")",null,null,null,null,40,"=1"]
[346,"LL","2nd Dick O'Brien Touring League",")",null,null,null,null,35,"=2"]
[347,null,null,")",null,null,null,null,35,"=2"]
[348,"LL","3rd Dick O'Brien Touring League",")",null,null,null,null,30]
[349]
[350,"LL","Touring Trial Medal",")",null,null,"Gold",null,0]
[351,"LL","Touring Trial Medal",")","discontinued?",null,"Silver",null,0]
[352,"LL","Touring Trial Medal",")",null,null,"Bronze",null,0]
[353]
[354,"LL","1st Joe Hoare Reliability Touring Shield",null,"Shield",null,null,null,40]
[355,"LL","2nd Joe Hoare Reliability Touring Shield",null,null,null,null,null,30]
[356,"LL","3rd Joe Hoare Reliability Touring Shield",null,null,null,null,null,20]
[357]
[358,"LL","Jack Lynch Trophy",null,"Trophy",null,null,null,0]
[359]
[360,"LL","Medal Winner [50 in 4; 100 in 8; W200]",null,null,null,"Silver",null,0]
[361,"LL","Medal Winner [50 in 4; 100 in 8; W200]",null,null,null,"Silver",null,0]
[362,"LL","Medal Winner [50 in 4; 100 in 8; W200]",null,null,null,"Silver",null,0]
[363,"LL","Medal Winner [50 in 4; 100 in 8; W200]",null,null,null,"Silver",null,0]
[]
[]
[]
[]
[]
[null,null,null,null,null,null,null,null,{"$f":"SUM(I6:I149)","v":2300},null,"TOTAL (time trials)"]
[null,null,null,null,null,null,null,null,{"$f":"SUM(I152:I343)","v":8070},null,"TOTAL (road races)"]
[null,null,null,null,null,null,null,null,{"$f":"SUM(I346:I365)","v":270},null,"TOTAL (touring)"]
[null,null,null,null,null,null,null,null,{"$f":"I374+I375+I376","v":10640},null,"TOTAL"]

{"sheet":"Hill Climb","index":31,"n_rows":0,"n_cols":0,"rows_kept":0,"cut":false,"hidden":false,"merged":[[0,0,0,10],[2,0,2,3],[2,5,2,11],[3,10,3,11]]}

{"sheet":"Sheet 1","index":32,"n_rows":96,"n_cols":4,"rows_kept":96,"cut":false,"hidden":false,"merged":[]}
[1169,"Atkinson p",{"$f":"VLOOKUP($A1,'[1]Racing numbers file'!$A$4:$G$290,2,FALSE)","v":"Paul Atkinson"},1169]
[1196,"Barber t",{"$f":"VLOOKUP($A2,'[1]Racing numbers file'!$A$4:$G$290,2,FALSE)","v":"Tom Barber"},1196]
[1466,"Bartley a",{"$f":"VLOOKUP($A3,'[1]Racing numbers file'!$A$4:$G$290,2,FALSE)","v":"Andrew Bartley"},1466]
[1213,"Berry l",{"$f":"VLOOKUP($A4,'[1]Racing numbers file'!$A$4:$G$290,2,FALSE)","v":"Lloyd Berry"},1213]
[1231,"Bourke b",{"$f":"VLOOKUP($A5,'[1]Racing numbers file'!$A$4:$G$290,2,FALSE)","v":"Billy Bourke"},1231]
[1426,"Bracken s",{"$f":"VLOOKUP($A6,'[1]Racing numbers file'!$A$4:$G$290,2,FALSE)","v":"Seán Bracken"},1426]
[1441,"Bradley d",{"$f":"VLOOKUP($A7,'[1]Racing numbers file'!$A$4:$G$290,2,FALSE)","v":"David Bradley"},1441]
[1351,"Bray j",{"$f":"VLOOKUP($A8,'[1]Racing numbers file'!$A$4:$G$290,2,FALSE)","v":{"$error":"#N/A"}},1351]
[1045,"Bright o",{"$f":"VLOOKUP($A9,'[1]Racing numbers file'!$A$4:$G$290,2,FALSE)","v":"Oliver Bright"},1045]
[1095,"Byrne aj",{"$f":"VLOOKUP($A10,'[1]Racing numbers file'!$A$4:$G$290,2,FALSE)","v":"Adrian Byrne"},1095]
[1077,"Byrne b",{"$f":"VLOOKUP($A11,'[1]Racing numbers file'!$A$4:$G$290,2,FALSE)","v":"Brendan Byrne"},1077]
[1015,"Byrne Pa",{"$f":"VLOOKUP($A12,'[1]Racing numbers file'!$A$4:$G$290,2,FALSE)","v":"Paddy Byrne"},1015]
[1224,"Byrne pa",{"$f":"VLOOKUP($A13,'[1]Racing numbers file'!$A$4:$G$290,2,FALSE)","v":"Pat Byrne"},1224]
[1261,"Carrigan l",{"$f":"VLOOKUP($A14,'[1]Racing numbers file'!$A$4:$G$290,2,FALSE)","v":"Leonard Carrigan"},1261]
[1427,"Carroll d",{"$f":"VLOOKUP($A15,'[1]Racing numbers file'!$A$4:$G$290,2,FALSE)","v":"David Carroll"},1427]
[1123,"Cassidy c",{"$f":"VLOOKUP($A16,'[1]Racing numbers file'!$A$4:$G$290,2,FALSE)","v":"Colm Cassidy"},1123]
[1090,"Conway c",{"$f":"VLOOKUP($A17,'[1]Racing numbers file'!$A$4:$G$290,2,FALSE)","v":"Colm Conway"},1090]
[1339,"Conway n",{"$f":"VLOOKUP($A18,'[1]Racing numbers file'!$A$4:$G$290,2,FALSE)","v":"Noel Conway"},1339]
[1230,"Cullinan p",{"$f":"VLOOKUP($A19,'[1]Racing numbers file'!$A$4:$G$290,2,FALSE)","v":"Paul Cullinan"},1230]
[1416,"Dace b",{"$f":"VLOOKUP($A20,'[1]Racing numbers file'!$A$4:$G$290,2,FALSE)","v":"Barry Dace"},1416]
[1263,"Dalton s",{"$f":"VLOOKUP($A21,'[1]Racing numbers file'!$A$4:$G$290,2,FALSE)","v":"Shay Dalton"},1263]
[1083,"Darragh s",{"$f":"VLOOKUP($A22,'[1]Racing numbers file'!$A$4:$G$290,2,FALSE)","v":"Seán Darragh"},1083]
[1060,"Davis h",{"$f":"VLOOKUP($A23,'[1]Racing numbers file'!$A$4:$G$290,2,FALSE)","v":"Hugh Davis"},1060]
[1050,"Davis m",{"$f":"VLOOKUP($A24,'[1]Racing numbers file'!$A$4:$G$290,2,FALSE)","v":"Mick Davis"},1050]
[1034,"Davis p",{"$f":"VLOOKUP($A25,'[1]Racing numbers file'!$A$4:$G$290,2,FALSE)","v":"Paddy Davis"},1034]
[1397,"Davis s",{"$f":"VLOOKUP($A26,'[1]Racing numbers file'!$A$4:$G$290,2,FALSE)","v":{"$error":"#N/A"}},1397]
[1438,"Delahaye n",{"$f":"VLOOKUP($A27,'[1]Racing numbers file'!$A$4:$G$290,2,FALSE)","v":"Neil Delahaye"},1438]
[1462,"Dempsey t",{"$f":"VLOOKUP($A28,'[1]Racing numbers file'!$A$4:$G$290,2,FALSE)","v":{"$error":"#N/A"}},1462]
[1227,"Devlin l",{"$f":"VLOOKUP($A29,'[1]Racing numbers file'!$A$4:$G$290,2,FALSE)","v":"Linus Devlin"},1227]
[1236,"Dillon j",{"$f":"VLOOKUP($A30,'[1]Racing numbers file'!$A$4:$G$290,2,FALSE)","v":"John Dillon"},1236]
[1255,"Dolan p",{"$f":"VLOOKUP($A31,'[1]Racing numbers file'!$A$4:$G$290,2,FALSE)","v":"Paul Dolan"},1255]
[1303,"Dufficy r",{"$f":"VLOOKUP($A32,'[1]Racing numbers file'!$A$4:$G$290,2,FALSE)","v":"Richard Dufficy"},1303]
[1044,"Dunne e",{"$f":"VLOOKUP($A33,'[1]Racing numbers file'!$A$4:$G$290,2,FALSE)","v":"Eddie Dunne"},1044]
[1439,"Eustace i",{"$f":"VLOOKUP($A34,'[1]Racing numbers file'!$A$4:$G$290,2,FALSE)","v":{"$error":"#N/A"}},1439]
[1363,"Faherty",{"$f":"VLOOKUP($A35,'[1]Racing numbers file'!$A$4:$G$290,2,FALSE)","v":"Paul Faherty"},1363]
[1375,"Fahy p",{"$f":"VLOOKUP($A36,'[1]Racing numbers file'!$A$4:$G$290,2,FALSE)","v":"Paul Fahy"},1375]
[1004,"Fitzsimons pat",{"$f":"VLOOKUP($A37,'[1]Racing numbers file'!$A$4:$G$290,2,FALSE)","v":"Patsy FitzSimons"},1004]
[1137,"Gallagher k",{"$f":"VLOOKUP($A38,'[1]Racing numbers file'!$A$4:$G$290,2,FALSE)","v":"Karl Gallagher"},1137]
[1103,"Gaston g",{"$f":"VLOOKUP($A39,'[1]Racing numbers file'!$A$4:$G$290,2,FALSE)","v":"Gerry Gaston"},1103]
[1381,"Hammond a",{"$f":"VLOOKUP($A40,'[1]Racing numbers file'!$A$4:$G$290,2,FALSE)","v":"Aidan Hammond"},1381]
[1018,"Harte f",{"$f":"VLOOKUP($A41,'[1]Racing numbers file'!$A$4:$G$290,2,FALSE)","v":{"$error":"#N/A"}},1018]
[1266,"Hennessy m",{"$f":"VLOOKUP($A42,'[1]Racing numbers file'!$A$4:$G$290,2,FALSE)","v":"Mick Hennessy"},1266]
[1131,"Hogan e",{"$f":"VLOOKUP($A43,'[1]Racing numbers file'!$A$4:$G$290,2,FALSE)","v":"Ed Hogan"},1131]
[1258,"Joyce r",{"$f":"VLOOKUP($A44,'[1]Racing numbers file'!$A$4:$G$290,2,FALSE)","v":"Rodney Joyce"},1258]
[1326,"Kavanagh a",{"$f":"VLOOKUP($A45,'[1]Racing numbers file'!$A$4:$G$290,2,FALSE)","v":"Andrew Kavanagh"},1326]
[1235,"Kavanagh a","Kavanagh a",1235]
[1214,"Kehoe",{"$f":"VLOOKUP($A47,'[1]Racing numbers file'!$A$4:$G$290,2,FALSE)","v":"Robert Kehoe"},1214]
[1360,"Kelly d",{"$f":"VLOOKUP($A48,'[1]Racing numbers file'!$A$4:$G$290,2,FALSE)","v":"David Kelly"},1360]
[1294,"Kidd m",{"$f":"VLOOKUP($A49,'[1]Racing numbers file'!$A$4:$G$290,2,FALSE)","v":"Mark Kidd"},1294]
[1348,"Kinch c",{"$f":"VLOOKUP($A50,'[1]Racing numbers file'!$A$4:$G$290,2,FALSE)","v":"Ciara Kinch"},1348]
[1026,"Lally s",{"$f":"VLOOKUP($A51,'[1]Racing numbers file'!$A$4:$G$290,2,FALSE)","v":"Seán Lally"},1026]
[1163,"Lynch e",{"$f":"VLOOKUP($A52,'[1]Racing numbers file'!$A$4:$G$290,2,FALSE)","v":"Eddie Lynch"},1163]
[1047,"Lynch n",{"$f":"VLOOKUP($A53,'[1]Racing numbers file'!$A$4:$G$290,2,FALSE)","v":{"$error":"#N/A"}},1047]
[1164,"Malone e",{"$f":"VLOOKUP($A54,'[1]Racing numbers file'!$A$4:$G$290,2,FALSE)","v":"Eunan Malone"},1164]
[1141,"Malone t",{"$f":"VLOOKUP($A55,'[1]Racing numbers file'!$A$4:$G$290,2,FALSE)","v":"Tom Malone"},1141]
[1472,"Martinez c",{"$f":"VLOOKUP($A56,'[1]Racing numbers file'!$A$4:$G$290,2,FALSE)","v":"Caroline Martinez"},1472]
[1390,"McArdle",{"$f":"VLOOKUP($A57,'[1]Racing numbers file'!$A$4:$G$290,2,FALSE)","v":"Donagh McArdle"},1390]
[1374,"McCaffrey m",{"$f":"VLOOKUP($A58,'[1]Racing numbers file'!$A$4:$G$290,2,FALSE)","v":"Martin McCaffrey"},1374]
[1469,"McCrystal e",{"$f":"VLOOKUP($A59,'[1]Racing numbers file'!$A$4:$G$290,2,FALSE)","v":{"$error":"#N/A"}},1469]
[1446,"McDonald d",{"$f":"VLOOKUP($A60,'[1]Racing numbers file'!$A$4:$G$290,2,FALSE)","v":"David McDonald"},1446]
[1181,"McFeely k",{"$f":"VLOOKUP($A61,'[1]Racing numbers file'!$A$4:$G$290,2,FALSE)","v":{"$error":"#N/A"}},1181]
[1228,"McGonagle",{"$f":"VLOOKUP($A62,'[1]Racing numbers file'!$A$4:$G$290,2,FALSE)","v":"William McGonagle"},1228]
[1311,"McGuinness",{"$f":"VLOOKUP($A63,'[1]Racing numbers file'!$A$4:$G$290,2,FALSE)","v":"Deanne Sanders"},1311]
[1473,"McManus",{"$f":"VLOOKUP($A64,'[1]Racing numbers file'!$A$4:$G$290,2,FALSE)","v":{"$error":"#N/A"}},1473]
[1204,"Millar g",{"$f":"VLOOKUP($A65,'[1]Racing numbers file'!$A$4:$G$290,2,FALSE)","v":{"$error":"#N/A"}},1204]
[1281,"Miller c",{"$f":"VLOOKUP($A66,'[1]Racing numbers file'!$A$4:$G$290,2,FALSE)","v":"Cathal Miller"},1281]
[null,"Mongey e",{"$f":"VLOOKUP($A67,'[1]Racing numbers file'!$A$4:$G$290,2,FALSE)","v":{"$error":"#N/A"}}]
[1197,"Moyne d",{"$f":"VLOOKUP($A68,'[1]Racing numbers file'!$A$4:$G$290,2,FALSE)","v":"Dermot Moyne"},1197]
[1062,"Mullen m",{"$f":"VLOOKUP($A69,'[1]Racing numbers file'!$A$4:$G$290,2,FALSE)","v":"Mick Mullen"},1062]
[1114,"Murphy j",{"$f":"VLOOKUP($A70,'[1]Racing numbers file'!$A$4:$G$290,2,FALSE)","v":"Jimmy Murphy"},1114]
[1235,"Murphy m",{"$f":"VLOOKUP($A71,'[1]Racing numbers file'!$A$4:$G$290,2,FALSE)","v":{"$error":"#N/A"}},1235]
[1396,"Murray ca",{"$f":"VLOOKUP($A72,'[1]Racing numbers file'!$A$4:$G$290,2,FALSE)","v":"Cathal Murray"},1396]
[1382,"Murray ch",{"$f":"VLOOKUP($A73,'[1]Racing numbers file'!$A$4:$G$290,2,FALSE)","v":{"$error":"#N/A"}},1382]
[1023,"Norgrove r",{"$f":"VLOOKUP($A74,'[1]Racing numbers file'!$A$4:$G$290,2,FALSE)","v":"Robert Norgrove"},1023]
[1471,"O'Brien e",{"$f":"VLOOKUP($A75,'[1]Racing numbers file'!$A$4:$G$290,2,FALSE)","v":"Ed O'Brien"},1471]
[1120,"O'Gorman d",{"$f":"VLOOKUP($A76,'[1]Racing numbers file'!$A$4:$G$290,2,FALSE)","v":"Dermot O'Gorman"},1120]
[1420,"O'Hara i",{"$f":"VLOOKUP($A77,'[1]Racing numbers file'!$A$4:$G$290,2,FALSE)","v":"Ian O'Hara"},1420]
[1405,"O'Malley a",{"$f":"VLOOKUP($A78,'[1]Racing numbers file'!$A$4:$G$290,2,FALSE)","v":"Anthony O'Malley"},1405]
[null,null,{"$f":"VLOOKUP($A79,'[1]Racing numbers file'!$A$4:$G$290,2,FALSE)","v":{"$error":"#N/A"}}]
[1387,"O'Malley t",{"$f":"VLOOKUP($A80,'[1]Racing numbers file'!$A$4:$G$290,2,FALSE)","v":"Tony O'Malley"},1387]
[1040,"Ormrod p",{"$f":"VLOOKUP($A81,'[1]Racing numbers file'!$A$4:$G$290,2,FALSE)","v":"Phil Ormrod"},1040]
[1302,"O'Shea e",{"$f":"VLOOKUP($A82,'[1]Racing numbers file'!$A$4:$G$290,2,FALSE)","v":{"$error":"#N/A"}},1302]
[1259,"Prendergast m",{"$f":"VLOOKUP($A83,'[1]Racing numbers file'!$A$4:$G$290,2,FALSE)","v":"Mark Prendergast"},1259]
[1096,"Raftery p",{"$f":"VLOOKUP($A84,'[1]Racing numbers file'!$A$4:$G$290,2,FALSE)","v":"Peter Raftery"},1096]
[1054,"Rice p",{"$f":"VLOOKUP($A85,'[1]Racing numbers file'!$A$4:$G$290,2,FALSE)","v":"Peter Rice"},1054]
[1014,"Schweppe p",{"$f":"VLOOKUP($A86,'[1]Racing numbers file'!$A$4:$G$290,2,FALSE)","v":"Peter Schweppe"},1014]
[1190,"Scott l",{"$f":"VLOOKUP($A87,'[1]Racing numbers file'!$A$4:$G$290,2,FALSE)","v":"Lloyd Scott"},1190]
[1024,"Scully e",{"$f":"VLOOKUP($A88,'[1]Racing numbers file'!$A$4:$G$290,2,FALSE)","v":"Eddie Scully"},1024]
[1002,"Simms k",{"$f":"VLOOKUP($A89,'[1]Racing numbers file'!$A$4:$G$290,2,FALSE)","v":"Kevin Simms"},1002]
[1284,"Smyth e",{"$f":"VLOOKUP($A90,'[1]Racing numbers file'!$A$4:$G$290,2,FALSE)","v":"Enda Smyth"},1284]
[1252,"Swan b",{"$f":"VLOOKUP($A91,'[1]Racing numbers file'!$A$4:$G$290,2,FALSE)","v":"Barry Swan"},1252]
[1185,"Thompson n",{"$f":"VLOOKUP($A92,'[1]Racing numbers file'!$A$4:$G$290,2,FALSE)","v":"Noel Thompson"},1185]
[1101,"Usher m",{"$f":"VLOOKUP($A93,'[1]Racing numbers file'!$A$4:$G$290,2,FALSE)","v":"Mick Usher"},1101]
[1451,"Voight a",{"$f":"VLOOKUP($A94,'[1]Racing numbers file'!$A$4:$G$290,2,FALSE)","v":"Andreas Voigt"},1451]
[1402,"Walsh s",{"$f":"VLOOKUP($A95,'[1]Racing numbers file'!$A$4:$G$290,2,FALSE)","v":"Stephen Walsh"},1402]
[1398,"Yates a",{"$f":"VLOOKUP($A96,'[1]Racing numbers file'!$A$4:$G$290,2,FALSE)","v":"Aidan Yates"},1398]

{"sheet":"Sheet2","index":33,"n_rows":0,"n_cols":0,"rows_kept":0,"cut":false,"hidden":false,"merged":[]}

{"sheet":"Sheet3","index":34,"n_rows":0,"n_cols":0,"rows_kept":0,"cut":false,"hidden":false,"merged":[]}